{"text_format":"1","workbook":"xlsx","n_sheets":9,"sheets":["Lean To","Lean To Hipped","Georgian Gable","Georgian Hipped","Georgian Double Hipped","Victorian"," ","  ","   "],"not_rendered":{"charts":6,"images":10,"macros":1,"external_links":0,"defined_names":12,"comments":0,"pivot_tables":0},"unopened":[],"bounds":{"document_bytes":16777216,"sheet_cells":100000,"rows_first":2000,"rows_last":500,"rows_between":2000,"halvings":0,"cell_chars":16384,"cell_head_chars":4096},"cells_cut":0,"cells_raw":0,"read":"whole","date_system":"1900"}

{"sheet":"Lean To","index":0,"n_rows":61,"n_cols":28,"rows_kept":61,"cut":false,"hidden":false,"merged":[[25,6,27,10],[19,3,20,4],[22,6,24,10],[20,7,21,9],[22,3,25,4]]}
[null,null,null,null,null,null,null,null,null,null,null,null,null,null,null,null,null,null,null,null,null,null,"Main Material",{"$f":"IF(E13=W3,5,IF(E13=W4,6,IF(E13=W5,6)))","v":5},"Material cost",11.35,"Sails"]
[null,null,null,null,null,null,null,null,null,null,null,null,null,null,null,null,null,null,null,null,null,null,"Tri Material",{"$f":"IF(E14=W3,5,IF(E14=W4,6,IF(E14=W5,6)))","v":5},"PE",2.5,1]
[null,null,null,null,null,null,null,null,null,null," ",null,null," ",null,null,null,null,null,null,null," ","Solid ISX",5,"PN",3.5,2]
[null,null,null,"Select no. of sails",2,null,null,null,null,null," ",null,null," ",null,null,null,null,null,null,null," ","Duplex ISX",6,"IP",2,3]
[null,null,null,"Left triangle sail","Yes",null,null,null,null,null,null,null,null,null,null,null,null,null,null,null,null,null,"Solid ISXFR",6,"No. of vents","Y fit points","X fit points"," "]
[null,null,null,"Right triangle sail","No",null,null,null,null,null,null,null,null,null,null,null,null,null,null,null,null,null,"Shape",{"$f":"IF(AA9=W7,X7,IF(AA9=W8,X8,IF(AA9=W9,X9)))","v":1},0,"None","None"]
[null,null,null,null,null,null,null,null,null,null,null,null,null,null,null,null,null,null,null,null,null,null,"Triangle",0.6,1,"Standard","Standard"]
[null,null,null,"Reduce left gap size","Standard",null,null,null,null,null,null,null,null,null,null,null,null,null,null,null,null,null,"Diamond",0.6,2,"No. of corners",4]
[null,null,null,"Reduce right gap size","Standard",null,null,null,null,null," ",null,null," ",null,null,null,null,null,null,null," ","Other",1,3,"Shape","Other"]
[null,null,null,"Additional X-Axis fitting points","None",null,null,null,null,null,null,null,null,null,null,null,null,null,null,null,null,null,"Overlap left",{"$f":"IF(E8=W11,X11,IF(E8=W12,X12,IF(E8=W13,X13)))","v":0},4,"Curve allowance",0.4]
[null,null,null,"Additional Y-Axis fitting points","None",null,null,null,null,null,null,null,null,null,null,null,null,null,null,null,null,null,"Standard",0,"Triangles","Roof area",{"$f":"AA14*Z30","v":0.54528297872916442}]
[null,null,null,null,null,null,null,null,null,null,null,null,null,null,null,null,null,null,null,null,null,null,0.5,{"$f":"IF(E4=1,0,IF(E4=2,(X28/2)+AA19,IF(E4=3,(X28*0.67)+AA19)))","v":4.4670107149908864E-2},"No","Area of each sail",{"$f":"AA11/E4","v":0.27264148936458221}]
[null,null,null,"Select material for main sails","Solid ISX",null,null,null,null,null,null,null,null,null,null,null,null,null,null,null,null,null,1,{"$f":"IF(E4=1,0,IF(E4=2,X28+AA19,IF(E4=3,(X28*1.34)+AA19)))","v":8.3189071944808943E-2},"Yes","Sail perimeter",{"$f":"((AA15+0.07)*2)+((AA16+0.07)*2)","v":2.3213568186182587}]
[null,null,null,"Select material for triangles","Solid ISX",null,null,null,null,null," ",null,null," ",null,null,null,null,null,null,null," ","Overlap right",{"$f":"IF(E4=AA3,X10,IF(E9=W11,X11,IF(E9=W12,X12,IF(E9=W13,X13))))","v":0},"Warnings","Glazing bar length",{"$f":"SQRT((Z29-Z28)^2+Z31^2)","v":0.54528297872916442}]
[null,null,null,"Select no. of window vents",0,null,null,null,null,null,null,null,null," ",null,null,null,null,null,null,null,null,"Warning 1","Warning: Sail too narrow, increase no. of sails, add X-Axis fittings or increase gap size",{"$f":"MAX(X21:Z21)","v":3.1026601489689458},"Length of sail",{"$f":"AA14-(0.07/(B25/1000))","v":0.53298069401914683}]
[null,null,null,null,null,null,null,null,null,null,null,null,null," ",null,null,null,null,null,null,null,null,"Warning 2","Warning: Sail too narrow, decrease no. of sails, add Y-Axis fittings or reduce gap size",{"$f":"MAX(X22:Z22)","v":2.8450000000000002},"Width left",{"$f":"(Z30/E4)-(0.07/(B25/1000))+X10","v":0.4876977152899824}," ->"]
[null,null,null,"Max length of a sail",{"$f":"(MAX(X21:Z21))*1000","v":3102.660148968946},null,null,null,null,"Plan view - looking from above",null,null,null," ",null,null,null,null,null,null,null,null,"Warning 3","Warning: Sail too wide for standard fabric, please add more sails or increase gap size"," ","Width middle",{"$f":"((Z30/E4)-(0.07/(B25/1000))+X10)","v":0.4876977152899824},{"$f":"((Z30/E4)-(0.07/(B25/1000))+X14)","v":0.4876977152899824}]
[null,null,null,"Max width of a sail",{"$f":"(MAX(X22:Z22))*1000","v":2845},null,null,null,null,null,null,null,null," ",null,null,null,null,null,null,null,null,"Warning 4","Warning: Conservatory too long for standard fabric, contact office for more details"," ","Width right",{"$f":"(Z30/E4)-(0.07/(B25/1000))+X14","v":0.4876977152899824}]
[null,null,null,null,null,null,null,null,null,null,null,null,null," ",null,null,null,null,null,null,null,null,null,null," ","50mm links",{"$f":"0.035/(B25/1000)","v":6.1511423550087872E-3}]
[null,null,null,"Please note that sails larger than 2100mm in both directions, will require a colour matched seam.",null,null,null,null,null,null,null,null,null,null,null,null,null,null,null,null,null,null,"Costs","left","mid","right","tri"]
[null,null,null,null,null,null,null,"Total budget cost incl. Installation+VAT+Delivery",null,null,{"$f":"X24+Y24+Z24+12.15+(E15*50)+IF(AND(E5=Y13,E4<>AA2),AA24,)+IF(AND(E6=Y13,E4=AA4),AA24,)","v":1949.7487041688596},null,null,null,null,null,null,null,null,null,null,null,"length",{"$f":"AA14*(B25/1000)","v":3.1026601489689458},{"$f":"X21","v":3.1026601489689458},{"$f":"Y21","v":3.1026601489689458},{"$f":"Z21","v":3.1026601489689458}]
[null,"All dims in mm",null,null,null,null,null,null,null,null,{"$f":"'   '!P1","v":2242.2110097941886},null,null,null,null,null,null,null,null,null,null,null,"width",{"$f":"((E49-E45)+(0.07/(B25/1000)))*(B25/1000)","v":2.8450000000000002},{"$f":"IF(E4<>AA4,MIN(X22,Z22),(I49-I45+(0.07/(B25/1000)))*(B25/1000))","v":2.8450000000000002},{"$f":"IF(E4<>AA2,(G49-G45+(0.07/(B25/1000)))*(B25/1000),X22)","v":2.8450000000000002},{"$f":"(W26*(B25/1000))+0.07","v":2.1928621042782619}]
["H1",2280,null,{"$f":"IF(((X28*(B25/1000))*(IF(E11=AA7,0.5,2)))>((MIN(X22:Z22))*AA10),X16,IF(AND(Y16>4,Y15>4),X17,IF(Y15>6,X18,\"\")))","v":""},null,null,{"$f":"'   '!A8","v":0},null,null,null,null,null,null,null,null,null,null,null,null,null,null,null,"perimeter",{"$f":"(X21*2)+(X22*2)","v":11.895320297937893},{"$f":"(Y21*2)+(Y22*2)","v":11.895320297937893},{"$f":"(Z21*2)+(Z22*2)","v":11.895320297937893},{"$f":"(AA21*2)+AA22","v":8.398182402216154}]
["H2",3210,null,null,null,null,null,null,null,null,null,null,null,null,null,null,null,null,null,null,null,null,null,{"$f":"((X1*((X6*X21*X22*Z1)+(X23*Z2)+(AA8*Z3)+Z4))+7.2*AA8)+IF(E10=Z7,24.7*2,)+IF(E11=AA7,24.7*2,)","v":758.42761975081862},{"$f":"IF(E4=AA4,((X1*((X6*Y21*Y22*Z1)+(Y23*Z2)+(AA8*Z3)+Z4))+7.2*AA8)+IF(E10=Z7,24.7*2,)+IF(E11=AA7,24.7*2,),)","v":0},{"$f":"IF(E4<>AA2,((X1*((X6*Z21*Z22*Z1)+(Z23*Z2)+(AA8*Z3)+Z4))+7.2*AA8)+IF(E10=Z7,24.7*2,)+IF(E11=AA7,24.7*2,),)","v":758.42761975081862},{"$f":"IF(AND(E4<>AA2,OR(E5=Y13,AND(E6=Y13,E4<>AA3))),((X2*((X7*AA21*AA22*Z1)+(AA23*Z2)+(3*Z3)+Z4))+7.2*3),)","v":420.74346466722216}]
["X1",5690,null,null,null,null,null,null,null,null,null,null,null,null,null,null,null,null,null,null,null,null,"tri width","tri length","tri mid","tri quarter",null," "]
["Y1",2960,null,null,null,null,{"$f":"'   '!A11","v":0},null,null,null,null,null,null,null,null,null,null,null,null,null," ",null,{"$f":"IF(X26*0.7<Z30,X26*0.7,Z30)","v":0.37308648581340276},{"$f":"P47-(AA19*2)","v":0.53298069401914683},{"$f":"W26*0.13","v":4.8501243155742363E-2},{"$f":"Y26*0.75","v":3.6375932366806772E-2}]
[null,null,null,null,null,null,null,null,null,null,null,null,null,null,null,null,null,null,null,null,null,null,null,"Mid","Quarters","Dims in m"]
[null,null,null,null,null,null,null,null,null,null,null,null,null,null,null,null,null,null,null,null,null,null,"Horizontal",{"$f":"(((AA15+(0.07/(B25/1000)))*0.13)+AA19)","v":7.7037929589800158E-2},{"$f":"(X28)*0.75","v":5.7778447192350119E-2},{"$f":"B23/B25","v":0.40070298769771528}]
[null,null,null,null,null,null,null,null,null,null,null,null,null," ",null,null,null,null,null,null,null,"  ","Vertical left",{"$f":"((AA16+(0.07/(B25/1000)))*0.13)+AA19","v":7.1151142355008787E-2},{"$f":"X29*0.75","v":5.3363356766256587E-2},{"$f":"B24/B25","v":0.56414762741652025}]
[null,null,null,null,null,null,null,null,null,null,null,null,null," ",null,null,null,null,null,null,null," ","Vertical mid",{"$f":"((AVERAGE(AA17:AB17)+(0.07/(B25/1000)))*0.13)+AA19","v":7.1151142355008787E-2},{"$f":"X30*0.75","v":5.3363356766256587E-2},{"$f":"B25/B25","v":1}]
[null,null,null,null,null,null,null,null,null,null," ",null,null," ",null,null,null,null,null,null,null," ","Vertical right",{"$f":"((AA18+(0.07/(B25/1000)))*0.13)+AA19","v":7.1151142355008787E-2},{"$f":"X31*0.75","v":5.3363356766256587E-2},{"$f":"B26/B25","v":0.52021089630931461}]
[null,null,null,null,null,null,null,null,null,null," ",null,null," ",null,null,null,null,null,null,null," "]
[null,null,null,null,null,null,null,null,null,null,null,null,null,null,null,null,null,null,null,null,null," "]
[]
[]
[]
[]
[]
[]
[]
[]
[]
[null,null,null,null,"x","y","x","y","x","y","x","y","x","y","Roof plan",null,"X-Axis fitting points"]
[null,null,null,null,"Left sail",null,"Right sail",null,"Mid sail",null,"tri 1",null,"tri 2",null,"x-axis","y-axis","Sail 1",null,"Sail 2",null,"Sail 3"]
[null,null,null,null,{"$f":"AA19","v":6.1511423550087872E-3},{"$f":"AA19","v":6.1511423550087872E-3},{"$f":"IF(E4=1,0,IF(E4=2,G49-AA18,IF(E4=3,(G49-AA18))))","v":0.5061511423550088},{"$f":"IF(E4=1,0,IF(E4=2,AA19,IF(E4=3,AA19)))","v":6.1511423550087872E-3},{"$f":"IF(E4=1,0,IF(E4=2,0,IF(E4=3,(Z30/2)-(AA17/2))))","v":0},{"$f":"IF(E4=1,0,IF(E4=2,0,IF(E4=3,AA19)))","v":0},{"$f":"IF(E5=Y13,IF(E4<>AA2,K47-(W26/2),),)","v":0.31345675709329862},{"$f":"IF(E5=Y13,IF(E4<>AA2,AA19,),)","v":6.1511423550087872E-3},{"$f":"IF(E6=Y13,IF(E4=AA4,M47-(W26/2),),)","v":0},{"$f":"IF(E6=Y13,IF(E4=AA4,AA19,),)","v":0},0,0,{"$f":"IF(E10=Z7,E47,)","v":0},0,{"$f":"G47","v":0.75},0,{"$f":"I47","v":0},0]
[null,null,null,null,{"$f":"E45+(AA16/4)","v":0.1280755711775044},{"$f":"F47*0.75","v":5.3363356766256587E-2},{"$f":"IF(E4=1,0,IF(E4=2,G47-(AA18/4),IF(E4=3,G45+(AA18/4))))","v":0.62807557117750434},{"$f":"IF(E4=1,0,IF(E4=2,H48,IF(E4=3,H48)))","v":5.3363356766256587E-2},{"$f":"IF(E4=1,0,IF(E4=2,0,IF(E4=3,I45+(MAX(AA17:AB17)/4))))","v":0},{"$f":"IF(E4=1,0,IF(E4=2,0,IF(E4=3,Y30)))","v":0},{"$f":"IF(E5=Y13,IF(E4<>AA2,K45+(W26/4),),)","v":0.40672837854664934},{"$f":"IF(E5=Y13,IF(E4<>AA2,Z26,),)","v":3.6375932366806772E-2},{"$f":"IF(E6=Y13,IF(E4=AA4,M47-(W26/4),),)","v":0},{"$f":"IF(E6=Y13,IF(E4=AA4,Z26,),)","v":0},{"$f":"Z30/Z30","v":1},0,{"$f":"Q45","v":0},{"$f":"IF(E10=Z7,0.03,0)","v":0},{"$f":"S45","v":0.75},{"$f":"IF(E4=1,0,IF(E10=Z7,0.03,))","v":0},{"$f":"U45","v":0},{"$f":"IF(E4<2.5,0,IF(E10=Z7,0.03,))","v":0}]
[null,null,null,null,{"$f":"IF(E4=1,(Z30/2),IF(E4=2,E49-(AA16/2),IF(E4=3,(E49-AA19)-(AA16/2))))","v":0.25},{"$f":"X29","v":7.1151142355008787E-2},{"$f":"IF(E4=1,0,IF(E4=2,G49-(AA18/2),IF(E4=3,G49-AA19-(AA18/2))))","v":0.75},{"$f":"IF(E4=1,0,IF(E4=2,X31,IF(E4=3,X31)))","v":7.1151142355008787E-2},{"$f":"IF(E4=1,0,IF(E4=2,0,IF(E4=3,I49-((I49-I45)/2))))","v":0},{"$f":"IF(E4=1,0,IF(E4=2,0,IF(E4=3,X30)))","v":0},{"$f":"IF(E5=Y13,IF(E4=AA3,O46/2,IF(E4=AA4,O46/3)),)","v":0.5},{"$f":"IF(E5=Y13,IF(E4<>AA2,Y26,),)","v":4.8501243155742363E-2},{"$f":"IF(E6=Y13,IF(E4=AA4,O47*(2/3),),)","v":0},{"$f":"IF(E6=Y13,IF(E4=AA4,Y26,),)","v":0},{"$f":"Z30/Z30","v":1},{"$f":"AA14/Z30","v":0.54528297872916442},{"$f":"Q45","v":0},{"$f":"IF(E10=Z6,0,IF(E10=Z7,AA14))","v":0},{"$f":"S45","v":0.75},{"$f":"IF(E4=1,0,IF(E10=Z7,AA14,))","v":0},{"$f":"U45","v":0},{"$f":"IF(E4<2.5,0,IF(E10=Z7,AA14,))","v":0}]
[null,null,null,null,{"$f":"E49-(AA16/4)","v":0.3719244288224956},{"$f":"F46","v":5.3363356766256587E-2},{"$f":"G49-(AA18/4)","v":0.87192442882249566},{"$f":"IF(E4=1,0,IF(E4=2,Y31,IF(E4=3,Y31)))","v":5.3363356766256587E-2},{"$f":"IF(E4=1,0,IF(E4=2,0,IF(E4=3,I49-(MAX(AA17:AB17)/4))))","v":0},{"$f":"IF(E4=AA4,Y30,)","v":0},{"$f":"IF(E5=Y13,IF(E4<>AA2,K47+(W26/4),),)","v":0.59327162145335066},{"$f":"IF(E5=Y13,IF(E4<>AA2,Z26,),)","v":3.6375932366806772E-2},{"$f":"IF(E6=Y13,IF(E4=AA4,M47+(W26/4),),)","v":0},{"$f":"IF(E6=Y13,IF(E4=AA4,N46,),)","v":0},0,{"$f":"AA14/Z30","v":0.54528297872916442},{"$f":"Q45","v":0},{"$f":"IF(E10=Z6,0,IF(E10=Z7,R47-0.03))","v":0},{"$f":"S45","v":0.75},{"$f":"IF(E4=1,0,IF(E10=Z7,R47-0.03,))","v":0},{"$f":"U45","v":0},{"$f":"IF(E4<2.5,0,IF(E10=Z7,R47-0.03,))","v":0}]
[null,null,null,null,{"$f":"IF(E4=1,E45+AA16,IF(E4=2,AA16+E45,IF(E4=3,E45+AA16)))","v":0.4938488576449912},{"$f":"AA19","v":6.1511423550087872E-3},{"$f":"IF(E4=1,0,IF(E4=2,Z30-AA19,IF(E4=3,Z30-AA19)))","v":0.9938488576449912},{"$f":"IF(E4=1,0,IF(E4=2,AA19,IF(E4=3,AA19)))","v":6.1511423550087872E-3},{"$f":"IF(E4=1,0,IF(E4=2,0,IF(E4=3,Z30/2+(AB17/2))))","v":0},{"$f":"IF(E4=1,0,IF(E4=2,0,IF(E4=3,AA19)))","v":0},{"$f":"IF(E5=Y13,IF(E4<>AA2,K47+(W26/2),),)","v":0.68654324290670132},{"$f":"IF(E5=Y13,IF(E4<>AA2,AA19,),)","v":6.1511423550087872E-3},{"$f":"IF(E6=Y13,IF(E4=AA4,M47+(W26/2),),)","v":0},{"$f":"IF(E6=Y13,IF(E4=AA4,N45,),)","v":0},0,0,"Y-Axis fitting points"]
[null,null,null,null,{"$f":"E49-Y28","v":0.43607041045264106},{"$f":"AA14/4","v":0.13632074468229111},{"$f":"IF(E4=1,0,IF(E4=2,G49-Y28,IF(E4=3,(G49-Y28))))","v":0.93607041045264106},{"$f":"IF(E4=1,0,IF(E4=2,F60,IF(E4=3,F60)))","v":0.13632074468229111},{"$f":"IF(E4=1,0,IF(E4=2,0,IF(E4=3,I49-Y28)))","v":0},{"$f":"IF(E4=1,0,IF(E4=2,0,IF(E4=3,H50)))","v":0},{"$f":"IF(E5=Y13,IF(E4<>AA2,K49-((K49-K53)/2),),)","v":0.59327162145335066},{"$f":"IF(E5=Y13,IF(E4<>AA2,P47/4,),)","v":0.13632074468229111},{"$f":"IF(E6=Y13,IF(E4=AA4,M49-((M49-M53)/2),),)","v":0},{"$f":"IF(E6=Y13,IF(E4=AA4,P47/4,),)","v":0},null," ","Sail 1",null,"Sail 2",null,"Sail 3"]
[null,null,null,null,{"$f":"E49-X28","v":0.41681092805519104},{"$f":"AA14/2","v":0.27264148936458221},{"$f":"IF(E4=1,0,IF(E4=2,G49-X28,IF(E4=3,(G49-X28))))","v":0.91681092805519104},{"$f":"IF(E4=1,0,IF(E4=2,F51,IF(E4=3,F51)))","v":0.27264148936458221},{"$f":"IF(E4=1,0,IF(E4=2,0,IF(E4=3,I49-X28)))","v":0},{"$f":"IF(E4=1,0,IF(E4=2,0,IF(E4=3,F51)))","v":0},{"$f":"IF(E5=Y13,IF(E4<>AA2,K49-((K49-K53)*0.75),),)","v":0.54663581072667533},{"$f":"IF(E5=Y13,IF(E4<>AA2,P47/2,),)","v":0.27264148936458221},{"$f":"IF(E6=Y13,IF(E4=AA4,M49-((M49-M53)*0.75),),)","v":0},{"$f":"IF(E6=Y13,IF(E4=AA4,P47/2,),)","v":0},null," ",0,{"$f":"AA14/2","v":0.27264148936458221},{"$f":"IF(AND(E4=2,E11=AA7),(Z30/2)-0.015)","v":false},{"$f":"H51","v":0.27264148936458221},{"$f":"IF(AND(E4=3,E11=AA7),(Z30/3)-0.015+IF(E8=W12,0.03,IF(E8=W13,0.04)),0)","v":0},{"$f":"J51","v":0}]
[null,null,null,null,{"$f":"E50","v":0.43607041045264106},{"$f":"(AA14*0.75)","v":0.40896223404687332},{"$f":"G50","v":0.93607041045264106},{"$f":"IF(E4=1,0,IF(E4=2,F58,IF(E4=3,F58)))","v":0.40896223404687332},{"$f":"I50","v":0},{"$f":"IF(E4=1,0,IF(E4=2,0,IF(E4=3,H52)))","v":0},{"$f":"IF(E5=Y13,IF(E4<>AA2,K53+((K49-K53)*0.1),),)","v":0.51865432429067015},{"$f":"IF(E5=Y13,IF(E4<>AA2,P47*0.75,),)","v":0.40896223404687332},{"$f":"IF(E6=Y13,IF(E4=AA4,M53+((M49-M53)*0.1),),)","v":0},{"$f":"IF(E6=Y13,IF(E4=AA4,P47*0.75,),)","v":0},null," ",{"$f":"IF(E11=AA7,0.03,0)","v":0},{"$f":"R51","v":0.27264148936458221},{"$f":"IF(AND(E4=2,E11=AA7),S51+0.03,0)","v":0},{"$f":"T51","v":0.27264148936458221},{"$f":"IF(AND(E4=3,E11=AA7),U51+0.03,0)","v":0},{"$f":"V51","v":0}]
[null,null,null,null,{"$f":"E49","v":0.4938488576449912},{"$f":"AA14-AA19","v":0.53913183637415563},{"$f":"IF(E4=1,0,IF(E4=2,G49,IF(E4=3,G49)))","v":0.9938488576449912},{"$f":"IF(E4=1,0,IF(E4=2,F57,IF(E4=3,AA14-AA19)))","v":0.53913183637415563},{"$f":"IF(E4=1,0,IF(E4=2,0,IF(E4=3,I49)))","v":0},{"$f":"IF(E4=1,0,IF(E4=2,0,IF(E4=3,H57)))","v":0},{"$f":"IF(E5=Y13,IF(E4<>AA2,K47,),)","v":0.5},{"$f":"IF(E5=Y13,IF(E4<>AA2,P48-AA19,),)","v":0.53913183637415563},{"$f":"IF(E6=Y13,IF(E4=AA4,M47,),)","v":0},{"$f":"IF(E6=Y13,IF(E4=AA4,P48-AA19,),)","v":0},null,null,{"$f":"IF(AND(E4=1,E11=AA7),Q54-0.03,0)","v":0},{"$f":"R52","v":0.27264148936458221},{"$f":"IF(AND(E4>1.5,E11=AA7),S54-0.03,0)","v":0},{"$f":"T52","v":0.27264148936458221},{"$f":"IF(AND(E4=3,E11=AA7),(Z30*(2/3))-0.015-IF(E9=W12,0.03,IF(E9=W13,0.04)),0)","v":0},{"$f":"V52","v":0}]
[null,null,null,null,{"$f":"E48","v":0.3719244288224956},{"$f":"AA14-F46","v":0.49191962196290784},{"$f":"G48","v":0.87192442882249566},{"$f":"IF(E4=1,0,IF(E4=2,AA14-Y31,IF(E4=3,AA14-Y31)))","v":0.49191962196290784},{"$f":"I48","v":0},{"$f":"IF(E4=1,0,IF(E4=2,0,IF(E4=3,AA14-Y30)))","v":0},{"$f":"IF(E5=Y13,IF(E4<>AA2,K53-((K53-K57)*0.1),),)","v":0.48134567570932985},{"$f":"IF(E5=Y13,IF(E4<>AA2,L52,),)","v":0.40896223404687332},{"$f":"IF(E6=Y13,IF(E4=AA4,M53-((M53-M57)*0.1),),)","v":0},{"$f":"IF(E6=Y13,IF(E4=AA4,N52,),)","v":0},null,null,{"$f":"IF(AND(E4=1,E11=AA7),Z30,0)","v":0},{"$f":"R53","v":0.27264148936458221},{"$f":"IF(AND(E4>1.5,E11=AA7),Z30,0)","v":0},{"$f":"T53","v":0.27264148936458221},{"$f":"IF(AND(E4=3,E11=AA7),U53+0.03,0)","v":0},{"$f":"V53","v":0}]
[null,null,null,null,{"$f":"E47","v":0.25},{"$f":"AA14-F47","v":0.47413183637415562},{"$f":"IF(E4=1,0,IF(E4=2,G47,IF(E4=3,G47)))","v":0.75},{"$f":"IF(E4=1,0,IF(E4=2,AA14-X31,IF(E4=3,AA14-X31)))","v":0.47413183637415562},{"$f":"IF(E4=1,0,IF(E4=2,0,IF(E4=3,I47)))","v":0},{"$f":"IF(E4=1,0,IF(E4=2,0,IF(E4=3,AA14-X30)))","v":0},{"$f":"IF(E5=Y13,IF(E4<>AA2,K57+((K53-K57)*0.75),),)","v":0.45336418927332467},{"$f":"IF(E5=Y13,IF(E4<>AA2,L51,),)","v":0.27264148936458221},{"$f":"IF(E6=Y13,IF(E4=AA4,M57+((M53-M57)*0.75),),)","v":0},{"$f":"IF(E6=Y13,IF(E4=AA4,N51,),)","v":0}]
[null,null,null,null,{"$f":"E46","v":0.1280755711775044},{"$f":"F54","v":0.49191962196290784},{"$f":"G46","v":0.62807557117750434},{"$f":"IF(E4=1,0,IF(E4=2,H54,IF(E4=3,H54)))","v":0.49191962196290784},{"$f":"I46","v":0},{"$f":"J54","v":0},{"$f":"IF(E5=Y13,IF(E4<>AA2,K57+((K53-K57)/2),),)","v":0.40672837854664934},{"$f":"IF(E5=Y13,IF(E4<>AA2,L50,),)","v":0.13632074468229111},{"$f":"IF(E6=Y13,IF(E4=AA4,M57+((M53-M57)/2),),)","v":0},{"$f":"IF(E6=Y13,IF(E4=AA4,N50,),)","v":0}]
[null,null,null,null,{"$f":"E45","v":6.1511423550087872E-3},{"$f":"F53","v":0.53913183637415563},{"$f":"IF(E4=1,0,IF(E4=2,G45,IF(E4=3,G45)))","v":0.5061511423550088},{"$f":"IF(E4=1,0,IF(E4=2,H53,IF(E4=3,H53)))","v":0.53913183637415563},{"$f":"IF(E4=1,0,IF(E4=2,0,IF(E4=3,I45)))","v":0},{"$f":"IF(E4=1,0,IF(E4=2,0,IF(E4=3,J53)))","v":0},{"$f":"IF(E5=Y13,IF(E4<>AA2,K45,),)","v":0.31345675709329862},{"$f":"IF(E5=Y13,IF(E4<>AA2,L45,),)","v":6.1511423550087872E-3},{"$f":"IF(E6=Y13,IF(E4=AA4,M45,),)","v":0},{"$f":"IF(E6=Y13,IF(E4=AA4,N45,),)","v":0}]
[null,null,null,null,{"$f":"E45+Y28","v":6.3929589547358903E-2},{"$f":"F52","v":0.40896223404687332},{"$f":"IF(E4=1,0,IF(E4=2,G57+Y28,IF(E4=3,(G45+Y28))))","v":0.56392958954735894},{"$f":"H52","v":0.40896223404687332},{"$f":"IF(E4=1,0,IF(E4=2,0,IF(E4=3,(I45+Y28))))","v":0},{"$f":"J52","v":0}]
[null,null,null,null,{"$f":"E45+X28","v":8.3189071944808943E-2},{"$f":"F51","v":0.27264148936458221},{"$f":"IF(E4=1,0,IF(E4=2,G57+X28,IF(E4=3,(G45+X28))))","v":0.58318907194480896},{"$f":"IF(E4=1,0,IF(E4=2,H51,IF(E4=3,H51)))","v":0.27264148936458221},{"$f":"IF(E4=1,0,IF(E4=2,0,IF(E4=3,I45+X28)))","v":0},{"$f":"IF(E4=1,0,IF(E4=2,0,IF(E4=3,F51)))","v":0}]
[null,null,null,null,{"$f":"E58","v":6.3929589547358903E-2},{"$f":"F50","v":0.13632074468229111},{"$f":"G58","v":0.56392958954735894},{"$f":"H50","v":0.13632074468229111},{"$f":"I58","v":0},{"$f":"J50","v":0}]
[null,null,null,null,{"$f":"E45","v":6.1511423550087872E-3},{"$f":"AA19","v":6.1511423550087872E-3},{"$f":"IF(E4=1,0,IF(E4=2,G57,IF(E4=3,G57)))","v":0.5061511423550088},{"$f":"IF(E4=1,0,IF(E4=2,AA19,IF(E4=3,AA19)))","v":6.1511423550087872E-3},{"$f":"IF(E4=1,0,IF(E4=2,0,IF(E4=3,I57)))","v":0},{"$f":"IF(E4=1,0,IF(E4=2,0,IF(E4=3,AA19)))","v":0}]

{"sheet":"Lean To Hipped","index":1,"n_rows":79,"n_cols":31,"rows_kept":79,"cut":false,"hidden":false,"merged":[[25,6,27,10],[19,3,20,4],[22,6,24,10],[20,7,21,9],[22,3,25,4]]}
[null,null,null,null,null,null,null,null,null,null,null,null,null,null,null,null,null,null,null,null,null,null,"Main material",{"$f":"IF(E13=W3,5,IF(E13=W4,6,IF(E13=W5,6)))","v":5},"Material cost",11.35,"Sails","Warnings left/right","Warnings mid","Warnings mid tri"]
[null,null,null,null,null,null,null,null,null,null,null,null,null,null,null,null,null,null,null,null,null,null,"Tri Material",{"$f":"IF(E14=W3,5,IF(E14=W4,6,IF(E14=W5,6)))","v":5},"PE",2.5,1,{"$f":"Z32","v":3.1120732639190871},{"$f":"AA32","v":3.1120732639190871},{"$f":"IF(OR(E5=AB6,E6=AB6),1,0.00001)*AC32","v":3.182073263919087}]
[null,null,null,null,null,null,null,null,null,null,null,null,null,null,null,null,null,null,null,null,null,null,"Solid ISX",5,"PN",3.5,2,{"$f":"IF(E4=AA2,Z33,MIN(Z33,AB33))","v":2.953708572928444},{"$f":"AA33*IF(E4<>AA4,1000,1)","v":2.9537085729284431},{"$f":"AC33","v":2.1994512847433607}]
[null,null,null,"Select no. of sails per side",3,null,null,null,null,null,null,null,null,null,null,null,null,null,null,null,null,null,"Duplex ISX",6,"IP",2,3,"Tri sails","Warning 1","Warning: Sail too narrow, increase no. of sails, add X-Axis fittings or increase gap size"]
[null,null,null,"Left triangle sails","Yes",null,null,null,null,null,null,null,null,null,null,null,null,null,null,null,null,null,"Solid ISXFR",6,"No. of vents","X fit points","Y fit points","No","Warning 2","Warning: Sail too narrow, decrease no. of sails, add Y-Axis fittings or reduce gap size"]
[null,null,null,"Right triangle sails","No",null,null,null,null,null,null,null,null,null,null,null,null,null,null,null,null,null,"Shape",{"$f":"IF(AA9=W7,X7,IF(AA9=W8,X8,IF(AA9=W9,X9)))","v":1},0,"None","None","Yes","Warning 3","Warning: Sail too wide for standard fabric, please add more sails or increase gap size"]
[null,null,null,null,null,null,null,null,null,null,null,null,null,null,null,null,null,null,null,null,null,null,"Triangle",0.6,1,"Standard","Standard","Coverage","Warning 4","Warning: Conservatory too long for standard fabric, contact office for more detailed price"]
[null,null,null,"Reduce left gap size",1,null,null,null,null,null,null,null,null,null,null,null,null,null,null,null,null,null,"Diamond",0.6,2,"No. of corners",4,"Cover one side","Warning 5","Warning: Ridge is too short for a 3 sails roof solution, reduce no. of sails"]
[null,null,null,"Reduce right gap size",1,null,null,null,null,null," ",null,null,null,null,null,null,null,null,null,null," ","Other",1,3,"Shape","Other","Cover both sides"]
[null,null,null,"Additional X-Axis fitting points","None",null,null,null,null,null,null,null,null,null,null,null,null,null,null,null,null,null,"Overlap middle left",{"$f":"IF(E8=W11,X11,IF(E8=W12,X12,IF(E8=W13,X13)))","v":0.28202261936009249},4,"Curve allowance",0.4]
[null,null,null,"Additional Y-Axis fitting points","None",null,null,null,null,null,null,null,null,null,null,null,null,null,null,null,null,null,"Standard",0,5,"Front","Mid","Quarters","Back","Mid","Quarters"]
[null,null,null,null,null,null,null,null,null,null,null,null,null,null,null,null,null,null,null,null,null,null,0.5,{"$f":"IF(E4=AA2,0,(AA12*1.5)+(0.035/(B24/1000)))","v":0.14465714301337959},6,"Horizontal",{"$f":"((Z26+(0.07/(B24/1000)))*0.13)+Z24","v":9.1576984231141953E-2},{"$f":"(AA12)*0.75","v":6.8682738173356461E-2},"Horizontal",{"$f":"((AC26+(0.07/(B24/1000)))*0.13)+Z24","v":9.1576984231141953E-2},{"$f":"(AD12)*0.75","v":6.8682738173356461E-2}]
[null,null,null,"Select material for main sails","Solid ISX",null,null,null,null,null,null,null,null,null,null,null,null,null,null,null,null,null,1,{"$f":"IF(E4=AA2,0,(AA12*1.5)*2+(0.035/(B24/1000)))","v":0.28202261936009249}," ","Horizontal overlaped",{"$f":"((AA26+(0.07/(B24/1000)))*0.13)+Z24","v":9.1576984231141953E-2},{"$f":"(AA13)*0.75","v":6.8682738173356461E-2},"Horizontal overlaped",{"$f":"((AC26+(0.07/(B24/1000)))*0.13)+Z24","v":9.1576984231141953E-2},{"$f":"(AD13)*0.75","v":6.8682738173356461E-2}]
[null,null,null,"Select material for triangles","Solid ISX",null,null,null,null,null," ",null,null,null,null,null,null,null,null,null,null,"  ","Overlap middle right",{"$f":"IF(E4=AA3,X10,IF(E9=W11,X11,IF(E9=W12,X12,IF(E9=W13,X13))))","v":0.28202261936009249},null,"Vertical",{"$f":"IF(E4=AA2,((Z27+(0.07/(B24/1000)))*0.13)+Z24,((Z27+(0.07/(B24/1000)))*0.13)+Z24)","v":5.062500000000001E-2},{"$f":"AA14*0.75","v":3.7968750000000009E-2},"Vertical",{"$f":"IF(E4=AA2,((AB27+(0.07/(B24/1000)))*0.13)+Z24,((AB27+(0.07/(B24/1000)))*0.13)+Z24)","v":5.062500000000001E-2},{"$f":"AD14*0.75","v":3.7968750000000009E-2}]
[null,null,null,"Select no. of window vents",0,null,null,null,null,null,null,null,null,null,null,null,null,null,null,null,null,null,null,"Dims in m"," ","Vertical overlaped",{"$f":"IF(E4=AA2,((AA27+(0.07/(B24/1000)))*0.13)+Z24,((AA27+(0.07/(B24/1000)))*0.13)+Z24)","v":8.7287940516812032E-2},{"$f":"AA15*0.75","v":6.5465955387609021E-2},"Vertical overlaped",{"$f":"IF(E4=AA2,((AC27+(0.07/(B24/1000)))*0.13)+Z24,((AC27+(0.07/(B24/1000)))*0.13)+Z24)","v":8.7287940516812032E-2},{"$f":"AD15*0.75","v":6.5465955387609021E-2}]
[null,null,null,null,null,null,null,null,null,null,null,null,null,null,null,null,null,null,null,null,null,null,"h1",{"$f":"B22/B24","v":0.41666666666666669},null,"Mid","Mid","Quarters"]
[null,null,null,"Max length of sail",{"$f":"(MAX(Z32:AB32))*1000","v":3112.0732639190869},null,null,null,"Plan view - looking from above",null,null,null,null,null,null,null,null,null,null,null,null,null,"h2",{"$f":"B23/B24","v":0.67708333333333337},null,"Horizontal",{"$f":"((Z29+(0.07/(B24/1000)))*0.13)+Z24","v":9.1576984231141953E-2},{"$f":"(AA17)*0.75","v":6.8682738173356461E-2}]
[null,null,null,"Max width of sail",{"$f":"(MAX(Z33:AB33))*1000","v":2953.708572928444},null,null,null,null,null," ",null,null,null,null,null,null,null,null,null,null,null,"x1",{"$f":"B24/B24","v":1},null,"Vertical",{"$f":"((Z30+(0.07/(B24/1000)))*0.13)+Z24","v":5.0624999999999996E-2},{"$f":"AA18*0.75","v":3.7968749999999996E-2}]
[null,null,null,null,null,null,null,null,null,null,null,null,null,null,null,null,null,null,null,null,null,null,"y1",{"$f":"B25/B24","v":0.59375}," ","Vertical overlaped",{"$f":"((AVERAGE(Z30:AB30)+(0.07/(B24/1000)))*0.13)+Z24","v":7.5066960344541328E-2},{"$f":"AA19*0.75","v":5.6300220258405996E-2}]
[null,null,null,"Please note that sails larger than 2100mm in both directions, will require a colour matched seam.",null,null,null,null,null,null,null,null,null,null,null,null,null,null,null,null,null,null,"r1",{"$f":"B26/B24","v":0.33333333333333331},null,"front","mid","tri front","tri mid"]
[null,"All dims in mm",null,null,null,null,null,"Total budget cost incl. Installation+VAT+Delivery",null,null,{"$f":"12.15+(E15*50)+Z35+AA35+AB35+IF(E5=AB6,AC35,)+IF(AND(E4=AA4,E6=AB6),AC35,)","v":2737.1390048976386},null,null,null,null,null,null,null,null,null,null,null,null,null,"Sail perimeter",{"$f":"((AA26+0.07)*2)+((AA27+0.07)*2)","v":2.7490757653531381},{"$f":"((Z29+0.07)*2)+AA30+0.07+Z30+0.07","v":2.4670531459930456},{"$f":"((AD26+0.07)*2)+AD27+0.07","v":0.21000000000000002},{"$f":"((AC29+0.07)*2)+AC30+0.07","v":1.9211662109544869}]
["H1",2000,null,null,null,null,null,null,null,null,{"$f":"'   '!P2","v":3147.7098556322844},null,null,null,null,null,null,null,null,null,null,null,null,null,"Roof area (m^2)",{"$f":"Z23*X18","v":0.64834859664980982},"Tri","Mid","Quarters"]
["H2",3250,null,{"$f":"IF(((MAX(AA12,AA17,AD12)*(B24/1000))*(IF(E11=AA7,0.5,2)))>(MIN(AB3:AC3)*AA10),AD5,IF(AND((X20*(B24/1000))<0.75,E4=AA4),AD8,IF(AND(AB3>4,AB2>4),AD6,\"\")))","v":""},null,null,{"$f":"'   '!A8","v":0},null,null,null,null,null,null,null,null,null,null,null,null,null,null,null,null,null,"Glazing bar length",{"$f":"SQRT((X17-X16)^2+(X19^2))","v":0.64834859664980982},"Vertical Back",{"$f":"((AC30+(0.07/(B24/1000)))*0.13)+Z24","v":6.6860138961799362E-2},{"$f":"AB23*0.75","v":5.0145104221349518E-2}]
["X1",4800,null,null,null,null,null,null,null,null,null,null,null,null,null,null,null,null,null,null,null,null,null,null,"50mm links",{"$f":"(0.035/(B24/1000))","v":7.2916666666666676E-3},"Vertical Front",{"$f":"((AD27+(0.07/(B24/1000)))*0.13)+Z24","v":9.1875000000000012E-3},{"$f":"AB24*0.75","v":6.8906250000000009E-3}]
["Y1",2850,null,null,null,null,null,null,null,null,null,null,null,null,null,null,null,null,null,null,null,null,null,null,null,"front + overlaped"," ","back + overlaped"," "]
["R1",1600,null,null,null,null,{"$f":"'   '!A11","v":0},null,null,null,null,null,null,null,null,null,null,null,null,null,null,null,null,null,"Sail length",{"$f":"Z23-(0.07/(B24/1000))","v":0.63376526331647653},{"$f":"Z26","v":0.63376526331647653},{"$f":"Z23-(0.07/(B24/1000))","v":0.63376526331647653},{"$f":"AB26","v":0.63376526331647653}]
[null,null,null,null,null,null,null,null,null,null,null,null,null,null,null,null,null,null,null,null,null,null,null,null,"Sail width",{"$f":"IF(E4=AA2,O65-(0.07/(B24/1000)),IF(E4=AA3,O69-(X20/2)-(0.07/(B24/1000)),O68-(0.07/(B24/1000))))","v":0.31875000000000003},{"$f":"Z27+X10","v":0.60077261936009252},{"$f":"IF(E4=AA2,O65-(0.07/(B24/1000)),IF(E4=AA3,O69-(X20/2)-(0.07/(B24/1000)),O68-(0.07/(B24/1000))))","v":0.31875000000000003},{"$f":"AB27+X14","v":0.60077261936009252}]
[null,null,null,null,null,null,null,null,null,null,null,null,null,null,null,null,null,null,null,null,null,null,null,null,null,"mid + overlaped",null,null,"tri mid"]
[null,null,null,null,null,null,null,null,null,null,null,null,null,null,null,null,null,null,null,null,null,null,null,null,"Sail length",{"$f":"Z26","v":0.63376526331647653},"<-"," ->",{"$f":"Z23-(0.07/(B24/1000))","v":0.63376526331647653}]
[null,null,null,null,null,null,null,null,null,null,null,null,null,null,null,null,null,null,null,null,null,null,null,null,"Sail width",{"$f":"O69-O68-(0.07/(B24/1000))","v":0.31874999999999992},{"$f":"Z30+X10","v":0.60077261936009241},{"$f":"Z30+X14","v":0.60077261936009241},{"$f":"IF(AC29*0.7<X18,AC29*0.7,X18)","v":0.44363568432153355}]
[null,null,null,null,null,null,null,null,null,null,null,null,null,null,null,null,null,null,null,null,null,null,null,null,"Costs","front","mid","back","tri mid left/right"," "," "]
[null,null,null,null,null,null,null,null,null,null,null,null,null,null,null,null,null,null,null,null,null,null,null,null,"length",{"$f":"((F75-F79)*(B24/1000))+0.07","v":3.1120732639190871},{"$f":"(Z23*(B24/1000))","v":3.1120732639190871},{"$f":"((J71-J67)*(B24/1000))+0.07","v":3.1120732639190871},{"$f":"(Z23*(B24/1000))+0.07","v":3.182073263919087}]
[null,null,null,null,null,null,null,null,null,null,null,null,null,null,null,null,null,null,null,null,null,null,null,null,"width",{"$f":"((E67-E63)*(B24/1000))+0.07","v":2.953708572928444},{"$f":"IF(E4<>AA4,Z30*(B24/1000),((G67-G63)*(B24/1000))+0.07)","v":2.9537085729284431},{"$f":"((I67-I63)*(B24/1000))+0.07","v":2.953708572928444},{"$f":"(AC30*(B24/1000))+0.07","v":2.1994512847433607}]
[null,null,null,null,null,null,null,null,null,null,null,null,null,null,null,null,null,null,null,null,null,null,null,null,"perimeter",{"$f":"Z32+Z33+((Z26*(B24/1000))+0.07)+((Z27*(B24/1000))+0.07)","v":10.777855100766617},{"$f":"(AA32*2)+((Z30*(B24/1000)+0.07))+AA33","v":10.777855100766617},{"$f":"AB32+AB33+((AB26*(B24/1000))+0.07)+((AB27*(B24/1000))+0.07)","v":10.777855100766617},{"$f":"(AC32*2)+AC33","v":8.5635978125815342}]
[null,null,null,null,null,null,null,null,null,null,null,null,null,null,null,null,null,null,null,null,null,null,null,null,null,{"$f":"(((X1*((X6*Z32*Z33*Z1)+(Z34*Z2)+(AA8*Z3)+Z4))+7.2*AA8)+IF(E11=AA7,24.7*2,)+IF(E10=AA7,24.7*2,))","v":765.17812570527281},{"$f":"IF(E4<>AA4,0,(((X1*((X6*AA32*AA33*Z1)+(AA34*Z2)+(AA8*Z3)+Z4))+7.2*AA8)+IF(E10=AA7,24.7*2,)+IF(E11=AA7,24.7*2,)))","v":765.17812570527269},{"$f":"IF(E4=AA2,0,(((X1*((X6*AB32*AB33*Z1)+(AB34*Z2)+(AA8*Z3)+Z4))+7.2*AA8)+IF(E10=AA7,24.7*2,)+IF(E11=AA7,24.7*2,)))","v":765.17812570527281},{"$f":"IF(OR(E5=AB6,E6=AB6),(X2*((X7*AC32*AC33*Z1)+(AC34*Z2)+(3*Z3)+Z4))+7.2*3,)","v":429.45462778182025}]
[]
[]
[]
[]
[]
[]
[]
[]
[]
[]
[]
[]
[]
[]
[]
[]
[]
[]
[]
[]
[]
[]
[]
[]
[]
[null,null,null,null,"x","y","x","y","x","y","x","y","x","y","Roof plan"," ","Y-Axis fitting points"]
[null,null,null,null,"down front",null,"down mid",null,"down left",null,"left tri 1",null,"right tri 2",null,"x-axis","y-axis","Sail 1",null,"Sail 2"]
[null,null,null,null,{"$f":"Z24","v":7.2916666666666676E-3},{"$f":"Z24","v":7.2916666666666676E-3},{"$f":"IF(E4=AA4,X18/2-(AA30/2),)","v":0.1996136903199538},{"$f":"IF(E4=AA4,Z24,)","v":7.2916666666666676E-3},{"$f":"IF(E4<>AA2,I67-AC27,)","v":0.39193571397324078},{"$f":"IF(E4<>AA2,Z24,)","v":7.2916666666666676E-3},{"$f":"IF(E4=AA2,0,IF(E5=AB6,K65-(AC30/2),))","v":0.11151549117256659},{"$f":"IF(E4=AA2,0,IF(E5=AB6,Z24,))","v":7.2916666666666676E-3},{"$f":"IF(E4<>AA4,0,IF(E6=AB6,M65-(AC30/2),))","v":0},{"$f":"IF(E4<>AA4,0,IF(E6=AB6,Z24,))","v":0},0,0,0,{"$f":"F77","v":0.32417429832490496},{"$f":"IF(AND(E4<>AA2,E11=AA7),O68-0.015,0)","v":0},{"$f":"H69","v":0.32417429832490491}]
[null,null,null,null,{"$f":"IF(E4=AA2,E63+(AA27/4),E63+(AA27/4))","v":0.1574848215066898},{"$f":"F65*0.75","v":6.5465955387609021E-2},{"$f":"IF(E4=AA4,G63+(MAX(AA30:AB30)/4),)","v":0.3498068451599769},{"$f":"IF(E4=AA4,AB19,)","v":5.6300220258405996E-2},{"$f":"IF(E4<>AA2,I63+(AC27/4),0)","v":0.54212886881326394},{"$f":"IF(E4<>AA2,AE15,)","v":6.5465955387609021E-2},{"$f":"IF(E4=AA2,0,IF(E5=AB6,K65-(AC30/4),))","v":0.22242441225294998},{"$f":"IF(E4=AA2,0,IF(E5=AB6,AC23,))","v":5.0145104221349518E-2},{"$f":"IF(E4<>AA4,0,IF(E6=AB6,M65-(AC30/4),))","v":0},{"$f":"IF(E4<>AA4,0,IF(E6=AB6,AC23,))","v":0},{"$f":"X18","v":1},0,{"$f":"IF(E11=AA7,0.03,0)","v":0},{"$f":"R63","v":0.32417429832490496},{"$f":"IF(AND(E4<>AA2,E11=AA7),S63+0.03,0)","v":0},{"$f":"T63","v":0.32417429832490491}]
[null,null,null,null,{"$f":"IF(E4=AA2,E63+(AA27/2),E63+(AA27/2))","v":0.3076779763467129},{"$f":"AA15","v":8.7287940516812032E-2},{"$f":"IF(E4=AA4,G67-(G67-G63)/2,)","v":0.5},{"$f":"IF(E4=AA4,AA19,)","v":7.5066960344541328E-2},{"$f":"IF(E4<>AA2,I63+(AC27/2),0)","v":0.69232202365328699},{"$f":"IF(E4<>AA2,AD15,)","v":8.7287940516812032E-2},{"$f":"IF(E4=AA2,0,IF(E5=AB6,K71,))","v":0.33333333333333337},{"$f":"IF(E4=AA2,0,IF(E5=AB6,AB23,))","v":6.6860138961799362E-2},{"$f":"IF(E4<>AA4,0,IF(E6=AB6,M71,))","v":0},{"$f":"IF(E4<>AA4,0,IF(E6=AB6,AB23,))","v":0},{"$f":"X18","v":1},{"$f":"Z23","v":0.64834859664980982},{"$f":"IF(OR(E11=AA6,E4=AA2),0,I75-Z24-0.015)","v":0},{"$f":"F69","v":0.32417429832490491},{"$f":"IF(AND(E4>1.5,E11=AA7),S66-0.03,0)","v":0},{"$f":"J69","v":0.32417429832490496}]
[null,null,null,null,{"$f":"IF(E4=AA2,E65+(AA27/4),E65+(AA27/4))","v":0.45787113118673606},{"$f":"F64","v":6.5465955387609021E-2},{"$f":"IF(E4=AA4,G67-(MAX(AA30:AB30)/4),)","v":0.65019315484002305},{"$f":"IF(E4=AA4,H64,)","v":5.6300220258405996E-2},{"$f":"IF(E4<>AA2,I65+(AC27/4),0)","v":0.84251517849331015},{"$f":"IF(E4<>AA2,J64,)","v":6.5465955387609021E-2},{"$f":"IF(E4=AA2,0,IF(E5=AB6,K65+(AC30/4),))","v":0.44424225441371679},{"$f":"IF(E4=AA2,0,IF(E5=AB6,AC23,))","v":5.0145104221349518E-2},{"$f":"IF(E4<>AA4,0,IF(E6=AB6,M65+(AC30/4),))","v":0},{"$f":"IF(E4<>AA4,0,IF(E6=AB6,AC23,))","v":0},0,{"$f":"Z23","v":0.64834859664980982},{"$f":"IF(OR(E11=AA6,E4=AA2),0,Q65+0.03)","v":0},{"$f":"R65","v":0.32417429832490491},{"$f":"IF(AND(E4>1.5,E11=AA7),X18,0)","v":0},{"$f":"T65","v":0.32417429832490496}]
[null,null,null,null,{"$f":"IF(E4=AA2,E63+AA27,E63+AA27)","v":0.60806428602675922},{"$f":"Z24","v":7.2916666666666676E-3},{"$f":"IF(E4=AA4,X18/2+(AB30/2),)","v":0.8003863096800462},{"$f":"IF(E4=AA4,Z24,)","v":7.2916666666666676E-3},{"$f":"IF(E4<>AA2,X18-Z24,0)","v":0.9927083333333333},{"$f":"J63","v":7.2916666666666676E-3},{"$f":"IF(E4=AA2,0,IF(E5=AB6,K65+(AC30/2),))","v":0.55515117549410009},{"$f":"L63","v":7.2916666666666676E-3},{"$f":"IF(E4<>AA4,0,IF(E6=AB6,M65+(AC30/2),))","v":0},{"$f":"IF(E4<>AA4,0,IF(E6=AB6,N63,))","v":0},0,0]
[null,null,null,null,{"$f":"E67-AB12-(X10/4)","v":0.46887589301337962},{"$f":"IF(E4=AA2,F78,Z26/4)","v":0.15844131582911913},{"$f":"IF(E4=AA4,G67-AB17-(X14/8),)","v":0.69645074408667818},{"$f":"IF(E4=AA4,F68,)","v":0.15844131582911913},{"$f":"IF(E4<>AA2,I67-AE13,)","v":0.92402559515997684},{"$f":"IF(E4<>AA2,J69-(AC26/4),)","v":0.16573298249578583},{"$f":"IF(E4=AA2,0,IF(E5=AB6,K67-((K67-K71)/2),))","v":0.44424225441371673},{"$f":"IF(E4=AA2,0,IF(E5=AB6,L69-(AC29/4),))","v":0.16573298249578577},{"$f":"IF(E4<>AA4,0,IF(E6=AB6,M67-((M67-M71)/2),))","v":0},{"$f":"IF(E4<>AA4,0,IF(E6=AB6,N69-(AC29/4),))","v":0},{"$f":"(X18/2)-(X20/2)","v":0.33333333333333337},{"$f":"Z23","v":0.64834859664980982},"X-Axis fitting points"]
[null,null,null,null,{"$f":"E67-AA12-(X10/2)","v":0.37547599211557103},{"$f":"IF(E4=AA2,F77,Z23/2)","v":0.32417429832490491},{"$f":"IF(E4=AA4,G67-AA17-(X14/4),)","v":0.63830367060888116},{"$f":"IF(E4=AA4,F69,)","v":0.32417429832490491},{"$f":"IF(E4<>AA2,I67-AD13,)","v":0.90113134910219139},{"$f":"IF(E4<>AA2,J70-(AC26/4),)","v":0.32417429832490496},{"$f":"IF(E4=AA2,0,IF(E5=AB6,K67-((K67-K71)*0.75),))","v":0.38878779387352502},{"$f":"IF(E4=AA2,0,IF(E5=AB6,Z23-(Z23/2),))","v":0.32417429832490491},{"$f":"IF(E4<>AA4,0,IF(E6=AB6,M67-((M67-M71)*0.75),))","v":0},{"$f":"IF(E4<>AA4,0,IF(E6=AB6,Z23-(Z23/2),))","v":0},{"$f":"(X18/2)+(X20/2)","v":0.66666666666666663},{"$f":"P68","v":0.64834859664980982},"Sail 1",null,"Sail 2",null,"Sail 3"]
[null,null,null,null,{"$f":"E71-AB12+(X10/4)","v":0.32786458333333335},{"$f":"IF(E4=AA2,F76,Z26*0.75)","v":0.4753239474873574},{"$f":"IF(E4=AA4,G71-AB17+(X14/6),)","v":0.63769603171999223},{"$f":"IF(E4=AA4,F70,)","v":0.4753239474873574},{"$f":"IF(E4<>AA2,I67-AE13,)","v":0.92402559515997684},{"$f":"IF(E4<>AA2,J71-(AC26/4),)","v":0.4826156141540241},{"$f":"IF(E4=AA2,0,IF(E5=AB6,K71+((K67-K71)*0.1),))","v":0.35551511754941006},{"$f":"IF(E4=AA2,0,IF(E5=AB6,L69+(AC29/4),))","v":0.48261561415402404},{"$f":"IF(E4<>AA4,0,IF(E6=AB6,M71+((M67-M71)*0.1),))","v":0},{"$f":"IF(E4<>AA4,0,IF(E6=AB6,N69+(AC29/4),))","v":0},{"$f":"X18","v":1},0,{"$f":"E65","v":0.3076779763467129},0,{"$f":"O65-E65","v":0.6923220236532871},0,{"$f":"G65","v":0.5},0]
[null,null,null,null,{"$f":"IF(E4=AA2,E63+AA27,E63+Z27)","v":0.32604166666666667},{"$f":"IF(E4=AA2,F75,Z23-Z24)","v":0.64105692998314312},{"$f":"IF(E4=AA4,O69-Z24,)","v":0.65937499999999993},{"$f":"IF(E4=AA4,Z23-Z24,)","v":0.64105692998314312},{"$f":"IF(E4<>AA2,I67,0)","v":0.9927083333333333},{"$f":"IF(E4<>AA2,J67+AC26,)","v":0.64105692998314323},{"$f":"IF(E4=AA2,0,IF(E5=AB6,O68+IF(E4=AA3,X20/2,),))","v":0.33333333333333337},{"$f":"IF(E4=AA2,0,IF(E5=AB6,P68-Z24,))","v":0.64105692998314312},{"$f":"IF(E4<>AA4,0,IF(E6=AB6,X20+O68,))","v":0},{"$f":"IF(E4<>AA4,0,IF(E6=AB6,P68-Z24,))","v":0},null,null,{"$f":"Q70","v":0.3076779763467129},{"$f":"IF(E10=Z7,0.03,0)","v":0},{"$f":"S70","v":0.6923220236532871},{"$f":"IF(E10=Z7,0.03,0)","v":0},{"$f":"U70","v":0.5},{"$f":"IF(E4<AA3,0,IF(E10=Z7,0.03,))","v":0}]
[null,null,null,null,{"$f":"IF(E4=AA2,E65+(AA27/4),E71-(Z27/4))","v":0.24635416666666665},{"$f":"IF(E4=AA2,F74,F71-AB14)","v":0.60308817998314312},{"$f":"IF(E4=AA4,G71-(Z30/4),)","v":0.57968749999999991},{"$f":"IF(E4=AA4,Z23-AB18,)","v":0.61037984664980982},{"$f":"IF(E4<>AA2,I71-(Z27/4),)","v":0.91302083333333328},{"$f":"IF(E4<>AA2,J71-AE14,)","v":0.60308817998314324},{"$f":"IF(E5=AB6,K71-((K67-K71)*0.1),)","v":0.31115154911725668},{"$f":"L70","v":0.48261561415402404},{"$f":"IF(E4<>AA4,0,IF(E6=AB6,M71-((M67-M71)*0.1),))","v":0},{"$f":"IF(E4<>AA4,0,IF(E6=AB6,N70,))","v":0},null,null,{"$f":"E73","v":0.16666666666666663},{"$f":"IF(E10=Z7,Z23,0)","v":0},{"$f":"O64-E73","v":0.83333333333333337},{"$f":"IF(E10=Z7,Z23,0)","v":0},{"$f":"G73","v":0.5},{"$f":"IF(E4<AA3,0,IF(E10=Z7,Z23,))","v":0}]
[null,null,null,null,{"$f":"IF(E4=AA2,E63+(AA27/2),E72-(Z27/4))","v":0.16666666666666663},{"$f":"F75-AA14","v":0.5904319299831432},{"$f":"IF(E4=AA4,X18/2,)","v":0.5},{"$f":"IF(E4=AA4,Z23-AA18,)","v":0.59772359664980979},{"$f":"IF(E4<>AA2,I71-(Z27/2),0)","v":0.83333333333333326},{"$f":"IF(E4<>AA2,J71-AD14,)","v":0.5904319299831432},{"$f":"IF(E5=AB6,K75+((K71-K75)*0.75),)","v":0.27787887279314166},{"$f":"L69","v":0.32417429832490491},{"$f":"IF(E4<>AA4,0,IF(E6=AB6,M75+((M71-M75)*0.75),))","v":0},{"$f":"IF(E4<>AA4,0,IF(E6=AB6,N69,))","v":0},null,null,{"$f":"Q72","v":0.16666666666666663},{"$f":"IF(E10=Z7,R72-0.03,0)","v":0},{"$f":"S72","v":0.83333333333333337},{"$f":"IF(E10=Z7,R72-0.03,0)","v":0},{"$f":"U72","v":0.5},{"$f":"IF(E4<AA3,0,IF(E10=Z7,R72-0.03,))","v":0}]
[null,null,null,null,{"$f":"IF(E4=AA2,E63+(AA27/4),E73-(Z27/4))","v":8.6979166666666621E-2},{"$f":"F75-AB14","v":0.60308817998314324},{"$f":"IF(E4=AA4,G73-(Z30/4),)","v":0.42031250000000003},{"$f":"IF(E4=AA4,Z23-AB18,)","v":0.61037984664980982},{"$f":"IF(E4<>AA2,I75+(Z27/4),0)","v":0.75364583333333335},{"$f":"IF(E4<>AA2,J71-AE14,)","v":0.60308817998314324},{"$f":"K75+((K71-K75)/2)","v":0.22242441225294998},{"$f":"L68","v":0.16573298249578577},{"$f":"IF(E4<>AA4,0,IF(E6=AB6,M75+((M71-M75)/2),))","v":0},{"$f":"IF(E4<>AA4,0,IF(E6=AB6,N68,))","v":0}]
[null,null,null,null,{"$f":"E63","v":7.2916666666666676E-3},{"$f":"F63+AA26","v":0.64105692998314323},{"$f":"IF(E4=AA4,G71-Z30,)","v":0.34062500000000001},{"$f":"IF(E4=AA4,H71,)","v":0.64105692998314312},{"$f":"IF(E4=AA3,O68+(X20/2)+Z24,IF(E4<>AA2,O69+Z24,))","v":0.67395833333333333},{"$f":"IF(E4<>AA2,P69-Z24,)","v":0.64105692998314312},{"$f":"K63","v":0.11151549117256659},{"$f":"L63","v":7.2916666666666676E-3},{"$f":"IF(E4<>AA4,0,IF(E6=AB6,M63,))","v":0},{"$f":"IF(E4<>AA4,0,IF(E6=AB6,N63,))","v":0}]
[null,null,null,null,{"$f":"E63+AB13","v":7.597440484002313E-2},{"$f":"F75-(AA26/4)","v":0.4826156141540241},{"$f":"IF(E4=AA4,G75+AB17-(X10/6),)","v":0.36230396828000772},{"$f":"H70","v":0.4753239474873574},{"$f":"IF(E4<>AA2,I75+AB12-(X14/4),)","v":0.67213541666666665},{"$f":"IF(E4<>AA2,(Z26*0.75),)","v":0.4753239474873574}]
[null,null,null,null,{"$f":"E63+AA13","v":9.8868650897808621E-2},{"$f":"F76-(AA26/4)","v":0.32417429832490496},{"$f":"IF(E4=AA4,G79+AA17+(X10/4),)","v":0.3616963293911189},{"$f":"IF(E4=AA4,H69,)","v":0.32417429832490491},{"$f":"IF(E4<>AA2,I79+AA12+(X14/2),)","v":0.62452400788442897},{"$f":"IF(E4<>AA2,Z23/2,)","v":0.32417429832490491}]
[null,null,null,null,{"$f":"E76","v":7.597440484002313E-2},{"$f":"F77-(AA26/4)","v":0.16573298249578583},{"$f":"IF(E4=AA4,G79+AB17+(X10/8),)","v":0.30354925591332182},{"$f":"H68","v":0.15844131582911913},{"$f":"IF(E4<>AA2,I79+AB12+(X14/4),)","v":0.53112410698662038},{"$f":"IF(E4<>AA2,Z26/4,)","v":0.15844131582911913}]
[null,null,null,null,{"$f":"E63","v":7.2916666666666676E-3},{"$f":"Z24","v":7.2916666666666676E-3},{"$f":"IF(E4=AA4,G63,)","v":0.1996136903199538},{"$f":"IF(E4=AA4,Z24,)","v":7.2916666666666676E-3},{"$f":"I63","v":0.39193571397324078},{"$f":"J63","v":7.2916666666666676E-3}]

{"sheet":"Georgian Gable","index":2,"n_rows":80,"n_cols":26,"rows_kept":80,"cut":false,"hidden":false,"merged":[[20,3,21,4],[25,6,27,10],[20,7,21,9],[22,6,24,10],[23,3,26,4]]}
[null,null,null,null,null,null,null,null,null,null,null,null,null,null,null,null,null,null,"Main material",{"$f":"IF(E14=S3,5,IF(E14=S4,6,IF(E14=S5,6)))","v":5},"Material cost",11.35,"Sails","Warning 1","Warning: Sail too narrow, increase no. of sails, add X-Axis fittings or increase gap size","Sails"]
[null,null,null,null,null,null,null,null,null,null,null,null,null,null,null,null,null,null,"Tri material",{"$f":"IF(E15=S3,5,IF(E15=S4,6,IF(E15=S5,6)))","v":5},"PE",2.5,"1 - Front","Warning 2","Warning: Sail too narrow, decrease no. of sails, add Y-Axis fittings or reduce gap size",{"$f":"IF(E5=W2,2,IF(E5=W3,1,E5))","v":3}]
[null,null,null,null,null,null,null,null,null,null,null,null,null,null,null,null,null," ","Solid ISX",5,"PN",3.5,"1 - Full","Warning 3","Warning: Sail too wide for standard fabric, please add more sails or increase gap size"]
[null,null,null,"Select coverage","Cover both sides",null,null,null,null,null,null,null,null,null,null,null,null," ","Duplex ISX",6,"IP",2,2,"Warning 4","Warning: Conservatory too long for standard fabric, contact office for more detailed price"]
[null,null,null,"Select no. of sails per side",3,null,null,null,null,null,null,null,null,null,null,null,null," ","Solid ISXFR",6,"No. of vents",null,3]
[null,null,null,"Left triangle sail","Yes",null,null,null,null,null,null,null,null,null,null,null,null,null,"Shape",{"$f":"IF(W10=S7,T7,IF(W10=S8,T8,IF(W10=S9,T9)))","v":1},0,"Y fit points","X fit points"," "]
[null,null,null,"Right triangle sail","Yes",null,null,null,null,null,null,null,null,null,null,null,null,null,"Triangle",0.6,1,"None","None",null,"Dims in m"]
[null,null,null,null,null,null,null,null,null,null,null,null,null,null,null,null,null,null,"Diamond",0.6,2,"Standard","Standard","h1",{"$f":"B24/B27","v":0.44612068965517243}]
[null,null,null,"Reduce left gap size","Standard",null,null,null,null,null,null,null,null,null,null,null,null," ","Other",1,3,"No. of corners",4,"h2",{"$f":"B25/B27","v":0.70043103448275867}]
[null,null,null,"Reduce right gap size","Standard",null,null,null,null,null,null,null,null,null,null,null,null," ","Overlap left",{"$f":"IF(E9=S11,T11,IF(E9=S12,T12,IF(E9=S13,T13,)))","v":0},4,"Shape","Other","y1",{"$f":"B27/B27","v":1}]
[null,null,null,"Additional X-Axis fitting points","None",null,null,null,null,null,null,null,null,null,null,null,null,null,"Standard",0,null,"Curve allowance",0.4,"x1",{"$f":"B26/B27","v":0.81896551724137934}]
[null,null,null,"Additional Y-Axis fitting points","None",null,null,null,null,null,null,null,null,null,null,null,null,null,0.5,{"$f":"IF(E5=W3,0,IF(OR(E5=W4,E5=W2),(U16/2)+(0.035/(B27/1000)),IF(E5=W5,(U16*0.67)+Y23)))","v":5.4581521120139524E-2}]
[null,null,null,null,null,null,null,null,null,null,null,null,null,null,null,null,null,null,1,{"$f":"IF(E5=W3,0,IF(OR(E5=W4,E5=W2),U16+(0.035/(B27/1000)),IF(E5=W5,(U16*1.34)+(0.035/(B27/1000)))))","v":0.10161993879200318},"tri width","tri length","tri mid","tri quarter","tri perimeter"]
[null,null,null,"Select material for main sails","Solid ISX",null,null,null,null,null,null,null,null,null,null,null,null,null,"Overlap right",{"$f":"IF(E5=W4,T10,IF(E10=S11,T11,IF(E10=S12,T12,IF(E10=S13,T13))))","v":0},{"$f":"IF(V14*0.7<Y10,V14*0.7,Y10)","v":0.3268584479745168},{"$f":"R66-(0.07/(B27/1000))","v":0.46694063996359547},{"$f":"U14*0.13","v":4.2491598236687182E-2},{"$f":"W14*0.75","v":3.1868698677515385E-2},{"$f":"(U14+(0.07/(B27/1000)))+((V14+(0.07/(B27/1000)))*2)","v":1.3059983485913629}]
[null,null,null,"Select material for triangles","Solid ISX",null,null,null,null,null,null,null,null,null,null,null,null,null,null,"Warnings","Mid","Quarters","Coverage","Roof area (m^2)",{"$f":"Y18*Y10","v":0.48202684686014718}]
[null,null,null,"Select no. of window vents",0,null,null,null,null,null,null,null,null,null,null,null,null,null,"Width",{"$f":"(IF(OR(E5=W2,E5=W3),T23,IF(OR(E5=W4,E5=W5),MIN(T23:V23),)))","v":1.5466666666666664},{"$f":"((Y19+(0.07/(B27/1000)))*0.13)+Y23","v":7.0206593540095008E-2},{"$f":"(U16)*0.75","v":5.2654945155071256E-2},"Cover one side","Area of each sail",{"$f":"Y15/Z2","v":0.16067561562004906}]
[null,null,null,null,null,null,null,"Plan view - looking from above",null,null,null,null,null,null,null,null,null,null,"Length",{"$f":"(Y19*(B27/1000))+0.07","v":2.2366045694310825},"-","-","Cover both sides","Sail perimeter",{"$f":"((Y19+0.07)*2)+((Y20+0.07)*2)","v":1.8503755328007541}]
[null,null,null,"Max length of sail",{"$f":"(MAX(T22:V22))*1000","v":2236.6045694310824},null,null,null,null,null,null,null,null,null,null,null,null,null,"Vertical left",{"$f":"((Y20+(0.07/(B27/1000)))*0.13)+Y23","v":5.0876436781609198E-2},{"$f":"T18*0.75","v":3.81573275862069E-2},null,"triangles","Glazing bar length",{"$f":"SQRT((Y9-Y8)^2+(Y11/2)^2)","v":0.48202684686014718}]
[null,null,null,"Max width of sail",{"$f":"T16*1000","v":1546.6666666666665},null,null,null,null,null,null,null,null,null,null,null,null,null,"Vertical mid",{"$f":"((AVERAGE(Y21:Z21)+(0.07/(B27/1000)))*0.13)+Y23","v":5.0876436781609198E-2},{"$f":"T19*0.75","v":3.81573275862069E-2},null,"No","Length of sail",{"$f":"Y18-(0.07/(B27/1000))","v":0.46694063996359547}]
[null,null,null,null,null,null,null,null,null,null,null,null,null,null,null,null,null,null,"Vertical right",{"$f":"((Y22+(0.07/(B27/1000)))*0.13)+Y23","v":5.0876436781609198E-2},{"$f":"T20*0.75","v":3.81573275862069E-2},null,"Yes","Width left",{"$f":"(Y10/Z2)-(0.07/(B27/1000))+T10","v":0.3182471264367816}," ->"]
[null,null,null,"Please note that sails larger than 2100mm in both directions, will require a colour matched seam.",null,null,null,"Total budget cost incl. Installation+VAT+Delivery",null,null,{"$f":"T25+U25+V25+12.15+(E16*50)+IF(AND(E6=W20,E5<>W3),W25,)+IF(AND(E7=W20,E5=W5),W25,)","v":3533.04368512253},null,null,null,null,null,null,null,"Costs","left","mid","right","tri","Width middle",{"$f":"(Y10/Z2)-(0.07/(B27/1000))+T10","v":0.3182471264367816},{"$f":"(Y10/Z2)-(0.07/(B27/1000))+T14","v":0.3182471264367816}]
[null,null,null,null,null,null,null,null,null,null,{"$f":"'   '!P3","v":4063.0002378909094},null,null,null,null,null,null,null,"length",{"$f":"(Y19*(B27/1000))+0.07","v":2.2366045694310825},{"$f":"T22","v":2.2366045694310825},{"$f":"U22","v":2.2366045694310825},{"$f":"V22","v":2.2366045694310825},"Width right",{"$f":"(Y10/Z2)-(0.07/(B27/1000))+T14","v":0.3182471264367816}]
[null,"All dims in mm",null,null,null,null,{"$f":"'   '!A8","v":0},null,null,null,null,null,null,null,null,null,null,null,"width",{"$f":"((D68-D64)*(B27/1000))+0.07","v":1.5466666666666666},{"$f":"IF(E5<>W5,MIN(T23,V23),((H68-H64)*(B27/1000))+0.07)","v":1.5466666666666669},{"$f":"((F68-F64)*(B27/1000))+0.07*IF(E5<>W3,1,1000)","v":1.5466666666666664},{"$f":"(U14*(B27/1000))+0.07","v":1.5866231986017578},"50mm links",{"$f":"0.035/(B27/1000)","v":7.5431034482758633E-3}]
["H1",2070,null,{"$f":"IF(((T18*(B26/1000))*(IF(E11=V8,0.5,2)))>(T17*W11),Y1,IF(((U16*(B26/1000))*(IF(E12=W8,0.5,2)))>(T16*W11),Y2,IF(AND(T16>4,T17>4),Y3,\"\")))","v":""},null,null,null,null,null,null,null,null,null,null,null,null,null,null,"perimeter",{"$f":"(T22*2)+(T23*2)","v":7.5665424721954988},{"$f":"(U22*2)+(U23*2)","v":7.5665424721954988},{"$f":"(V22*2)+(V23*2)","v":7.5665424721954979},{"$f":"(W22*2)+W23","v":6.0598323374639227}]
["H2",3250,null,null,null,null,null,null,null,null,null,null,null,null,null,null,null,null,null,{"$f":"IF(E4=W17,2,1)*(((T1*((T6*T22*T23*V1)+(T24*V2)+(W9*V3)+V4))+7.2*W9)+IF(E11=V8,24.7*2,)+IF(E12=W8,24.7*2*IF(E5=W2,0.5,1),))","v":799.39203861994918},{"$f":"IF(E4=W17,2,1)*IF(E5=W5,((T1*((T6*U23*U22*V1)+(U24*V2)+(W9*V3)+V4))+7.2*W9)+IF(E12=V8,24.7*2,)+IF(E11=W8,24.7*2,),)","v":799.39203861994918},{"$f":"IF(E4=W17,2,1)*IF(OR(E5=W4,E5=W5),((T1*((T6*V22*V23*V1)+(V24*V2)+(W9*V3)+V4))+7.2*W9)+IF(E11=V8,24.7*2,)+IF(E12=W8,24.7*2,),0)","v":799.39203861994918},{"$f":"IF(AND(E5<>W3,OR(E6=W20,AND(E7=W20,E5<>W4))),((T2*((T7*W23*W22*V1)+(W24*V2)+(3*V3)+V4))+7.2*3),)*IF(E4=W17,2,1)","v":561.35878463134134}]
["X1",3800,null,null,null,null,{"$f":"'   '!A11","v":0}]
["Y1",4640]
[]
[]
[]
[]
[]
[]
[]
[]
[]
[]
[]
[]
[]
[]
[null,null,null,"x","y","x","y","x","y",null,"triangles"]
[null,null,null,"Left up",null,"Right up",null,"Mid up",null,null,"x","y","x","y","x","y","x","y"]
[null,null,null,{"$f":"IF(E4=W16,0,Y23)","v":7.5431034482758633E-3},{"$f":"IF(E4=W16,0,Y23+Y18)","v":0.48956995030842304},{"$f":"IF(E4=W16,0,IF(E5=W3,0,IF(E5=W4,F48-Y22,IF(E5=W5,(F48-Y22)))))","v":0.67420977011494254},{"$f":"IF(E5=W3,0,IF(E5=W4,E44,IF(E5=W5,E44)))","v":0.48956995030842304},{"$f":"IF(E4=W16,0,IF(OR(E5=W2,E5=W3),0,IF(E5=W4,0,IF(E5=W5,(Y10/2)-(Y21/2)))))","v":0.34087643678160917},{"$f":"IF(OR(E5=W2,E5=W3),0,IF(E5=W4,0,IF(E5=W5,E44)))","v":0.48956995030842304},null,"down left",null,"down right",null,"up left",null,"up right"]
[null,null,null,{"$f":"IF(E4=W16,0,D64+(Y20/4))","v":8.7104885057471271E-2},{"$f":"IF(E4=W16,0,(E66*0.75)+Y18)","v":0.52018417444635412},{"$f":"IF(E4=W16,0,IF(E5=W3,0,IF(E5=W4,F46-(Y22/4),IF(E5=W5,F46-Y23-(Y22/4)))))","v":0.73868534482758608},{"$f":"IF(E4=W16,0,IF(E5=W3,0,IF(E5=W4,Y18+U20,IF(E5=W5,Y18+U20))))","v":0.52018417444635412},{"$f":"IF(E4=W16,0,IF(OR(E5=W2,E5=W3),0,IF(E5=W4,0,IF(E5=W5,H44+(MAX(Y21:Z21)/4)))))","v":0.42043821839080459},{"$f":"IF(E4=W16,0,IF(OR(E5=W2,E5=W3),0,IF(E5=W4,0,IF(E5=W5,Y18+U19))))","v":0.52018417444635412},null,{"$f":"IF(E6=W20,IF(E5<>W3,K47-(U14/2),),)","v":0.16990410934607492},{"$f":"IF(E6=W20,IF(E5<>W3,Y23,),)","v":7.5431034482758633E-3},{"$f":"IF(E7=W20,IF(E5=W5,M47-(U14/2),),)","v":0.50323744267940818},{"$f":"IF(E7=W20,IF(E5=W5,Y23,),)","v":7.5431034482758633E-3},{"$f":"IF(E4=W16,0,IF(E6=W20,IF(E5<>W3,K47-(U14/2),),))","v":0.16990410934607492},{"$f":"IF(E4=W16,0,IF(E6=W20,IF(E5<>W3,R64-Y23,),))","v":0.95651059027201846},{"$f":"IF(E4=W16,0,IF(E7=W20,IF(E5=W5,M47-(U14/2),),))","v":0.50323744267940818},{"$f":"IF(E7=W20,IF(E5=W5,R64-Y23,),)","v":0.95651059027201846}]
[null,null,null,{"$f":"IF(E4=W16,0,IF(E5=W3,(Y10/2),IF(OR(E5=W2,E5=W4),D68-(Y20/2),IF(E5=W5,D68-(Y20/2)))))","v":0.16666666666666666},{"$f":"IF(E4=W16,0,T18+Y18)","v":0.53290328364175643},{"$f":"IF(E4=W16,0,IF(E5=W3,0,IF(E5=W4,F48-(Y22/2),IF(E5=W5,F48-Y23-(Y22/2)))))","v":0.82579022988505735},{"$f":"IF(E4=W16,0,IF(E5=W3,0,IF(E5=W4,Y18+T20,IF(E5=W5,Y18+T20))))","v":0.53290328364175643},{"$f":"IF(E4=W16,0,IF(OR(E5=W2,E5=W3),0,IF(E5=W4,0,IF(E5=W5,H48-((H48-H44)/2)))))","v":0.5},{"$f":"IF(E4=W16,0,IF(OR(E5=W2,E5=W3),0,IF(E5=W4,0,IF(E5=W5,Y18+T19))))","v":0.53290328364175643},null,{"$f":"IF(E6=W20,IF(E5<>W3,K45+(U14/4),),)","v":0.25161872133970409},{"$f":"IF(E6=W20,IF(E5<>W3,X14,),)","v":3.1868698677515385E-2},{"$f":"IF(E7=W20,IF(E5=W5,M47-(U14/4),),)","v":0.58495205467303746},{"$f":"IF(E7=W20,IF(E5=W5,X14,),)","v":3.1868698677515385E-2},{"$f":"IF(E4=W16,0,IF(E6=W20,IF(E5<>W3,K45+(U14/4),),))","v":0.25161872133970409},{"$f":"IF(E4=W16,0,IF(E6=W20,IF(E5<>W3,R64-X14,),))","v":0.93218499504277896},{"$f":"IF(E4=W16,0,IF(E7=W20,IF(E5=W5,M47-(U14/4),),))","v":0.58495205467303746},{"$f":"IF(E7=W20,IF(E5=W5,R64-X14,),)","v":0.93218499504277896}]
[null,null,null,{"$f":"IF(E4=W16,0,D68-(Y20/4))","v":0.24622844827586204},{"$f":"IF(E4=W16,0,E65+Y18)","v":0.52018417444635412},{"$f":"F46+Y23+(F46-F45)","v":0.92043821839080453},{"$f":"IF(E5=W3,0,IF(E5=W4,G45,IF(E5=W5,G45)))","v":0.52018417444635412},{"$f":"IF(E4=W16,0,IF(OR(E5=W2,E5=W3),0,IF(E5=W4,0,IF(E5=W5,H48-(MAX(Y21:Z21)/4)))))","v":0.57956178160919547},{"$f":"I45","v":0.52018417444635412},null,{"$f":"IF(E6=W20,IF(OR(E5=W2,E5=W4),Y10/2,IF(E5=W5,Y10/3,)),)","v":0.33333333333333331},{"$f":"IF(E6=W20,IF(E5<>W3,W14,),)","v":4.2491598236687182E-2},{"$f":"IF(E7=W20,IF(E5=W5,Y10*(2/3),),)","v":0.66666666666666663},{"$f":"IF(E7=W20,IF(E5=W5,W14,),)","v":4.2491598236687182E-2},{"$f":"IF(E4=W16,0,IF(E6=W20,IF(OR(E5=W2,E5=W4),Y10/2,IF(E5=W5,Y10/3)),))","v":0.33333333333333331},{"$f":"IF(E4=W16,0,IF(E6=W20,IF(E5<>W3,R64-W14,),))","v":0.92156209548360724},{"$f":"IF(E4=W16,0,IF(E7=W20,IF(E5=W5,Y10*(2/3),),))","v":0.66666666666666663},{"$f":"IF(E7=W20,IF(E5=W5,R64-W14,),)","v":0.92156209548360724}]
[null,null,null,{"$f":"IF(E4=W16,0,IF(E5=W3,D64+Y20,IF(OR(E5=W2,E5=W4),Y20+D64,IF(E5=W5,D64+Y20))))","v":0.32579022988505746},{"$f":"IF(E4=W16,0,E44)","v":0.48956995030842304},{"$f":"IF(E4=W16,0,IF(E5=W3,0,IF(E5=W4,Y10-Y23,IF(E5=W5,Y10-Y23))))","v":0.99245689655172409},{"$f":"IF(E5=W3,0,IF(E5=W4,E44,IF(E5=W5,E44)))","v":0.48956995030842304},{"$f":"IF(E4=W16,0,IF(OR(E5=W2,E5=W3),0,IF(E5=W4,0,IF(E5=W5,(Y10/2)+(Z21/2)))))","v":0.65912356321839083},{"$f":"IF(OR(E5=W2,E5=W3),0,IF(E5=W4,0,IF(E5=W5,E44)))","v":0.48956995030842304},null,{"$f":"IF(E6=W20,IF(E5<>W3,K47+(U14/4),),)","v":0.41504794532696254},{"$f":"IF(E6=W20,IF(E5<>W3,X14,),)","v":3.1868698677515385E-2},{"$f":"IF(E7=W20,IF(E5=W5,M47+(U14/4),),)","v":0.7483812786602958},{"$f":"IF(E7=W20,IF(E5=W5,X14,),)","v":3.1868698677515385E-2},{"$f":"IF(E4=W16,0,IF(E6=W20,IF(E5<>W3,K47+(U14/4),),))","v":0.41504794532696254},{"$f":"IF(E4=W16,0,IF(E6=W20,IF(E5<>W3,R64-X14,),))","v":0.93218499504277896},{"$f":"IF(E4=W16,0,IF(E7=W20,IF(E5=W5,M47+(U14/4),),))","v":0.7483812786602958},{"$f":"IF(E7=W20,IF(E5=W5,R46,),)","v":0.93218499504277896}]
[null,null,null,{"$f":"IF(E4=W16,0,D68-V16)","v":0.27313528472998622},{"$f":"IF(E4=W16,0,(Y19/4)+Y18)","v":0.59876200685104608},{"$f":"IF(E4=W16,0,IF(E5=W3,0,IF(E5=W4,F48-V16,IF(E5=W5,(F48-V16)))))","v":0.93980195139665279},{"$f":"IF(E5=W3,0,IF(E5=W4,E59,IF(E5=W5,E59)))","v":0.59876200685104608},{"$f":"IF(E4=W16,0,IF(OR(E5=W2,E5=W3),0,IF(E5=W4,0,IF(E5=W5,H48-V16))))","v":0.60646861806331953},{"$f":"IF(OR(E5=W2,E5=W3),0,IF(E5=W4,0,IF(E5=W5,G49)))","v":0.59876200685104608},null,{"$f":"IF(E6=W20,IF(E5<>W3,K47+(U14/2),),)","v":0.49676255732059171},{"$f":"IF(E6=W20,IF(E5<>W3,Y23,),)","v":7.5431034482758633E-3},{"$f":"IF(E7=W20,IF(E5=W5,M47+(U14/2),),)","v":0.83009589065392508},{"$f":"IF(E7=W20,IF(E5=W5,N45,),)","v":7.5431034482758633E-3},{"$f":"IF(E4=W16,0,IF(E6=W20,IF(E5<>W3,K47+(U14/2),),))","v":0.49676255732059171},{"$f":"IF(E4=W16,0,IF(E6=W20,IF(E5<>W3,R64-Y23,),))","v":0.95651059027201846},{"$f":"IF(E4=W16,0,IF(E7=W20,IF(E5=W5,M47+(U14/2),),))","v":0.83009589065392508},{"$f":"IF(E7=W20,IF(E5=W5,R45,),)","v":0.95651059027201846}]
[null,null,null,{"$f":"IF(E4=W16,0,D68-U16)","v":0.25558363634496245},{"$f":"IF(E4=W16,0,(Y18/2)+Y18)","v":0.72304027029022078},{"$f":"IF(E4=W16,0,IF(E5=W3,0,IF(E5=W4,F48-U16,IF(E5=W5,(F48-U16)))))","v":0.92225030301162914},{"$f":"IF(E5=W3,0,IF(E5=W4,E50,IF(E5=W5,E50)))","v":0.72304027029022078},{"$f":"IF(E4=W16,0,IF(OR(E5=W2,E5=W3),0,IF(E5=W4,0,IF(E5=W5,H48-U16))))","v":0.58891696967829588},{"$f":"IF(OR(E5=W2,E5=W3),0,IF(E5=W4,0,IF(E5=W5,E50)))","v":0.72304027029022078},null,{"$f":"IF(E6=W20,IF(E5<>W3,K49-((K49-K53)/2),),)","v":0.41504794532696254},{"$f":"IF(E6=W20,IF(E5<>W3,R66/4,),)","v":0.1205067117150368},{"$f":"IF(E7=W20,IF(E5=W5,M49-((M49-M53)/2),),)","v":0.74838127866029591},{"$f":"IF(E7=W20,IF(E5=W5,R66/4,),)","v":0.1205067117150368},{"$f":"IF(E4=W16,0,IF(E6=W20,IF(E5<>W3,K49-((K49-K53)/2),),))","v":0.41504794532696254},{"$f":"IF(E4=W16,0,IF(E6=W20,IF(E5<>W3,R66+R66*0.75,),))","v":0.84354698200525757},{"$f":"IF(E4=W16,0,IF(E7=W20,IF(E5=W5,M49-((M49-M53)/2),),))","v":0.74838127866029591},{"$f":"IF(E7=W20,IF(E5=W5,R66+R66*0.75,),)","v":0.84354698200525757}]
[null,null,null,{"$f":"IF(E4=W16,0,D69)","v":0.27313528472998622},{"$f":"IF(E4=W16,0,(Y19*0.75)+Y18)","v":0.83223232683284376},{"$f":"F49","v":0.93980195139665279},{"$f":"IF(E5=W3,0,IF(E5=W4,E57,IF(E5=W5,E57)))","v":0.83223232683284376},{"$f":"H49","v":0.60646861806331953},{"$f":"IF(OR(E5=W2,E5=W3),0,IF(E5=W4,0,IF(E5=W5,G51)))","v":0.83223232683284376},null,{"$f":"IF(E6=W20,IF(E5<>W3,K49-((K49-K53)*0.75),),)","v":0.3741906393301479},{"$f":"IF(E6=W20,IF(E5<>W3,R66/2,),)","v":0.24101342343007359},{"$f":"IF(E7=W20,IF(E5=W5,M49-((M49-M53)*0.75),),)","v":0.70752397266348122},{"$f":"IF(E7=W20,IF(E5=W5,R66/2,),)","v":0.24101342343007359},{"$f":"IF(E4=W16,0,IF(E6=W20,IF(E5<>W3,K49-((K49-K53)*0.75),),))","v":0.3741906393301479},{"$f":"IF(E4=W16,0,IF(E6=W20,IF(E5<>W3,R66+R66/2,),))","v":0.72304027029022078},{"$f":"IF(E4=W16,0,IF(E7=W20,IF(E5=W5,M49-((M49-M53)*0.75),),))","v":0.70752397266348122},{"$f":"IF(E7=W20,IF(E5=W5,R66+R66/2,),)","v":0.72304027029022078}]
[null,null,null,{"$f":"IF(E4=W16,0,D68)","v":0.32579022988505746},{"$f":"IF(E4=W16,0,(Y18*2)-Y23)","v":0.95651059027201846},{"$f":"IF(E5=W3,0,IF(E5=W4,F48,IF(E5=W5,F48)))","v":0.99245689655172409},{"$f":"IF(E5=W3,0,IF(E5=W4,E56,IF(E5=W5,E52)))","v":0.95651059027201846},{"$f":"IF(OR(E5=W2,E5=W3),0,IF(E5=W4,0,IF(E5=W5,H48)))","v":0.65912356321839083},{"$f":"IF(OR(E5=W2,E5=W3),0,IF(E5=W4,0,IF(E5=W5,G56)))","v":0.95651059027201846},null,{"$f":"IF(E6=W20,IF(E5<>W3,K53+((K49-K53)*0.1),),)","v":0.34967625573205918},{"$f":"IF(E6=W20,IF(E5<>W3,R66*0.75,),)","v":0.36152013514511039},{"$f":"IF(E7=W20,IF(E5=W5,M53+((M49-M53)*0.1),),)","v":0.68300958906539244},{"$f":"IF(E7=W20,IF(E5=W5,R66*0.75,),)","v":0.36152013514511039},{"$f":"IF(E4=W16,0,IF(E6=W20,IF(E5<>W3,K53+((K49-K53)*0.1),),))","v":0.34967625573205918},{"$f":"IF(E4=W16,0,IF(E6=W20,IF(E5<>W3,R66+R66/4,),))","v":0.60253355857518398},{"$f":"IF(E4=W16,0,IF(E7=W20,IF(E5=W5,M53+((M49-M53)*0.1),),))","v":0.68300958906539244},{"$f":"IF(E7=W20,IF(E5=W5,R66+R66/4,),)","v":0.60253355857518398}]
[null,null,null,{"$f":"IF(E4=W16,0,D67)","v":0.24622844827586204},{"$f":"IF(E4=W16,0,(Y18-E65)+Y18)","v":0.92589636613408755},{"$f":"F47","v":0.92043821839080453},{"$f":"IF(E4=W16,0,IF(E5=W3,0,IF(E5=W4,R64-U20,IF(E5=W5,R64-U20))))","v":0.92589636613408743},{"$f":"H47","v":0.57956178160919547},{"$f":"IF(E4=W16,0,IF(OR(E5=W2,E5=W3),0,IF(E5=W4,0,IF(E5=W5,R64-U19))))","v":0.92589636613408743},null,{"$f":"IF(E6=W20,IF(E5<>W3,K47,),)","v":0.33333333333333331},{"$f":"IF(E6=W20,IF(E5<>W3,R66-Y23,),)","v":0.47448374341187133},{"$f":"IF(E7=W20,IF(E5=W5,M47,),)","v":0.66666666666666663},{"$f":"IF(E7=W20,IF(E5=W5,R66-Y23,),)","v":0.47448374341187133},{"$f":"IF(E4=W16,0,IF(E6=W20,IF(E5<>W3,K47,),))","v":0.33333333333333331},{"$f":"IF(E4=W16,0,IF(E6=W20,IF(E5<>W3,R66+Y23,),))","v":0.48956995030842304},{"$f":"IF(E4=W16,0,IF(E7=W20,IF(E5=W5,M47,),))","v":0.66666666666666663},{"$f":"IF(E7=W20,IF(E5=W5,R66+Y23,),)","v":0.48956995030842304}]
[null,null,null,{"$f":"IF(E4=W16,0,D66)","v":0.16666666666666666},{"$f":"IF(E4=W16,0,(Y18-E66)+Y18)","v":0.91317725693868512},{"$f":"IF(E5=W3,0,IF(E5=W4,F46,IF(E5=W5,F46)))","v":0.82579022988505735},{"$f":"IF(E4=W16,0,IF(E5=W3,0,IF(E5=W4,R64-T20,IF(E5=W5,R64-T20))))","v":0.91317725693868512},{"$f":"IF(OR(E5=W2,E5=W3),0,IF(E5=W4,0,IF(E5=W5,H46)))","v":0.5},{"$f":"IF(E4=W16,0,IF(OR(E5=W2,E5=W3),0,IF(E5=W4,0,IF(E5=W5,R64-T19))))","v":0.91317725693868512},null,{"$f":"IF(E6=W20,IF(E5<>W3,K53-((K53-K57)*0.1),),)","v":0.31699041093460745},{"$f":"IF(E6=W20,IF(E5<>W3,L52,),)","v":0.36152013514511039},{"$f":"IF(E7=W20,IF(E5=W5,M53-((M53-M57)*0.1),),)","v":0.65032374426794082},{"$f":"IF(E7=W20,IF(E5=W5,N52,),)","v":0.36152013514511039},{"$f":"IF(E4=W16,0,IF(E6=W20,IF(E5<>W3,K53-((K53-K57)*0.1),),))","v":0.31699041093460745},{"$f":"IF(E4=W16,0,IF(E6=W20,IF(E5<>W3,P52,),))","v":0.60253355857518398},{"$f":"IF(E4=W16,0,IF(E7=W20,IF(E5=W5,M53-((M53-M57)*0.1),),))","v":0.65032374426794082},{"$f":"IF(E7=W20,IF(E5=W5,R52,),)","v":0.60253355857518398}]
[null,null,null,{"$f":"IF(E4=W16,0,D65)","v":9.4647988505747127E-2},{"$f":"E53","v":0.92589636613408755},{"$f":"F45","v":0.73868534482758608},{"$f":"IF(E5=W3,0,IF(E5=W4,G53,IF(E5=W5,G53)))","v":0.92589636613408743},{"$f":"H45","v":0.42043821839080459},{"$f":"I53","v":0.92589636613408743},null,{"$f":"IF(E6=W20,IF(E5<>W3,K57+((K53-K57)*0.75),),)","v":0.29247602733651873},{"$f":"IF(E6=W20,IF(E5<>W3,L51,),)","v":0.24101342343007359},{"$f":"IF(E7=W20,IF(E5=W5,M57+((M53-M57)*0.75),),)","v":0.62580936066985204},{"$f":"IF(E7=W20,IF(E5=W5,N51,),)","v":0.24101342343007359},{"$f":"IF(E4=W16,0,IF(E6=W20,IF(E5<>W3,K57+((K53-K57)*0.75),),))","v":0.29247602733651873},{"$f":"IF(E6=W20,IF(E5<>W3,P51,),)","v":0.72304027029022078},{"$f":"IF(E4=W16,0,IF(E7=W20,IF(E5=W5,M57+((M53-M57)*0.75),),))","v":0.62580936066985204},{"$f":"IF(E7=W20,IF(E5=W5,R51,),)","v":0.72304027029022078}]
[null,null,null,{"$f":"IF(E4=W16,0,D64)","v":7.5431034482758633E-3},{"$f":"E52","v":0.95651059027201846},{"$f":"IF(E5=W3,0,IF(E5=W4,F44,IF(E5=W5,F44)))","v":0.67420977011494254},{"$f":"IF(E5=W3,0,IF(E5=W4,G52,IF(E5=W5,G52)))","v":0.95651059027201846},{"$f":"IF(OR(E5=W2,E5=W3),0,IF(E5=W4,0,IF(E5=W5,H44)))","v":0.34087643678160917},{"$f":"IF(OR(E5=W2,E5=W3),0,IF(E5=W4,0,IF(E5=W5,I52)))","v":0.95651059027201846},null,{"$f":"IF(E6=W20,IF(E5<>W3,K57+((K53-K57)/2),),)","v":0.25161872133970409},{"$f":"IF(E6=W20,IF(E5<>W3,L50,),)","v":0.1205067117150368},{"$f":"IF(E7=W20,IF(E5=W5,M57+((M53-M57)/2),),)","v":0.58495205467303735},{"$f":"IF(E7=W20,IF(E5=W5,N50,),)","v":0.1205067117150368},{"$f":"IF(E4=W16,0,IF(E6=W20,IF(E5<>W3,K57+((K53-K57)/2),),))","v":0.25161872133970409},{"$f":"IF(E6=W20,IF(E5<>W3,P50,),)","v":0.84354698200525757},{"$f":"IF(E4=W16,0,IF(E7=W20,IF(E5=W5,M57+((M53-M57)/2),),))","v":0.58495205467303735},{"$f":"IF(E7=W20,IF(E5=W5,R50,),)","v":0.84354698200525757}]
[null,null,null,{"$f":"IF(E4=W16,0,D64+V16)","v":6.0198048603347119E-2},{"$f":"E51","v":0.83223232683284376},{"$f":"IF(E4=W16,0,IF(E5=W3,0,IF(E5=W4,F56+V16,IF(E5=W5,(F44+V16)))))","v":0.72686471527001384},{"$f":"G51","v":0.83223232683284376},{"$f":"IF(E4=W16,0,IF(OR(E5=W2,E5=W3),0,IF(E5=W4,0,IF(E5=W5,(H44+V16)))))","v":0.39353138193668041},{"$f":"I51","v":0.83223232683284376},null,{"$f":"IF(E6=W20,IF(E5<>W3,K45,),)","v":0.16990410934607492},{"$f":"IF(E6=W20,IF(E5<>W3,L45,),)","v":7.5431034482758633E-3},{"$f":"IF(E7=W20,IF(E5=W5,M45,),)","v":0.50323744267940818},{"$f":"IF(E7=W20,IF(E5=W5,N45,),)","v":7.5431034482758633E-3},{"$f":"IF(E4=W16,0,IF(E6=W20,IF(E5<>W3,K45,),))","v":0.16990410934607492},{"$f":"IF(E6=W20,IF(E5<>W3,P45,),)","v":0.95651059027201846},{"$f":"IF(E4=W16,0,IF(E7=W20,IF(E5=W5,M45,),))","v":0.50323744267940818},{"$f":"IF(E7=W20,IF(E5=W5,R49,),)","v":0.95651059027201846}]
[null,null,null,{"$f":"IF(E4=W16,0,D64+U16)","v":7.7749696988370864E-2},{"$f":"E50","v":0.72304027029022078},{"$f":"IF(E4=W16,0,IF(E5=W3,0,IF(E5=W4,F56+U16,IF(E5=W5,(F44+U16)))))","v":0.74441636365503761},{"$f":"IF(E5=W3,0,IF(E5=W4,G50,IF(E5=W5,G50)))","v":0.72304027029022078},{"$f":"IF(E4=W16,0,IF(OR(E5=W2,E5=W3),0,IF(E5=W4,0,IF(E5=W5,H44+U16))))","v":0.41108303032170418},{"$f":"IF(OR(E5=W2,E5=W3),0,IF(E5=W4,0,IF(E5=W5,E50)))","v":0.72304027029022078}]
[null,null,null,{"$f":"IF(E4=W16,0,D77)","v":6.0198048603347119E-2},{"$f":"E49","v":0.59876200685104608},{"$f":"F57","v":0.72686471527001384},{"$f":"G49","v":0.59876200685104608},{"$f":"H57","v":0.39353138193668041},{"$f":"I49","v":0.59876200685104608},null,"X-Axis fitting points",null,null,null,null,null,"Roof plan"]
[null,null,null,{"$f":"IF(E4=W16,0,D64)","v":7.5431034482758633E-3},{"$f":"E44","v":0.48956995030842304},{"$f":"IF(E5=W3,0,IF(E5=W4,F56,IF(E5=W5,F56)))","v":0.67420977011494254},{"$f":"IF(E5=W3,0,IF(E5=W4,E44,IF(E5=W5,E44)))","v":0.48956995030842304},{"$f":"IF(OR(E5=W2,E5=W3),0,IF(E5=W4,0,IF(E5=W5,H56)))","v":0.34087643678160917},{"$f":"IF(OR(E5=W2,E5=W3),0,IF(E5=W4,0,IF(E5=W5,E44)))","v":0.48956995030842304},null,"Sail 1",null,"Sail 2",null,"Sail 3",null,"x-axis","y-axis"]
[null,null,null,null,null,null,null,null,null,null,{"$f":"D74","v":0.16666666666666666},0,{"$f":"F66","v":0.82579022988505735},0,{"$f":"H66","v":0.5},0,0,0]
[null,null,null,"x","y","x","y","x","y",null,{"$f":"K61","v":0.16666666666666666},{"$f":"IF(E11=V8,0.03,0)","v":0},{"$f":"M61","v":0.82579022988505735},{"$f":"IF(E5<W4,0,IF(E11=V8,0.03,))","v":0},{"$f":"O61","v":0.5},{"$f":"IF(E5<W5,0,IF(E11=V8,0.03,))","v":0},{"$f":"Y10","v":1},0]
[null,null,null,"Left down",null,"Right down",null,"Mid down",null,null,{"$f":"K61","v":0.16666666666666666},{"$f":"IF(E11=V8,Y18,0)","v":0},{"$f":"M61","v":0.82579022988505735},{"$f":"IF(E5<W4,0,IF(E11=V8,Y18,))","v":0},{"$f":"O61","v":0.5},{"$f":"IF(E5<W5,0,IF(E11=V8,Y18,))","v":0},{"$f":"Y10","v":1},{"$f":"Y18*2","v":0.96405369372029437}]
[null,null,null,{"$f":"Y23","v":7.5431034482758633E-3},{"$f":"Y23","v":7.5431034482758633E-3},{"$f":"IF(E5=W3,0,IF(E5=W4,F68-Y22,IF(E5=W5,(F68-Y22))))","v":0.67420977011494254},{"$f":"IF(E5=W3,0,IF(E5=W4,Y23,IF(E5=W5,Y23)))","v":7.5431034482758633E-3},{"$f":"IF(OR(E5=W2,E5=W3),0,IF(E5=W4,0,IF(E5=W5,(Y10/2)-(Y21/2))))","v":0.34087643678160917},{"$f":"IF(OR(E5=W2,E5=W3),0,IF(E5=W4,0,IF(E5=W5,Y23)))","v":7.5431034482758633E-3},null,{"$f":"K61","v":0.16666666666666666},{"$f":"IF(E11=V8,L63-0.03,0)","v":0},{"$f":"M61","v":0.82579022988505735},{"$f":"IF(E5<W4,0,IF(E11=V8,L63-0.03,))","v":0},{"$f":"O61","v":0.5},{"$f":"IF(E5<W5,0,IF(E11=V8,L63-0.03,))","v":0},0,{"$f":"Y18*2","v":0.96405369372029437}]
[null,null,null,{"$f":"D64+(Y20/4)+Y23","v":9.4647988505747127E-2},{"$f":"E66*0.75","v":3.81573275862069E-2},{"$f":"IF(E5=W3,0,IF(E5=W4,F66-(Y22/4),IF(E5=W5,F66-Y23-(Y22/4))))","v":0.73868534482758608},{"$f":"IF(E5=W3,0,IF(E5=W4,U20,IF(E5=W5,U20)))","v":3.81573275862069E-2},{"$f":"IF(OR(E5=W2,E5=W3),0,IF(E5=W4,0,IF(E5=W5,H64+(MAX(Y21:Z21)/4))))","v":0.42043821839080459},{"$f":"IF(OR(E5=W2,E5=W3),0,IF(E5=W4,0,IF(E5=W5,U19)))","v":3.81573275862069E-2},null,{"$f":"K61","v":0.16666666666666666},{"$f":"IF(E4=W16,0,IF(E11=V8,Y18,0))","v":0},{"$f":"M61","v":0.82579022988505735},{"$f":"IF(E4=W16,0,IF(E5<W4,0,IF(E11=V8,Y18,)))","v":0},{"$f":"O61","v":0.5},{"$f":"IF(E4=W16,0,IF(E5<W5,0,IF(E11=V8,Y18,)))","v":0},0,0]
[null,null,null,{"$f":"IF(E5=W3,(Y10/2),IF(OR(E5=W2,E5=W4),D68-(Y20/2),IF(E5=W5,(D68-(Y20/2)))))","v":0.16666666666666666},{"$f":"T18","v":5.0876436781609198E-2},{"$f":"IF(E5=W3,0,IF(E5=W4,F68-(Y22/2),IF(E5=W5,F68-Y23-(Y22/2))))","v":0.82579022988505735},{"$f":"IF(E5=W3,0,IF(E5=W4,T20,IF(E5=W5,T20)))","v":5.0876436781609198E-2},{"$f":"IF(OR(E5=W2,E5=W3),0,IF(E5=W4,0,IF(E5=W5,H68-((H68-H64)/2))))","v":0.5},{"$f":"IF(OR(E5=W2,E5=W3),0,IF(E5=W4,0,IF(E5=W5,T19)))","v":5.0876436781609198E-2},null,{"$f":"K61","v":0.16666666666666666},{"$f":"IF(E4=W16,0,IF(E11=V8,L63+0.03,0))","v":0},{"$f":"M61","v":0.82579022988505735},{"$f":"IF(E4=W16,0,IF(E5<W4,0,IF(E11=V8,L63+0.03,)))","v":0},{"$f":"O61","v":0.5},{"$f":"IF(E4=W16,0,IF(E5<W5,0,IF(E11=V8,L63+0.03,)))","v":0},0,{"$f":"Y18","v":0.48202684686014718}]
[null,null,null,{"$f":"D68-(Y20/4)","v":0.24622844827586204},{"$f":"E65","v":3.81573275862069E-2},{"$f":"F66+Y23+(F66-F65)","v":0.92043821839080453},{"$f":"IF(E5=W3,0,IF(E5=W4,U20,IF(E5=W5,U20)))","v":3.81573275862069E-2},{"$f":"IF(OR(E5=W2,E5=W3),0,IF(E5=W4,0,IF(E5=W5,H68-(MAX(Y21:Z21)/4))))","v":0.57956178160919547},{"$f":"I65","v":3.81573275862069E-2},null,{"$f":"K61","v":0.16666666666666666},{"$f":"IF(E4=W16,0,IF(E11=V8,Y18*2,0))","v":0},{"$f":"M61","v":0.82579022988505735},{"$f":"IF(E4=W16,0,IF(E5<W4,0,IF(E11=V8,Y18*2,)))","v":0},{"$f":"O61","v":0.5},{"$f":"IF(E4=W16,0,IF(E5<W5,0,IF(E11=V8,Y18*2,)))","v":0},{"$f":"Q63","v":1},{"$f":"R66","v":0.48202684686014718}]
[null,null,null,{"$f":"IF(E5=W3,D64+Y20,IF(OR(E5=W2,E5=W4),Y20+D64,IF(E5=W5,D64+Y20)))","v":0.32579022988505746},{"$f":"Y23","v":7.5431034482758633E-3},{"$f":"IF(E5=W3,0,IF(E5=W4,Y10-Y23,IF(E5=W5,Y10-Y23)))","v":0.99245689655172409},{"$f":"IF(E5=W3,0,IF(E5=W4,Y23,IF(E5=W5,Y23)))","v":7.5431034482758633E-3},{"$f":"IF(OR(E5=W2,E5=W3),0,IF(E5=W4,0,IF(E5=W5,(Y10/2)+(Z21/2))))","v":0.65912356321839083},{"$f":"IF(OR(E5=W2,E5=W3),0,IF(E5=W4,0,IF(E5=W5,Y23)))","v":7.5431034482758633E-3},null,{"$f":"K61","v":0.16666666666666666},{"$f":"IF(E4=W16,0,IF(E11=V8,L67-0.03,0))","v":0},{"$f":"M61","v":0.82579022988505735},{"$f":"IF(E4=W16,0,IF(E5<W4,0,IF(E11=V8,N67-0.03,)))","v":0},{"$f":"O61","v":0.5},{"$f":"IF(E4=W16,0,IF(E5<W5,0,IF(E11=V8,P67-0.03,)))","v":0}]
[null,null,null,{"$f":"D68-V16","v":0.27313528472998622},{"$f":"Y19/4","v":0.11673515999089887},{"$f":"IF(E5=W3,0,IF(E5=W4,F68-V16,IF(E5=W5,(F68-V16))))","v":0.93980195139665279},{"$f":"IF(E5=W3,0,IF(E5=W4,E79,IF(E5=W5,E79)))","v":0.11673515999089887},{"$f":"IF(OR(E5=W2,E5=W3),0,IF(E5=W4,0,IF(E5=W5,H68-V16)))","v":0.60646861806331953},{"$f":"IF(OR(E5=W2,E5=W3),0,IF(E5=W4,0,IF(E5=W5,G69)))","v":0.11673515999089887},null,"Y-Axis fitting points"]
[null,null,null,{"$f":"D68-U16","v":0.25558363634496245},{"$f":"Y18/2","v":0.24101342343007359},{"$f":"IF(E5=W3,0,IF(E5=W4,F68-U16,IF(E5=W5,(F68-U16))))","v":0.92225030301162914},{"$f":"IF(E5=W3,0,IF(E5=W4,E70,IF(E5=W5,E70)))","v":0.24101342343007359},{"$f":"IF(OR(E5=W2,E5=W3),0,IF(E5=W4,0,IF(E5=W5,H68-U16)))","v":0.58891696967829588},{"$f":"IF(OR(E5=W2,E5=W3),0,IF(E5=W4,0,IF(E5=W5,E70)))","v":0.24101342343007359},null,"Sail 1",null,"Sail 2",null,"Sail 3"]
[null,null,null,{"$f":"D69","v":0.27313528472998622},{"$f":"(Y19*0.75)","v":0.35020547997269658},{"$f":"F69","v":0.93980195139665279},{"$f":"IF(E5=W3,0,IF(E5=W4,E77,IF(E5=W5,E77)))","v":0.35020547997269658},{"$f":"H69","v":0.60646861806331953},{"$f":"IF(OR(E5=W2,E5=W3),0,IF(E5=W4,0,IF(E5=W5,G71)))","v":0.35020547997269658},null,0,{"$f":"Y18/2","v":0.24101342343007359},{"$f":"IF(AND(E5=W4,E12=W8),(Y10/2)-0.015,0)","v":0},{"$f":"G70","v":0.24101342343007359},{"$f":"IF(AND(E5=W5,E12=W8),(Y10/3)-0.015+IF(E9=S12,0.02,IF(E9=S13,0.03)),0)","v":0},{"$f":"I70","v":0.24101342343007359}]
[null,null,null,{"$f":"D68","v":0.32579022988505746},{"$f":"Y18-Y23","v":0.47448374341187133},{"$f":"IF(E5=W3,0,IF(E5=W4,F68,IF(E5=W5,F68)))","v":0.99245689655172409},{"$f":"IF(E5=W3,0,IF(E5=W4,E76,IF(E5=W5,Y18-Y23)))","v":0.47448374341187133},{"$f":"IF(OR(E5=W2,E5=W3),0,IF(E5=W4,0,IF(E5=W5,H68)))","v":0.65912356321839083},{"$f":"IF(OR(E5=W2,E5=W3),0,IF(E5=W4,0,IF(E5=W5,G76)))","v":0.47448374341187133},null,{"$f":"IF(E12=W8,0.03,0)","v":0},{"$f":"L71","v":0.24101342343007359},{"$f":"IF(AND(E5=W4,E12=W8),M71+0.03,0)","v":0},{"$f":"N71","v":0.24101342343007359},{"$f":"IF(AND(E5=W5,E12=W8),O71+0.03,0)","v":0},{"$f":"P71","v":0.24101342343007359}]
[null,null,null,{"$f":"D67","v":0.24622844827586204},{"$f":"Y18-E65","v":0.44386951927394031},{"$f":"F67","v":0.92043821839080453},{"$f":"IF(E5=W3,0,IF(E5=W4,Y18-U20,IF(E5=W5,Y18-U20)))","v":0.44386951927394031},{"$f":"H67","v":0.57956178160919547},{"$f":"IF(OR(E5=W2,E5=W3),0,IF(E5=W4,0,IF(E5=W5,Y18-U19)))","v":0.44386951927394031},null,{"$f":"IF(AND(E5=W3,E12=W8),K74-0.03,0)","v":0},{"$f":"L72","v":0.24101342343007359},{"$f":"IF(AND(E5>1.5,E12=W8),M74-0.03,0)","v":0},{"$f":"N72","v":0.24101342343007359},{"$f":"IF(AND(E5=W5,E12=W8),(Y10*(2/3))-0.015-IF(E10=S12,0.02,IF(E10=S13,0.03)),0)","v":0},{"$f":"P72","v":0.24101342343007359}]
[null,null,null,{"$f":"D66","v":0.16666666666666666},{"$f":"Y18-E66","v":0.43115041007853799},{"$f":"IF(E5=W3,0,IF(E5=W4,F66,IF(E5=W5,F66)))","v":0.82579022988505735},{"$f":"IF(E5=W3,0,IF(E5=W4,Y18-T20,IF(E5=W5,Y18-T20)))","v":0.43115041007853799},{"$f":"IF(OR(E5=W2,E5=W3),0,IF(E5=W4,0,IF(E5=W5,H66)))","v":0.5},{"$f":"IF(OR(E5=W2,E5=W3),0,IF(E5=W4,0,IF(E5=W5,Y18-T19)))","v":0.43115041007853799},null,{"$f":"IF(AND(E5=W3,E12=W8),Y10,0)","v":0},{"$f":"L73","v":0.24101342343007359},{"$f":"IF(AND(E5>1.5,E12=W8),Y10,0)","v":0},{"$f":"N73","v":0.24101342343007359},{"$f":"IF(AND(E5=W5,E12=W8),O73+0.03,0)","v":0},{"$f":"P73","v":0.24101342343007359}]
[null,null,null,{"$f":"D65","v":9.4647988505747127E-2},{"$f":"E73","v":0.44386951927394031},{"$f":"F65","v":0.73868534482758608},{"$f":"IF(E5=W3,0,IF(E5=W4,G73,IF(E5=W5,G73)))","v":0.44386951927394031},{"$f":"H65","v":0.42043821839080459},{"$f":"I73","v":0.44386951927394031},null,0,{"$f":"E50","v":0.72304027029022078},{"$f":"IF(AND(E5=W4,E12=W8),(Y10/2)-0.015,0)","v":0},{"$f":"G50","v":0.72304027029022078},{"$f":"IF(E4=W16,0,IF(AND(E5=W5,E12=W8),(Y10/3)-0.015+IF(E9=S12,0.02,IF(E9=S13,0.03)),0))","v":0},{"$f":"I50","v":0.72304027029022078}]
[null,null,null,{"$f":"D64","v":7.5431034482758633E-3},{"$f":"E72","v":0.47448374341187133},{"$f":"IF(E5=W3,0,IF(E5=W4,F64,IF(E5=W5,F64)))","v":0.67420977011494254},{"$f":"IF(E5=W3,0,IF(E5=W4,G72,IF(E5=W5,G72)))","v":0.47448374341187133},{"$f":"IF(OR(E5=W2,E5=W3),0,IF(E5=W4,0,IF(E5=W5,H64)))","v":0.34087643678160917},{"$f":"IF(OR(E5=W2,E5=W3),0,IF(E5=W4,0,IF(E5=W5,I72)))","v":0.47448374341187133},null,{"$f":"IF(E4=W16,0,IF(E12=W8,0.03,0))","v":0},{"$f":"L75","v":0.72304027029022078},{"$f":"IF(AND(E5=W4,E12=W8),M71+0.03,0)","v":0},{"$f":"N75","v":0.72304027029022078},{"$f":"IF(E4=W16,0,IF(AND(E5=W5,E12=W8),O71+0.03,0))","v":0},{"$f":"P75","v":0.72304027029022078}]
[null,null,null,{"$f":"D64+V16","v":6.0198048603347119E-2},{"$f":"E71","v":0.35020547997269658},{"$f":"IF(E5=W3,0,IF(E5=W4,F76+V16,IF(E5=W5,(F64+V16))))","v":0.72686471527001384},{"$f":"G71","v":0.35020547997269658},{"$f":"IF(OR(E5=W2,E5=W3),0,IF(E5=W4,0,IF(E5=W5,(H64+V16))))","v":0.39353138193668041},{"$f":"I71","v":0.35020547997269658},null,{"$f":"IF(AND(E5=W3,E12=W8),K74-0.03,0)","v":0},{"$f":"L76","v":0.72304027029022078},{"$f":"IF(E4=W16,0,IF(AND(E5>1.5,E12=W8),M74-0.03,0))","v":0},{"$f":"N76","v":0.72304027029022078},{"$f":"IF(E4=W16,0,IF(AND(E5=W5,E12=W8),(Y10*(2/3))-0.015-IF(E10=S12,0.02,IF(E10=S13,0.03)),0))","v":0},{"$f":"P76","v":0.72304027029022078}]
[null,null,null,{"$f":"D64+U16","v":7.7749696988370864E-2},{"$f":"E70","v":0.24101342343007359},{"$f":"IF(E5=W3,0,IF(E5=W4,F76+U16,IF(E5=W5,(F64+U16))))","v":0.74441636365503761},{"$f":"IF(E5=W3,0,IF(E5=W4,G70,IF(E5=W5,G70)))","v":0.24101342343007359},{"$f":"IF(OR(E5=W2,E5=W3),0,IF(E5=W4,0,IF(E5=W5,H64+U16)))","v":0.41108303032170418},{"$f":"IF(OR(E5=W2,E5=W3),0,IF(E5=W4,0,IF(E5=W5,E70)))","v":0.24101342343007359},null,{"$f":"IF(AND(E5=W3,E12=W8),Y10,0)","v":0},{"$f":"L77","v":0.72304027029022078},{"$f":"IF(E4=W16,0,IF(AND(E5>1.5,E12=W8),Y10,0))","v":0},{"$f":"N77","v":0.72304027029022078},{"$f":"IF(E4=W16,0,IF(AND(E5=W5,E12=W8),O73+0.03,0))","v":0},{"$f":"P77","v":0.72304027029022078}]
[null,null,null,{"$f":"D77","v":6.0198048603347119E-2},{"$f":"E69","v":0.11673515999089887},{"$f":"F77","v":0.72686471527001384},{"$f":"G69","v":0.11673515999089887},{"$f":"H77","v":0.39353138193668041},{"$f":"I69","v":0.11673515999089887}]
[null,null,null,{"$f":"D64","v":7.5431034482758633E-3},{"$f":"Y23","v":7.5431034482758633E-3},{"$f":"IF(E5=W3,0,IF(E5=W4,F76,IF(E5=W5,F76)))","v":0.67420977011494254},{"$f":"IF(E5=W3,0,IF(E5=W4,Y23,IF(E5=W5,Y23)))","v":7.5431034482758633E-3},{"$f":"IF(OR(E5=W2,E5=W3),0,IF(E5=W4,0,IF(E5=W5,H76)))","v":0.34087643678160917},{"$f":"IF(OR(E5=W2,E5=W3),0,IF(E5=W4,0,IF(E5=W5,Y23)))","v":7.5431034482758633E-3}]

{"sheet":"Georgian Hipped","index":3,"n_rows":76,"n_cols":29,"rows_kept":76,"cut":false,"hidden":false,"merged":[[22,3,23,4],[24,6,26,10],[22,7,23,9],[27,6,29,10],[25,3,29,4]]}
[null,null,null,null,null,null,null,null,null,null,null,null,null,null,null,null,null,null,null,"Main material",{"$f":"IF(E16=T3,5,IF(E16=T4,6,IF(E16=T5,6)))","v":5},"Material cost",11.35,"Sails","Warning 1","Warning: Sail too narrow, decrease no. of sails, add X-Axis fittings or increase gap size","Triangles"]
[null,null,null,null,null,null," ",null,null,null,null,null,null,null,null,null,null,null,null,"Tri material",{"$f":"IF(E17=T3,5,IF(E17=T4,6,IF(E17=T5,6)))","v":5},"PE",2.5,"1 - Front","Warning 2","Warning: Sail too narrow, increase no. of sails, add Y-Axis fittings or increase gap size","No"]
[null,null,null,null,null,null,null,null,null,null,null,null,null,null,null,null,null,null,null,"Solid ISX",5,"PN",3.5,"1 - Full","Warning 3","Warning: Sail too wide for standard fabric, please add more sails or increase gap size","Yes"]
[null,null,null,"Select coverage","Cover both sides",null,null,null,null,null,null,null,null,null,null,null,null,null,null,"Duplex ISX",6,"IP",2,2,"Warning 4","Warning: Conservatory too long for standard fabric, contact office for more detailed price","Coverage"]
[null,null,null,"Select no. of sails per side",2,null,null,null,null,null,null,null,null,null,null,null,null,null,null,"Solid ISXFR",6,null,null,3,"Warning 5","Warning: Ridge is too short for a 3 sails per side solution, reduce no. of sails","Cover one side"]
[null,null,null,"Front triangle sail","Yes",null,null,null,null,null,null,null,null,null,null,null,null,null,null,"Shape",{"$f":"IF(X10=T7,U7,IF(X10=T8,U8,IF(X10=T9,U9)))","v":1},"No. of vents","Y fit points","X fit points","Warning 6","Warning: Some triangular sails are too thin for this conservatory","Cover both sides"]
[null,null,null,"Middle triangle sails","Yes",null,null,null,null,null,null,null,null,null,null,null,null,null,null,"Triangle",0.6,0,"None","None"]
[null,null,null,"Back triangle sails","No",null,null,null,null,null,null,null,null,null,null,null,null,null,null,"Diamond",0.6,1,"Standard","Standard","Warnings front","Warnings mid","Warnings back","Warnings front tri","Warnings back tri"]
[null,null,null,null,null,null,null,null,null," "," ",null,null,null,null,null,null,null," ","Other",1,2,"No. of corners",4,{"$f":"W30","v":2.0796634343085425},{"$f":"IF(OR(E5=X2,E5=X3),Y9,X30)","v":2.0796634343085421},{"$f":"Y30","v":2.0796634343085421},{"$f":"IF(E6=AA2,0.001,1)*Z30","v":1.9000000000000001},{"$f":"IF(OR(E6=AA3,E7=AA3),1,0.0001)*AA30","v":2.0796634343085421}]
[null,null,null,"Reduce front gap size","Standard",null,null,null,null,null," ",null,null,null,null,null,null,null," ","Overlap front",{"$f":"IF(E10=T11,U11,IF(E10=T12,U12,IF(E10=T13,U13,)))","v":0},3,"Shape","Other",{"$f":"W31","v":1.9000000000000001},{"$f":"IF(OR(E5=X2,E5=X3),Y10,X31)","v":1.2},{"$f":"IF(E5<>X5,Y10,Y31)","v":1.9000000000000001},{"$f":"Z31+IF(E5=X3,1000)","v":1.351},{"$f":"AA31","v":1.4767644040159795}]
[null,null,null,"Reduce middle gap size","Standard",null,null,null,null,null,null,null,null,null,null,null,null,null,null,"Point to point",0,4,"Curve allowance",0.4,"Tri","Mid","Quarters"]
[null,null,null,"Reduce back gap size","Standard",null,null,null,null,null,null,null,null,null,null,null,null,null,null,0.5,{"$f":"(W15*1.5)/2+(0.035/(B27/1000))","v":7.9516129032258076E-2},"Front","Mid","Quarters","Vertical Back",{"$f":"((AA25+(0.07/(B27/1000)))*0.13)+U30","v":6.1612903225806454E-2},{"$f":"Z12*0.75","v":4.620967741935484E-2}]
[null,null,null,"Additional X-Axis fitting points","None",null,null,null,null," "," ",null,null,null,null,null,null,null," ",1,{"$f":"W15*1.4+(0.035/(B27/1000))","v":0.13864516129032259},"Horizontal",{"$f":"((W24+(0.07/(B27/1000)))*0.13)+U30","v":9.8502014987132416E-2},{"$f":"(W13)*0.75","v":7.3876511240349316E-2},"Vertical Middle",{"$f":"((Z25+(0.07/(B27/1000)))*0.13)+U30","v":7.3219152426476558E-2},{"$f":"Z13*0.75","v":5.4914364319857419E-2}]
[null,null,null,"Additional Y-Axis fitting points","None",null,null,null,null,null,null,null,null,null,null,null,null,null," ","Overlap middle",{"$f":"IF(E11=T15,U15,IF(E11=T16,U16,IF(E11=T17,U17,)))*IF(E5=X3,0,1)","v":0},"Hotizontal overlaped",{"$f":"((X24+(0.07/(B27/1000)))*0.13)+U30","v":9.8502014987132416E-2},{"$f":"(W14)*0.75","v":7.3876511240349316E-2},"Vertical Front",{"$f":"((Y25+(0.07/(B27/1000)))*0.13)+U30","v":6.7945161290322575E-2},{"$f":"Z14*0.75","v":5.0958870967741932E-2}]
[null,null,null,null,null,null,null,null,null,null,null,null,null,null,null,null,null,null,null,"Standard",0,"Vertical",{"$f":"IF(E5=X2,((W25+(0.07/(B27/1000)))*0.13)+U30,((W25+(0.07/(B27/1000)))*0.13)+U30)","v":9.0967741935483876E-2},{"$f":"W15*0.75","v":6.8225806451612914E-2},"Back","Mid","Quarters"]
[null,null,null,"Select material for main sails","Solid ISX",null,null,null,null,null,null,null,null,null,null,null,null,null,null,0.5,{"$f":"(W18*2.5)/2+(0.035/(B27/1000))","v":0.13441784131456069},"Vertical overlaped",{"$f":"((X25+(0.07/(B27/1000)))*0.13)+U30","v":9.0967741935483876E-2},{"$f":"W16*0.75","v":6.8225806451612914E-2},"Horizontal",{"$f":"((Z27+(0.07/(B27/1000)))*0.13)+U30","v":9.8502014987132416E-2},{"$f":"Z16*0.75","v":7.3876511240349316E-2}]
[null,null,null,"Select material for triangles","Solid ISX",null,null,"Plan view - looking from above",null,null,null,null,null,null,null,null,null,null,null,1,{"$f":"W18*2.5+(0.035/(B27/1000))","v":0.25754536004847617},"Mid","Mid","Quarters","Vertical",{"$f":"((Z28+(0.07/(B27/1000)))*0.13)+U30","v":3.6451612903225808E-2},{"$f":"Z17*0.75","v":2.7338709677419356E-2}]
[null,null,null,"Select no. of window vents",0,null,null,null,null," "," ",null,null,null,null,null,null,null," ","Overlap back",{"$f":"IF(E5<>X5,0,IF(E12=T15,U19,IF(E12=T16,U20,IF(E12=T17,U21,))))","v":0},"Horizontal",{"$f":"((W27+(0.07/(B27/1000)))*0.13)+U30","v":9.8502014987132416E-2},{"$f":"(W18)*0.75","v":7.3876511240349316E-2}]
[null,null,null,null,null,null,null,null,null,null,null,null,null,null,null,null,null,null,null,"Standard",0,"Vertical",{"$f":"((Y28+(0.07/(B27/1000)))*0.13)+U30","v":6.1612903225806454E-2},{"$f":"W19*0.75","v":4.620967741935484E-2}]
[null,null,null,"Max length of sail",{"$f":"(MAX(W30:Y30))*1000","v":2079.6634343085425},null,null,null,null,null,null,null,null,null,null,null,null,null,null,0.5,{"$f":"IF(E5=X4,W18+(0.035/(B27/1000)),IF(E5=X5,W18/2+(0.035/(B27/1000)),))","v":0.10979233756777758},"Vertical overlaped",{"$f":"((AVERAGE(W28:Y28)+(0.07/(B27/1000)))*0.13)+U30","v":6.1612903225806454E-2},{"$f":"W20*0.75","v":4.620967741935484E-2}]
[null,null,null,"Max width of sail",{"$f":"(MAX(W31:Y31))*1000","v":1900.0000000000002},null,null,null,null,null,null,null,null,null,null,null,null,null,null,1,{"$f":"IF(E5=X4,W18*2+(0.035/(B27/1000)),IF(E5=X5,W18+(0.035/(B27/1000)),))","v":0.20829435255491},null,"front","mid","back","tri front","tri mid/back"]
[null,null,null,null,null,null,null,null,null,null,null,null,null,null,null,null,null,null,null,null,"Dims in m","Sail perimeter",{"$f":"((X24+0.07)*2)+((X25+0.07)*2)","v":2.7572022156829306},{"$f":"((W27+0.07)*2)+X28+0.07+W28+0.07","v":2.3055893124571241},{"$f":"((Z27+0.07)*2)+((Z28+0.07)*2)","v":1.9184925382635756},{"$f":"((Y24+0.07)*2)+Y25+0.07","v":1.8038709677419356},{"$f":"((Z24+0.07)*2)+Z25+0.07","v":1.9603520234300207}]
[null,"All dims in mm",null,"Please note that sails larger than 2100mm in both directions, will require a colour matched seam.",null,null,null,"Total budget cost incl. Installation+VAT+Delivery",null,null,{"$f":"12.15+(E18*50)+W33+X33+Y33+Z33+IF(E7=AA3,AA33,)+IF(AND(E5=X5,E8=AA3),AA33,)","v":2296.1855262855461},null,null,null,null,null,null,null,null,"h1",{"$f":"B24/B27","v":0.70967741935483875},null,"front + overlaped",null,"tri front","tri mid","tri back"]
["H1",2200,null,null,null,null,null,null,null,null,{"$f":"'   '!P4","v":2640.6133552283782},null,null,null,null,null,null,null,null,"h2",{"$f":"B25/B27","v":1.0161290322580645},"Sail length",{"$f":"U29-(0.07/(B27/1000))","v":0.64827852719630397},{"$f":"W24+U10","v":0.64827852719630397},{"$f":"N49-(0.07/(B27/1000))","v":0.5903225806451613},{"$f":"U29-(0.07/(B27/1000))","v":0.64827852719630397},{"$f":"U29-(0.07/(B27/1000))","v":0.64827852719630397}]
["H2",3150,null,null,null,null,{"$f":"'   '!A8","v":0},null,null,null,null,null,null,null,null,null,null,null,null,"y1",{"$f":"B27/B27","v":1},"Sail width",{"$f":"IF(E5=X3,N46-(0.07/(B27/1000)),N49-(0.07/(B27/1000)))","v":0.5903225806451613},{"$f":"W25+U14","v":0.5903225806451613},{"$f":"IF(Y24*0.7<U29,Y24*0.7,(U29*2)-(U30*2))","v":0.41322580645161289},{"$f":"IF(Z24*0.7<U25-U27,Z24*0.7,((U25-U27)*2)-(U30*2))","v":0.45379496903741273},{"$f":"IF(AA24*0.7<U27,AA24*0.7,U27-(U30*2))","v":0.36451612903225805}]
["X1",3700,null,{"$f":"IF(((W13*(B26/1000))*(IF(E13=W8,0.5,2)))>(X11*Y10),Z1,IF(((W18*(B26/1000))*(IF(E13=W8,0.5,2)))>(Z10*X11),Z1,IF(((Z16*(B26/1000))*(IF(E13=W8,0.5,2)))>(AA10*X11),Z1,IF(AND(Y9>4,Y10>4),Z3,IF(AND((U27*(B26/1000))<1.5,E5=X5),Z5,IF(AND(OR(E6=AA3,E7=AA3,E8=AA3),OR(Y25*2<Y24,Z25*2<Z24,AA25*2<AA24)),Z6,IF(Y10>6,Z4,\"\")))))))","v":"Warning: Sail too narrow, decrease no. of sails, add X-Axis fittings or increase gap size"},null,null,null,null,null,null,null,null,null,null,null,null,null,null,null,"x1",{"$f":"B26/B27","v":1.1935483870967742},null,"mid + overlaped",null,null,"back"," "]
["Y1",3100,null,null,null,null,null,null,null,null,null,null,null,null,null,null,null,null,null,"r1",{"$f":"B28/B27","v":0.38709677419354838},"Sail length",{"$f":"W24","v":0.64827852719630397}," <-"," ->",{"$f":"W27","v":0.64827852719630397}]
["R1",1200,null,null,null,null,{"$f":"'   '!A11","v":0},null,null,null,null,null,null,null,null,null,null,null,null,"Roof area (m^2)",{"$f":"U29*U25","v":0.67085917235759429},"Sail width",{"$f":"((U27/IF(E5=X4,1,2))-(0.07/(B27/1000)))","v":0.36451612903225805},{"$f":"W28+U14","v":0.36451612903225805},{"$f":"W28+U18","v":0.36451612903225805},{"$f":"((U27)/2)-(0.07/(B27/1000))+U18","v":0.17096774193548386}]
[null,null,null,null,null,null,null,null,null,null,null,null,null,null,null,null,null,null,null,"Glazing bar length",{"$f":"SQRT((U24-U23)^2+(U26/2)^2)","v":0.67085917235759429},"Costs","front","mid","right","tri front","tri mid/back"]
[null,null,null,null,null,null,null,null,null,null,null,null,null,null,null,null,null,null,null,"50mm links",{"$f":"(0.035/(B27/1000))","v":1.1290322580645162E-2},"length",{"$f":"((I72-I76)*(B27/1000))+0.07","v":2.0796634343085425},{"$f":"(W27*(B27/1000))+0.07","v":2.0796634343085421},{"$f":"X30","v":2.0796634343085421},{"$f":"N52*(B27/1000)","v":1.9000000000000001},{"$f":"Y30","v":2.0796634343085421}]
[null,null,null,null,null,null,null,null,null,null,null,null,null,null,null,null,null,null,null,null,null,"width",{"$f":"((H64-H60)*(B27/1000))+0.07","v":1.9000000000000001},{"$f":"((J64-J60)*(B27/1000))+0.07","v":1.2},{"$f":"IF(E5<>X5,MIN(W31,X31),((L64-L60)*(B27/1000))+0.07)","v":1.2},{"$f":"((E44-E48)*(B27/1000))+0.07","v":1.351},{"$f":"(Z25*(B27/1000))+0.07","v":1.4767644040159795}]
[null,null,null,null,null,null,null,null,null,null,null,null,null,null,null,null,null,null,null,null,null,"perimeter",{"$f":"W30+W31+((W24*(B27/1000))+0.07)+((W25*(B27/1000))+0.07)","v":7.9593268686170848},{"$f":"(X30*2)+X31+(((J68-J72)*(B27/1000))+0.07)","v":6.5593268686170845},{"$f":"(Y30*2)+(Y31*2)","v":6.5593268686170845},{"$f":"(Z30*2)+Z31","v":5.1509999999999998},{"$f":"(AA30*2)+AA31","v":5.6360912726330632}]
[null,null,null,null,null,null,null,null,null,null,null,null,null,null,null,null,null,null,null,null," ",null,{"$f":"IF(E4=AA6,2,1)*(((U1*((U6*W30*W31*W1)+(W32*W2)+(X9*W3)+W4))+7.2*X9)+IF(E13=X8,24.7*2*IF(E5=X2,0.5,1),)+IF(E14=X8,24.7*2,))","v":865.06259132406433},{"$f":"IF(OR(E5=X2,E5=X3),0,IF(E4=AA6,2,1)*(((U1*((U6*X30*X31*W1)+(X32*W2)+(X9*W3)+W4))+7.2*X9)+IF(E13=X8,24.7*2,)+IF(E14=X8,24.7*2,)))","v":664.83333146825055},{"$f":"IF(E5<>X5,0,IF(E4=AA6,2,1)*(((U1*((U6*Y30*Y31*W1)+(Y32*W2)+(X9*W3)+W4))+7.2*X9)+IF(E13=X8,24.7*2,)+IF(E14=X8,24.7*2,)))","v":0},{"$f":"IF(E5=X3,0,IF(E6=AA3,(U2*((U7*Z30*Z31*W1)+(Z32*W2)+(3*W3)+W4))+7.2*3,))","v":235.890445},{"$f":"IF(E5=X3,0,IF(OR(E7=AA3,E8=AA3),(U2*((U7*AA30*AA31*W1)+(AA32*W2)+(3*W3)+W4))+7.2*3,))*IF(E4=AA6,2,1)","v":518.24915849323122}]
[]
[]
[]
[]
[]
[]
[]
[]
[null,null,null,"x","y","x","y","x","y","x","y","x","y","Roof plan"]
[null,null,null,"f tri 3",null,"m tri 1",null,"m tri 2",null,"b tri 4",null,"b tri 5",null,"x-axis","y-axis"]
[null,null,null,{"$f":"IF(E5=X3,0,IF(E6=AA3,U30,))","v":1.1290322580645162E-2},{"$f":"IF(E5=X3,0,IF(E6=AA3,O49+(Y25/2),))","v":0.87747207558340068},{"$f":"IF(AND(E5<>X3,E7=AA3),F46-(Z25/2),)","v":0.38600574128774523},{"$f":"IF(AND(E5<>X3,E7=AA3),U30,)","v":1.1290322580645162E-2},{"$f":"IF(AND(E5<>X3,E7=AA3,E4<>AA5),F46-(Z25/2),)","v":0.38600574128774523},{"$f":"IF(AND(E5<>X3,E7=AA3,E4<>AA5),O46-U30,)","v":1.3304280221345435},{"$f":"IF(AND(E5=X5,E8=AA3),J46-(AA25/2),)","v":0},{"$f":"IF(AND(E5=X5,E8=AA3),U30,)","v":0},{"$f":"IF(AND(E5=X5,E8=AA3,E4<>AA5),J46-(AA25/2),)","v":0},{"$f":"IF(AND(E5=X5,E8=AA3,E4<>AA5),O46-U30,)","v":0},0,0]
[null,null,null,{"$f":"IF(E5=X3,0,IF(E6=AA3,AA14,))","v":5.0958870967741932E-2},{"$f":"IF(E5=X3,0,IF(E6=AA3,E44-(Y25/4),))","v":0.77416562397049749},{"$f":"IF(AND(E5<>X3,E7=AA3),F46-(Z25/4),)","v":0.49945448354709843},{"$f":"IF(AND(E5<>X3,E7=AA3),AA13,)","v":5.4914364319857419E-2},{"$f":"IF(AND(E5<>X3,E7=AA3,E4<>AA5),F46-(Z25/4),)","v":0.49945448354709843},{"$f":"IF(AND(E5<>X3,E7=AA3,E4<>AA5),O46-AA13,)","v":1.2868039803953311},{"$f":"IF(AND(E5=X5,E8=AA3),J46-(AA25/4),)","v":0},{"$f":"IF(AND(E5=X5,E8=AA3),AA12,)","v":0},{"$f":"IF(AND(E5=X5,E8=AA3,E4<>AA5),J46-(AA25/4),)","v":0},{"$f":"IF(AND(E5=X5,E8=AA3,E4<>AA5),O46-AA12,)","v":0},{"$f":"U25","v":1},0]
[null,null,null,{"$f":"IF(E5=X3,0,IF(E6=AA3,Z14,))","v":6.7945161290322575E-2},{"$f":"IF(E5=X3,0,IF(E6=AA3,E45-(Y25/4),))","v":0.67085917235759429},{"$f":"IF(AND(E5<>X3,E7=AA3),F52,)","v":0.61290322580645162},{"$f":"IF(AND(E5<>X3,E7=AA3),Z13,)","v":7.3219152426476558E-2},{"$f":"IF(AND(E5<>X3,E7=AA3,E4<>AA5),F52,)","v":0.61290322580645162},{"$f":"IF(AND(E5<>X3,E7=AA3,E4<>AA5),O47-Z13,)","v":1.2684991922887121},{"$f":"IF(AND(E5=X5,E8=AA3),J52,)","v":0},{"$f":"IF(AND(E5=X5,E8=AA3),Z12,)","v":0},{"$f":"IF(AND(E5=X5,E8=AA3,E4<>AA5),J52,)","v":0},{"$f":"IF(AND(E5=X5,E8=AA3,E4<>AA5),O47-Z12,)","v":0},{"$f":"U25","v":1},{"$f":"U29*2","v":1.3417183447151886}]
[null,null,null,{"$f":"IF(E6=AA3,D45,)","v":5.0958870967741932E-2},{"$f":"IF(E5=X3,0,IF(E6=AA3,E46-(Y25/4),))","v":0.5675527207446911},{"$f":"IF(AND(E5<>X3,E7=AA3),F46+(Z25/4),)","v":0.72635196806580482},{"$f":"IF(AND(E5<>X3,E7=AA3),AA13,)","v":5.4914364319857419E-2},{"$f":"IF(AND(E5<>X3,E7=AA3,E4<>AA5),F46+(Z25/4),)","v":0.72635196806580482},{"$f":"IF(AND(E5<>X3,E7=AA3,E4<>AA5),O47-AA13,)","v":1.2868039803953311},{"$f":"IF(AND(E5=X5,E8=AA3),J46+(AA25/4),)","v":0},{"$f":"IF(AND(E5=X5,E8=AA3),AA12,)","v":0},{"$f":"IF(AND(E5=X5,E8=AA3,E4<>AA5),J46+(AA25/4),)","v":0},{"$f":"IF(AND(E5=X5,E8=AA3,E4<>AA5),O47-AA12,)","v":0},0,{"$f":"U29*2","v":1.3417183447151886}]
[null,null,null,{"$f":"D44","v":1.1290322580645162E-2},{"$f":"IF(E5=X3,0,IF(E6=AA3,O49-(Y25/2),))","v":0.46424626913178785},{"$f":"IF(AND(E5<>X3,E7=AA3),F46+(Z25/2),)","v":0.83980071032515802},{"$f":"G44","v":1.1290322580645162E-2},{"$f":"IF(AND(E5<>X3,E7=AA3,E4<>AA5),F46+(Z25/2),)","v":0.83980071032515802},{"$f":"IF(AND(E5<>X3,E7=AA3,E4<>AA5),O46-G44,)","v":1.3304280221345435},{"$f":"IF(AND(E5=X5,E8=AA3),J46+(AA25/2),)","v":0},{"$f":"K44","v":0},{"$f":"IF(AND(E5=X5,E8=AA3,E4<>AA5),J46+(AA25/2),)","v":0},{"$f":"IF(AND(E5=X5,E8=AA3,E4<>AA5),O46-G44,)","v":0},0,0]
[null,null,null,{"$f":"IF(E5=X3,0,IF(E6=AA3,D50-(Y24/4),))","v":0.15887096774193543},{"$f":"IF(E5=X3,0,IF(E6=AA3,E52-((E52-E48)/2),))","v":0.5675527207446911},{"$f":"IF(AND(E5<>X3,E7=AA3),F48-((F48-F52)/2),)","v":0.72635196806580482},{"$f":"IF(AND(E5<>X3,E7=AA3),G50-(Z24/4),)","v":0.17335995437972115},{"$f":"IF(AND(E7=AA3,E4<>AA5),F48-((F48-F52)/2),)","v":0.72635196806580482},{"$f":"IF(AND(E5<>X3,E7=AA3,E4<>AA5),I50+(Z24/4),)","v":1.1683583903354675},{"$f":"IF(AND(E5=X5,E8=AA3),J48-((J48-J52)/2),)","v":0},{"$f":"IF(AND(E5=X5,E8=AA3),K50-(Z24/4),)","v":0},{"$f":"IF(AND(E8=AA3,E4<>AA5),J48-((J48-J52)/2),)","v":0},{"$f":"IF(AND(E5=X5,E8=AA3,E4<>AA5),M50+(Z24/4),)","v":0},{"$f":"U25-U27","v":0.61290322580645162},{"$f":"U29","v":0.67085917235759429}]
[null,null,null,{"$f":"IF(E5=X3,0,IF(E6=AA3,D51-(Y24/4),))","v":0.30645161290322576},{"$f":"IF(E5=X3,0,IF(E6=AA3,E48+((E52-E48)*0.75),))","v":0.61920594655114269},{"$f":"IF(AND(E5<>X3,E7=AA3),F48-((F48-F52)*0.75),)","v":0.66962759693612828},{"$f":"IF(AND(E5<>X3,E7=AA3),U29-(U29/2),)","v":0.33542958617879715},{"$f":"IF(AND(E7=AA3,E4<>AA5),F48-((F48-F52)*0.75),)","v":0.66962759693612828},{"$f":"IF(AND(E5<>X3,E7=AA3,E4<>AA5),O46-(U29/2),)","v":1.0062887585363915},{"$f":"IF(AND(E5=X5,E8=AA3),J48-((J48-J52)*0.75),)","v":0},{"$f":"IF(AND(E5=X5,E8=AA3),U29-(U29/2),)","v":0},{"$f":"IF(AND(E8=AA3,E4<>AA5),J48-((J48-J52)*0.75),)","v":0},{"$f":"IF(AND(E5=X5,E8=AA3,E4<>AA5),O46-(U29/2),)","v":0},{"$f":"N46","v":1},{"$f":"O49","v":0.67085917235759429}]
[null,null,null,{"$f":"IF(E5=X3,0,IF(E6=AA3,D52-(Y24/4),))","v":0.45403225806451608},{"$f":"IF(E5=X3,0,IF(E6=AA3,E52-((E52-E48)*0.1),))","v":0.65019788203501361},{"$f":"IF(AND(E5<>X3,E7=AA3),F52+((F48-F52)*0.1),)","v":0.63559297425832229},{"$f":"IF(AND(E5<>X3,E7=AA3),G50+(Z24/4),)","v":0.49749921797787311},{"$f":"IF(AND(E7=AA3,E4<>AA5),F52+((F48-F52)*0.1),)","v":0.63559297425832229},{"$f":"IF(AND(E5<>X3,E7=AA3,E4<>AA5),I50-(Z24/4),)","v":0.84421912673731558},{"$f":"IF(AND(E5=X5,E8=AA3),J52+((J48-J52)*0.1),)","v":0},{"$f":"IF(AND(E5=X5,E8=AA3),K50+(Z24/4),)","v":0},{"$f":"IF(AND(E8=AA3,E4<>AA5),J52+((J48-J52)*0.1),)","v":0},{"$f":"IF(AND(E5=X5,E8=AA3,E4<>AA5),M50-(Z24/4),)","v":0},0,0]
[null,null,null,{"$f":"IF(E5=X3,0,IF(E6=AA3,N49-U30,))","v":0.60161290322580641},{"$f":"IF(E5=X3,0,IF(E6=AA3,O49,))","v":0.67085917235759429},{"$f":"IF(AND(E5<>X3,E7=AA3),N49,)","v":0.61290322580645162},{"$f":"IF(AND(E5<>X3,E7=AA3),O49-U30,)","v":0.65956884977694918},{"$f":"IF(AND(E5<>X3,E7=AA3,E4<>AA5),N49,)","v":0.61290322580645162},{"$f":"IF(AND(E5<>X3,E7=AA3,E4<>AA5),O49+U30,)","v":0.6821494949382394},{"$f":"IF(AND(E5=X5,E8=AA3),N49+(U27/2),)","v":0},{"$f":"IF(AND(E5=X5,E8=AA3),O49-U30,)","v":0},{"$f":"IF(AND(E5=X5,E8=AA3,E4<>AA5),J52,)","v":0},{"$f":"IF(AND(E5=X5,E8=AA3,E4<>AA5),O49+U30,)","v":0},{"$f":"U25-U27","v":0.61290322580645162},{"$f":"O50","v":0.67085917235759429}]
[null,null,null,{"$f":"D51","v":0.45403225806451608},{"$f":"E52+((E52-E48)*0.1)","v":0.69152046268017497},{"$f":"IF(AND(E5<>X3,E7=AA3),F52-((F48-F52)*0.1),)","v":0.59021347735458096},{"$f":"G51","v":0.49749921797787311},{"$f":"IF(AND(E7=AA3,E4<>AA5),F52-((F48-F52)*0.1),)","v":0.59021347735458096},{"$f":"I51","v":0.84421912673731558},{"$f":"IF(AND(E5=X5,E8=AA3),J52-((J48-J52)*0.1),)","v":0},{"$f":"K51","v":0},{"$f":"IF(AND(E8=AA3,E4<>AA5),J52-((J48-J52)*0.1),)","v":0},{"$f":"M51","v":0},0,{"$f":"O47","v":1.3417183447151886}]
[null,null,null,{"$f":"D50","v":0.30645161290322576},{"$f":"E56-((E52-E48)*0.75)","v":0.72251239816404578},{"$f":"IF(AND(E5<>X3,E7=AA3),F56+((F52-F56)*0.75),)","v":0.55617885467677497},{"$f":"G50","v":0.33542958617879715},{"$f":"IF(AND(E7=AA3,E4<>AA5),F56+((F52-F56)*0.75),)","v":0.55617885467677497},{"$f":"I50","v":1.0062887585363915},{"$f":"IF(AND(E5=X5,E8=AA3),J56+((J52-J56)*0.75),)","v":0},{"$f":"K50","v":0},{"$f":"IF(AND(E8=AA3,E4<>AA5),J56+((J52-J56)*0.75),)","v":0},{"$f":"M50","v":0}]
[null,null,null,{"$f":"D49","v":0.15887096774193543},{"$f":"E56-((E52-E48)/2)","v":0.77416562397049749},{"$f":"F56+((F52-F56)/2)","v":0.49945448354709843},{"$f":"G49","v":0.17335995437972115},{"$f":"IF(AND(E7=AA3,E4<>AA5),F56+((F52-F56)/2),)","v":0.49945448354709843},{"$f":"I49","v":1.1683583903354675},{"$f":"J56+((J52-J56)/2)","v":0},{"$f":"K49","v":0},{"$f":"IF(AND(E8=AA3,E4<>AA5),J56+((J52-J56)/2),)","v":0},{"$f":"M49","v":0}]
[null,null,null,{"$f":"D44","v":1.1290322580645162E-2},{"$f":"E44","v":0.87747207558340068},{"$f":"F44","v":0.38600574128774523},{"$f":"G44","v":1.1290322580645162E-2},{"$f":"IF(AND(E7=AA3,E4<>AA5),F44,)","v":0.38600574128774523},{"$f":"I48","v":1.3304280221345435},{"$f":"J44","v":0},{"$f":"K44","v":0},{"$f":"IF(AND(E8=AA3,E4<>AA5),J44,)","v":0},{"$f":"M48","v":0}]
["X-Axis fitting points"]
["Sail 1",null,"Sail 2",null,"Sail 3",null,null,"x","y","x","y","x","y","x","y","x","y","x","y"]
[{"$f":"H62","v":0.30645161290322581},0,{"$f":"J62","v":0.80645161290322587},0,{"$f":"L62","v":0},0,null,"down front",null,"down mid",null,"down right",null,"up front",null,"up mid",null,"up right"]
[{"$f":"A59","v":0.30645161290322581},{"$f":"IF(E14=W8,0.03,0)","v":0},{"$f":"C59","v":0.80645161290322587},{"$f":"IF(E5<X4,0,IF(E14=W8,0.03,))","v":0},{"$f":"E59","v":0},{"$f":"IF(E5<>X5,0,IF(E14=W8,0.03,))","v":0},null,{"$f":"U30","v":1.1290322580645162E-2},{"$f":"U30","v":1.1290322580645162E-2},{"$f":"IF(OR(E5=X4,E5=X5),N52+U30-U14,)","v":0.62419354838709684},{"$f":"IF(OR(E5=X4,E5=X5),U30,)","v":1.1290322580645162E-2},{"$f":"IF(E5=X5,L64-Z28,)","v":0},{"$f":"M64","v":0},{"$f":"IF(E4=AA5,0,U30)","v":1.1290322580645162E-2},{"$f":"IF(E4=AA5,0,O46-X24-U30)","v":0.6821494949382394},{"$f":"IF(AND(E4=AA6,OR(E5=X4,E5=X5)),J72,)","v":0.62419354838709684},{"$f":"IF(AND(E4=AA6,OR(E5=X4,E5=X5)),O64,)","v":0.6821494949382394},{"$f":"IF(AND(E4=AA6,E5=X5),L64-Z28,)","v":0},{"$f":"IF(AND(E4=AA6,E5=X5),U29+U30,)","v":0}]
[{"$f":"H70","v":0.30645161290322576},{"$f":"IF(E14=W8,U29,0)","v":0},{"$f":"J70","v":0.80645161290322598},{"$f":"IF(E5<X4,0,IF(E14=W8,U29,))","v":0},{"$f":"L70","v":0},{"$f":"IF(E5<>X5,0,IF(E14=W8,U29-0.03,))","v":0},null,{"$f":"IF(E5=X2,H60+(X25/4),H60+(X25/4))","v":0.15887096774193549},{"$f":"I62*0.75","v":6.8225806451612914E-2},{"$f":"IF(OR(E5=X4,E5=X5),J60+(MAX(X28:Y28)/4),)","v":0.7153225806451613},{"$f":"IF(OR(E5=X4,E5=X5),X20,)","v":4.620967741935484E-2},{"$f":"IF(E5=X5,L62-(Z28/4),)","v":0},{"$f":"IF(E5=X5,AA17,)","v":0},{"$f":"IF(E4=AA5,0,H71)","v":0.15887096774193543},{"$f":"IF(E4=AA5,0,O60+X15+(U10/6))","v":0.75037530138985231},{"$f":"IF(AND(E4=AA6,OR(E5=X4,E5=X5)),J71,)","v":0.71532258064516152},{"$f":"IF(AND(E4=AA6,OR(E5=X4,E5=X5)),O49+X19,)","v":0.71706884977694918},{"$f":"IF(AND(E4=AA6,E5=X5),L62-(Z28/4),)","v":0},{"$f":"IF(AND(E4=AA6,E5=X5),AA17+U29,)","v":0}]
[{"$f":"A61","v":0.30645161290322576},{"$f":"IF(E14=W8,B61-0.015,0)","v":0},{"$f":"C61","v":0.80645161290322598},{"$f":"IF(E5<X4,0,IF(E14=W8,B61-0.03,))","v":0},{"$f":"E61","v":0},{"$f":"IF(E5<>X5,0,IF(E14=W8,U29,))","v":0},null,{"$f":"IF(E5=X2,H60+(X25/2),H60+(X25/2))","v":0.30645161290322581},{"$f":"W16","v":9.0967741935483876E-2},{"$f":"IF(E5=X4,J64-(J64-J60)/2,IF(E5=X5,J64-(J64-J60)/2,))","v":0.80645161290322587},{"$f":"IF(OR(E5=X4,E5=X5),W20,)","v":6.1612903225806454E-2},{"$f":"IF(E5=X5,L63-(Z28/4),)","v":0},{"$f":"IF(E5=X5,Z17,)","v":0},{"$f":"IF(E4=AA5,0,H70)","v":0.30645161290322576},{"$f":"IF(E4=AA5,0,O60+W15+(U10/4))","v":0.77311723687372325},{"$f":"IF(AND(E4=AA6,OR(E5=X4,E5=X5)),J70,)","v":0.80645161290322598},{"$f":"IF(AND(E4=AA6,OR(E5=X4,E5=X5)),O50+W19,)","v":0.73247207558340077},{"$f":"IF(AND(E4=AA6,E5=X5),L63-(Z28/4),)","v":0},{"$f":"IF(AND(E4=AA6,E5=X5),Z17+U29,)","v":0}]
[{"$f":"A62","v":0.30645161290322576},{"$f":"IF(E4=AA5,0,IF(E14=W8,U29,0))","v":0},{"$f":"C62","v":0.80645161290322598},{"$f":"IF(E4=AA5,0,IF(E5<X4,0,IF(E14=W8,U29,)))","v":0},{"$f":"E62","v":0},{"$f":"IF(E4=AA5,0,IF(E5<>X5,0,IF(E14=W8,U29,)))","v":0},null,{"$f":"IF(E5=X2,H62+(X25/4),H62+(X25/4))","v":0.45403225806451614},{"$f":"I61","v":6.8225806451612914E-2},{"$f":"IF(OR(E5=X4,E5=X5),J64-(MAX(X28:Y28)/4),)","v":0.89758064516129044},{"$f":"IF(OR(E5=X4,E5=X5),K61,)","v":4.620967741935484E-2},{"$f":"IF(E5=X5,L64-(Z28/4),)","v":0},{"$f":"IF(E5=X5,M61,)","v":0},{"$f":"IF(E4=AA5,0,H69)","v":0.45403225806451608},{"$f":"IF(E4=AA5,0,O64+X15-(U10/2))","v":0.75037530138985231},{"$f":"P62+(P62-P61)","v":0.89758064516129044},{"$f":"IF(AND(E4=AA6,OR(E5=X4,E5=X5)),Q61,)","v":0.71706884977694918},{"$f":"IF(AND(E4=AA6,E5=X5),L64-(Z28/4),)","v":0},{"$f":"IF(AND(E4=AA6,E5=X5),M61+U29,)","v":0}]
[{"$f":"A63","v":0.30645161290322576},{"$f":"IF(E4=AA5,0,IF(E14=W8,B61+0.015,0))","v":0},{"$f":"C63","v":0.80645161290322598},{"$f":"IF(E4=AA5,0,IF(E5<X4,0,IF(E14=W8,B61+0.03,)))","v":0},{"$f":"E63","v":0},{"$f":"IF(E4=AA5,0,IF(E5<>X5,0,IF(E14=W8,F63+0.03,)))","v":0},null,{"$f":"IF(E5=X2,H60+X25,H60+X25)","v":0.60161290322580641},{"$f":"U30","v":1.1290322580645162E-2},{"$f":"IF(OR(E5=X4,E5=X5),J68,)","v":0.98870967741935489},{"$f":"IF(OR(E5=X4,E5=X5),U30,)","v":1.1290322580645162E-2},{"$f":"IF(E5=X5,N50-U30,)","v":0},{"$f":"IF(E5=X5,U30,)","v":0},{"$f":"IF(E4=AA5,0,IF(E5=X3,H60+X25,W25+H60))","v":0.60161290322580641},{"$f":"IF(E4=AA5,0,O47-W24-U30)","v":0.6821494949382394},{"$f":"IF(AND(E4=AA6,OR(E5=X4,E5=X5)),J68,)","v":0.98870967741935489},{"$f":"IF(AND(E4=AA6,OR(E5=X4,E5=X5)),Q60,)","v":0.6821494949382394},{"$f":"IF(AND(E4=AA6,E5=X5),N50-U30,)","v":0},{"$f":"IF(AND(E4=AA6,E5=X5),S60,)","v":0}]
[{"$f":"A59","v":0.30645161290322581},{"$f":"IF(E4=AA5,0,IF(E14=W8,U29*2,0))","v":0},{"$f":"C59","v":0.80645161290322587},{"$f":"IF(E4=AA5,0,IF(E5<X4,0,IF(E14=W8,U29*2,)))","v":0},{"$f":"E64","v":0},{"$f":"IF(E4=AA5,0,IF(E5<>X5,0,IF(E14=W8,U29*2,)))","v":0},null,{"$f":"H64-X13-(U14/IF(E5=X5,4,4))","v":0.52773639198545708},{"$f":"W24/4","v":0.16206963179907599},{"$f":"IF(OR(E5=X4,E5=X5),J64-X18,)","v":0.91483316617900556},{"$f":"IF(OR(E5=X4,E5=X5),I65,)","v":0.16206963179907599},{"$f":"IF(E5=X5,L64-AA16,)","v":0},{"$f":"IF(E5=X5,K65,)","v":0},{"$f":"IF(E4=AA5,0,H67)","v":0.52773639198545708},{"$f":"IF(E4=AA5,0,(W24/4)+U29)","v":0.83292880415667025},{"$f":"IF(AND(E4=AA6,OR(E5=X4,E5=X5)),P64-X18,)","v":0.91483316617900556},{"$f":"IF(AND(E4=AA6,OR(E5=X4,E5=X5)),O65,)","v":0.83292880415667025},{"$f":"IF(AND(E4=AA6,E5=X5),L64-AA16,)","v":0},{"$f":"IF(AND(E4=AA6,E5=X5),Q65,)","v":0}]
[{"$f":"A59","v":0.30645161290322581},{"$f":"IF(E4=AA5,0,IF(E14=W8,B65-0.03,0))","v":0},{"$f":"C59","v":0.80645161290322587},{"$f":"IF(E4=AA5,0,IF(E5<X4,0,IF(E14=W8,D65-0.03,)))","v":0},{"$f":"E64","v":0},{"$f":"IF(E4=AA5,0,IF(E5<>X5,0,IF(E14=W8,F65-0.03,)))","v":0},null,{"$f":"H64-W13-(U14/IF(E5=X5,2,2))","v":0.503110888238674},{"$f":"U29/2","v":0.33542958617879715},{"$f":"IF(OR(E5=X4,E5=X5),J64-W18,)","v":0.89020766243222249},{"$f":"IF(OR(E5=X4,E5=X5),I66,)","v":0.33542958617879715},{"$f":"IF(E5=X5,L64-Z16,)","v":0},{"$f":"IF(E5=X5,K66,)","v":0},{"$f":"IF(E4=AA5,0,H66)","v":0.503110888238674},{"$f":"IF(E4=AA5,0,(U29/2)+U29)","v":1.0062887585363915},{"$f":"IF(AND(E4=AA6,OR(E5=X4,E5=X5)),P64-W18,)","v":0.89020766243222249},{"$f":"IF(OR(E5=X2,E5=X3),0,O66)","v":1.0062887585363915},{"$f":"IF(AND(E4=AA6,E5=X5),L64-Z16,)","v":0},{"$f":"IF(AND(E4=AA6,E5=X5),Q66,)","v":0}]
["Y-Axis fitting points",null,null,null,null,null,null,{"$f":"H68-X13+(U14/4)","v":0.52773639198545708},{"$f":"(W24*0.75)","v":0.486208895397228},{"$f":"J65","v":0.91483316617900556},{"$f":"IF(OR(E5=X4,E5=X5),I67,)","v":0.486208895397228},{"$f":"IF(E5=X5,L65,)","v":0},{"$f":"IF(E5=X5,K67,)","v":0},{"$f":"IF(E4=AA5,0,H65)","v":0.52773639198545708},{"$f":"IF(E4=AA5,0,(W24*0.75)+U29)","v":1.1570680677548224},{"$f":"P65","v":0.91483316617900556},{"$f":"IF(OR(E5=X2,E5=X3),0,O67)","v":1.1570680677548224},{"$f":"IF(AND(E4=AA6,E5=X5),L65,)","v":0},{"$f":"IF(E5=X5,Q67,)","v":0}]
["Sail 1",null,"Sail 2",null,null,null,null,{"$f":"IF(E5=X3,H60+X25,H60+W25)","v":0.60161290322580641},{"$f":"U29-U30","v":0.65956884977694918},{"$f":"IF(E5=X4,U25-U30,IF(E5=X5,N52+(U27/4)+(W28/2)+U18,))","v":0.98870967741935489},{"$f":"IF(OR(E5=X4,E5=X5),U29-U30,)","v":0.65956884977694918},{"$f":"IF(E5=X5,L64,)","v":0},{"$f":"IF(E5=X5,K68,)","v":0},{"$f":"IF(E4=AA5,0,H64)","v":0.60161290322580641},{"$f":"IF(E4=AA5,0,(U29*2)-U30)","v":1.3304280221345435},{"$f":"IF(AND(E4=AA6,OR(E5=X4,E5=X5)),P64,)","v":0.98870967741935489},{"$f":"IF(OR(E5=X2,E5=X3),0,O72)","v":1.3304280221345435},{"$f":"IF(AND(E4=AA6,E5=X5),L64,)","v":0},{"$f":"IF(E5=X5,Q68,)","v":0}]
[0,{"$f":"I74","v":0.33542958617879726},{"$f":"IF(AND(E5<>X2,E13=X8),N49-0.015,0)","v":0},{"$f":"K66","v":0.33542958617879715},null,null,null,{"$f":"IF(E5=X3,H62+(X25/4),H68-(W25/4))","v":0.45403225806451608},{"$f":"I68-X15+(U10/2)","v":0.59134304332533627},{"$f":"IF(OR(E5=X4,E5=X5),J68-(Y28/4),)","v":0.89758064516129044},{"$f":"IF(OR(E5=X4,E5=X5),U29-X19,)","v":0.6246494949382394},{"$f":"IF(E5=X5,L63,)","v":0},{"$f":"IF(E5=X5,U29-AA17,)","v":0},{"$f":"IF(E4=AA5,0,H63)","v":0.45403225806451614},{"$f":"IF(E4=AA5,0,(U29-I61)+U29)","v":1.2734925382635756},{"$f":"IF(AND(E4=AA6,OR(E5=X4,E5=X5)),J63,)","v":0.89758064516129044},{"$f":"IF(E4=AA5,0,IF(OR(E5=X2,E5=X3),0,O47-X20))","v":1.2955086672958338},{"$f":"IF(AND(E4=AA6,E5=X5),L63,)","v":0},{"$f":"IF(AND(E4=AA6,E5=X5),O47-AA17,)","v":0}]
[{"$f":"IF(E13=X8,0.03,0)","v":0},{"$f":"B69","v":0.33542958617879726},{"$f":"IF(AND(E5<>X2,E13=X8),C69+0.03,0)","v":0},{"$f":"D69","v":0.33542958617879715},null,null,null,{"$f":"IF(E5=X3,H60+(X25/2),H69-(W25/4))","v":0.30645161290322576},{"$f":"I72-W15-(U10/4)","v":0.56860110784146534},{"$f":"IF(OR(E5=X4,E5=X5),J69-(Y28/4),)","v":0.80645161290322598},{"$f":"IF(OR(E5=X4,E5=X5),U29-W19,)","v":0.60924626913178781},{"$f":"IF(E5=X5,L62,)","v":0},{"$f":"IF(E5=X5,U29-Z17,)","v":0},{"$f":"IF(E4=AA5,0,H62)","v":0.30645161290322581},{"$f":"IF(E4=AA5,0,(U29-I62)+U29)","v":1.2507506027797048},{"$f":"IF(AND(E4=AA6,OR(E5=X4,E5=X5)),J62,)","v":0.80645161290322587},{"$f":"IF(E4=AA5,0,IF(OR(E5=X2,E5=X3),0,O47-W20))","v":1.2801054414893822},{"$f":"IF(AND(E4=AA6,E5=X5),L62,)","v":0},{"$f":"IF(AND(E4=AA6,E5=X5),O47-Z17,)","v":0}]
[0,{"$f":"O74","v":1.0062887585363915},{"$f":"IF(AND(E13=X8,E5<>X2),C72-0.015,0)","v":0},{"$f":"I66","v":0.33542958617879715},null,null,null,{"$f":"IF(E5=X3,H60+(X25/4),H70-(W25/4))","v":0.15887096774193543},{"$f":"I72-X15-(U10/6)","v":0.59134304332533627},{"$f":"IF(OR(E5=X4,E5=X5),J70-(Y28/4),)","v":0.71532258064516152},{"$f":"IF(OR(E5=X4,E5=X5),U29-X19,)","v":0.6246494949382394},{"$f":"IF(E5=X5,L61,)","v":0},{"$f":"IF(E5=X5,M69,)","v":0},{"$f":"IF(E4=AA5,0,H61)","v":0.15887096774193549},{"$f":"O69","v":1.2734925382635756},{"$f":"IF(AND(E4=AA6,OR(E5=X4,E5=X5)),J61,)","v":0.7153225806451613},{"$f":"IF(OR(E5=X2,E5=X3),0,Q69)","v":1.2955086672958338},{"$f":"IF(AND(E4=AA6,E5=X5),L61,)","v":0},{"$f":"IF(E5=X5,S69,)","v":0}]
[{"$f":"IF(E4=AA5,0,IF(E13=X8,0.03,0))","v":0},{"$f":"B71","v":1.0062887585363915},{"$f":"IF(AND(E13=X8,E5<>X2),U25,0)","v":0},{"$f":"D71","v":0.33542958617879715},null,null,null,{"$f":"H60","v":1.1290322580645162E-2},{"$f":"I68+U10","v":0.65956884977694918},{"$f":"IF(OR(E5=X4,E5=X5),N49+U30,)","v":0.62419354838709684},{"$f":"IF(OR(E5=X4,E5=X5),K68,)","v":0.65956884977694918},{"$f":"IF(E5=X5,L60,)","v":0},{"$f":"IF(E5=X5,M68,)","v":0},{"$f":"IF(E4=AA5,0,H60)","v":1.1290322580645162E-2},{"$f":"O68","v":1.3304280221345435},{"$f":"IF(AND(E4=AA6,OR(E5=X4,E5=X5)),J76,)","v":0.62419354838709684},{"$f":"IF(OR(E5=X2,E5=X3),0,Q68)","v":1.3304280221345435},{"$f":"IF(AND(E4=AA6,E5=X5),L60,)","v":0},{"$f":"IF(E5=X5,S68,)","v":0}]
[{"$f":"IF(AND(E5=X5,E13=X8),A74-0.03,0)","v":0},{"$f":"U29/2","v":0.33542958617879715},{"$f":"IF(AND(E5<>X2,E13=X8),C69,0)","v":0},{"$f":"Q66","v":1.0062887585363915},null,null,null,{"$f":"H60+X14","v":8.5166833820994478E-2},{"$f":"I72-(X24/4)","v":0.49749921797787322},{"$f":"IF(OR(E5=X4,E5=X5),J72+X18-(U14/4),)","v":0.69807005962744617},{"$f":"K67","v":0.486208895397228},{"$f":"IF(E5=X5,L72+AA16,)","v":0},{"$f":"IF(E5=X5,M67,)","v":0},{"$f":"IF(E4=AA5,0,H60+X14)","v":8.5166833820994478E-2},{"$f":"IF(E4=AA5,0,O72-(X24/4))","v":1.1683583903354675},{"$f":"IF(AND(E4=AA6,OR(E5=X4,E5=X5)),J75,)","v":0.69807005962744617},{"$f":"Q67","v":1.1570680677548224},{"$f":"IF(AND(E4=AA6,E5=X5),L72+AA16,)","v":0},{"$f":"IF(E5=X5,Q73,)","v":0}]
[{"$f":"IF(AND(E5=X5,E13=X8),N52+(U27/2)+0.015,0)","v":0},{"$f":"B73","v":0.33542958617879715},{"$f":"IF(AND(E5<>X2,E13=X8),C69+0.03,0)","v":0},{"$f":"D73","v":1.0062887585363915},null,null,null,{"$f":"H60+W14","v":0.10979233756777758},{"$f":"I73-(X24/4)","v":0.33542958617879726},{"$f":"IF(OR(E5=X4,E5=X5),J76+W18+(U14/2),)","v":0.72269556337422924},{"$f":"IF(OR(E5=X4,E5=X5),K66,)","v":0.33542958617879715},{"$f":"IF(E5=X5,L72+Z16,)","v":0},{"$f":"IF(E5=X5,M66,)","v":0},{"$f":"IF(E4=AA5,0,H60+W14)","v":0.10979233756777758},{"$f":"IF(E4=AA5,0,O73-(X24/4))","v":1.0062887585363915},{"$f":"IF(AND(E4=AA6,OR(E5=X4,E5=X5)),J74,)","v":0.72269556337422924},{"$f":"IF(OR(E5=X2,E5=X3),0,Q66)","v":1.0062887585363915},{"$f":"IF(AND(E4=AA6,E5=X5),L72+Z16,)","v":0},{"$f":"IF(E5=X5,Q74,)","v":0}]
[{"$f":"IF(AND(E5=X5,E13=X8,E4=AA6),A76-0.03,0)","v":0},{"$f":"U29+(U29/2)","v":1.0062887585363915},{"$f":"IF(E4=AA5,0,IF(AND(E13=X8,E5<>X2),C72-0.03,0))","v":0},{"$f":"O66","v":1.0062887585363915},null,null,null,{"$f":"H73","v":8.5166833820994478E-2},{"$f":"I74-(X24/4)","v":0.17335995437972126},{"$f":"IF(OR(E5=X4,E5=X5),J76+X18+(U14/4),)","v":0.69807005962744617},{"$f":"K65","v":0.16206963179907599},{"$f":"IF(E5=X5,L73,)","v":0},{"$f":"IF(E5=X5,M65,)","v":0},{"$f":"IF(E4=AA5,0,N73)","v":8.5166833820994478E-2},{"$f":"IF(E4=AA5,0,O74-(X24/4))","v":0.84421912673731558},{"$f":"IF(AND(E4=AA6,OR(E5=X4,E5=X5)),J73,)","v":0.69807005962744617},{"$f":"Q65","v":0.83292880415667025},{"$f":"IF(AND(E4=AA6,E5=X5),L73,)","v":0},{"$f":"IF(E5=X5,Q75,)","v":0}]
[{"$f":"IF(AND(E5=X5,E13=X8,E4=AA6),A74,0)","v":0},{"$f":"B75","v":1.0062887585363915},{"$f":"IF(E4=AA5,0,IF(AND(E13=X8,E5<>X2),U25,0))","v":0},{"$f":"D75","v":1.0062887585363915},null,null,null,{"$f":"H60","v":1.1290322580645162E-2},{"$f":"U30","v":1.1290322580645162E-2},{"$f":"IF(OR(E5=X4,E5=X5),J60,)","v":0.62419354838709684},{"$f":"IF(OR(E5=X4,E5=X5),U30,)","v":1.1290322580645162E-2},{"$f":"IF(E5=X5,L60,)","v":0},{"$f":"IF(E5=X5,M64,)","v":0},{"$f":"IF(E4=AA5,0,H60)","v":1.1290322580645162E-2},{"$f":"O60","v":0.6821494949382394},{"$f":"IF(AND(E4=AA6,OR(E5=X4,E5=X5)),P60,)","v":0.62419354838709684},{"$f":"IF(E5=X2,0,Q60)","v":0.6821494949382394},{"$f":"IF(AND(E4=AA6,E5=X5),L60,)","v":0},{"$f":"IF(E5=X5,S60,)","v":0}]

{"sheet":"Georgian Double Hipped","index":4,"n_rows":83,"n_cols":28,"rows_kept":83,"cut":false,"hidden":false,"merged":[[26,6,28,9],[24,3,25,4],[24,7,25,8],[29,6,31,9],[27,3,30,4]]}
[null,null,null,null,null,null,null,null,null,null,null,null,null,null,null,null,null,null,null,"Main material",{"$f":"IF(E18=T3,5,IF(E18=T4,6,IF(E18=T5,6)))","v":5},"Material cost",11.35,"Sails","Warnings front/back","Warnings mid","Warnings front/back tri","Warnings mid tri"]
[null,null,null,null,null,null,null,null,null,null,null,null,null,null,null,null,null,null,null,"Tri material",{"$f":"IF(E19=T3,5,IF(E19=T4,6,IF(E19=T5,6)))","v":6},"PE",2.5,1,{"$f":"W33","v":1.9730363542512406},{"$f":"X33","v":1.7442763542512407},{"$f":"IF(E6<>Y6,0.001,1)*Z33","v":1.8600000000000001E-3},{"$f":"IF(OR(E7=Y6,E8=Y6),1,0.00001)*AA33","v":1.7442763542512409E-5}]
[null,null,null,null,null," ",null,null,null,null,null,null,null,null,null,null,null,null,null,"Solid ISX",5,"PN",3.5,2,{"$f":"IF(E5=X2,W34,MIN(W34,Y34))","v":2.2876338890789918},{"$f":"X34*IF(E5<>X4,1000,1)","v":2.3076338890789909},{"$f":"Z34","v":1.323},{"$f":"AA34","v":1.2419934479758685}]
[null,null,null,"Select coverage","Cover both sides",null,null,null,null,null,null,null,null,null,null,null,null,null,null,"Duplex ISX",6,"IP",2,3,"Tri sails","Warning 1","Warning: Sail too narrow, increase no. of sails, add X-Axis fittings or increase gap size"]
[null,null,null,"Select no. of sails per side",3,null,null,null,null,null,null,null,null,null,null,null,null,null,null,"Solid ISXFR",6,"No. of vents","X fit points","Y fit points","No","Warning 2","Warning: Sail too narrow, decrease no. of sails, add Y-Axis fittings or reduce gap size"]
[null,null,null,"Front triangle sail","No",null,null,null,null,null,null,null,null,null,null,null,null,null,null,"Shape",{"$f":"IF(X9=T7,U7,IF(X9=T8,U8,IF(X9=T9,U9)))","v":1},0,"None","None","Yes","Warning 3","Warning: Sail too wide for standard fabric, please add more sails or increase gap size"]
[null,null,null,"Middle left triangle sails","No",null,null,null,null,null,null,null,null,null,null,null,null,null,null,"Triangle",0.6,1,"Standard","Standard","Coverage","Warning 4","Warning: Conservatory too long for standard fabric, contact office for more detailed price"]
[null,null,null,"Middle right triangle sails","No",null,null,null,null,null,null,null,null,null,null,null,null,null,null,"Diamond",0.6,2,"No. of corners",4,"Cover one side","Warning 5","Warning: Some triangular sails are too thin for this conservatory"]
[null,null,null,"Back triangle sail","No",null,null,null,null,null," "," ",null,null,null,null,null,null," ","Other",1,3,"Shape","Other","Cover both sides","Warning 6","Warning: Ridge is too short for a 3 sails per side solution, reduce no. of sails"]
[null,null,null,null,null,null,null,null,null,null,null,null,null,null,null,null,null,null," ","Overlap front",{"$f":"IF(E11=T11,U11,IF(E11=T12,U12,IF(E11=T13,U13)))","v":4.0849999999999997E-2},4,"Curve allowance",0.4,null,"Warning 7"]
[null,null,null,"Reduce front gap size",0.5,null,null,null,null,null,null,null,null,null,null,null,null,null,null,"Standard",0,5,"Front","Mid","Quarters","Back","Mid","Quarters"]
[null,null,null,"Reduce middle left gap size",0.5,null,null,null,null,null,null,null,null,null,null,null,null,null,null,0.5,{"$f":"(X14*1.4)/2+(0.035/(B25/1000))","v":4.0849999999999997E-2},6,"Horizontal",{"$f":"((W27+(0.07/(B25/1000)))*0.13)+W25","v":4.6742129652260947E-2},{"$f":"(X12)*0.75","v":3.5056597239195714E-2},"Horizontal",{"$f":"((Z27+(0.07/(B25/1000)))*0.13)+W25","v":4.6742129652260947E-2},{"$f":"(AA12)*0.75","v":3.5056597239195714E-2}]
[null,null,null,"Reduce middle right gap size",0.5,null,null,null,null,null," "," ",null,null,null,null,null,null," ",1,{"$f":"X14*1.4+(0.035/(B25/1000))","v":7.5450000000000003E-2}," ","Horizontal overlaped",{"$f":"((X27+(0.07/(B25/1000)))*0.13)+W25","v":5.205262965226095E-2},{"$f":"(X13)*0.75","v":3.9039472239195711E-2},"Horizontal overlaped",{"$f":"((Z27+(0.07/(B25/1000)))*0.13)+W25","v":4.6742129652260947E-2},{"$f":"(AA13)*0.75","v":3.5056597239195714E-2}]
[null,null,null,"Reduce back gap size","Standard",null,null,null,null,null," ",null,null,null,null,null,null,null," ","Overlap back",{"$f":"IF(E14=T15,U15,IF(E14=T17,U17,IF(E14=T18,U18)))","v":0},null,"Vertical",{"$f":"IF(E5=X2,((W28+(0.07/(B25/1000)))*0.13)+W25,((W28+(0.07/(B25/1000)))*0.13)+W25)","v":4.9428571428571433E-2},{"$f":"X14*0.75","v":3.7071428571428575E-2},"Vertical",{"$f":"IF(E5=X2,((Y28+(0.07/(B25/1000)))*0.13)+W25,((Y28+(0.07/(B25/1000)))*0.13)+W25)","v":4.9428571428571433E-2},{"$f":"AA14*0.75","v":3.7071428571428575E-2}]
[null,null,null,"Additional X-Axis fitting points","None",null,null,null,null,null,null,null,null,null,null,null,null,null,null,"Standard",0," ","Vertical overlaped",{"$f":"IF(E5=X2,((X28+(0.07/(B25/1000)))*0.13)+W25,((X28+(0.07/(B25/1000)))*0.13)+W25)","v":5.9355786710762318E-2},{"$f":"X15*0.75","v":4.4516840033071742E-2},"Vertical overlaped",{"$f":"IF(E5=X2,((Z28+(0.07/(B25/1000)))*0.13)+W25,((Z28+(0.07/(B25/1000)))*0.13)+W25)","v":5.9355786710762318E-2},{"$f":"AA15*0.75","v":4.4516840033071742E-2}]
[null,null,null,"Additional Y-Axis fitting points","None"]
[null,null,null,null,null,null,null,null,null,null,null,null,null,null,null,null,null,null,null,0.5,{"$f":"(AA14*1.4)/2+(0.035/(B25/1000))","v":4.0849999999999997E-2},null,"Mid","Mid","Quarters"]
[null,null,null,"Select material for main sails","Solid ISX",null,null,null,null,null," "," ",null,null,null,null,null,null," ",1,{"$f":"AA14*1.4+(0.035/(B25/1000))","v":7.5450000000000003E-2},null,"Horizontal",{"$f":"((W30+(0.07/(B25/1000)))*0.13)+W25","v":4.6742129652260947E-2},{"$f":"(X18)*0.75","v":3.5056597239195714E-2}]
[null,null,null,"Select material for triangles","Duplex ISX",null,null,null,null,null," ",null,null,null,null,null,null,null," ","Overlap middle left",{"$f":"IF(E12=T20,U20,IF(E12=T21,U21,IF(E12=T22,U22)))","v":7.6363194478391433E-2},null,"Vertical",{"$f":"((W31+(0.07/(B25/1000)))*0.13)+W25","v":4.9892857142857135E-2},{"$f":"X19*0.75","v":3.7419642857142853E-2}]
[null,null,null,"Select no. of window vents",0,null,null,"           Plan view - looking from above",null,null,null,null,null,null,null,null,null,null,null,"Standard",0," ","Vertical overlaped",{"$f":"((AVERAGE(W31:Y31)+(0.07/(B25/1000)))*0.13)+W25","v":5.6511000664317725E-2},{"$f":"X20*0.75","v":4.2383250498238295E-2}]
[null,null,null,null,null,null,null,null,null,null,null,null,null,null,null,null,null,null,null,0.5,{"$f":"((X12*3)/2)+(0.035/(B25/1000))","v":7.6363194478391433E-2},null,"front","mid","tri front","tri mid"]
[null,"All dims in mm",null,"Max length of sail",{"$f":"(MAX(W33:Y33))*1000","v":1973.0363542512405},null,null,null,null,null,null," ",null,null,null,null,null,null," ",1,{"$f":"X12*3+(0.035/(B25/1000))","v":0.14647638895678286},"Sail perimeter",{"$f":"((X27+0.07)*2)+((X28+0.07)*2)","v":1.7516679440465117},{"$f":"((W30+0.07)*2)+X31+0.07+W31+0.07","v":1.6007476067109774},{"$f":"((AA30+0.07)*2)+AA31+0.07","v":1.0730357142857143},{"$f":"((Z30+0.07)*2)+Z31+0.07","v":1.0172403850854197}]
["H1",2200,null,"Max width of sail",{"$f":"(MAX(W34:Y34))*1000","v":2307.6338890789907},null,null,null,null,null,null,null,null,null,null,null,null,null," ","Overlap middle right",{"$f":"IF(E5=X3,U19,IF(E13=T20,U20,IF(E13=T21,U21,IF(E13=T22,U22))))","v":7.6363194478391433E-2},"Roof area (m^2)",{"$f":"W24*U27","v":0.31147792040200728},"Tri","Mid","Quarters"]
["H2",3000,null,null,null,null,null,null,null,null,null,null,null,null,null,null,null,null,null,null,"Dims in m","Glazing bar length",{"$f":"SQRT((U26-U25)^2+(U28/2)^2)","v":0.31147792040200728},"Vertical mid",{"$f":"((Z31+W25)*0.13)+W25","v":3.4269490756582664E-2},{"$f":"Y24*0.75","v":2.5702118067436996E-2}]
["X1",5600,null,"Please note that sails larger than 2100mm in both directions, will require a colour matched seam.",null,null,null,"Total budget cost incl. Installation+VAT+Delivery",null,{"$f":"12.15+(E20*50)+W36+X36+Y36+IF(E6=Y6,Z36,)+IF(AND(E9=Y6,E5<>X2),Z36,)+IF(E7=Y6,AA36,)+IF(AND(E5=X4,E8=Y6),AA36,)","v":2666.4246940410299},null,null,null,null,null,null,null,null,null,"h1",{"$f":"B23/B25","v":0.39285714285714285},"50mm links",{"$f":"(0.035/(B25/1000))","v":6.2500000000000012E-3},"Vertical Front/back",{"$f":"((AA31+W25)*0.13)+W25","v":3.6150000000000002E-2},{"$f":"Y25*0.75","v":2.7112500000000001E-2}]
["Y1",3100,null,null,null,null,null,null,null,{"$f":"'   '!P5","v":3066.3883981471845}," "," ",null,null,null,null,null,null,null,"h2",{"$f":"B24/B25","v":0.5357142857142857},null,"front + overlaped"," ","back + overlaped"," ",null," "]
["R1",1880,null,null,null,null,{"$f":"'   '!A8","v":0},null,null,null,null,null,null,null,null,null,null,null,null,"x1",{"$f":"B25/B25","v":1},"Sail length",{"$f":"W24-(0.07/(B25/1000))","v":0.29897792040200727},{"$f":"W27+U10","v":0.33982792040200727},{"$f":"W24-(0.07/(B25/1000))","v":0.29897792040200727},{"$f":"W27+U14","v":0.29897792040200727}]
[null,null,null,{"$f":"IF(((X18*(B25/1000))*(IF(E16=X7,0.5,2)))>(Z3*X10),AA5,IF(((X12*(B25/1000))*(IF(E16=X7,0.5,2)))>(Y3*X10),AA5,IF(AND(Y3>4,Y2>4),AA6,IF(OR(Z31*2<Z30,AA31*2<AA30),AA8,IF(AND((U29*(B25/1000))<0.75,E5=X4),AA9,\"\")))))","v":""},null,null,null,null,null,null,null,null,null,null,null,null,null,null,null,"y1",{"$f":"B26/B25","v":0.5535714285714286},"Sail width",{"$f":"IF(E5=X3,K57-(U29/2)-(0.07/(B25/1000)),K51-(0.07/(B25/1000)))","v":0.31964285714285717},{"$f":"W28+U19","v":0.39600605162124858},{"$f":"IF(E5=X2,K48-(0.07/(B25/1000)),IF(E5=X3,K57-(U29/2)-(0.07/(B25/1000)),K51-(0.07/(B25/1000))))","v":0.31964285714285717},{"$f":"Y28+U23","v":0.39600605162124858}]
[null,null,null,null,null,null,null,null,null,null,null,null,null,null,null,null,null,null,null,"r1",{"$f":"B27/B25","v":0.33571428571428569},null,"mid + overlaped",null,null,"tri mid","tri front/back"," "]
[null,null,null,null,null,null,{"$f":"'   '!A11","v":0},null,null,null,null,null,null,null,null,null,null,null,null,null,null,"Sail length",{"$f":"W27","v":0.29897792040200727},"<-"," ->",{"$f":"W24-(0.07/(B25/1000))","v":0.29897792040200727},{"$f":"K51-(0.07/(B25/1000))","v":0.31964285714285717}]
[null,null,null,null,null,null,null,null,null,null,null,null,null,null,null,null,null,null,null,null,null,"Sail width",{"$f":"K52-K51-(0.07/(B25/1000))","v":0.32321428571428562},{"$f":"W31+U19","v":0.39957748019267703},{"$f":"W31+U23","v":0.39957748019267703},{"$f":"IF(Z30*0.7<(U27-U29)/2,Z30*0.7,(U27-U29)-(2*W25))","v":0.20928454428140508},{"$f":"IF(AA30*0.7<U28,AA30*0.7,U28-(2*W25))","v":0.22375}]
[null,null,null,null,null,null,null,null,null,null,null,null,null,null,null,null,null,null,null,null,null,"Costs","front","mid","back","tri front/back","tri mid left/right"," "]
[null,null,null,null,null,null,null,null,null,null,null,null,null,null,null,null,null,null,null,null,null,"length",{"$f":"((O59-O63)*(B25/1000))+0.07","v":1.9730363542512406},{"$f":"W24*(B25/1000)","v":1.7442763542512407},{"$f":"((S55-S51)*(B25/1000))+0.07","v":1.7442763542512407},{"$f":"K54*(B25/1000)","v":1.86},{"$f":"W24*(B25/1000)","v":1.7442763542512407}]
[null,null,null,null,null,null,null,null,null,null,null,null,null,null,null,null,null,null,null,null,null,"width",{"$f":"((N51-N47)*(B25/1000))+0.07","v":2.2876338890789918},{"$f":"IF(E5<>X4,W31*(B25/1000),((P51-P47)*(B25/1000))+0.07)","v":2.3076338890789909},{"$f":"((R51-R47)*(B25/1000))+0.07","v":2.2876338890789918},{"$f":"(AA31*(B25/1000))+0.07","v":1.323},{"$f":"(Z31*(B25/1000))+0.07","v":1.2419934479758685}]
[null,null,null,null,null,null,null,null,null,null,null,null,null,null,null,null,null,null,null,null,null,"perimeter",{"$f":"W33+W34+((W27*(B25/1000))+0.07)+((W28*(B25/1000))+0.07)","v":7.8649465975814739},{"$f":"(X33*2)+((W31*(B25/1000))+0.07)+X34","v":7.6761865975814718},{"$f":"Y33+Y34+((Y27*(B25/1000))+0.07)+((Y28*(B25/1000))+0.07)","v":7.6361865975814736},{"$f":"(Z33*2)+Z34","v":5.0430000000000001},{"$f":"(AA33*2)+AA34","v":4.7305461564783498}]
[null,null,null,null,null,null,null,null,null,null,null,null,null,null,null,null,null,null,null,null,null,null,{"$f":"IF(E4=Y9,2,1)*(((U1*((U6*W33*W34*W1)+(W35*W2)+(X8*W3)+W4))+7.2*X8)+IF(E16=X7,24.7*2*IF(E5=X2,0.5,1),)+IF(E15=X7,24.7*2,))","v":926.51554295953201},{"$f":"IF(E5<>X4,0,(IF(E4=Y9,2,1)*(((U1*((U6*X33*X34*W1)+(X35*W2)+(X8*W3)+W4))+7.2*X8)+IF(E15=X7,24.7*2,)+IF(E16=X7,24.7*2,))))","v":866.35932920282391},{"$f":"IF(E5=X2,0,IF(E4=Y9,2,1)*(((U1*((U6*Y33*Y34*W1)+(Y35*W2)+(X8*W3)+W4))+7.2*X8)+IF(E15=X7,24.7*2,)+IF(E16=X7,24.7*2,)))","v":861.39982187867383},{"$f":"IF(OR(E6=Y6,E9=Y6),(U2*((U7*Z33*Z34*W1)+(Z35*W2)+(3*W3)+W4))+7.2*3,)","v":0},{"$f":"IF(OR(E7=Y6,E8=Y6),(U2*((U7*AA33*AA34*W1)+(AA35*W2)+(3*W3)+W4))+7.2*3,)*IF(E4=Y9,2,1)","v":0}]
[]
[]
[]
[]
[]
[]
[]
[null,null,null,null,"x","y","x","y","x","y","Roof plan"," "]
[null,null,null,null,"mid left tri 1",null,"mid right tri 4",null,"f tri 3",null,"x-axis","y-axis",null,"x","y","x","y","x","y"]
[null,null,null,null,{"$f":"IF(E7=Y6,E48-(Z31/2),)","v":0},{"$f":"IF(E7=Y6,W25,)","v":0},{"$f":"IF(E5<>X4,0,IF(E8=Y6,G48-(Z31/2),))","v":0},{"$f":"IF(E5<>X4,0,IF(E8=Y6,W25,))","v":0},{"$f":"IF(E6=Y6,W25,)","v":0},{"$f":"IF(E6=Y6,L51+(AA31/2),)","v":0},0,0,null,"down front",null,"down mid",null,"down left"]
[null,null,null,null,{"$f":"IF(E7=Y6,E48-(Z31/4),)","v":0},{"$f":"IF(E7=Y6,Z24,)","v":0},{"$f":"IF(E5<>X4,0,IF(E8=Y6,G48-(Z31/4),))","v":0},{"$f":"IF(E5<>X4,0,IF(E8=Y6,Z24,))","v":0},{"$f":"IF(E6=Y6,Z25,)","v":0},{"$f":"IF(E6=Y6,J46-(AA31/4),)","v":0},{"$f":"U27","v":1},0,null,{"$f":"W25","v":6.2500000000000012E-3},{"$f":"W25","v":6.2500000000000012E-3},{"$f":"IF(E5=X4,U27/2-(X31/2),)","v":0.30021125990366149},{"$f":"IF(E5=X4,W25,)","v":6.2500000000000012E-3},{"$f":"IF(E5<>X2,R51-Z28,)","v":0.59774394837875144},{"$f":"IF(E5<>X2,W25,)","v":6.2500000000000012E-3}]
[null,null,null,null,{"$f":"IF(E7=Y6,E54,)","v":0},{"$f":"IF(E7=Y6,Y24,)","v":0},{"$f":"IF(E5<>X4,0,IF(E8=Y6,G54,))","v":0},{"$f":"IF(E5<>X4,0,IF(E8=Y6,Y24,))","v":0},{"$f":"IF(E6=Y6,Y25,)","v":0},{"$f":"IF(E6=Y6,J47-(AA31/4),)","v":0},{"$f":"U27","v":1},{"$f":"W24*2","v":0.62295584080401456},null,{"$f":"IF(E5=X2,N47+(X28/4),N47+(X28/4))","v":0.10525151290531215},{"$f":"O49*0.75","v":4.4516840033071742E-2},{"$f":"IF(E5=X4,P47+(MAX(X31:Y31)/4),)","v":0.40010562995183074},{"$f":"IF(E5=X4,Y20,)","v":4.2383250498238295E-2},{"$f":"IF(E5<>X2,R47+(Z28/4),0)","v":0.69674546128406356},{"$f":"IF(E5<>X2,AB15,)","v":4.4516840033071742E-2}]
[null,null,null,null,{"$f":"IF(E7=Y6,E48+(Z31/4),)","v":0},{"$f":"IF(E7=Y6,Z24,)","v":0},{"$f":"IF(E5<>X4,0,IF(E8=Y6,G48+(Z31/4),))","v":0},{"$f":"IF(E5<>X4,0,IF(E8=Y6,Z24,))","v":0},{"$f":"IF(E6=Y6,I47,)","v":0},{"$f":"IF(E6=Y6,J48-(AA31/4),)","v":0},0,{"$f":"W24*2","v":0.62295584080401456},null,{"$f":"IF(E5=X2,N47+(X28/2),N47+(X28/2))","v":0.20425302581062429},{"$f":"X15","v":5.9355786710762318E-2},{"$f":"IF(E5=X4,P51-(P51-P47)/2,)","v":0.5},{"$f":"IF(E5=X4,X20,)","v":5.6511000664317725E-2},{"$f":"IF(E5<>X2,R47+(Z28/2),0)","v":0.79574697418937568},{"$f":"IF(E5<>X2,AA15,)","v":5.9355786710762318E-2}]
[null,null,null,null,{"$f":"IF(E7=Y6,E48+(Z31/2),)","v":0},{"$f":"F46","v":0},{"$f":"IF(E5<>X4,0,IF(E8=Y6,G48+(Z31/2),))","v":0},{"$f":"IF(E5<>X4,0,IF(E8=Y6,H46,))","v":0},{"$f":"I46","v":0},{"$f":"IF(E6=Y6,L51-(AA31/2),)","v":0},0,0,null,{"$f":"IF(E5=X2,N49+(X28/4),N49+(X28/4))","v":0.30325453871593644},{"$f":"O48","v":4.4516840033071742E-2},{"$f":"IF(E5=X4,P51-(MAX(X31:Y31)/4),)","v":0.59989437004816926},{"$f":"IF(E5=X4,Q48,)","v":4.2383250498238295E-2},{"$f":"IF(E5<>X2,R49+(Z28/4),0)","v":0.89474848709468779},{"$f":"IF(E5<>X2,S48,)","v":4.4516840033071742E-2}]
[null,null,null,null,{"$f":"IF(E7=Y6,E50-((E50-E54)/2),)","v":0},{"$f":"IF(E7=Y6,F52-(Z30/4),)","v":0},{"$f":"IF(E5<>X4,0,IF(E8=Y6,G50-((G50-G54)/2),))","v":0},{"$f":"IF(E5<>X4,0,IF(E8=Y6,H52-(Z30/4),))","v":0},{"$f":"IF(E6=Y6,I52-(AA30/4),)","v":0},{"$f":"IF(E6=Y6,J54-((J54-J50)/2),)","v":0},{"$f":"(U27/2)-(U29/2)","v":0.33214285714285718},{"$f":"W24","v":0.31147792040200728},null,{"$f":"N47+X28","v":0.40225605162124856},{"$f":"W25","v":6.2500000000000012E-3},{"$f":"IF(E5=X4,U27/2+(Y31/2),)","v":0.69978874009633851},{"$f":"IF(E5=X4,W25,)","v":6.2500000000000012E-3},{"$f":"IF(E5<>X2,U27-W25,0)","v":0.99375000000000002},{"$f":"S47","v":6.2500000000000012E-3}]
[null,null,null,null,{"$f":"IF(E7=Y6,E50-((E50-E54)*0.75),)","v":0},{"$f":"IF(E7=Y6,W24-(W24/2),)","v":0},{"$f":"IF(E5<>X4,0,IF(E8=Y6,G50-((G50-G54)*0.75),))","v":0},{"$f":"IF(E5<>X4,0,IF(E8=Y6,W24-(W24/2),))","v":0},{"$f":"IF(E6=Y6,I53-(AA30/4),)","v":0},{"$f":"IF(E6=Y6,J50+((J54-J50)*0.75),)","v":0},{"$f":"(U27/2)+(U29/2)","v":0.66785714285714282},{"$f":"L51","v":0.31147792040200728},null,{"$f":"IF(E5=X2,N51-Y12,N51-Y12-(U19/4))","v":0.34810865576245498},{"$f":"W27/4","v":7.4744480100501817E-2},{"$f":"IF(E5=X4,P51-Y18-(U23/8),)","v":0.65518674354734385},{"$f":"IF(E5=X4,O52,)","v":7.4744480100501817E-2},{"$f":"IF(E5<>X2,R51-AB13,)","v":0.95869340276080428},{"$f":"IF(E5<>X2,S53-(Z27/4),)","v":8.0994480100501767E-2}]
[null,null,null,null,{"$f":"IF(E7=Y6,E54+((E50-E54)*0.1),)","v":0},{"$f":"IF(E7=Y6,F52+(Z30/4),)","v":0},{"$f":"IF(E5<>X4,0,IF(E8=Y6,G54+((G50-G54)*0.1),))","v":0},{"$f":"IF(E5<>X4,0,IF(E8=Y6,H52+(Z30/4),))","v":0},{"$f":"IF(E6=Y6,I54-(AA30/4),)","v":0},{"$f":"IF(E6=Y6,J54-((J54-J50)*0.1),)","v":0},0,0,null,{"$f":"IF(E5=X2,N51-X12,N51-X12-(U19/2))","v":0.31733232472979189},{"$f":"W24/2","v":0.15573896020100364},{"$f":"IF(E5=X4,P51-X18-(U23/4),)","v":0.63395581182447969},{"$f":"IF(E5=X4,O53,)","v":0.15573896020100364},{"$f":"IF(E5<>X2,R51-AA13,)","v":0.94700787034773903},{"$f":"IF(E5<>X2,S54-(Z27/4),)","v":0.15573896020100358}]
[null,null,null,null,{"$f":"IF(E7=Y6,K51+IF(E5=X3,U29/2,),)","v":0},{"$f":"IF(E7=Y6,L51-W25,)","v":0},{"$f":"IF(E5<>X4,0,IF(E8=Y6,U29+K51,))","v":0},{"$f":"IF(E5<>X4,0,IF(E8=Y6,L51-W25,))","v":0},{"$f":"IF(E6=Y6,K51-W25,)","v":0},{"$f":"IF(E6=Y6,L51,)","v":0},{"$f":"(U27/2)-(U29/2)","v":0.33214285714285718},{"$f":"L52","v":0.31147792040200728},null,{"$f":"IF(E5=X2,N55-Y12,N55-Y12+(U19/4))","v":0.3099270585232593},{"$f":"W27*0.75","v":0.22423344030150544},{"$f":"IF(E5=X4,P55-Y18+(U23/6),)","v":0.63927774469767895},{"$f":"IF(E5=X4,O54,)","v":0.22423344030150544},{"$f":"IF(E5<>X2,R51-AB13,)","v":0.95869340276080428},{"$f":"IF(E5<>X2,S55-(Z27/4),)","v":0.23048344030150542}]
[null,null,null,null,{"$f":"IF(E7=Y6,E54-((E50-E54)*0.1),)","v":0},{"$f":"F53","v":0},{"$f":"IF(E5<>X4,0,IF(E8=Y6,G54-((G50-G54)*0.1),))","v":0},{"$f":"IF(E5<>X4,0,IF(E8=Y6,H53,))","v":0},{"$f":"I53","v":0},{"$f":"J54+((J54-J50)*0.1)","v":0},0,{"$f":"L49","v":0.62295584080401456},null,{"$f":"IF(E5=X2,N47+X28,W28+N47)","v":0.32589285714285715},{"$f":"W24-W25","v":0.3052279204020073},{"$f":"IF(E5=X4,K57-W25,)","v":0.66160714285714284},{"$f":"IF(E5=X4,W24-W25,)","v":0.3052279204020073},{"$f":"IF(E5<>X2,R51,0)","v":0.99375000000000002},{"$f":"IF(E5<>X2,S51+Z27,)","v":0.30522792040200725}]
[null,null,null,null,{"$f":"IF(E7=Y6,E58+((E54-E58)*0.75),)","v":0},{"$f":"F52","v":0},{"$f":"IF(E5<>X4,0,IF(E8=Y6,G58+((G54-G58)*0.75),))","v":0},{"$f":"IF(E5<>X4,0,IF(E8=Y6,H52,))","v":0},{"$f":"I52","v":0},{"$f":"J58-((J54-J50)*0.75)","v":0},{"$f":"U27","v":1},0,null,{"$f":"IF(E5=X2,N49+(X28/4),N55-(W28/4))","v":0.24598214285714287},{"$f":"O55-Y14+(U10/2)","v":0.28858149183057868},{"$f":"IF(E5=X4,P55-(W31/4),)","v":0.58080357142857142},{"$f":"IF(E5=X4,W24-Y19,)","v":0.27405827754486445},{"$f":"IF(E5<>X2,R55-(W28/4),)","v":0.91383928571428574},{"$f":"IF(E5<>X2,S55-AB14-(U14/6),)","v":0.26815649183057866}]
[null,null,null,null,{"$f":"E58+((E54-E58)/2)","v":0},{"$f":"F51","v":0},{"$f":"IF(E5<>X4,0,IF(E8=Y6,G58+((G54-G58)/2),))","v":0},{"$f":"IF(E5<>X4,0,IF(E8=Y6,H51,))","v":0},{"$f":"I51","v":0},{"$f":"J58-((J54-J50)/2)","v":0},{"$f":"(U27/2)+(U29/2)","v":0.66785714285714282},{"$f":"L51","v":0.31147792040200728},null,{"$f":"IF(E5=X2,N47+(X28/2),N56-(W28/4))","v":0.16607142857142859},{"$f":"O59-X14-(U10/4)","v":0.2864368489734358},{"$f":"IF(E5=X4,U27/2,)","v":0.5},{"$f":"IF(E5=X4,W24-X19,)","v":0.26158506325915015},{"$f":"IF(E5<>X2,R55-(W28/2),0)","v":0.83392857142857146},{"$f":"IF(E5<>X2,S55-AA14-(U14/4),)","v":0.25579934897343581}]
[null,null,null,null,{"$f":"E46","v":0},{"$f":"F46","v":0},{"$f":"IF(E5<>X4,0,IF(E8=Y6,G46,))","v":0},{"$f":"IF(E5<>X4,0,IF(E8=Y6,H46,))","v":0},{"$f":"I46","v":0},{"$f":"J46","v":0},{"$f":"U27","v":1},{"$f":"L55","v":0.62295584080401456},null,{"$f":"IF(E5=X2,N47+(X28/4),N57-(W28/4))","v":8.6160714285714299E-2},{"$f":"O59-Y14-(U10/6)","v":0.30219815849724529},{"$f":"IF(E5=X4,P57-(W31/4),)","v":0.41919642857142858},{"$f":"IF(E5=X4,W24-Y19,)","v":0.27405827754486445},{"$f":"IF(E5<>X2,R59+(W28/4),0)","v":0.75401785714285707},{"$f":"IF(E5<>X2,S55-AB14-(U14/2),)","v":0.26815649183057866}]
["x","y",null,"x","y","x","y","Y-Axis fitting points",null,null,null,null,null,{"$f":"N47","v":6.2500000000000012E-3},{"$f":"O47+X27","v":0.34607792040200724},{"$f":"IF(E5=X4,P55-W31,)","v":0.33839285714285722},{"$f":"IF(E5=X4,Q55,)","v":0.3052279204020073},{"$f":"IF(E5=X3,K54+(U29/2)+W25,IF(E5<>X2,K57+W25,))","v":0.67410714285714279},{"$f":"IF(E5<>X2,L54-W25,)","v":0.3052279204020073}]
["mid left tri 2",null,null,"mid right tri 5",null,"b tri 6",null,"Sail 1",null,"Sail 2",null,null,null,{"$f":"N47+Y13","v":4.5289472239195709E-2},{"$f":"O59-(X27/4)","v":0.26112094030150546},{"$f":"IF(E5=X4,P59+Y18-(U19/6),)","v":0.36072225530232099},{"$f":"Q54","v":0.22423344030150544},{"$f":"IF(E5<>X2,R59+Y12-(U23/4),)","v":0.6900729414767407},{"$f":"IF(E5<>X2,(W27*0.75),)","v":0.22423344030150544}]
[{"$f":"IF(AND(E7=Y6,E4<>Y8),E48-(Z31/2),)","v":0},{"$f":"IF(AND(E7=Y6,E4<>Y8),L48-W25,)","v":0},null,{"$f":"IF(E5<>X4,0,IF(AND(E8=Y6,E4<>Y8),G48-(Z31/2),))","v":0},{"$f":"IF(E5<>X4,0,IF(AND(E8=Y6,E4<>Y8),L48-W25,))","v":0},{"$f":"IF(E5=X2,0,IF(AND(E9=Y6,E4<>Y10),K48-W25,))","v":0},{"$f":"IF(E5=X2,0,IF(AND(E9=Y6,E4<>Y10),L51+(AA31/2),))","v":0},0,{"$f":"O61","v":0.17616396020100364},{"$f":"IF(AND(E5<>X2,E16=X7),K51-0.015,0)","v":0},{"$f":"Q53","v":0.15573896020100364},null,null,{"$f":"N47+X13","v":5.8302629652260948E-2},{"$f":"O60-(X27/4)","v":0.17616396020100364},{"$f":"IF(E5=X4,P63+X18+(U19/4),)","v":0.36604418817552026},{"$f":"IF(E5=X4,Q53,)","v":0.15573896020100364},{"$f":"IF(E5<>X2,R63+X12+(U23/2),)","v":0.68266767527020811},{"$f":"IF(E5<>X2,W24/2,)","v":0.15573896020100364}]
[{"$f":"IF(AND(E7=Y6,E4<>Y8),E48-(Z31/4),)","v":0},{"$f":"IF(AND(E7=Y6,E4<>Y8),L48-Z24,)","v":0},null,{"$f":"IF(E5<>X4,0,IF(AND(E8=Y6,E4<>Y8),G48-(Z31/4),))","v":0},{"$f":"IF(E5<>X4,0,IF(AND(E8=Y6,E4<>Y8),L48-Z24,))","v":0},{"$f":"IF(E5=X2,0,IF(AND(E9=Y6,E4<>Y10),K48-Z25,))","v":0},{"$f":"IF(E5=X2,0,IF(AND(E9=Y6,E4<>Y10),G61-(AA31/4),))","v":0},{"$f":"IF(E16=X7,0.03,0)","v":0},{"$f":"I61","v":0.17616396020100364},{"$f":"IF(AND(E5<>X2,E16=X7),J61+0.03,0)","v":0},{"$f":"K61","v":0.15573896020100364},null,null,{"$f":"N60","v":4.5289472239195709E-2},{"$f":"O61-(X27/4)","v":9.1206980100501822E-2},{"$f":"IF(E5=X4,P63+Y18+(U19/8),)","v":0.34481325645265615},{"$f":"Q52","v":7.4744480100501817E-2},{"$f":"IF(E5<>X2,R63+Y12+(U23/4),)","v":0.65189134423754502},{"$f":"IF(E5<>X2,W27/4,)","v":7.4744480100501817E-2}]
[{"$f":"IF(AND(E7=Y6,E4<>Y8),E54,)","v":0},{"$f":"IF(AND(E7=Y6,E4<>Y8),L49-Y24,)","v":0},null,{"$f":"IF(E5<>X4,0,IF(AND(E8=Y6,E4<>Y8),G54,))","v":0},{"$f":"IF(E5<>X4,0,IF(AND(E8=Y6,E4<>Y8),L49-Y24,))","v":0},{"$f":"IF(E5=X2,0,IF(AND(E9=Y6,E4<>Y10),K48-Y25,))","v":0},{"$f":"IF(E5=X2,0,IF(AND(E9=Y6,E4<>Y10),G62-(AA31/4),))","v":0},{"$f":"IF(E5=X2,0,IF(AND(E5<>X4,E16=X7),H64-0.03,))*0","v":0},{"$f":"I62","v":0.17616396020100364},{"$f":"IF(AND(E5>1.5,E16=X7),J64-0.03,0)","v":0},{"$f":"S53","v":0.15573896020100358},null,null,{"$f":"N47","v":6.2500000000000012E-3},{"$f":"W25","v":6.2500000000000012E-3},{"$f":"IF(E5=X4,P47,)","v":0.30021125990366149},{"$f":"IF(E5=X4,W25,)","v":6.2500000000000012E-3},{"$f":"R47","v":0.59774394837875144},{"$f":"S47","v":6.2500000000000012E-3}]
[{"$f":"IF(AND(E7=Y6,E4<>Y8),E48+(Z31/4),)","v":0},{"$f":"IF(AND(E7=Y6,E4<>Y8),L49-Z24,)","v":0},null,{"$f":"IF(E5<>X4,0,IF(AND(E8=Y6,E4<>Y8),G48+(Z31/4),))","v":0},{"$f":"IF(E5<>X4,0,IF(AND(E8=Y6,E4<>Y8),L49-Z24,))","v":0},{"$f":"IF(E5=X2,0,IF(AND(E9=Y6,E4<>Y10),K48-Z25,))","v":0},{"$f":"IF(E5=X2,0,IF(AND(E9=Y6,E4<>Y10),G63-(AA31/4),))","v":0},{"$f":"IF(E5=X2,0,IF(AND(E5<>X4,E16=X7),U27,0))*0","v":0},{"$f":"I63","v":0.17616396020100364},{"$f":"IF(AND(E5>1.5,E16=X7),U27,0)","v":0},{"$f":"K63","v":0.15573896020100358}]
[{"$f":"IF(AND(E7=Y6,E4<>Y8),E48+(Z31/2),)","v":0},{"$f":"IF(AND(E7=Y6,E4<>Y8),L48-F46,)","v":0},null,{"$f":"IF(E5<>X4,0,IF(AND(E8=Y6,E4<>Y8),G48+(Z31/2),))","v":0},{"$f":"IF(E5<>X4,0,IF(AND(E8=Y6,E4<>Y8),L48-H46,))","v":0},{"$f":"IF(E5=X2,0,IF(AND(E9=Y6,E4<>Y10),F61,))","v":0},{"$f":"IF(E5=X2,0,IF(AND(E9=Y6,E4<>Y10),L51-(AA31/2),))","v":0},0,{"$f":"O81","v":0.446791880603011},{"$f":"IF(AND(E5<>X2,E16=X7),J61,0)","v":0},{"$f":"Q73","v":0.46721688060301092},null,null,"x","y","x","y","x","y"]
[{"$f":"IF(AND(E7=Y6,E4<>Y8),E50-((E50-E54)/2),)","v":0},{"$f":"IF(AND(E7=Y6,E4<>Y8),B67+(Z30/4),)","v":0},null,{"$f":"IF(E5<>X4,0,IF(AND(E8=Y6,E4<>Y8),G50-((G50-G54)/2),))","v":0},{"$f":"IF(E5<>X4,0,IF(AND(E8=Y6,E4<>Y8),E67+(Z30/4),))","v":0},{"$f":"IF(E5=X2,0,IF(AND(E9=Y6,E4<>Y10),F65-(AA30/4),))","v":0},{"$f":"IF(AND(E9=Y6,E4<>Y10),G69-((G69-G65)/2),)","v":0},{"$f":"IF(E4=Y8,0,IF(E16=X7,0.03,0))","v":0},{"$f":"I65","v":0.446791880603011},{"$f":"IF(AND(E5<>X2,E16=X7),J61+0.03,0)","v":0},{"$f":"K65","v":0.46721688060301092},null,null,"up front",null,"up mid",null,"up left"]
[{"$f":"IF(AND(E7=Y6,E4<>Y8),E50-((E50-E54)*0.75),)","v":0},{"$f":"IF(AND(E7=Y6,E4<>Y8),L48-(W24/2),)","v":0},null,{"$f":"IF(E5<>X4,0,IF(AND(E8=Y6,E4<>Y8),G50-((G50-G54)*0.75),))","v":0},{"$f":"IF(E5<>X4,0,IF(AND(E8=Y6,E4<>Y8),L48-(W24/2),))","v":0},{"$f":"IF(E5=X2,0,IF(AND(E9=Y6,E4<>Y10),F65-(AA30/2),))","v":0},{"$f":"IF(AND(E9=Y6,E4<>Y10),G65+((G69-G65)*0.75),)","v":0},{"$f":"IF(E5=X2,0,IF(AND(E5=X2,E16=X7),H64-0.03,0))","v":0},{"$f":"O73","v":0.46721688060301092},{"$f":"IF(E4=Y8,0,IF(AND(E5>1.5,E16=X7),J64-0.03,0))","v":0},{"$f":"S73","v":0.46721688060301092},null,null,{"$f":"IF(E4=Y8,0,W25)","v":6.2500000000000012E-3},{"$f":"IF(E4=Y8,0,L48-X27-W25)","v":0.27687792040200732},{"$f":"IF(E4=Y8,0,IF(E5=X2,0,P59))","v":0.33839285714285722},{"$f":"IF(E5=X4,O71,)","v":0.31772792040200731},{"$f":"IF(E4=Y8,0,IF(E5=X3,K54+(U29/2)+W25,IF(E5<>X2,K57+W25,)))","v":0.67410714285714279},{"$f":"IF(E5<>X2,O71,)","v":0.31772792040200731}]
[{"$f":"IF(AND(E7=Y6,E4<>Y8),E54+((E50-E54)*0.1),)","v":0},{"$f":"IF(AND(E7=Y6,E4<>Y8),B67-(Z30/4),)","v":0},null,{"$f":"IF(E5<>X4,0,IF(AND(E8=Y6,E4<>Y8),G54+((G50-G54)*0.1),))","v":0},{"$f":"IF(E5<>X4,0,IF(AND(E8=Y6,E4<>Y8),E67-(Z30/4),))","v":0},{"$f":"IF(E5=X2,0,IF(AND(E9=Y6,E4<>Y10),F69+(AA30/4),))","v":0},{"$f":"IF(AND(E9=Y6,E4<>Y10),G69-((G69-G65)*0.1),)","v":0},{"$f":"IF(E5=X2,0,IF(AND(E5=X2,E16=X7),U27,0))","v":0},{"$f":"I67","v":0.46721688060301092},{"$f":"IF(E4=Y8,0,IF(AND(E5>1.5,E16=X7),U27,0))","v":0},{"$f":"K67","v":0.46721688060301092},null,null,{"$f":"IF(E4=Y8,0,N58)","v":8.6160714285714299E-2},{"$f":"IF(E4=Y8,0,O67+Y14+(U10/6))","v":0.32075768230676927},{"$f":"IF(E4=Y8,0,IF(E5=X2,0,P58))","v":0.41919642857142858},{"$f":"IF(E4=Y8,0,IF(E5=X4,Q67+Y19,))","v":0.35514756325915015},{"$f":"IF(E4=Y8,0,IF(E5<>X2,R59+(W28/4),0))","v":0.75401785714285707},{"$f":"IF(E4=Y8,0,IF(E5<>X2,S67+AB14-(U14/2),))","v":0.3547993489734359}]
[{"$f":"IF(AND(E7=Y6,E4<>Y8),K51+IF(E5=X3,U29/2,),)","v":0},{"$f":"IF(AND(E7=Y6,E4<>Y8),L51+W25,)","v":0},null,{"$f":"IF(E5<>X4,0,IF(AND(E8=Y6,E4<>Y8),K51+U29,))","v":0},{"$f":"IF(E5<>X4,0,IF(AND(E8=Y6,E4<>Y8),L51+W25,))","v":0},{"$f":"IF(E5=X2,0,IF(AND(E9=Y6,E4<>Y10),K57+W25,))","v":0},{"$f":"IF(E5=X2,0,IF(AND(E9=Y6,E4<>Y10),L51,))","v":0},{"$f":"IF(OR(E16=X6,E5=X2),0,R59-W25-0.015)","v":0},{"$f":"O53","v":0.15573896020100364},null,null,null,null,{"$f":"IF(E4=Y8,0,N57)","v":0.16607142857142859},{"$f":"IF(E4=Y8,0,O67+X14+(U10/4))","v":0.33651899183057876},{"$f":"IF(E4=Y8,0,IF(E5=X2,0,P57))","v":0.5},{"$f":"IF(E4=Y8,0,IF(E5=X4,Q67+X19,))","v":0.36762077754486444},{"$f":"IF(E4=Y8,0,IF(E5<>X2,R55-(W28/2),0))","v":0.83392857142857146},{"$f":"IF(E4=Y8,0,IF(E5<>X2,S71+AA14+(U14/4),))","v":0.36715649183057875}]
[{"$f":"IF(AND(E7=Y6,E4<>Y8),E54-((E50-E54)*0.1),)","v":0},{"$f":"B68","v":0},null,{"$f":"IF(E5<>X4,0,IF(AND(E8=Y6,E4<>Y8),G54-((G50-G54)*0.1),))","v":0},{"$f":"IF(E5<>X4,0,E68)","v":0},{"$f":"F68","v":0},{"$f":"IF(AND(E9=Y6,E4<>Y10),G69+((G69-G65)*0.1),)","v":0},{"$f":"IF(OR(E16=X6,E5=X2),0,H69+0.03)","v":0},{"$f":"I69","v":0.15573896020100364},null,null,null,null,{"$f":"IF(E4=Y8,0,N56)","v":0.24598214285714287},{"$f":"IF(E4=Y8,0,O71+Y14-(U10/2))","v":0.33437434897343588},{"$f":"P69+(P69-P68)","v":0.58080357142857142},{"$f":"IF(E5=X4,Q68,)","v":0.35514756325915015},{"$f":"IF(E4=Y8,0,IF(E5<>X2,R55-(W28/4),))","v":0.91383928571428574},{"$f":"IF(E4=Y8,0,IF(E5<>X2,S71+AB14+(U14/6),))","v":0.3547993489734359}]
[{"$f":"IF(AND(E7=Y6,E4<>Y8),E58+((E54-E58)*0.75),)","v":0},{"$f":"B67","v":0},null,{"$f":"IF(E5<>X4,0,IF(AND(E8=Y6,E4<>Y8),G58+((G54-G58)*0.75),))","v":0},{"$f":"IF(E5<>X4,0,E67)","v":0},{"$f":"F67","v":0},{"$f":"IF(AND(E9=Y6,E4<>Y10),G73-((G69-G65)*0.75),)","v":0},{"$f":"IF(OR(E16=X6,E5=X2,E4=Y8),0,R67-W25-0.015)","v":0},{"$f":"O73","v":0.46721688060301092},null,null,null,null,{"$f":"IF(E4=Y8,0,IF(E5=X2,N47+X28,W28+N47))","v":0.32589285714285715},{"$f":"IF(E4=Y8,0,L49-W27-W25)","v":0.31772792040200731},{"$f":"IF(E4=Y8,0,IF(E5=X4,K57-W25,))","v":0.66160714285714284},{"$f":"IF(E5=X4,Q67,)","v":0.31772792040200731},{"$f":"IF(E4=Y8,0,IF(E5<>X2,U27-W25,0))","v":0.99375000000000002},{"$f":"IF(E4=Y8,0,IF(E5<>X2,L48-Z27-W25,))","v":0.31772792040200731}]
[{"$f":"IF(AND(E7=Y6,E4<>Y8),E58+((E54-E58)/2),)","v":0},{"$f":"B66","v":0},null,{"$f":"IF(E5<>X4,0,IF(AND(E8=Y6,E4<>Y8),G58+((G54-G58)/2),))","v":0},{"$f":"IF(E5<>X4,0,E66)","v":0},{"$f":"F66","v":0},{"$f":"IF(AND(E9=Y6,E4<>Y10),G73-((G69-G65)/2),)","v":0},{"$f":"IF(OR(E16=X6,E5=X2,E4=Y8),0,H71+0.03)","v":0},{"$f":"I71","v":0.46721688060301092},null,null,null,null,{"$f":"IF(E4=Y8,0,N54)","v":0.3099270585232593},{"$f":"IF(E4=Y8,0,(W27/4)+W24)","v":0.38622240050250911},{"$f":"IF(E4=Y8,0,IF(E5=X2,0,P54))","v":0.63927774469767895},{"$f":"IF(E5=X4,O72,)","v":0.38622240050250911},{"$f":"IF(E4=Y8,0,IF(E5<>X2,R51-AB13,))","v":0.95869340276080428},{"$f":"IF(E4=Y8,0,IF(E5<>X2,S73-(Z27/4),))","v":0.39247240050250909}]
[{"$f":"IF(AND(E7=Y6,E4<>Y8),E46,)","v":0},{"$f":"B65","v":0},null,{"$f":"IF(E5<>X4,0,IF(AND(E8=Y6,E4<>Y8),G46,))","v":0},{"$f":"IF(E5<>X4,0,E65)","v":0},{"$f":"F65","v":0},{"$f":"IF(AND(E9=Y6,E4<>Y10),G61,)","v":0},null,null,null,null,null,null,{"$f":"IF(E4=Y8,0,N53)","v":0.31733232472979189},{"$f":"IF(E4=Y8,0,(W24/2)+W24)","v":0.46721688060301092},{"$f":"IF(E4=Y8,0,IF(E5=X2,0,P53))","v":0.63395581182447969},{"$f":"IF(E5=X4,O73,)","v":0.46721688060301092},{"$f":"IF(E4=Y8,0,IF(E5<>X2,R51-AA13,))","v":0.94700787034773903},{"$f":"IF(E4=Y8,0,IF(E5<>X2,S74-(Z27/4),))","v":0.46721688060301092}]
[null,null,null,null,"X-Axis fitting points",null,null,null,null,null,null,null,null,{"$f":"IF(E4=Y8,0,N52)","v":0.34810865576245498},{"$f":"IF(E4=Y8,0,(W27*0.75)+W24)","v":0.53571136070351266},{"$f":"IF(E4=Y8,0,P52)","v":0.65518674354734385},{"$f":"IF(E5=X4,O74,)","v":0.53571136070351266},{"$f":"IF(E4=Y8,0,IF(E5<>X2,R51-AB13,))","v":0.95869340276080428},{"$f":"IF(E4=Y8,0,IF(E5<>X2,S75-(Z27/4),))","v":0.54196136070351275}]
[null,null,null,null,"Sail 1",null,"Sail 2",null,"Sail 3",null,null,null,null,{"$f":"IF(E4=Y8,0,N51)","v":0.40225605162124856},{"$f":"IF(E4=Y8,0,(W24*2)-W25)","v":0.61670584080401458},{"$f":"IF(OR(E5=X2,E4=Y8),0,P51)","v":0.69978874009633851},{"$f":"IF(E5=X4,O79,)","v":0.61670584080401458},{"$f":"IF(E4=Y8,0,IF(E5<>X2,R51,0))","v":0.99375000000000002},{"$f":"IF(E5<>X2,O79,)","v":0.61670584080401458}]
[null,null,null,null,{"$f":"N49","v":0.20425302581062429},0,{"$f":"IF(E5=X2,0,R49)","v":0.79574697418937568},0,{"$f":"P49","v":0.5},0,null,null,null,{"$f":"IF(E4=Y8,0,N50)","v":0.30325453871593644},{"$f":"IF(E4=Y8,0,(W24-O48)+W24)","v":0.57843900077094279},{"$f":"IF(E4=Y8,0,IF(E5=X2,0,P50))","v":0.59989437004816926},{"$f":"IF(E4=Y8,0,IF(E5=X4,Q75-Y20,))","v":0.57432259030577626},{"$f":"IF(E4=Y8,0,IF(E5<>X2,R49+(Z28/4),0))","v":0.89474848709468779},{"$f":"IF(E4=Y8,0,IF(E5<>X2,L49-AB15,))","v":0.57843900077094279}]
[null,null,null,null,{"$f":"E76","v":0.20425302581062429},{"$f":"IF(E15=W7,0.03,0)","v":0},{"$f":"G76","v":0.79574697418937568},{"$f":"IF(E15=W7,0.03,0)","v":0},{"$f":"I76","v":0.5},{"$f":"IF(E5<X3,0,IF(E15=W7,0.03,))","v":0},null,null,null,{"$f":"IF(E4=Y8,0,N49)","v":0.20425302581062429},{"$f":"IF(E4=Y8,0,(W24-O49)+W24)","v":0.5636000540932522},{"$f":"IF(E4=Y8,0,IF(E5=X2,0,P49))","v":0.5},{"$f":"IF(E4=Y8,0,IF(E5=X4,Q75-X20,))","v":0.56019484013969689},{"$f":"IF(E4=Y8,0,IF(E5<>X2,R47+(Z28/2),0))","v":0.79574697418937568},{"$f":"IF(E4=Y8,0,IF(E5<>X2,L49-AA15,))","v":0.5636000540932522}]
[null,null,null,null,{"$f":"N57","v":0.16607142857142859},{"$f":"IF(E15=W7,W24,0)","v":0},{"$f":"IF(E5=X2,0,K47-N57)","v":0.83392857142857135},{"$f":"IF(E15=W7,W24,0)","v":0},{"$f":"P57","v":0.5},{"$f":"IF(E5<X3,0,IF(E15=W7,W24,))","v":0},null,null,null,{"$f":"IF(E4=Y8,0,N48)","v":0.10525151290531215},{"$f":"O76","v":0.57843900077094279},{"$f":"IF(E4=Y8,0,IF(E5=X2,0,P48))","v":0.40010562995183074},{"$f":"IF(E5=X4,Q76,)","v":0.57432259030577626},{"$f":"IF(E4=Y8,0,IF(E5<>X2,R47+(Z28/4),0))","v":0.69674546128406356},{"$f":"S76","v":0.57843900077094279}]
[null,null,null,null,{"$f":"E78","v":0.16607142857142859},{"$f":"IF(E15=W7,F78-0.015,0)","v":0},{"$f":"G78","v":0.83392857142857135},{"$f":"IF(E15=W7,F78-0.015,0)","v":0},{"$f":"I78","v":0.5},{"$f":"IF(E5<X3,0,IF(E15=W7,F78-0.03,))","v":0},null,null,null,{"$f":"IF(E4=Y8,0,N47)","v":6.2500000000000012E-3},{"$f":"O75","v":0.61670584080401458},{"$f":"IF(E4=Y8,0,IF(E5=X2,0,P63))","v":0.30021125990366149},{"$f":"IF(E5=X4,Q75,)","v":0.61670584080401458},{"$f":"IF(E4=Y8,0,IF(E5<>X2,R51-Z28,))","v":0.59774394837875144},{"$f":"S75","v":0.61670584080401458}]
[null,null,null,null,{"$f":"E79","v":0.16607142857142859},{"$f":"IF(E4=Y8,0,IF(E15=W7,W24,0))","v":0},{"$f":"G79","v":0.83392857142857135},{"$f":"IF(E4=Y8,0,IF(E15=W7,W24,0))","v":0},{"$f":"I79","v":0.5},{"$f":"IF(E4=Y8,0,IF(E5<X3,0,IF(E15=W7,W24,)))","v":0},null,null,null,{"$f":"IF(E4=Y8,0,N47+Y13)","v":4.5289472239195709E-2},{"$f":"IF(E4=Y8,0,O79-(X27/4))","v":0.53174886070351279},{"$f":"IF(E4=Y8,0,IF(E5=X2,0,P62))","v":0.34481325645265615},{"$f":"Q74","v":0.53571136070351266},{"$f":"IF(E4=Y8,0,R62)","v":0.65189134423754502},{"$f":"IF(E5<>X2,O74,)","v":0.53571136070351266}]
[null,null,null,null,{"$f":"E80","v":0.16607142857142859},{"$f":"IF(E4=Y8,0,IF(E15=W7,F78+0.015,0))","v":0},{"$f":"G80","v":0.83392857142857135},{"$f":"IF(E4=Y8,0,IF(E15=W7,F78+0.015,0))","v":0},{"$f":"I80","v":0.5},{"$f":"IF(E4=Y8,0,IF(E5<X3,0,IF(E15=W7,F78+0.03,)))","v":0},null,null,null,{"$f":"IF(E4=Y8,0,N47+X13)","v":5.8302629652260948E-2},{"$f":"IF(E4=Y8,0,O80-(X27/4))","v":0.446791880603011},{"$f":"IF(E4=Y8,0,IF(E5=X2,0,P61))","v":0.36604418817552026},{"$f":"IF(E5=X4,Q73,)","v":0.46721688060301092},{"$f":"IF(E4=Y8,0,R61)","v":0.68266767527020811},{"$f":"IF(E5<>X2,O73,)","v":0.46721688060301092}]
[null,null,null,null,{"$f":"E76","v":0.20425302581062429},{"$f":"IF(E4=Y8,0,IF(E15=W7,W24*2,0))","v":0},{"$f":"G76","v":0.79574697418937568},{"$f":"IF(E4=Y8,0,IF(E15=W7,W24*2,0))","v":0},{"$f":"I76","v":0.5},{"$f":"IF(E4=Y8,0,IF(E5<X3,0,IF(E15=W7,W24*2,)))","v":0},null,null,null,{"$f":"IF(E4=Y8,0,N80)","v":4.5289472239195709E-2},{"$f":"IF(E4=Y8,0,O81-(X27/4))","v":0.36183490050250922},{"$f":"IF(E4=Y8,0,IF(E5=X2,0,P60))","v":0.36072225530232099},{"$f":"Q72","v":0.38622240050250911},{"$f":"IF(E4=Y8,0,R60)","v":0.6900729414767407},{"$f":"IF(E5<>X2,O72,)","v":0.38622240050250911}]
[null,null,null,null,{"$f":"E76","v":0.20425302581062429},{"$f":"IF(E4=Y8,0,IF(E15=W7,F82-0.03,0))","v":0},{"$f":"G82","v":0.79574697418937568},{"$f":"IF(E4=Y8,0,IF(E15=W7,F82-0.03,0))","v":0},{"$f":"I76","v":0.5},{"$f":"IF(E4=Y8,0,IF(E5<X3,0,IF(E15=W7,J82-0.03,)))","v":0},null,null,null,{"$f":"IF(E4=Y8,0,N47)","v":6.2500000000000012E-3},{"$f":"O67","v":0.27687792040200732},{"$f":"IF(E5=X2,0,P67)","v":0.33839285714285722},{"$f":"IF(E5=X4,Q67,)","v":0.31772792040200731},{"$f":"R67","v":0.67410714285714279},{"$f":"S67","v":0.31772792040200731}]

{"sheet":"Victorian","index":5,"n_rows":90,"n_cols":34,"rows_kept":90,"cut":false,"hidden":false,"merged":[[22,3,23,4],[24,6,26,10],[22,7,23,9],[27,6,29,10],[25,3,28,4]]}
[null,null,null,null,null,null,null,null,null,null,null,null,null,null,null,null,null,null,null,null,null,null,null,"Main material",{"$f":"IF(E16=X3,5,IF(E16=X4,6,IF(E16=X5,6)))","v":5},"Material cost",11.35,"Sails","Warning 1","Warning: Sail too narrow, increase no. of sails, add X-Axis fittings or increase gap size","Coverage"]
[null,null,null,null,null,null,null,null,null,null,null,null,null,null,null,null,null,null,null,null,null,null,null,"Tri material",{"$f":"IF(E17=X3,5,IF(E17=X4,6,IF(E17=X5,6)))","v":5},"PE",2.5,1,"Warning 2","Warning: Sail too narrow, decrease no. of sails, add X-Axis fittings or increase gap size","Cover one side"]
[null,null,null,null,null,null,null,null,null,null,null,null,null,null,null,null,null,null,null,null,null,null,null,"Solid ISX",5,"PN",3.5,2,"Warning 3","Warning: Sail too wide for standard fabric, please add more sails or increase gap size","Cover both sides"]
[null,null,null,"Select coverage","Cover both sides",null,null,null,null,null,null,null,null,null,null,null,null,null,null,null,null,null,null,"Duplex ISX",6,"IP",2,3,"Warning 4","Warning: Conservatory too long for standard fabric, contact office for more detailed price"]
[null,null,null,"Select no. of sails per side",3,null,null,null,null,null,null,null,null,null,null,null,null,null,null,null,null,null,null,"Solid ISXFR",6,"No. of vents","Y fit points","X fit points","Warning 5","Warning: Front triangular sails are too thin for this conservatory"]
[null,null,null,"Front triangle sail","Yes",null,null,null,null,null,null,null,null,null,null,null,null,null,null,null,null,null,null,"Shape",{"$f":"IF(AB9=X7,Y7,IF(AB9=X8,Y8,IF(AB9=X9,Y9)))","v":1},0,"None","None","Warning 6","Warning: Middle triangular sails are too thin for this conservatory"]
[null,null,null,"Middle triangle sails","No",null,null,null,null,null,null,null,null,null,null,null,null,null,null,null,null,null,null,"Triangle",0.6,1,"Standard","Standard","Warning 7","Warning: Ridge is too short for a 3 sails per side solution, reduce no. of sails"]
[null,null,null,"Back triangle sail","Yes",null,null,null,null,null,null,null,null,null,null,null,null,null,null,null,null,null,null,"Diamond",0.6,2,"No. of corners",4,"Warnings front","Warnings mid","Warnings right","Warnings front tri","Warnings mid tri","Warnings mid tri"]
[null,null,null,null,null,null,null,null,null,null," ",null," ",null,null,null,null,null,null,null,null,null," ","Other",1,3,"Shape","Other",{"$f":"AA27","v":1.5475868311665104},{"$f":"AB27","v":1.5475868311665102},{"$f":"AC27","v":1.5475868311665102},{"$f":"IF(E6=AD12,1,0.0001)*AD27","v":1.5},{"$f":"IF(OR(E7=AD12,E8=AD12),1,0.00001)*AE27","v":1.5475868311665102},{"$f":"IF(OR(E7=AD12,E8=AD12),1,0.00001)*AF27","v":1.5475868311665102}]
[null,null,null,"Reduce front gap size","Standard",null,null,null,null,null,null,null,null,null,null,null,null,null,null,null,null,null," ","Overlap front",{"$f":"IF(E10=X11,Y11,IF(E10=X12,Y12,IF(E10=X13,Y13,)))","v":0},4,"Curve allowance",0.4,{"$f":"AA28","v":1.9000000000000001},{"$f":"AB28*IF(E5=AB2,100000,1)","v":1.65},{"$f":"AC28*IF(E5<>AB4,100000,1)","v":1.2499999999999998},{"$f":"AD28","v":1.071},{"$f":"IF(E7=AD12,AE28,AE28*AG9)","v":1.129738386751552},{"$f":"AF28+(Y32*2)","v":1.0518107818165572}]
[null,null,null,"Reduce middle gap size",1,null,null,null,null,null," ",null,null,null,null,null,null,null,null,null,null,null,null,"Point to point",0,"Front","Mid","Quarters","Triangles","No"]
[null,null,null,"Reduce right gap size","Standard",null,null,null,null,null,null,null,null,null,null,null,null,null,null,null,null,null,null,0.5,{"$f":"(AA12*1.4)/2+(0.035/(B28/1000))","v":5.0082600409038107E-2},"Horizontal long side",{"$f":"((AA21+(0.07/(B28/1000)))*0.13)+Y32","v":5.9046572012911587E-2},{"$f":"(AA12)*0.75","v":4.4284929009683692E-2},null,"Yes"]
[null,null,null,"Additional X-Axis fitting points","None",null,null,null,null,null," ",null," ",null,null,null,null,null,null,null,null,null," ",1,{"$f":"AA13*1.4+(0.035/(B28/1000))","v":9.141520081807622E-2},"Vertical long",{"$f":"IF(E5=AB2,((AA21+(0.07/(B28/1000)))*0.13)+Y32,((AA21+(0.07/(B28/1000)))*0.13)+Y32)","v":5.9046572012911587E-2},{"$f":"AA13*0.75","v":4.4284929009683692E-2},"Tri","Mid","Quarters"]
[null,null,null,"Additional Y-Axis fitting points","None",null,null,null,null,null,null,null,null,null,null,null,null,null,null,null,null,null," ","Overlap middle",{"$f":"IF(E11=X15,Y15,IF(E11=X16,Y16,IF(E11=X17,Y17,)))","v":9.9999999999999978E-2},"V short side",{"$f":"(((J74-J70)+(Y32*2))*0.13)+Y32","v":3.4750000000000003E-2},{"$f":"AA14*0.75","v":2.6062500000000002E-2},"Vertical back",{"$f":"((AC25+(Y32*2))*0.13)+Y32","v":4.4640100409038111E-2},{"$f":"AD14*0.75","v":3.3480075306778587E-2}]
[null,null,null,null,null,null,null,null,null,null,null,null," ",null,null,null,null,null,null,null,null,null,null,"Standard",0,"H short side",{"$f":"(((Y27/2)+Y10)*0.13)+Y32","v":2.9225000000000001E-2},{"$f":"AA15*0.75","v":2.1918750000000001E-2},"Vertical middle",{"$f":"((AB25+(Y32*2))*0.13)+Y32","v":3.4749999999999996E-2},{"$f":"AD15*0.75","v":2.6062499999999995E-2}]
[null,null,null,"Select material for main sails","Solid ISX",null,null,null,null,null,null,null,null,null,null,null,null,null,null,null,null,null,null,0.5,{"$f":"Y17/2","v":4.9999999999999989E-2},"Mid","Mid","Quarters","Vertical Front",{"$f":"((AA25+(Y32*2))*0.13)+Y32","v":4.3557499999999999E-2},{"$f":"AD16*0.75","v":3.2668124999999999E-2}]
[null,null,null,"Select material for triangles","Solid ISX",null,null,null,null,null,null,null,null,null,null,null,null,null,null,null,null,null,null,1,{"$f":"V78-V70","v":9.9999999999999978E-2},"Horizontal",{"$f":"((AC21+(Y32*2))*0.13)+Y32","v":5.9046572012911587E-2},{"$f":"(AA17)*0.75","v":4.4284929009683692E-2},"Back","Mid","Quarters"]
[null,null,null,"Select no. of window vents",0,null,null,null,null,null,null,null," ",null,null,null,null,null,null,null,null,null," ","Overlap back",{"$f":"IF(E5<>AB4,0,IF(E12=X15,Y19,IF(E12=X16,Y20,IF(E12=X17,Y21,))))","v":0},"Vertical ridge",{"$f":"((AE22+(Y32*2))*0.13)+Y32","v":4.9375000000000002E-2},{"$f":"AA18*0.75","v":3.7031250000000002E-2},"Horizontal",{"$f":"((AF21+(Y32*2))*0.13)+Y32","v":5.9046572012911587E-2},{"$f":"AD18*0.75","v":4.4284929009683692E-2}]
[null,null,null,null,null,null,null,null,null,null,null,null,null,null,null,null,null,null,null,null,null,null,null,"Standard",0,"Vertical fascia",{"$f":"((AVERAGE(AD22:AE22)+(Y32*2))*0.13)+Y32","v":5.5875000000000001E-2},{"$f":"AA19*0.75","v":4.1906249999999999E-2},"Vertical",{"$f":"((AF22+(Y32*2))*0.13)+Y32","v":4.9375000000000002E-2},{"$f":"AD19*0.75","v":3.7031250000000002E-2}]
[null,null,null,"Max length of sail",{"$f":"(MAX(AA27:AC27))*1000","v":1547.5868311665104},null,null,null,null,"Plan view - looking from above",null,null,null,null,null,null,null,null,null,null,null,null,null,0.5,{"$f":"IF(E5=AB3,AA17+(0.035/(B28/1000)),IF(E5=AB4,AA17/2+(0.035/(B28/1000)),))","v":3.8273286006455798E-2},null,"front + overlaped",null,"mid + overlaped",null,null,"back"]
[null,null,null,"Max width of sail",{"$f":"(MAX(AA28:AC28))*1000","v":1900.0000000000002},null,null,null,null,null,null,null,null,null,null,null,null,null,null,null,null,null,null,1,{"$f":"IF(E5=AB3,AA17*2+(0.035/(B28/1000)),IF(E5=AB4,AA17+(0.035/(B28/1000)),))","v":6.7796572012911588E-2},"Sail length",{"$f":"Y31-(0.07/(B28/1000))","v":0.36939670779162753},{"$f":"AA21+Y10","v":0.36939670779162753},{"$f":"AA21","v":0.36939670779162753},"<-"," ->",{"$f":"AC21","v":0.36939670779162753}]
[null,null,null,null,null,null,null,null,null,null,null,null,null,null,null,null,null,null,null,null,null,null,null,null,"Dims in m","Sail width",{"$f":"J74","v":0.46625},{"$f":"AA22","v":0.46625},{"$f":"((Y29/IF(E5=AB3,1,2))-(0.07/(B28/1000)))","v":0.29499999999999998},{"$f":"AC22+Y14","v":0.39499999999999996},{"$f":"AC22+Y18","v":0.29499999999999998},{"$f":"((Y29)/2)-(0.07/(B28/1000))+Y18","v":0.29499999999999998}]
[null,"All dims in mm",null,"Please note that sails larger than 2100mm in both directions, will require a colour matched seam.",null,null,null,"Total budget cost incl. Installation+VAT+Delivery",null,null,{"$f":"12.15+(E18*50)+AA30+AB30+AC30+AD30+IF(E7=AD12,AE30,)+IF(AND(E5=AB4,E8=AD12),AF30,)","v":2571.4312948721486},null,null,null,null,null,null,null,null,null,null,null,null,"h1",{"$f":"B24/B28","v":0.55000000000000004},null,"tri front","tri mid","tri back"]
["H1",2200,null,null,null,null,null,null,null,null,{"$f":"'   '!P6","v":2957.1459891029708},null,null,null,null,null,null,null,null,null,null,null,null,"h2",{"$f":"B25/B28","v":0.65},"Sail length",{"$f":"V78-(0.07/(B28/1000))","v":0.35749999999999998},{"$f":"W78-(0.07/(B28/1000))","v":0.36939670779162753},{"$f":"AB24","v":0.36939670779162753}]
["H2",2600,null,null,null,null,{"$f":"'   '!A8","v":0},null,null,null,null,null,null,null,null,null,null,null,null,null,null,null,null,"y2",{"$f":"B29/B28","v":0.72499999999999998},"Sail width",{"$f":"IF(AA24*0.7<Y27,AA24*0.7,Y27-(2*Y32))","v":0.25024999999999997},{"$f":"IF(AB24*0.7<(Y25-Y29)*2,AB24*0.7,((Y25-Y29)*2)-(2*Y32))","v":0.18249999999999994},{"$f":"IF(AC24*0.7<Y29,AC24*0.7,Y29-(Y32*2))","v":0.25857769545413928}]
["X1",2990,null,{"$f":"IF(((AD18*(B28/1000))*(IF(E13=AA7,0.5,2)))>(AE10*AB10),AD2,IF(((AA17*(B28/1000))*(IF(E13=AA7,0.5,2)))>(AD10*AB10),AD2,IF(((AA12*(B28/1000))*(IF(E13=AA7,0.5,2)))>(AC10*AB10),AD2,IF(AND(AC10>4,AC9>4),AD3,IF(AND((Y29*(B28/1000))<1,E5=AB4),AD7,IF(AF9>(AF10*2),AD5,IF(AG9>(AG10*2),AD6,\"\")))))))","v":""},null,null,null,null,null,null,null,null,null,null,null,null,null,null,null,null,null,null,null,"y1",{"$f":"B28/B28","v":1},"Costs","front","mid","right","tri front","tri mid","tri back"]
["X2",1260,null,null,null,null,null,null,null,null,null,null,null,null,null,null,null,null,null,null,null,null,null,"x2",{"$f":"B27/B28","v":0.315},"length",{"$f":"((K82-K74)*(B28/1000))+0.07","v":1.5475868311665104},{"$f":"(AA21*(B28/1000))+0.07","v":1.5475868311665102},{"$f":"Y31*(B28/1000)","v":1.5475868311665102},{"$f":"(AA24*(B28/1000))+0.07","v":1.5},{"$f":"(AB24*(B28/1000))+0.07","v":1.5475868311665102},{"$f":"(AC24*(B28/1000))+0.07","v":1.5475868311665102}]
["Y1",4000,null,null,null,null,{"$f":"'   '!A11","v":0},null,null,null,null,null,null,null,null,null,null,null,null,null,null,null,null,"x1",{"$f":"B26/B28","v":0.74750000000000005},"width",{"$f":"((J74-J82)*(B28/1000))+0.07","v":1.9000000000000001},{"$f":"((L74-L70)*(B28/1000))+0.07","v":1.65},{"$f":"IF(E5<>AB4,MIN(AA28,AB28),((R74-R70)*(B28/1000))+0.07)","v":1.2499999999999998},{"$f":"(AA25*(B28/1000))+0.07","v":1.071},{"$f":"(AB25*(B28/1000))","v":0.72999999999999976},{"$f":"(AC25*(B28/1000))","v":1.0343107818165571}]
["Y2",2900,null,null,null,null,null,null,null,null,null,null,null,null,null,null,null,null,null,null,null,null,null,"r1",{"$f":"B30/B28","v":0.625},"perimeter",{"$f":"(V78+Y31+(J74-J70+(0.07/(B28/1000)))+(K82-K86+(0.07/(B28/1000)))+(V70*1.5))*(B28/1000)","v":6.1625868311665108},{"$f":"AB28+(AB27*2)+(((L78-L82)*(B28/1000))+0.07)","v":5.9951736623330198},{"$f":"(AC27*2)+(AC28*2)","v":5.5951736623330195},{"$f":"(AD27*2)+AD28","v":4.0709999999999997},{"$f":"(AE27*2)+AE28","v":3.8251736623330199},{"$f":"(AF27*2)+AF28","v":4.1294844441495773}]
["R1",2500,null,null,null,null,null,null,null,null,null,null,null,null,null,null,null,null,null,null,null,null,null,"Roof area (m^2)",{"$f":"Y31*Y26","v":0.38689670779162755},null,{"$f":"IF(E4=AE3,2,1)*(((Y1*((Y6*AA28*AA27*AA1)+(AA29*AA2)+(5*AA3)+AA4))+7.2*5)+IF(E14=AB7,24.7,)+IF(E13=AB7,24.7*2,))","v":754.80177092022075},{"$f":"IF(E5=AB2,0,IF(E4=AE3,2,1)*(((Y1*((Y6*AB27*AB28*AA1)+(AB29*AA2)+(AB8*AA3)+AA4))+7.2*AB8)+IF(E14=AB7,24.7*2,)+IF(E13=AB7,24.7*2,)))","v":657.30366536503368},{"$f":"IF(E5<>AB4,0,IF(E4=AE3,2,1)*(((Y1*((Y6*AC27*AC28*AA1)+(AC29*AA2)+(AB8*AA3)+AA4))+7.2*AB8)+IF(E14=AB7,24.7*2,)+IF(E13=AB7,24.7*2,)))","v":577.04322323007409},{"$f":"IF(E6=AD12,(Y2*((Y7*AD27*AD28*AA1)+(AD29*AA2)+(3*AA3)+AA4))+7.2*3,)","v":189.68882499999998},{"$f":"IF(E7=AD12,(Y2*((Y7*AE27*AE28*AA1)+(AE29*AA2)+(3*AA3)+AA4))+7.2*3,)*IF(E4=AE3,2,1)","v":0},{"$f":"IF(E8=AD12,(Y2*((Y7*AF27*AF28*AA1)+(AF29*AA2)+(3*AA3)+AA4))+7.2*3,)*IF(E4=AE3,2,1)","v":380.44381035681982}]
[null,null,null,null,null,null,null,null,null,null,null,null,null,null,null,null,null,null,null,null,null,null,null,"Glazing bar length",{"$f":"SQRT((Y24-Y23)^2+(Y28/2)^2)","v":0.38689670779162755}]
[null,null,null,null,null,null,null,null,null,null,null,null,null,null,null,null,null,null,null,null,null,null,null,"50mm links",{"$f":"(0.035/(B28/1000))","v":8.7500000000000008E-3}]
[null,null,null,null,null,null,null,null,null,null," "]
[]
[]
[]
[null,null,null,null,null,null,null,null,null,null," "]
[]
[]
[]
[null,null,null,null,null,null,null,null,null,null," "]
[]
[]
[]
[]
[]
[]
[]
[]
[]
[]
[null,null,null,null,null,null,null,null,null,null,null,null,null,"x","y","x","y","x","y","x","y","x","y"]
[null,null,null,null,null,null,null,null,null,null,null,null,null,"front tri 1",null,"mid tri 2",null," mid tri 3",null,"back tri 4",null,"back tri 5"]
[null,null,null,null,null,null,null,null,null,null,null,null,null,{"$f":"IF(E6=AD12,Y32,)","v":8.7500000000000008E-3},{"$f":"IF(E6=AD12,W78+(AA25/2),)","v":0.51202170779162759},{"$f":"IF(E7=AD12,P56-(AB25/2)+Y32,)","v":0},{"$f":"IF(E7=AD12,Y32,)","v":0},{"$f":"IF(AND(E7=AD12,E4<>AE2),P56-(AB25/2)+Y32,)","v":0},{"$f":"IF(AND(E7=AD12,E4<>AE2),W72-Y32,)","v":0},{"$f":"IF(AND(E5=AB4,E8=AD12),T56-(AC25/2),)","v":0.55821115227293039},{"$f":"IF(AND(E5=AB4,E8=AD12),Y32,)","v":8.7500000000000008E-3},{"$f":"IF(AND(E5=AB4,E8=AD12,E4<>AE2),T56-(AC25/2),)","v":0.55821115227293039},{"$f":"IF(AND(E5=AB4,E8=AD12,E4<>AE2),W72-Y32,)","v":0.76504341558325506}]
[null,null,null,null,null,null,null,null,null,null,null,null,null,{"$f":"IF(E6=AD12,AE16,)","v":3.2668124999999999E-2},{"$f":"IF(E6=AD12,O54-(AA25/4),)","v":0.44945920779162762},{"$f":"IF(E7=AD12,P56-(AB25/4),)","v":0},{"$f":"IF(E7=AD12,AE15,)","v":0},{"$f":"IF(AND(E7=AD12,E4<>AE2),P56-(AB25/4),)","v":0},{"$f":"IF(AND(E7=AD12,E4<>AE2),W72-AE15,)","v":0},{"$f":"IF(AND(E5=AB4,E8=AD12),T56-(AC25/4),)","v":0.62285557613646514},{"$f":"IF(AND(E5=AB4,E8=AD12),AE14,)","v":3.3480075306778587E-2},{"$f":"IF(AND(E5=AB4,E8=AD12,E4<>AE2),T56-(AC25/4),)","v":0.62285557613646514},{"$f":"IF(AND(E5=AB4,E8=AD12,E4<>AE2),W72-AE15,)","v":0.74773091558325511}]
[null,null,null,null,null,null,null,null,null,null,null,null,null,{"$f":"IF(E6=AD12,AD16,)","v":4.3557499999999999E-2},{"$f":"IF(E6=AD12,O55-(AA25/4),)","v":0.38689670779162766},{"$f":"IF(E7=AD12,P62,)","v":0},{"$f":"IF(E7=AD12,AD15,)","v":0},{"$f":"IF(AND(E7=AD12,E4<>AE2),P62,)","v":0},{"$f":"IF(AND(E7=AD12,E4<>AE2),W73-AD15,)","v":0},{"$f":"IF(AND(E5=AB4,E8=AD12),T62,)","v":0.6875},{"$f":"IF(AND(E5=AB4,E8=AD12),AD14,)","v":4.4640100409038111E-2},{"$f":"IF(AND(E5=AB4,E8=AD12,E4<>AE2),T62,)","v":0.6875},{"$f":"IF(AND(E5=AB4,E8=AD12,E4<>AE2),W72-AD15,)","v":0.73904341558325515}]
[null,null,null,null,null,null,null,null,null,null,null,null,null,{"$f":"IF(E6=AD12,N55,)","v":3.2668124999999999E-2},{"$f":"IF(E6=AD12,O56-(AA25/4),)","v":0.32433420779162769},{"$f":"IF(E7=AD12,P56+(AB25/4),)","v":0},{"$f":"IF(E7=AD12,AE15,)","v":0},{"$f":"IF(AND(E7=AD12,E4<>AE2),P56+(AB25/4),)","v":0},{"$f":"IF(AND(E7=AD12,E4<>AE2),W73-AE15,)","v":0},{"$f":"IF(AND(E5=AB4,E8=AD12),T56+(AC25/4),)","v":0.75214442386353486},{"$f":"IF(AND(E5=AB4,E8=AD12),AE14,)","v":3.3480075306778587E-2},{"$f":"IF(AND(E5=AB4,E8=AD12,E4<>AE2),T56+(AC25/4),)","v":0.75214442386353486},{"$f":"IF(AND(E5=AB4,E8=AD12,E4<>AE2),W72-AE15,)","v":0.74773091558325511}]
[null,null,null,null,null,null,null,null,null,null,null,null,null,{"$f":"N54","v":8.7500000000000008E-3},{"$f":"IF(E6=AD12,W78-(AA25/2),)","v":0.26177170779162756},{"$f":"IF(E7=AD12,P56+(AB25/2),)","v":0},{"$f":"Q54","v":0},{"$f":"IF(AND(E7=AD12,E4<>AE2),P56+(AB25/2),)","v":0},{"$f":"IF(AND(E7=AD12,E4<>AE2),W72-Q54,)","v":0},{"$f":"IF(AND(E5=AB4,E8=AD12),T56+(AC25/2),)","v":0.81678884772706961},{"$f":"U54","v":8.7500000000000008E-3},{"$f":"IF(AND(E5=AB4,E8=AD12,E4<>AE2),T56+(AC25/2),)","v":0.81678884772706961},{"$f":"IF(AND(E5=AB4,E8=AD12,E4<>AE2),W72-Y32,)","v":0.76504341558325506}]
[null,null,null,null,null,null,null,null,null,null,null,null,null,{"$f":"IF(E6=AD12,N60-(AA24/4),)","v":9.8125000000000059E-2},{"$f":"IF(E6=AD12,O62-((O62-O58)/2),)","v":0.32433420779162758},{"$f":"IF(E7=AD12,P58-((P58-P62)/2),)","v":0},{"$f":"IF(E7=AD12,Q60-(AB24/4),)","v":0},{"$f":"IF(AND(E7=AD12,E4<>AE2),P58-((P58-P62)/2),)","v":0},{"$f":"IF(AND(E7=AD12,E4<>AE2),S60+(AB24/4),)","v":0},{"$f":"IF(AND(E5=AB4,E8=AD12),T58-((T58-T62)/2),)","v":0.75214442386353486},{"$f":"IF(AND(E5=AB4,E8=AD12),U60-(AB24/4),)","v":0.10109917694790689},{"$f":"IF(AND(E8=AD12,E4<>AE2),T58-((T58-T62)/2),)","v":0.75214442386353486},{"$f":"IF(AND(E5=AB4,E8=AD12,E4<>AE2),W60+(AB24/4),)","v":0.67269423863534816}]
[null,null,null,null,null,null,null,null,null,null,null,null,null,{"$f":"IF(E6=AD12,N61-(AA24/4),)","v":0.18750000000000006},{"$f":"IF(E6=AD12,O58+((O62-O58)*0.75),)","v":0.35561545779162756},{"$f":"IF(E7=AD12,P58-((P58-P62)*0.75),)","v":0},{"$f":"IF(E7=AD12,Y31-(Y31/2),)","v":0},{"$f":"IF(AND(E7=AD12,E4<>AE2),P58-((P58-P62)*0.75),)","v":0},{"$f":"IF(AND(E7=AD12,E4<>AE2),W72-(Y31/2),)","v":0},{"$f":"IF(AND(E5=AB4,E8=AD12),T58-((T58-T62)*0.75),)","v":0.71982221193176743},{"$f":"IF(AND(E5=AB4,E8=AD12),Y31-(Y31/2),)","v":0.19344835389581377},{"$f":"IF(AND(E8=AD12,E4<>AE2),T58-((T58-T62)*0.75),)","v":0.71982221193176743},{"$f":"IF(AND(E5=AB4,E8=AD12,E4<>AE2),W72-(Y31/2),)","v":0.58034506168744127}]
[null,null,null,null,null,null,null,null,null,null,null,null,null,{"$f":"IF(E6=AD12,N62-(AA24/4),)","v":0.27687500000000004},{"$f":"IF(E6=AD12,O62-((O62-O58)*0.1),)","v":0.37438420779162757},{"$f":"IF(E7=AD12,P62+((P58-P62)*0.1),)","v":0},{"$f":"IF(E7=AD12,Q60+(AB24/4),)","v":0},{"$f":"IF(AND(E7=AD12,E4<>AE2),P62+((P58-P62)*0.1),)","v":0},{"$f":"IF(AND(E7=AD12,E4<>AE2),S60-(AB24/4),)","v":0},{"$f":"IF(AND(E5=AB4,E8=AD12),T62+((T58-T62)*0.1),)","v":0.70042888477270693},{"$f":"IF(AND(E5=AB4,E8=AD12),U60+(AB24/4),)","v":0.28579753084372067},{"$f":"IF(AND(E8=AD12,E4<>AE2),T62+((T58-T62)*0.1),)","v":0.70042888477270693},{"$f":"IF(AND(E5=AB4,E8=AD12,E4<>AE2),W60-(AB24/4),)","v":0.48799588473953437}]
[null,null,null,null,null,null,null,null,null,null,null,null,null,{"$f":"IF(E6=AD12,V78-Y32,)","v":0.36625000000000002},{"$f":"IF(E6=AD12,W78,)","v":0.38689670779162755},{"$f":"IF(E7=AD12,V78,)","v":0},{"$f":"IF(E7=AD12,W78-Y32,)","v":0},{"$f":"IF(AND(E7=AD12,E4<>AE2),V78,)","v":0},{"$f":"IF(AND(E7=AD12,E4<>AE2),W78+Y32,)","v":0},{"$f":"IF(AND(E5=AB4,E8=AD12),V78+(Y29/2),)","v":0.6875},{"$f":"IF(AND(E5=AB4,E8=AD12),W78-Y32,)","v":0.37814670779162757},{"$f":"IF(AND(E5=AB4,E8=AD12,E4<>AE2),T62,)","v":0.6875},{"$f":"IF(AND(E5=AB4,E8=AD12,E4<>AE2),Y31+Y32,)","v":0.39564670779162753}]
[null,null,null,null,null,null,null,null,null,null,null,null,null,{"$f":"N61","v":0.27687500000000004},{"$f":"O62+((O62-O58)*0.1)","v":0.39940920779162753},{"$f":"IF(E7=AD12,P62-((P58-P62)*0.1),)","v":0},{"$f":"Q61","v":0},{"$f":"IF(AND(E7=AD12,E4<>AE2),P62-((P58-P62)*0.1),)","v":0},{"$f":"S61","v":0},{"$f":"IF(AND(E5=AB4,E8=AD12),T62-((T58-T62)*0.1),)","v":0.67457111522729307},{"$f":"U61","v":0.28579753084372067},{"$f":"IF(AND(E8=AD12,E4<>AE2),T62-((T58-T62)*0.1),)","v":0.67457111522729307},{"$f":"W61","v":0.48799588473953437}]
[null,null,null,null,null,null,null,null,null,null,null,null,null,{"$f":"N60","v":0.18750000000000006},{"$f":"O66-((O62-O58)*0.75)","v":0.41817795779162759},{"$f":"IF(E7=AD12,P66+((P62-P66)*0.75),)","v":0},{"$f":"Q60","v":0},{"$f":"IF(AND(E7=AD12,E4<>AE2),P66+((P62-P66)*0.75),)","v":0},{"$f":"S60","v":0},{"$f":"IF(AND(E5=AB4,E8=AD12),T66+((T62-T66)*0.75),)","v":0.65517778806823257},{"$f":"U60","v":0.19344835389581377},{"$f":"IF(AND(E8=AD12,E4<>AE2),T66+((T62-T66)*0.75),)","v":0.65517778806823257},{"$f":"W60","v":0.58034506168744127}]
[null,null,null,null,null,null,null,null,null,null,null,null,null,{"$f":"N59","v":9.8125000000000059E-2},{"$f":"O66-((O62-O58)/2)","v":0.44945920779162762},{"$f":"P66+((P62-P66)/2)","v":0},{"$f":"Q59","v":0},{"$f":"IF(AND(E7=AD12,E4<>AE2),P66+((P62-P66)/2),)","v":0},{"$f":"S59","v":0},{"$f":"T66+((T62-T66)/2)","v":0.62285557613646514},{"$f":"U59","v":0.10109917694790689},{"$f":"IF(AND(E8=AD12,E4<>AE2),T66+((T62-T66)/2),)","v":0.62285557613646514},{"$f":"W59","v":0.67269423863534816}]
[null,null,null,null,null,null,null,null,null,null,null,null,null,{"$f":"N54","v":8.7500000000000008E-3},{"$f":"O54","v":0.51202170779162759},{"$f":"P54","v":0},{"$f":"Q54","v":0},{"$f":"IF(AND(E7=AD12,E4<>AE2),P54,)","v":0},{"$f":"S58","v":0},{"$f":"T54","v":0.55821115227293039},{"$f":"U54","v":8.7500000000000008E-3},{"$f":"IF(AND(E8=AD12,E4<>AE2),T54,)","v":0.55821115227293039},{"$f":"W58","v":0.76504341558325506}]
[]
[null,null,null,null,null,null,null,null,null,"x","y","x","y","x","y","x","y","x","y","x","y","Roof plan"]
[null,null,null,null,null,null,null,null,null,"Sail 1",null,"Sail 2",null,"Sail 3",null,"Sail 4",null,"Sail 5",null,"Sail 6",null,"x-axis","y-axis"]
[null,null,null,null,null,null,null,null,null,{"$f":"V70+Y32","v":0.28375},{"$f":"Y32","v":8.7500000000000008E-3},{"$f":"IF(E5<>AB2,V78+Y32-Y14,)","v":0.28375},{"$f":"IF(E5<>AB2,Y32,)","v":8.7500000000000008E-3},{"$f":"IF(E4=AE2,0,Y32)","v":8.7500000000000008E-3},{"$f":"IF(E4=AE2,0,W72-AB21-Y32)","v":0.39564670779162758},{"$f":"IF(E4=AE2,0,IF(E5=AB2,0,L82))","v":0.38374999999999998},{"$f":"IF(E5=AB2,0,O74)","v":0.39564670779162758},{"$f":"IF(E5=AB4,R74-AF22,)","v":0.69625000000000004},{"$f":"S74","v":8.7500000000000008E-3},{"$f":"IF(AND(E4=AE3,E5=AB4),R74-AF22,)","v":0.69625000000000004},{"$f":"IF(AND(E4=AE3,E5=AB4),Y31+Y32,)","v":0.39564670779162753},{"$f":"Y26-Y25","v":0.27500000000000002},0]
[null,null,null,"X-Axis fitting points",null,null,null,null,null,{"$f":"J70+((J74-J70)/4)","v":0.32937499999999997},{"$f":"AB14","v":2.6062500000000002E-2},{"$f":"IF(E5<>AB2,L70+(MAX(AD22:AE22)/4),)","v":0.38250000000000001},{"$f":"IF(E5<>AB2,AB19,)","v":4.1906249999999999E-2},{"$f":"IF(E4=AE2,0,J81)","v":9.1562500000000005E-2},{"$f":"IF(E4=AE2,0,O70+AB13+(Y10/6))","v":0.43993163680131125},{"$f":"IF(E4=AE2,0,IF(E5=AB2,0,L81))","v":0.45750000000000002},{"$f":"IF(E4=AE2,0,IF(E5=AB2,0,Q70+AB18))","v":0.4326779577916276},{"$f":"IF(E5=AB4,R72-(AF22/4),)","v":0.77},{"$f":"IF(E5=AB4,AE19,)","v":3.7031250000000002E-2},{"$f":"IF(AND(E4=AE3,E5=AB4),R72-(AF22/4),)","v":0.77},{"$f":"IF(AND(E4=AE3,E5=AB4),AE19+Y31,)","v":0.42392795779162756},{"$f":"Y26","v":1},0]
[null,null,null,"Sail 1",null,"Sail 2",null,"Sail 3",null,{"$f":"J71+((J74-J70)/4)","v":0.375},{"$f":"AA14","v":3.4750000000000003E-2},{"$f":"IF(E5=AB3,L74-(L74-L70)/2,IF(E5=AB4,L74-(L74-L70)/2,))","v":0.48124999999999996},{"$f":"IF(E5<>AB2,AA19)","v":5.5875000000000001E-2},{"$f":"IF(E4=AE2,0,J80)","v":0.18312500000000001},{"$f":"IF(E4=AE2,0,O70+AA13+(Y10/4))","v":0.45469327980453916},{"$f":"IF(E4=AE2,0,IF(E5=AB2,0,L80))","v":0.53125},{"$f":"IF(E4=AE2,0,IF(E5=AB2,0,Q70+AA18))","v":0.44502170779162759},{"$f":"IF(E5=AB4,R73-(AF22/4),)","v":0.84375},{"$f":"IF(E5=AB4,AD19,)","v":4.9375000000000002E-2},{"$f":"IF(AND(E4=AE3,E5=AB4),R73-(AF22/4),)","v":0.84375},{"$f":"IF(AND(E4=AE3,E5=AB4),AD19+Y31,)","v":0.43627170779162755},{"$f":"Y26","v":1},{"$f":"Y31*2","v":0.7737934155832551}]
[null,null,null,{"$f":"IF(E14=AA7,V70/2,0)","v":0},{"$f":"IF(E14=AA7,W75/2,0)","v":0},{"$f":"L72","v":0.48124999999999996},0,{"$f":"R72","v":0.84375},0,{"$f":"J72+((J74-J70)/4)","v":0.42062500000000003},{"$f":"AB14","v":2.6062500000000002E-2},{"$f":"IF(E5<>AB2,L74-(MAX(AD22:AE22)/4),)","v":0.57999999999999996},{"$f":"IF(E5<>AB2,M71,)","v":4.1906249999999999E-2},{"$f":"IF(E4=AE2,0,J79)","v":0.27468750000000003},{"$f":"IF(E4=AE2,0,O74+AB13-(Y10/2))","v":0.43993163680131125},{"$f":"P72+(P72-P71)","v":0.60499999999999998},{"$f":"IF(E5=AB2,0,Q71)","v":0.4326779577916276},{"$f":"IF(E5=AB4,R74-(AF22/4),)","v":0.91749999999999998},{"$f":"IF(E5=AB4,S71,)","v":3.7031250000000002E-2},{"$f":"IF(AND(E4=AE3,E5=AB4),R74-(AF22/4),)","v":0.91749999999999998},{"$f":"IF(AND(E4=AE3,E5=AB4),S71+Y31,)","v":0.42392795779162756},{"$f":"V70","v":0.27500000000000002},{"$f":"Y31*2","v":0.7737934155832551}]
[null,null,null,{"$f":"IF(E14=AA7,D73+0.015,0)","v":0},{"$f":"IF(E14=AA7,E73+0.05,0)","v":0},{"$f":"F73","v":0.48124999999999996},{"$f":"IF(E5<AB3,0,IF(E14=AA7,0.03,))","v":0},{"$f":"H73","v":0.84375},{"$f":"IF(E5<>AB4,0,IF(E14=AA7,0.03,))","v":0},{"$f":"V83-Y32+Y14","v":0.46625},{"$f":"Y32","v":8.7500000000000008E-3},{"$f":"IF(E5<>AB2,L78,)","v":0.67874999999999996},{"$f":"IF(E5<>AB2,Y32,)","v":8.7500000000000008E-3},{"$f":"IF(E4=AE2,0,IF(E5=AB2,J78,J78))","v":0.36625000000000002},{"$f":"IF(E4=AE2,0,W73-AA21-Y32)","v":0.39564670779162758},{"$f":"IF(E4=AE2,0,IF(E5=AB2,0,P70+AC22+Y18))","v":0.67874999999999996},{"$f":"IF(E5=AB2,0,Q70)","v":0.39564670779162758},{"$f":"IF(E5=AB4,V71-Y32,)","v":0.99124999999999996},{"$f":"IF(E5=AB4,Y32,)","v":8.7500000000000008E-3},{"$f":"IF(AND(E4=AE3,E5=AB4),V72-Y32,)","v":0.99124999999999996},{"$f":"IF(AND(E4=AE3,E5=AB4),U70,)","v":0.39564670779162753},0,{"$f":"Y31+(Y27/2)","v":0.54439670779162752}]
[null,null,null,{"$f":"J80","v":0.18312500000000001},{"$f":"IF(E14=AA7,Y31,0)","v":0},{"$f":"L80","v":0.53125},{"$f":"IF(E5<AB3,0,IF(E14=AA7,Y31,))","v":0},{"$f":"R80","v":0.84375},{"$f":"IF(E5<>AB4,0,IF(E14=AA7,Y31,))","v":0},{"$f":"J74-AB12-(Y14/4)","v":0.3969650709903163},{"$f":"AA21/4","v":9.2349176947906883E-2},{"$f":"IF(E5<>AB2,L74-AB17,)","v":0.63446507099031624},{"$f":"IF(E5<>AB2,K75,)","v":9.2349176947906883E-2},{"$f":"IF(E4=AE2,0,J77)","v":0.34696507099031637},{"$f":"IF(E4=AE2,0,(AA21/4)+Y31)","v":0.47924588473953444},{"$f":"IF(E4=AE2,0,IF(E5=AB2,0,P74-AB17))","v":0.63446507099031624},{"$f":"IF(E5=AB2,0,O75)","v":0.47924588473953444},{"$f":"IF(E5=AB4,R74-AE18,)","v":0.94696507099031624},{"$f":"IF(E5=AB4,M75,)","v":9.2349176947906883E-2},{"$f":"IF(AND(E4=AE3,E5=AB4),R74-AE18,)","v":0.94696507099031624},{"$f":"IF(AND(E4=AE3,E5=AB4),Q75,)","v":0.47924588473953444},0,{"$f":"Y31-(Y27/2)","v":0.22939670779162755}]
[null,null,null,{"$f":"D75","v":0.18312500000000001},{"$f":"IF(E14=AA7,E75-0.015,0)","v":0},{"$f":"F75","v":0.53125},{"$f":"IF(E5<AB3,0,IF(E14=AA7,E75-0.03,))","v":0},{"$f":"H75","v":0.84375},{"$f":"IF(E5<>AB4,0,IF(E14=AA7,E75-0.03,))","v":0},{"$f":"J74-AA12-(Y14/2)","v":0.35720342798708843},{"$f":"Y31/2","v":0.19344835389581377},{"$f":"IF(E5<>AB2,L74-AA17,)","v":0.61970342798708833},{"$f":"IF(E5<>AB2,K76,)","v":0.19344835389581377},{"$f":"IF(E4=AE2,0,J76)","v":0.35720342798708843},{"$f":"IF(E4=AE2,0,(Y31/2)+Y31)","v":0.58034506168744127},{"$f":"IF(E4=AE2,0,IF(E5=AB2,0,P74-AA17))","v":0.61970342798708833},{"$f":"IF(E5=AB2,0,O76)","v":0.58034506168744127},{"$f":"IF(E5=AB4,R74-AD18,)","v":0.93220342798708833},{"$f":"IF(E5=AB4,M76,)","v":0.19344835389581377},{"$f":"IF(AND(E4=AE3,E5=AB4),R74-AD18,)","v":0.93220342798708833},{"$f":"IF(AND(E4=AE3,E5=AB4),Q76,)","v":0.58034506168744127},{"$f":"V70","v":0.27500000000000002},0]
[null,null,null,{"$f":"D76","v":0.18312500000000001},{"$f":"IF(E4=AE2,0,IF(E14=AA7,Y31,0))","v":0},{"$f":"F76","v":0.53125},{"$f":"IF(E4=AE2,0,IF(E5<AB3,0,IF(E14=AA7,Y31,)))","v":0},{"$f":"H76","v":0.84375},{"$f":"IF(E4=AE2,0,IF(E5<>AB4,0,IF(E14=AA7,Y31,)))","v":0},{"$f":"J78-AB12+(Y14/4)","v":0.34696507099031637},{"$f":"(AA21*0.75)","v":0.27704753084372064},{"$f":"L75","v":0.63446507099031624},{"$f":"IF(E5<>AB2,K77,)","v":0.27704753084372064},{"$f":"IF(E4=AE2,0,J75)","v":0.3969650709903163},{"$f":"IF(E4=AE2,0,(AA21*0.75)+Y31)","v":0.66394423863534824},{"$f":"P75","v":0.63446507099031624},{"$f":"IF(E5=AB2,0,O77)","v":0.66394423863534824},{"$f":"IF(E5=AB4,R75,)","v":0.94696507099031624},{"$f":"IF(E5=AB4,M77,)","v":0.27704753084372064},{"$f":"IF(AND(E4=AE3,E5=AB4),T75,)","v":0.94696507099031624},{"$f":"IF(E5=AB4,Q77,)","v":0.66394423863534824},{"$f":"V70","v":0.27500000000000002},{"$f":"W70","v":0}]
[null,null,null,{"$f":"D77","v":0.18312500000000001},{"$f":"IF(E4=AE2,0,IF(E14=AA7,E75+0.015,0))","v":0},{"$f":"F77","v":0.53125},{"$f":"IF(E4=AE2,0,IF(E5<AB3,0,IF(E14=AA7,E75+0.03,)))","v":0},{"$f":"H77","v":0.84375},{"$f":"IF(E4=AE2,0,IF(E5<>AB4,0,IF(E14=AA7,E75+0.03,)))","v":0},{"$f":"V83-Y32","v":0.36625000000000002},{"$f":"Y31-Y32","v":0.37814670779162757},{"$f":"IF(E5=AB3,Y26-Y32,IF(E5=AB4,V78+(Y29/4)+(AE22/2)+(Y18/2),))","v":0.67874999999999996},{"$f":"IF(E5<>AB2,Y31-Y32,)","v":0.37814670779162757},{"$f":"IF(E4=AE2,0,J74)","v":0.46625},{"$f":"IF(E4=AE2,0,(Y31*2)-Y32)","v":0.76504341558325506},{"$f":"IF(E5=AB2,0,P74)","v":0.67874999999999996},{"$f":"IF(E5=AB2,0,O78)","v":0.76504341558325506},{"$f":"IF(E5=AB4,R74,)","v":0.99124999999999996},{"$f":"IF(E5=AB4,M78,)","v":0.37814670779162757},{"$f":"IF(AND(E4=AE3,E5=AB4),R74,)","v":0.99124999999999996},{"$f":"IF(E5=AB4,Q78,)","v":0.76504341558325506},{"$f":"Y26-Y29","v":0.375},{"$f":"Y31","v":0.38689670779162755}]
[null,null,null,{"$f":"IF(E4=AE2,0,IF(E14=AA7,D73,0))","v":0},{"$f":"IF(E4=AE2,0,IF(E14=AA7,E74+W74-0.05,0))","v":0},{"$f":"F73","v":0.48124999999999996},{"$f":"IF(E4=AE2,0,IF(E5<AB3,0,IF(E14=AA7,Y31*2,)))","v":0},{"$f":"H73","v":0.84375},{"$f":"IF(E4=AE2,0,IF(E5<>AB4,0,IF(E14=AA7,Y31*2,)))","v":0},{"$f":"J78*0.75","v":0.27468750000000003},{"$f":"K78-AB13+(Y10/2)","v":0.3338617787819439},{"$f":"IF(E5<>AB2,L78-(AE22/4),)","v":0.60499999999999998},{"$f":"IF(E5<>AB2,Y31-AB18,)","v":0.34986545779162753},{"$f":"IF(E4=AE2,0,J73)","v":0.42062500000000003},{"$f":"IF(E4=AE2,0,W72-K73)","v":0.74773091558325511},{"$f":"IF(E4=AE2,0,IF(E5=AB2,0,L73))","v":0.57999999999999996},{"$f":"IF(E4=AE2,0,IF(E5=AB2,0,Q78-AB19))","v":0.72313716558325503},{"$f":"IF(E5=AB4,R73,)","v":0.91749999999999998},{"$f":"IF(E5=AB4,Y31-AE19,)","v":0.34986545779162753},{"$f":"IF(AND(E4=AE3,E5=AB4),R73,)","v":0.91749999999999998},{"$f":"IF(AND(E4=AE3,E5=AB4),W72-AE19,)","v":0.73676216558325514},{"$f":"V73","v":0.27500000000000002},{"$f":"W73","v":0.7737934155832551}]
[null,null,null,{"$f":"IF(E4=AE2,0,IF(E14=AA7,D74,0))","v":0},{"$f":"IF(E4=AE2,0,IF(E14=AA7,E73+W74-0.05,0))","v":0},{"$f":"F73","v":0.48124999999999996},{"$f":"IF(E4=AE2,0,IF(E5<AB3,0,IF(E14=AA7,G79-0.03,)))","v":0},{"$f":"H73","v":0.84375},{"$f":"IF(E4=AE2,0,IF(E5<>AB4,0,IF(E14=AA7,G79-0.03,)))","v":0},{"$f":"J78/2","v":0.18312500000000001},{"$f":"K82-AA13-(Y10/4)","v":0.31910013577871599},{"$f":"IF(E5<>AB2,L79-(AE22/4),)","v":0.53125},{"$f":"IF(E5<>AB2,Y31-AA18,)","v":0.33752170779162755},{"$f":"IF(E4=AE2,0,J72)","v":0.375},{"$f":"IF(E4=AE2,0,W72-K72)","v":0.73904341558325504},{"$f":"IF(E4=AE2,0,IF(E5=AB2,0,L72))","v":0.48124999999999996},{"$f":"IF(E4=AE2,0,IF(E5=AB2,0,Q78-AA19))","v":0.70916841558325505},{"$f":"IF(E5=AB4,R72,)","v":0.84375},{"$f":"IF(E5=AB4,Y31-AD19,)","v":0.33752170779162755},{"$f":"IF(AND(E4=AE3,E5=AB4),R72,)","v":0.84375},{"$f":"IF(AND(E4=AE3,E5=AB4),W72-AD19,)","v":0.72441841558325515},{"$f":"V75","v":0},{"$f":"W75","v":0.22939670779162755}]
[null,null,null,"Y-Axis fitting points",null,null,null,null,null,{"$f":"J78/4","v":9.1562500000000005E-2},{"$f":"K82-AB13-(Y10/6)","v":0.3338617787819439},{"$f":"IF(E5<>AB2,L80-(AE22/4),)","v":0.45750000000000002},{"$f":"IF(E5<>AB2,Y31-AB18,)","v":0.34986545779162753},{"$f":"IF(E4=AE2,0,J71)","v":0.32937499999999997},{"$f":"IF(E4=AE2,0,W72-K71)","v":0.74773091558325511},{"$f":"IF(E4=AE2,0,IF(E5=AB2,0,L71))","v":0.38250000000000001},{"$f":"IF(E5=AB2,0,Q79)","v":0.72313716558325503},{"$f":"IF(E5=AB4,R71,)","v":0.77},{"$f":"IF(E5=AB4,S79,)","v":0.34986545779162753},{"$f":"IF(AND(E4=AE3,E5=AB4),R71,)","v":0.77},{"$f":"IF(E5=AB4,U79,)","v":0.73676216558325514},{"$f":"V78","v":0.375},{"$f":"Y31","v":0.38689670779162755}]
[null,null,null,"Sail 1",null,"Sail 2",null,null,null,{"$f":"Y32","v":8.7500000000000008E-3},{"$f":"K78+Y10","v":0.37814670779162757},{"$f":"IF(E5<>AB2,V78+Y32,)","v":0.38374999999999998},{"$f":"IF(E5<>AB2,M78,)","v":0.37814670779162757},{"$f":"IF(E4=AE2,0,J70)","v":0.28375},{"$f":"O78","v":0.76504341558325506},{"$f":"IF(E4=AE2,0,IF(E5=AB2,0,L86))","v":0.28375},{"$f":"IF(E5=AB2,0,Q78)","v":0.76504341558325506},{"$f":"IF(E5=AB4,R70,)","v":0.69625000000000004},{"$f":"IF(E5=AB4,S78,)","v":0.37814670779162757},{"$f":"IF(AND(E4=AE3,E5=AB4),R70,)","v":0.69625000000000004},{"$f":"IF(E5=AB4,U78,)","v":0.76504341558325506},{"$f":"V74","v":0},{"$f":"W74","v":0.54439670779162752}]
[null,null,null,{"$f":"IF(E13=AB7,V70/2,0)","v":0},{"$f":"IF(E13=AB7,W75/2,0)","v":0},{"$f":"IF(E13=AB7,IF(E5=AB2,J76,V78-0.015),0)","v":0},{"$f":"K76","v":0.19344835389581377},null,null,{"$f":"AB15","v":2.1918750000000001E-2},{"$f":"K82-((K82-K86)/4)","v":0.34095920779162758},{"$f":"IF(E5<>AB2,L82+AB17-(Y14/4),)","v":0.40303492900968363},{"$f":"M77","v":0.27704753084372064},{"$f":"IF(E4=AE2,0,J89)","v":0.25537500000000002},{"$f":"IF(E4=AE2,0,W73-K89)","v":0.70497440324576688},{"$f":"IF(E4=AE2,0,IF(E5=AB2,0,L85))","v":0.3530349290096837},{"$f":"Q77","v":0.66394423863534824},{"$f":"IF(E5=AB4,R82+AE18,)","v":0.74053492900968376},{"$f":"IF(E5=AB4,S77,)","v":0.27704753084372064},{"$f":"IF(AND(E4=AE3,E5=AB4),R82+AE18,)","v":0.74053492900968376},{"$f":"IF(E5=AB4,Q83,)","v":0.66394423863534824},{"$f":"V78","v":0.375},{"$f":"Y31","v":0.38689670779162755}]
[null,null,null,{"$f":"IF(E13=AB7,D83+0.015,0)","v":0},{"$f":"IF(E13=AB7,E83+0.015,0)","v":0},{"$f":"IF(E13=AB7,F83+0.03,0)","v":0},{"$f":"G83","v":0.19344835389581377},null,null,{"$f":"AA15","v":2.9225000000000001E-2},{"$f":"K83-((K82-K86)/4)","v":0.3037717077916276},{"$f":"IF(E5<>AB2,L86+AA17+(Y14/2),)","v":0.39279657201291157},{"$f":"IF(E5<>AB2,M76,)","v":0.19344835389581377},{"$f":"IF(E4=AE2,0,J88)","v":0.1844375},{"$f":"IF(E4=AE2,0,W73-K88)","v":0.6246855555186972},{"$f":"IF(E4=AE2,0,IF(E5=AB2,0,L84))","v":0.39279657201291157},{"$f":"IF(E5=AB2,0,Q76)","v":0.58034506168744127},{"$f":"IF(E5=AB4,R82+AD18,)","v":0.75529657201291167},{"$f":"IF(E5=AB4,S76,)","v":0.19344835389581377},{"$f":"IF(AND(E4=AE3,E5=AB4),R82+AD18,)","v":0.75529657201291167},{"$f":"IF(E5=AB4,Q84,)","v":0.58034506168744127},{"$f":"Y26","v":1},{"$f":"W83","v":0.38689670779162755}]
[null,null,null,{"$f":"IF(E4=AE2,0,IF(E13=AB7,D83,0))","v":0},{"$f":"IF(E4=AE2,0,IF(E13=AB7,E84+W74-0.015,))","v":0},{"$f":"IF(AND(E5>1.5,E13=AB7),F86-0.03,0)","v":0},{"$f":"G84","v":0.19344835389581377},null,null,{"$f":"AB15","v":2.1918750000000001E-2},{"$f":"K84-((K82-K86)/4)","v":0.26658420779162761},{"$f":"IF(E5<>AB2,L86+AB17+(Y14/4),)","v":0.3530349290096837},{"$f":"M75","v":9.2349176947906883E-2},{"$f":"IF(E4=AE2,0,J87)","v":0.1135},{"$f":"IF(E4=AE2,0,W73-K87)","v":0.57880621396037168},{"$f":"IF(E4=AE2,0,IF(E5=AB2,0,L83))","v":0.40303492900968363},{"$f":"Q75","v":0.47924588473953444},{"$f":"IF(E5=AB4,R83,)","v":0.74053492900968376},{"$f":"IF(E5=AB4,S75,)","v":9.2349176947906883E-2},{"$f":"IF(AND(E4=AE3,E5=AB4),T83,)","v":0.74053492900968376},{"$f":"IF(E5=AB4,Q85,)","v":0.47924588473953444}]
[null,null,null,{"$f":"IF(E4=AE2,0,IF(E13=AB7,D84,0))","v":0},{"$f":"IF(E4=AE2,0,IF(E13=AB7,E83+W74-0.015,))","v":0},{"$f":"IF(AND(E5>1.5,E13=AB7),Y26,0)","v":0},{"$f":"G85","v":0.19344835389581377},null,null,{"$f":"V75+Y32","v":8.7500000000000008E-3},{"$f":"W75","v":0.22939670779162755},{"$f":"IF(E5<>AB2,L70,)","v":0.28375},{"$f":"IF(E5<>AB2,Y32,)","v":8.7500000000000008E-3},{"$f":"IF(E4=AE2,0,Y32)","v":8.7500000000000008E-3},{"$f":"IF(E4=AE2,0,W74)","v":0.54439670779162752},{"$f":"IF(E5=AB2,0,P70)","v":0.38374999999999998},{"$f":"IF(E5=AB2,0,Q70)","v":0.39564670779162758},{"$f":"IF(E5=AB4,R70,)","v":0.69625000000000004},{"$f":"IF(E5=AB4,S74,)","v":8.7500000000000008E-3},{"$f":"IF(AND(E4=AE3,E5=AB4),R70,)","v":0.69625000000000004},{"$f":"IF(E5=AB4,U70,)","v":0.39564670779162753}]
[null,null,null,{"$f":"IF(AND(E5=AB4,E13=AB7),D88-0.03,0)","v":0},{"$f":"Y31/2","v":0.19344835389581377},{"$f":"IF(E13=AB7,F83,0)","v":0},{"$f":"O76","v":0.58034506168744127},null,null,{"$f":"J90*0.4","v":0.1135},{"$f":"K86*0.85","v":0.19498720162288341},null,null,{"$f":"IF(E4=AE2,0,J83)","v":2.1918750000000001E-2},{"$f":"IF(E4=AE2,0,O86-((O86-O90)/4))","v":0.50720920779162748}]
[null,null,null,{"$f":"IF(AND(E5=AB4,E13=AB7),V78+(Y29/2)+0.015,0)","v":0},{"$f":"E87","v":0.19344835389581377},{"$f":"IF(E13=AB7,F83+0.03,0)","v":0},{"$f":"G87","v":0.58034506168744127},null,null,{"$f":"J90*0.65","v":0.1844375},{"$f":"K86*0.65","v":0.14910786006455792},null,null,{"$f":"IF(E4=AE2,0,J84)","v":2.9225000000000001E-2},{"$f":"IF(E4=AE2,0,O87-((O86-O90)/4))","v":0.4700217077916275}]
[null,null,null,{"$f":"IF(AND(E5=AB4,E13=AB7),D88-0.03,0)","v":0},{"$f":"O76","v":0.58034506168744127},{"$f":"IF(E4=AE2,0,IF(AND(E5>1.5,E13=AB7),F86-0.03,0))","v":0},{"$f":"G88","v":0.58034506168744127},null,null,{"$f":"J90*0.9","v":0.25537500000000002},{"$f":"K86*0.3","v":6.8819012337488258E-2},null,null,{"$f":"IF(E4=AE2,0,J85)","v":2.1918750000000001E-2},{"$f":"IF(E4=AE2,0,O88-((O86-O90)/4))","v":0.43283420779162751}]
[null,null,null,{"$f":"IF(AND(E5=AB4,E13=AB7),D88,0)","v":0},{"$f":"E89","v":0.58034506168744127},{"$f":"IF(E4=AE2,0,IF(AND(E5>1.5,E13=AB7),Y26,0))","v":0},{"$f":"G89","v":0.58034506168744127},null,null,{"$f":"J70","v":0.28375},{"$f":"K70","v":8.7500000000000008E-3},null,null,{"$f":"IF(E4=AE2,0,J82)","v":8.7500000000000008E-3},{"$f":"O70","v":0.39564670779162758}]

{"sheet":" ","index":6,"n_rows":0,"n_cols":0,"rows_kept":0,"cut":false,"hidden":false,"merged":[]}

{"sheet":"  ","index":7,"n_rows":0,"n_cols":0,"rows_kept":0,"cut":false,"hidden":false,"merged":[]}

{"sheet":"   ","index":8,"n_rows":11,"n_cols":16,"rows_kept":11,"cut":false,"hidden":false,"merged":[[7,0,9,3],[10,0,12,3]]}
["If job value is below:","Then add:",null,null,null,null,null,null,null,null,"Lean To",{"$f":"'Lean To'!K21","v":1949.7487041688596},{"$f":"IF(L1<A2,B2,0)","v":0},{"$f":"L1+M1","v":1949.7487041688596},{"$f":"N1*A5","v":292.46230562532895},{"$f":"O1+N1","v":2242.2110097941886}]
[1000,100,null,null,null,null,null,null,null,null,"Lean To Hipped",{"$f":"'Lean To Hipped'!K21","v":2737.1390048976386},{"$f":"IF(L2<A2,B2,0)","v":0},2737.1390048976386,{"$f":"N2*A5","v":410.57085073464577},3147.7098556322844]
[null,null,null,null,null,null,null,null,null,null,"Georgian Gable",{"$f":"'Georgian Gable'!K21","v":3533.04368512253},{"$f":"IF(L3<A2,B2,0)","v":0},3533.04368512253,{"$f":"N3*A5","v":529.95655276837942},4063.0002378909094]
["Margin",null,null,null,null,null,null,null,null,null,"Georgian Hipped",{"$f":"'Georgian Hipped'!K23","v":2296.1855262855461},{"$f":"IF(L4<A2,B2,0)","v":0},2296.1855262855461,{"$f":"N4*A5","v":344.42782894283192},2640.6133552283782]
[0.15,null,null,null,null,null,null,null,null,null,"Georgian Double Hipped",{"$f":"'Georgian Double Hipped'!$J$25","v":2666.4246940410299},{"$f":"IF(L5<A2,B2,0)","v":0},2666.4246940410299,{"$f":"N5*A5","v":399.96370410615447},3066.3883981471845]
[null,null,null,null,null,null,null,null,null,null,"Victorian",{"$f":"Victorian!K23","v":2571.4312948721486},{"$f":"IF(L6<A2,B2,0)","v":0},2571.4312948721486,{"$f":"N6*A5","v":385.71469423082226},2957.1459891029708]
["Type in your messages below"]
[null,null,null,null,null,null,null,null,null,null,0]
[null,null,null,null,null,null,null,null,null,null,0.05]
[null,null,null,null,null,null,null,null,null,null,0.1]
[null,null,null,null,null,null,null,null,null,null,0.15]