{"text_format":"1","workbook":"xlsx","n_sheets":12,"sheets":["Design Brief","Roof Lantern","Lean To","Lean To Hipped","Georgian Gable","Georgian Hipped","Georgian Double Hipped","Victorian"," ","  ","   ","VAT"],"not_rendered":{"charts":7,"images":10,"macros":1,"external_links":0,"defined_names":16,"comments":0,"pivot_tables":0},"unopened":[],"bounds":{"document_bytes":16777216,"sheet_cells":100000,"rows_first":2000,"rows_last":500,"rows_between":2000,"halvings":0,"cell_chars":16384,"cell_head_chars":4096},"cells_cut":0,"cells_raw":0,"read":"whole","date_system":"1900"}

{"sheet":"Design Brief","index":0,"n_rows":45,"n_cols":16,"rows_kept":45,"cut":false,"hidden":false,"merged":[[41,2,41,5],[12,4,12,5],[32,2,32,8],[0,4,0,8],[23,2,23,3],[4,4,4,5],[35,2,35,8]]}
[null,null,null,null,"Design Brief"]
[]
[null,"Customer details"]
[]
[null,"Surname",null,null,"House Number",null,null,"Poscode"]
[]
[]
[null,"About the space:"]
[null,"Obstructions (Tick all that apply and then take photos and dimensions)",null,null,null,null,null,null,null,null,null,null,null,null,null,"Single Skin"]
[null,null,"Tie-Bars",null,null,"Knee Brace",null,"Ridge Brace",null,"Fan",null,null,null,null,null,"Twin Wall"]
[null,null,"Decorative Facia",null,null,"Box Sections",null,"Lights",null,null,null,null,null,null,null,"Unknown"]
[]
[null,null,"Box Gutter",null,null,null,"↓","see box gutter guide if you do not know how to identify"]
[]
[null,"Existing Ventilation"]
[null,null,"Automatic Roof Vents",null,null,"Manual Roof Vents",null,null,"AC Unit"]
[null,null,"Side Opening Windows",null,null,"Doors Only",null,null,"Top Opening Windows (All sides)"]
[]
[null,"Sun Exposure Problem",null,null,null,null,null,null,null,null,null,null,null,null,null,"Office"]
[null,null,"Morning",null,null,"Afternoon",null,null,"Evening",null,null,null,null,null,null,"TV Room"]
[null,null,"Summer",null,null,"Winter",null,null,null,null,null,null,null,null,null,"Dining Room"]
[null,null,null,null,null,null,null,null,null,null,null,null,null,null,null,"Main Living Room"]
[null,"Main Use",null,null,null,null,null,null,null,null,null,null,null,null,null,"Play Room"]
[null,null,null,null,"↓","Other",null,null,null,null,null,null,null,null,null,"Garden Room"]
[]
[]
[null,"About the requirements:",null,null,null,null,null,null,null,null,null,null,null,null,null,"Heat"]
[null,"Areas to improve (Rate in order of importance if more than 1)",null,null,null,null,null,null,null,null,null,null,null,null,null,"Glare"]
[null,null,null,null,null,null,null,null,null,null,null,null,null,null,null,"Privacy"]
[null,null,1,null,"↓            2",null,"↓            3",null,"↓","Other",null,null,null,null,null,"Other"]
[]
[null,"I would ideally like this room to be…",null,null,null,null,null,null,null,null,null,null,null,null,null,"I like it quite hot, but not unbearable (Shade and Ventilation)"]
[null,null,null,null,null,null,null,null,null,"↓",null,null,null,null,null,"Casual Living Room or Transition Space (Shade and Ventilation)"]
[null,null,null,null,null,null,null,null,null,null,null,null,null,null,null,"Everyday Living Room (Full Climate Control)"]
[null,"Coverage/Design"]
[null,null,null,null,null,null,null,null,null,"↓",null,null,null,null,null,"Ultimate - 85% (Multiple sails with small gaps)"]
[null,null,null,null,null,null,null,null,null,null,null,null,null,null,null,"Complete - 75% (Max coverage standard design)"]
[null,"Additional Features",null,null,null,null,null,null,null,null,null,null,null,null,null,"Full Open - 65% (Point to point sails)"]
[null,null,"Accent Sails",null,"Two Colour Design",null,null,null,null,null,null,null,null,null,null,"Simple - 85% (Minimum number of sails with max. coverage)"]
[null,null,null,null,null,null,null,null,null,null,null,null,null,null,null,"Partial (Specify which areas in your email)"]
[null,"Design Type Required"]
[null,null,null,null,null,null,"↓","You must select one from drop down list",null,null,null,null,null,null,null,"Free Online Design"]
[null,null,null,null,null,null,null,null,null,null,null,null,null,null,null,"Design PDF"]
[null,"Information Attached/In File",null,null,null,null,null,null,null,null,null,null,null,null,null,"Use My Design Sketch (attach to email)"]
[null,null,"Photos",null,"Obstruction Surveys",null,null,"Additional Sketch"]

{"sheet":"Roof Lantern","index":1,"n_rows":61,"n_cols":31,"rows_kept":61,"cut":false,"hidden":false,"merged":[[19,3,20,4],[22,3,25,4],[1,7,3,10],[17,7,18,10],[20,7,21,9],[22,6,24,10],[25,6,27,10],[4,7,5,10]]}
[null,null,null,null,null,null,null,null,null,null,null,null,null,null,null,null,null,null,null,null,null,null,"Main Material",{"$f":"IF(OR(E13=AC2,E13=AC3,E13=AC4,E13=AC5,E13=AC6,E13=AC7),5,IF(OR(E13=AC8,E13=AC9,E13=AC10,E13=AC11,E13=AC12,E13=AC13,E13=AC14,E13=AC15,E13=AC16,E13=AC17),6,IF(OR(E13=AC18,E13=AC19,E13=AC20,E13=AC21,E13=AC22,E13=AC23,E13=AC24),7.2,)))","v":6},"Material cost",11.35,"Sails",null,"Fabric Colour",null,"Fittings Colours"]
[null,null,null,null,null,null,null,"These sails are designed to work either flat or twisted and be fitted into a box out or an orangery roof.",null,null,null,null,null,null,null,null,null,null,null,null,null,null,"Tri Material",{"$f":"IF(OR(E14=AC2,E14=AC3,E14=AC4,E14=AC5,E14=AC6,E14=AC7),5,IF(OR(E14=AC8,E14=AC9,E14=AC10,E14=AC11,E14=AC12,E14=AC13,E14=AC14,E14=AC15,E14=AC16,E14=AC17),6,IF(OR(E14=AC18,E14=AC19,E14=AC20,E14=AC21,E14=AC22,E14=AC23,E14=AC24),7.2,)))","v":6},"PE",2.5,1,null,"ISX Solid",5,"Stainless steel"]
[null,null,null,null,null,null,null,null,null,null,null,null,null," ",null,null,null,null,null,null,null," ",null,null,"PN",3.5,2,null,"ISX White",null,"White"]
[null,null,null,"Number of sails",1,null,null,null,null,null,null,null,null," ",null,null,null,null,null,null,null," ",null,null,"IP",2,3," ","ISX Solid Ivory",null,"Gold"]
[null,null,null,"Left triangle sail","No",null,null,null,null,null,null,null,null,null,null,null,null,null,null,null,null,null,null," ","No. of vents",null,null," ","ISX Solid Oyster"]
[null,null,null,"Right triangle sail","No",null,null,null,null,null,null,null,null,null,null,null,null,null,null,null,null,null,"Shape",{"$f":"IF(AA9=W7,X7,IF(AA9=W8,X8,IF(AA9=W9,X9)))","v":1},0,null,null," ","ISX Solid Sand"]
[null,null,null,null,null,null,null,null,null,null,null,null,null,null,null,null,null,null,null,null,null,null,"Triangle",0.6,1,null,null," ","ISX Solid Stone"]
[null,null,null,"Reduce left gap size",1,null,null,null,null,null,null,null,null,null,null,null,null,null,null,null,null,null,"Diamond",0.6,2,"No. of corners",4," ","ISX Duplex",6]
[null,null,null,"Reduce right gap size",1,null,null,null,null,null," ",null,null," ",null,null,null,null,null,null,null," ","Other",1,3,"Shape","Other",null,"ISX Duplex Ocean"]
[null,"All dims in mm",null,"Total additional fittings",4,null,null,null,null,null,null,null,null,null,null,null,null,null,null,null,null," ","Overlap left",{"$f":"IF(E8=W11,X11,IF(E8=W12,X12,IF(E8=W13,X13)))","v":0},4,"Curve allowance",0.5,null,"ISX Duplex Forest"]
["Length",3000,null,"Total straight edges",0,null,null,null,null,null,null,null,null,null,null,null,null,null,null,null,null,null,"Standard",0,"Triangles","Roof area",{"$f":"AA14*Z30","v":1},null,"ISX Duplex Stone"]
["Width",3000,null,null,null,null,null,null,null,null,null,null,null,null,null,null,null,null,null,null,null,null,0.5,{"$f":"IF(E4=1,0,IF(E4=2,(X28/2)+AA19,IF(E4=3,(X28*0.67)+AA19)))","v":0},"No","Area of each sail",{"$f":"AA11/E4","v":1},null,"ISX Duplex Slate"]
["Depth",800,null,"Colour of main sails","ISX Duplex Ocean",null,null,null,null,null,null,null,null,null,null,null,null,null,null,null,null,null,1,{"$f":"IF(E4=1,0,IF(E4=2,X28+AA19,IF(E4=3,(X28*1.34)+AA19)))","v":0},"Yes","Sail perimeter",{"$f":"((AA15+0.07)*2)+((AA16+0.07)*2)","v":4.1866666666666665},null,"ISX Duplex Graphite"]
[null,null,null,"Colour of triangles","ISX Duplex Ocean",null,null,null,null,null," ",null,null," ",null,null,null,null,null,null,null," ","Overlap right",{"$f":"IF(E4=AA3,X10,IF(E9=W11,X11,IF(E9=W12,X12,IF(E9=W13,X13))))","v":0},"Warnings","Glazing bar length",{"$f":"SQRT((Z29-Z28)^2+Z31^2)","v":1},null,"ISXFR Solid",6]
[null,null,null,"Colour of fittings","Stainless steel",null,null,null,null,null,null,null,null," ",null,null,null,null,null,null,null,null,"Warning 1","Warning: Sail too narrow, increase no. of sails, add additional fitting points or reduce gap size",{"$f":"MAX(X21:Z21)","v":3},"Length of sail",{"$f":"AA14-(0.07/(IF(B11>B12,B11,B12)/1000))","v":0.97666666666666668},null,"ISXFR White"]
[null,null,null,null,null,null,null,null,null,null,null,null,null," ",null,null,null,null,null,null,null,null,"Warning 2","Warning: Sail too narrow, decrease no. of sails, add additional fitting points or increase gap size",{"$f":"MAX(X22:Z22)","v":3},"Width left",{"$f":"(Z30/E4)-(0.07/(IF(B11>B12,B11,B12)/1000))+X10","v":0.97666666666666668}," ->","ISXFR Solid Ivory"]
[null,null,null,"Max length of a sail",{"$f":"(MAX(X21:Z21))*1000","v":3000},null,null,null,null,"Plan view - looking from above",null,null,null," ",null,null,null,null,null,null,null,null,"Warning 3","Warning: Sail too wide for standard fabric, please add more sails or increase gap size"," ","Width middle",{"$f":"((Z30/E4)-(0.07/(IF(B11>B12,B11,B12)/1000))+X10)","v":0.97666666666666668},{"$f":"((Z30/E4)-(0.07/(IF(B11>B12,B11,B12)/1000))+X14)","v":0.97666666666666668},"ISXFR Solid Oyster"]
[null,null,null,"Max width of a sail",{"$f":"(MAX(X22:Z22))*1000","v":3000},null,null,{"$f":"IF(OR(E10>0,E11>0),\"Mark additional features (fittings/straight edges) on sketch\",\"\")","v":"Mark additional features (fittings/straight edges) on sketch"},null,null,null,null,null," ",null,null,null,null,null,null,null,null,"Warning 4","Warning: Space too long for standard fabric, contact office for more details"," ","Width right",{"$f":"(Z30/E4)-(0.07/(IF(B11>B12,B11,B12)/1000))+X14","v":0.97666666666666668},null,"ISXFR Duplex",7.2]
[null,null,null,null,null,null,null,null,null,null,null,null,null," ",null,null,null,null,null,null,null,null,null,null," ","50mm links",5.0000000000000001E-3,null,"ISXFR Duplex Ocean"]
[null,null,null,"Please note that sails larger than 2100mm in both directions, will require a colour matched seam.",null,null,null,null,null,null,null,null,null,null,null,null,null,null,null,null,null,null,"Costs","left","mid","right","tri",null,"ISXFR Duplex Forest"]
[null,null,null,null,null,null,null,"Total budget cost incl. Installation+VAT+Delivery",null,null,{"$f":"(((X24+Y24+Z24+12.15+IF(AND(E5=Y13,E4<>AA2),AA24,)+IF(AND(E6=Y13,E4=AA4),AA24,))+(25.5*E10)+IF(E15<>AE2,E10*2,0)))+(E11*100*VAT!V1)","v":1094.3433534466558},null,null,null,null,null,null,null,null,null,null,null,"Width",{"$f":"AA14*(IF(B11>B12,B11,B12)/1000)","v":3},{"$f":"X21","v":3},{"$f":"Y21","v":3},{"$f":"Z21","v":3},null,"ISXFR Duplex Sand"]
[null,null,null,null,null,null,null,null,null,null,{"$f":"'   '!P1","v":1258.4948564636541},null,null,null,null,null,null,null,null,null,null,null,"Length",{"$f":"((E49-E45)+(0.07/(IF(B11>B12,B11,B12)/1000)))*(IF(B11>B12,B11,B12)/1000)","v":3},{"$f":"IF(E4<>AA4,MIN(X22,Z22),(I49-I45+(0.07/(IF(B11>B12,B11,B12)/1000)))*(IF(B11>B12,B11,B12)/1000))","v":3},{"$f":"IF(E4<>AA2,(G49-G45+(0.07/(IF(B11>B12,B11,B12)/1000)))*(IF(B11>B12,B11,B12)/1000),X22)","v":3},{"$f":"(W26*(IF(B11>B12,B11,B12)/1000))+0.07","v":2.1489999999999996},null,"ISXFR Duplex Stone"]
[null,null,null,{"$f":"IF(((X28*(B11/1000))*2)>((MIN(X22:Z22))*AA10),X16,IF(((X29*(B11/1000))*2)>((MIN(X21:Z21))*AA10),X15,IF(AND(Y16>4,Y15>4),X17,IF(Y15>6,X18,\"\"))))","v":""},null,null,{"$f":"'   '!A9","v":0},null,null,null,null,null,null,null,null,null,null,null,null,null,null,null,"Perimeter",{"$f":"((X21*2)+(X22*2))*1.05","v":12.600000000000001},{"$f":"((Y21*2)+(Y22*2))*1.05","v":12.600000000000001},{"$f":"((Z21*2)+(Z22*2))*1.05","v":12.600000000000001},{"$f":"((AA21*2)+AA22)*1.05","v":8.5564499999999999},null,"ISXFR Duplex Slate"]
[null,null,null,null,null,null,null,null,null,null,null,null,null,null,null,null,null,null,null,null,null,null,null,{"$f":"((((1.05*(X1*((X6*X21*X22*Z1)+(X23*Z2)+(AA8*Z3)+Z4))+7.2*AA8))+IF(E15<>AE2,8*VAT!V1,0))*AB28)/1.2*VAT!V1","v":980.19335344665569},{"$f":"IF(E4<>AA4,0,((IF(E4=AA4,((1.05*(X1*((X6*Y21*Y22*Z1)+(Y23*Z2)+(AA8*Z3)+Z4))+7.2*AA8)),)+IF(E15<>AE2,8*VAT!V1,0))*AB28)/1.2*VAT!V1)","v":0},{"$f":"IF(E4=AA2,0,((IF(E4<>AA2,((1.05*(X1*((X6*Z21*Z22*Z1)+(Z23*Z2)+(AA8*Z3)+Z4))+7.2*AA8)),)+IF(E15<>AE2,8*VAT!V1,0))*AB28)/1.2*VAT!V1)","v":0},{"$f":"((IF(AND(E4<>AA2,OR(E5=Y13,AND(E6=Y13,E4<>AA3))),((1.05*(X2*((X7*AA21*AA22*Z1)+(AA23*Z2)+(3*Z3)+Z4))+7.2*3)),)+IF(E15<>AE2,6*VAT!V1,0))*AB28)/1.2*VAT!V1","v":0},null,"ISXFR Duplex Graphite",null," "]
[null,null,null,null,null,null,null,null,null,null,null,null,null,null,null,null,null,null,null,null,null,null,"tri width","tri length","tri mid","tri quarter",null,"Shape %"]
[null,null,null,null,null,null,{"$f":"'   '!A12","v":0},null,null,null,null,null,null,null,null,null,null,null,null,null," ",null,{"$f":"X26*0.7","v":0.69299999999999995},{"$f":"AA14-(AA19*2)","v":0.99},{"$f":"W26*0.13","v":9.0090000000000003E-2},{"$f":"Y26*0.75","v":6.7567500000000003E-2},"W",{"$f":"(SQRT(B12^2+(B13/2)^2))/B12","v":1.0088497300281039}]
[null,null,null,null,null,null,null,null,null,null,null,null,null,null,null,null,null,null,null,null,null,null,null,"Mid","Quarters","Dims in m","L",{"$f":"(SQRT((X22*1000)^2+(B13/2)^2))/(X22*1000)","v":1.0088497300281039}]
[null,null,null,null,null,null,null,null,null,null,null,null,null,null,null,null,null,null,null,null,null," ","Horizontal",{"$f":"(((AA15+(0.07/(B11/1000)))*0.13)+AA19)","v":0.13500000000000001},{"$f":"(X28)*0.75","v":0.10125000000000001},{"$f":"B13/IF(B11>B12,B11,B12)","v":0.26666666666666666},"Average",{"$f":"AVERAGE(AB26:AB27)","v":1.0088497300281039}]
[null,null,null,null,null,null,null,null,null,null,null,null,null," ",null,null,null,null,null,null,null,"  ","Vertical left",{"$f":"((AA16+(0.07/(B11/1000)))*0.13)+AA19","v":0.13500000000000001},{"$f":"X29*0.75","v":0.10125000000000001},{"$f":"Z28","v":0.26666666666666666}]
[null,null,null,null,null,null,null,null,null,null,null,null,null," ",null,null,null,null,null,null,null," ","Vertical mid",{"$f":"((AVERAGE(AA17:AB17)+(0.07/(B11/1000)))*0.13)+AA19","v":0.13500000000000001},{"$f":"X30*0.75","v":0.10125000000000001},{"$f":"B11/IF(B11>B12,B11,B12)","v":1}]
[null,null,null,null,null,null,null,null,null,null," ",null,null," ",null,null,null,null,null,null,null," ","Vertical right",{"$f":"((AA18+(0.07/(B11/1000)))*0.13)+AA19","v":0.13500000000000001},{"$f":"X31*0.75","v":0.10125000000000001},{"$f":"B12/IF(B11>B12,B11,B12)","v":1}]
[null,null,null,null,null,null,null,null,null,null," ",null,null," ",null,null,null,null,null,null,null," "]
[null,null,null,null,null,null,null,null,null,null,null,null,null,null,null,null,null,null,null,null,null," "]
[]
[]
[]
[]
[]
[]
[]
[]
[]
[null,null,null,null,"x","y","x","y","x","y","x","y","x","y","Roof plan"]
[null,null,null,null,"Left sail",null,"Right sail",null,"Mid sail",null,"tri 1",null,"tri 2",null,"x-axis","y-axis"]
[null,null,null,null,{"$f":"AA19","v":5.0000000000000001E-3},{"$f":"AA19","v":5.0000000000000001E-3},{"$f":"IF(E4=1,0,IF(E4=2,G49-AA18,IF(E4=3,(G49-AA18))))","v":0},{"$f":"IF(E4=1,0,IF(E4=2,AA19,IF(E4=3,AA19)))","v":0},{"$f":"IF(E4=1,0,IF(E4=2,0,IF(E4=3,(Z30/2)-(AA17/2))))","v":0},{"$f":"IF(E4=1,0,IF(E4=2,0,IF(E4=3,AA19)))","v":0},{"$f":"IF(E5=Y13,IF(E4<>AA2,K47-(W26/2),),)","v":0},{"$f":"IF(E5=Y13,IF(E4<>AA2,AA19,),)","v":0},{"$f":"IF(E6=Y13,IF(E4=AA4,M47-(W26/2),),)","v":0},{"$f":"IF(E6=Y13,IF(E4=AA4,AA19,),)","v":0},0,0]
[null,null,null,null,{"$f":"E45+(AA16/4)","v":0.24916666666666668},{"$f":"F47*0.75","v":0.10125000000000001},{"$f":"IF(E4=1,0,IF(E4=2,G47-(AA18/4),IF(E4=3,G45+(AA18/4))))","v":0},{"$f":"IF(E4=1,0,IF(E4=2,H48,IF(E4=3,H48)))","v":0},{"$f":"IF(E4=1,0,IF(E4=2,0,IF(E4=3,I45+(MAX(AA17:AB17)/4))))","v":0},{"$f":"IF(E4=1,0,IF(E4=2,0,IF(E4=3,Y30)))","v":0},{"$f":"IF(E5=Y13,IF(E4<>AA2,K45+(W26/4),),)","v":0},{"$f":"IF(E5=Y13,IF(E4<>AA2,Z26,),)","v":0},{"$f":"IF(E6=Y13,IF(E4=AA4,M47-(W26/4),),)","v":0},{"$f":"IF(E6=Y13,IF(E4=AA4,Z26,),)","v":0},{"$f":"Z30","v":1},0]
[null,null,null,null,{"$f":"IF(E4=1,(Z30/2),IF(E4=2,E49-(AA16/2),IF(E4=3,(E49-AA19)-(AA16/2))))","v":0.5},{"$f":"X29","v":0.13500000000000001},{"$f":"IF(E4=1,0,IF(E4=2,G49-(AA18/2),IF(E4=3,G49-AA19-(AA18/2))))","v":0},{"$f":"IF(E4=1,0,IF(E4=2,X31,IF(E4=3,X31)))","v":0},{"$f":"IF(E4=1,0,IF(E4=2,0,IF(E4=3,I49-((I49-I45)/2))))","v":0},{"$f":"IF(E4=1,0,IF(E4=2,0,IF(E4=3,X30)))","v":0},{"$f":"IF(E5=Y13,IF(E4=AA3,O46/2,IF(E4=AA4,O46/3)),)","v":0},{"$f":"IF(E5=Y13,IF(E4<>AA2,Y26,),)","v":0},{"$f":"IF(E6=Y13,IF(E4=AA4,O47*(2/3),),)","v":0},{"$f":"IF(E6=Y13,IF(E4=AA4,Y26,),)","v":0},{"$f":"Z30","v":1},{"$f":"Z31","v":1}]
[null,null,null,null,{"$f":"E49-(AA16/4)","v":0.73750000000000004},{"$f":"F46","v":0.10125000000000001},{"$f":"G49-(AA18/4)","v":-0.24416666666666667},{"$f":"IF(E4=1,0,IF(E4=2,Y31,IF(E4=3,Y31)))","v":0},{"$f":"IF(E4=1,0,IF(E4=2,0,IF(E4=3,I49-(MAX(AA17:AB17)/4))))","v":0},{"$f":"IF(E4=AA4,Y30,)","v":0},{"$f":"IF(E5=Y13,IF(E4<>AA2,K47+(W26/4),),)","v":0},{"$f":"IF(E5=Y13,IF(E4<>AA2,Z26,),)","v":0},{"$f":"IF(E6=Y13,IF(E4=AA4,M47+(W26/4),),)","v":0},{"$f":"IF(E6=Y13,IF(E4=AA4,N46,),)","v":0},0,{"$f":"Z31","v":1}]
[null,null,null,null,{"$f":"IF(E4=1,E45+AA16,IF(E4=2,AA16+E45,IF(E4=3,E45+AA16)))","v":0.98166666666666669},{"$f":"AA19","v":5.0000000000000001E-3},{"$f":"IF(E4=1,0,IF(E4=2,Z30-AA19,IF(E4=3,Z30-AA19)))","v":0},{"$f":"IF(E4=1,0,IF(E4=2,AA19,IF(E4=3,AA19)))","v":0},{"$f":"IF(E4=1,0,IF(E4=2,0,IF(E4=3,Z30/2+(AB17/2))))","v":0},{"$f":"IF(E4=1,0,IF(E4=2,0,IF(E4=3,AA19)))","v":0},{"$f":"IF(E5=Y13,IF(E4<>AA2,K47+(W26/2),),)","v":0},{"$f":"IF(E5=Y13,IF(E4<>AA2,AA19,),)","v":0},{"$f":"IF(E6=Y13,IF(E4=AA4,M47+(W26/2),),)","v":0},{"$f":"IF(E6=Y13,IF(E4=AA4,N45,),)","v":0},0,0]
[null,null,null,null,{"$f":"E49-Y28","v":0.88041666666666663},{"$f":"Z31/4","v":0.25},{"$f":"IF(E4=1,0,IF(E4=2,G49-Y28,IF(E4=3,(G49-Y28))))","v":0},{"$f":"IF(E4=1,0,IF(E4=2,F60,IF(E4=3,F60)))","v":0},{"$f":"IF(E4=1,0,IF(E4=2,0,IF(E4=3,I49-Y28)))","v":0},{"$f":"IF(E4=1,0,IF(E4=2,0,IF(E4=3,H50)))","v":0},{"$f":"IF(E5=Y13,IF(E4<>AA2,K49-((K49-K53)/1.8),),)","v":0},{"$f":"IF(E5=Y13,IF(E4<>AA2,P47/4,),)","v":0},{"$f":"IF(E6=Y13,IF(E4=AA4,M49-((M49-M53)/1.8),),)","v":0},{"$f":"IF(E6=Y13,IF(E4=AA4,P47/4,),)","v":0},null," "]
[null,null,null,null,{"$f":"E49-X28","v":0.84666666666666668},{"$f":"Z31/2","v":0.5},{"$f":"IF(E4=1,0,IF(E4=2,G49-X28,IF(E4=3,(G49-X28))))","v":0},{"$f":"IF(E4=1,0,IF(E4=2,F51,IF(E4=3,F51)))","v":0},{"$f":"IF(E4=1,0,IF(E4=2,0,IF(E4=3,I49-X28)))","v":0},{"$f":"IF(E4=1,0,IF(E4=2,0,IF(E4=3,F51)))","v":0},{"$f":"IF(E5=Y13,IF(E4<>AA2,K49-((K49-K53)*0.85),),)","v":0},{"$f":"IF(E5=Y13,IF(E4<>AA2,P47/2,),)","v":0},{"$f":"IF(E6=Y13,IF(E4=AA4,M49-((M49-M53)*0.85),),)","v":0},{"$f":"IF(E6=Y13,IF(E4=AA4,P47/2,),)","v":0},null," "]
[null,null,null,null,{"$f":"E50","v":0.88041666666666663},{"$f":"(Z31*0.75)","v":0.75},{"$f":"G50","v":0},{"$f":"IF(E4=1,0,IF(E4=2,F58,IF(E4=3,F58)))","v":0},{"$f":"I50","v":0},{"$f":"IF(E4=1,0,IF(E4=2,0,IF(E4=3,H52)))","v":0},{"$f":"IF(E5=Y13,IF(E4<>AA2,K53+((K49-K53)*0.05),),)","v":0},{"$f":"IF(E5=Y13,IF(E4<>AA2,P47*0.75,),)","v":0},{"$f":"IF(E6=Y13,IF(E4=AA4,M53+((M49-M53)*0.05),),)","v":0},{"$f":"IF(E6=Y13,IF(E4=AA4,P47*0.75,),)","v":0},null," "]
[null,null,null,null,{"$f":"E49","v":0.98166666666666669},{"$f":"Z31-AA19","v":0.995},{"$f":"IF(E4=1,0,IF(E4=2,G49,IF(E4=3,G49)))","v":0},{"$f":"IF(E4=1,0,IF(E4=2,F57,IF(E4=3,Z31-AA19)))","v":0},{"$f":"IF(E4=1,0,IF(E4=2,0,IF(E4=3,I49)))","v":0},{"$f":"IF(E4=1,0,IF(E4=2,0,IF(E4=3,H57)))","v":0},{"$f":"IF(E5=Y13,IF(E4<>AA2,K47,),)","v":0},{"$f":"IF(E5=Y13,IF(E4<>AA2,P48-AA19,),)","v":0},{"$f":"IF(E6=Y13,IF(E4=AA4,M47,),)","v":0},{"$f":"IF(E6=Y13,IF(E4=AA4,P48-AA19,),)","v":0}]
[null,null,null,null,{"$f":"E48","v":0.73750000000000004},{"$f":"Z31-F46","v":0.89874999999999994},{"$f":"G48","v":-0.24416666666666667},{"$f":"IF(E4=1,0,IF(E4=2,Z31-Y31,IF(E4=3,Z31-Y31)))","v":0},{"$f":"I48","v":0},{"$f":"IF(E4=1,0,IF(E4=2,0,IF(E4=3,Z31-Y30)))","v":0},{"$f":"IF(E5=Y13,IF(E4<>AA2,K53-((K53-K57)*0.05),),)","v":0},{"$f":"IF(E5=Y13,IF(E4<>AA2,L52,),)","v":0},{"$f":"IF(E6=Y13,IF(E4=AA4,M53-((M53-M57)*0.05),),)","v":0},{"$f":"IF(E6=Y13,IF(E4=AA4,N52,),)","v":0}]
[null,null,null,null,{"$f":"E47","v":0.5},{"$f":"Z31-F47","v":0.86499999999999999},{"$f":"IF(E4=1,0,IF(E4=2,G47,IF(E4=3,G47)))","v":0},{"$f":"IF(E4=1,0,IF(E4=2,Z31-X31,IF(E4=3,Z31-X31)))","v":0},{"$f":"IF(E4=1,0,IF(E4=2,0,IF(E4=3,I47)))","v":0},{"$f":"IF(E4=1,0,IF(E4=2,0,IF(E4=3,Z31-X30)))","v":0},{"$f":"IF(E5=Y13,IF(E4<>AA2,K57+((K53-K57)*0.85),),)","v":0},{"$f":"IF(E5=Y13,IF(E4<>AA2,L51,),)","v":0},{"$f":"IF(E6=Y13,IF(E4=AA4,M57+((M53-M57)*0.85),),)","v":0},{"$f":"IF(E6=Y13,IF(E4=AA4,N51,),)","v":0}]
[null,null,null,null,{"$f":"E46","v":0.24916666666666668},{"$f":"F54","v":0.89874999999999994},{"$f":"G46","v":0},{"$f":"IF(E4=1,0,IF(E4=2,H54,IF(E4=3,H54)))","v":0},{"$f":"I46","v":0},{"$f":"J54","v":0},{"$f":"IF(E5=Y13,IF(E4<>AA2,K57+((K53-K57)/1.8),),)","v":0},{"$f":"IF(E5=Y13,IF(E4<>AA2,L50,),)","v":0},{"$f":"IF(E6=Y13,IF(E4=AA4,M57+((M53-M57)/1.8),),)","v":0},{"$f":"IF(E6=Y13,IF(E4=AA4,N50,),)","v":0}]
[null,null,null,null,{"$f":"E45","v":5.0000000000000001E-3},{"$f":"F53","v":0.995},{"$f":"IF(E4=1,0,IF(E4=2,G45,IF(E4=3,G45)))","v":0},{"$f":"IF(E4=1,0,IF(E4=2,H53,IF(E4=3,H53)))","v":0},{"$f":"IF(E4=1,0,IF(E4=2,0,IF(E4=3,I45)))","v":0},{"$f":"IF(E4=1,0,IF(E4=2,0,IF(E4=3,J53)))","v":0},{"$f":"IF(E5=Y13,IF(E4<>AA2,K45,),)","v":0},{"$f":"IF(E5=Y13,IF(E4<>AA2,L45,),)","v":0},{"$f":"IF(E6=Y13,IF(E4=AA4,M45,),)","v":0},{"$f":"IF(E6=Y13,IF(E4=AA4,N45,),)","v":0}]
[null,null,null,null,{"$f":"E45+Y28","v":0.10625000000000001},{"$f":"F52","v":0.75},{"$f":"IF(E4=1,0,IF(E4=2,G57+Y28,IF(E4=3,(G45+Y28))))","v":0},{"$f":"H52","v":0},{"$f":"IF(E4=1,0,IF(E4=2,0,IF(E4=3,(I45+Y28))))","v":0},{"$f":"J52","v":0}]
[null,null,null,null,{"$f":"E45+X28","v":0.14000000000000001},{"$f":"F51","v":0.5},{"$f":"IF(E4=1,0,IF(E4=2,G57+X28,IF(E4=3,(G45+X28))))","v":0},{"$f":"IF(E4=1,0,IF(E4=2,H51,IF(E4=3,H51)))","v":0},{"$f":"IF(E4=1,0,IF(E4=2,0,IF(E4=3,I45+X28)))","v":0},{"$f":"IF(E4=1,0,IF(E4=2,0,IF(E4=3,F51)))","v":0}]
[null,null,null,null,{"$f":"E58","v":0.10625000000000001},{"$f":"F50","v":0.25},{"$f":"G58","v":0},{"$f":"H50","v":0},{"$f":"I58","v":0},{"$f":"J50","v":0}]
[null,null,null,null,{"$f":"E45","v":5.0000000000000001E-3},{"$f":"AA19","v":5.0000000000000001E-3},{"$f":"IF(E4=1,0,IF(E4=2,G57,IF(E4=3,G57)))","v":0},{"$f":"IF(E4=1,0,IF(E4=2,AA19,IF(E4=3,AA19)))","v":0},{"$f":"IF(E4=1,0,IF(E4=2,0,IF(E4=3,I57)))","v":0},{"$f":"IF(E4=1,0,IF(E4=2,0,IF(E4=3,AA19)))","v":0}]

{"sheet":"Lean To","index":2,"n_rows":61,"n_cols":31,"rows_kept":61,"cut":false,"hidden":false,"merged":[[17,7,18,10],[25,6,27,10],[22,6,24,10],[20,7,21,9],[24,3,27,4],[21,3,22,4]]}
[null,null,null,null,null,null,null,null,null,null,null,null,null,null,null,null,null,null,null,null,null,null,"Main Material",{"$f":"IF(OR(E14=AC2,E14=AC3,E14=AC4,E14=AC5,E14=AC6,E14=AC7),5,IF(OR(E14=AC8,E14=AC9,E14=AC10,E14=AC11,E14=AC12,E14=AC13,E14=AC14,E14=AC15,E14=AC16,E14=AC17),6,IF(OR(E14=AC18,E14=AC19,E14=AC20,E14=AC21,E14=AC22,E14=AC23,E14=AC24),7.2,)))","v":6},"Material cost",11.35,"Sails",null,"Fabric Colour",null,"Fittings Colours"]
[null,null,null,null,null,null,null,null,null,null,null,null,null,null,null,null,null,null,null,null,null,null,"Tri Material",{"$f":"IF(OR(E15=AC2,E15=AC3,E15=AC4,E15=AC5,E15=AC6,E15=AC7),5,IF(OR(E15=AC8,E15=AC9,E15=AC10,E15=AC11,E15=AC12,E15=AC13,E15=AC14,E15=AC15,E15=AC16,E15=AC17),6,IF(OR(E15=AC18,E15=AC19,E15=AC20,E15=AC21,E15=AC22,E15=AC23,E15=AC24),7.2,)))","v":6},"PE",2.5,1,null,"ISX Solid",5,"Stainless steel"]
[null,null,null,null,null,null,null,null,null,null," ",null,null," ",null,null,null,null,null,null,null," ",null,null,"PN",3.5,2,null,"ISX White",null,"White"]
[null,null,null,"Number of sails",1,null,null,null,null,null," ",null,null," ",null,null,null,null,null,null,null," ",null,null,"IP",2,3," ","ISX Solid Ivory",null,"Gold"]
[null,null,null,"Left triangle sail","No",null,null,null,null,null,null,null,null,null,null,null,null,null,null,null,null,null,null," ","No. of vents",null,null," ","ISX Solid Oyster"]
[null,null,null,"Right triangle sail","No",null,null,null,null,null,null,null,null,null,null,null,null,null,null,null,null,null,"Shape",{"$f":"IF(AA9=W7,X7,IF(AA9=W8,X8,IF(AA9=W9,X9)))","v":1},0,null,null," ","ISX Solid Sand"]
[null,null,null,null,null,null,null,null,null,null,null,null,null,null,null,null,null,null,null,null,null,null,"Triangle",0.6,1,null,null," ","ISX Solid Stone"]
[null,null,null,"Reduce left gap size",1,null,null,null,null,null,null,null,null,null,null,null,null,null,null,null,null,null,"Diamond",0.6,2,"No. of corners",4," ","ISX Duplex",6]
[null,null,null,"Reduce right gap size","Standard",null,null,null,null,null," ",null,null," ",null,null,null,null,null,null,null," ","Other",1,3,"Shape","Other",null,"ISX Duplex Ocean"]
[null,null,null,"Total additional fittings",4,null,null,null,null,null,null,null,null,null,null,null,null,null,null,null,null," ","Overlap left",{"$f":"IF(E8=W11,X11,IF(E8=W12,X12,IF(E8=W13,X13)))","v":0},4,"Curve allowance",0.5,null,"ISX Duplex Forest"]
[null,null,null,"Total tie-bar loops",4,null,null,null,null,null,null,null,null,null,null,null,null,null,null,null,null,null,"Standard",0,"Triangles","Roof area",{"$f":"AA14*Z30","v":1.4645477117526762},null,"ISX Duplex Stone"]
[null,null,null,"Total straight edges",0,null,null,null,null,null,null,null,null,null,null,null,null,null,null,null,null,null,0.5,{"$f":"IF(E4=1,0,IF(E4=2,(X28/2)+AA19,IF(E4=3,(X28*0.67)+AA19)))","v":0},"No","Area of each sail",{"$f":"AA11/E4","v":1.4645477117526762},null,"ISX Duplex Slate"]
[null,null,null,null,null,null,null,null,null,null,null,null,null,null,null,null,null,null,null,null,null,null,1,{"$f":"IF(E4=1,0,IF(E4=2,X28+AA19,IF(E4=3,(X28*1.34)+AA19)))","v":0},"Yes","Sail perimeter",{"$f":"((AA15+0.07)*2)+((AA16+0.07)*2)","v":5.1157620901720193},null,"ISX Duplex Graphite"]
[null,null,null,"Colour of main sails","ISX Duplex Ocean",null,null,null,null,null," ",null,null," ",null,null,null,null,null,null,null," ","Overlap right",{"$f":"IF(E4=AA3,X10,IF(E9=W11,X11,IF(E9=W12,X12,IF(E9=W13,X13))))","v":0},"Warnings","Glazing bar length",{"$f":"SQRT((Z29-Z28)^2+Z31^2)","v":1.4645477117526762},null,"ISXFR Solid",6]
[null,null,null,"Colour of triangles","ISX Duplex Ocean",null,null,null,null,null,null,null,null," ",null,null,null,null,null,null,null,null,"Warning 1","Warning: Sail too narrow, increase no. of sails, add additional fitting points or reduce gap size",{"$f":"MAX(X21:Z21)","v":4.3936431352580287},"Length of sail",{"$f":"AA14-(0.07/(IF(B23>B24,B23,B24)/1000))","v":1.4412143784193427},null,"ISXFR White"]
[null,null,null,"Colour of fittings","Stainless steel",null,null,null,null,null,null,null,null," ",null,null,null,null,null,null,null,null,"Warning 2","Warning: Sail too narrow, decrease no. of sails, add additional fitting points or increase gap size",{"$f":"MAX(X22:Z22)","v":3},"Width left",{"$f":"(Z30/E4)-(0.07/(IF(B23>B24,B23,B24)/1000))+X10","v":0.97666666666666668}," ->","ISXFR Solid Ivory"]
[null,null,null,"Number of window vents",0,null,null,null,null,"Plan view - looking from above",null,null,null," ",null,null,null,null,null,null,null,null,"Warning 3","Warning: Sail too wide for standard fabric, please add more sails or increase gap size"," ","Width middle",{"$f":"((Z30/E4)-(0.07/(IF(B23>B24,B23,B24)/1000))+X10)","v":0.97666666666666668},{"$f":"((Z30/E4)-(0.07/(IF(B23>B24,B23,B24)/1000))+X14)","v":0.97666666666666668},"ISXFR Solid Oyster"]
[null,null,null,null,null,null,null,{"$f":"IF(OR(E10>0,E11>0,E12>0),\"Mark additional features (fittings/tie-bar loops/straight edges) on sketch\",\"\")","v":"Mark additional features (fittings/tie-bar loops/straight edges) on sketch"},null,null,null,null,null," ",null,null,null,null,null,null,null,null,"Warning 4","Warning: Conservatory too long for standard fabric, contact office for more details"," ","Width right",{"$f":"(Z30/E4)-(0.07/(IF(B23>B24,B23,B24)/1000))+X14","v":0.97666666666666668},null,"ISXFR Duplex",7.2]
[null,null,null,"Max length of a sail",{"$f":"(MAX(X21:Z21))*1000","v":4393.6431352580285},null,null,null,null,null,null,null,null," ",null,null,null,null,null,null,null,null,null,null," ","50mm links",{"$f":"0.035/(IF(B23>B24,B23,B24)/1000)","v":1.1666666666666667E-2},null,"ISXFR Duplex Ocean"]
[null,null,null,"Max width of a sail",{"$f":"(MAX(X22:Z22))*1000","v":3000},null,null,null,null,null,null,null,null,null,null,null,null,null,null,null,null,null,"Costs","left","mid","right","tri",null,"ISXFR Duplex Forest"]
[null,null,null,null,null,null,null,"Total budget cost incl. Installation+VAT+Delivery",null,null,{"$f":"(((X24+Y24+Z24+12.15+(E17*50*VAT!V1)+IF(AND(E5=Y13,E4<>AA2),AA24,)+IF(AND(E6=Y13,E4=AA4),AA24,))+(25.5*E10)+IF(E16<>AE2,E10*2,0)))+(E11*75*VAT!V1)+(E12*100*VAT!V1)","v":1790.7971038585356},null,null,null,null,null,null,null,null,null,null,null,"length",{"$f":"AA14*(IF(B23>B24,B23,B24)/1000)","v":4.3936431352580287},{"$f":"X21","v":4.3936431352580287},{"$f":"Y21","v":4.3936431352580287},{"$f":"Z21","v":4.3936431352580287},null,"ISXFR Duplex Sand"]
[null,"All dims in mm",null,"Please note that sails larger than 2100mm in both directions, will require a colour matched seam.",null,null,null,null,null,null,{"$f":"'   '!P2","v":2059.4166694373162},null,null,null,null,null,null,null,null,null,null,null,"width",{"$f":"((E49-E45)+(0.07/(IF(B23>B24,B23,B24)/1000)))*(IF(B23>B24,B23,B24)/1000)","v":3},{"$f":"IF(E4<>AA4,MIN(X22,Z22),(I49-I45+(0.07/(IF(B23>B24,B23,B24)/1000)))*(IF(B23>B24,B23,B24)/1000))","v":3},{"$f":"IF(E4<>AA2,(G49-G45+(0.07/(IF(B23>B24,B23,B24)/1000)))*(IF(B23>B24,B23,B24)/1000),X22)","v":3},{"$f":"(W26*(IF(B23>B24,B23,B24)/1000))+0.07","v":3.0965501946806193},null,"ISXFR Duplex Stone"]
["X1",3000,null,null,null,null,{"$f":"'   '!A9","v":0},null,null,null,null,null,null,null,null,null,null,null,null,null,null,null,"perimeter",{"$f":"((X21*2)+(X22*2))*1.05","v":15.52665058404186},{"$f":"((Y21*2)+(Y22*2))*1.05","v":15.52665058404186},{"$f":"((Z21*2)+(Z22*2))*1.05","v":15.52665058404186},{"$f":"((AA21*2)+AA22)*1.05","v":12.47802828845651},null,"ISXFR Duplex Slate"]
["Y1",3000,null,null,null,null,null,null,null,null,null,null,null,null,null,null,null,null,null,null,null,null,null,{"$f":"(((1.05*(X1*((X6*X21*X22*Z1)+(X23*Z2)+(AA8*Z3)+Z4))+7.2*AA8))+IF(E16<>AE2,8*VAT!V1,0))/1.2*VAT!V1","v":1316.6471038585355},{"$f":"IF(E4<>AA4,0,(IF(E4=AA4,((1.05*(X1*((X6*Y21*Y22*Z1)+(Y23*Z2)+(AA8*Z3)+Z4))+7.2*AA8)),)+IF(E16<>AE2,8*VAT!V1,0))/1.2*VAT!V1)","v":0},{"$f":"(IF(E4<>AA2,((1.05*(X1*((X6*Z21*Z22*Z1)+(Z23*Z2)+(AA8*Z3)+Z4))+7.2*AA8)),)+IF(E16<>AE2,8*VAT!V1,0))/1.2*VAT!V1","v":0},{"$f":"(IF(AND(E4<>AA2,OR(E5=Y13,AND(E6=Y13,E4<>AA3))),((1.05*(X2*((X7*AA21*AA22*Z1)+(AA23*Z2)+(3*Z3)+Z4))+7.2*3)),)+IF(E16<>AE2,6*VAT!V1,0))/1.2*VAT!V1","v":0},null,"ISXFR Duplex Graphite"]
["H1",0,null,{"$f":"IF(((X28*(B23/1000))*2)>((MIN(X22:Z22))*AA10),X16,IF(((X29*(B23/1000))*2)>((MIN(X21:Z21))*AA10),X15,IF(AND(Y16>4,Y15>4),X17,IF(Y15>6,X18,\"\"))))","v":""},null,null,null,null,null,null,null,null,null,null,null,null,null,null,null,null,null,null,"tri width","tri length","tri mid","tri quarter",null," "]
["H2",3210,null,null,null,null,{"$f":"'   '!A12","v":0},null,null,null,null,null,null,null,null,null,null,null,null,null," ",null,{"$f":"X26*0.7","v":1.0088500648935399},{"$f":"AA14-(AA19*2)","v":1.4412143784193427},{"$f":"W26*0.13","v":0.13115050843616019},{"$f":"Y26*0.75","v":9.836288132712015E-2}]
[null,null,null,null,null,null,null,null,null,null,null,null,null,null,null,null,null,null,null,null,null,null,null,"Mid","Quarters","Dims in m"]
[null,null,null,null,null,null,null,null,null,null,null,null,null,null,null,null,null,null,null,null,null," ","Horizontal",{"$f":"(((AA15+(0.07/(B23/1000)))*0.13)+AA19)","v":0.20205786919451457},{"$f":"(X28)*0.75","v":0.15154340189588594},{"$f":"B25/IF(B23>B24,B23,B24)","v":0}]
[null,null,null,null,null,null,null,null,null,null,null,null,null," ",null,null,null,null,null,null,null,"  ","Vertical left",{"$f":"((AA16+(0.07/(B23/1000)))*0.13)+AA19","v":0.14166666666666666},{"$f":"X29*0.75","v":0.10625},{"$f":"B26/IF(B23>B24,B23,B24)","v":1.07}]
[null,null,null,null,null,null,null,null,null,null,null,null,null," ",null,null,null,null,null,null,null," ","Vertical mid",{"$f":"((AVERAGE(AA17:AB17)+(0.07/(B23/1000)))*0.13)+AA19","v":0.14166666666666666},{"$f":"X30*0.75","v":0.10625},{"$f":"B23/IF(B23>B24,B23,B24)","v":1}]
[null,null,null,null,null,null,null,null,null,null," ",null,null," ",null,null,null,null,null,null,null," ","Vertical right",{"$f":"((AA18+(0.07/(B23/1000)))*0.13)+AA19","v":0.14166666666666666},{"$f":"X31*0.75","v":0.10625},{"$f":"B24/IF(B23>B24,B23,B24)","v":1}]
[null,null,null,null,null,null,null,null,null,null," ",null,null," ",null,null,null,null,null,null,null," "]
[null,null,null,null,null,null,null,null,null,null,null,null,null,null,null,null,null,null,null,null,null," "]
[]
[]
[]
[]
[]
[]
[]
[]
[]
[null,null,null,null,"x","y","x","y","x","y","x","y","x","y","Roof plan"]
[null,null,null,null,"Left sail",null,"Right sail",null,"Mid sail",null,"tri 1",null,"tri 2",null,"x-axis","y-axis"]
[null,null,null,null,{"$f":"AA19","v":1.1666666666666667E-2},{"$f":"AA19","v":1.1666666666666667E-2},{"$f":"IF(E4=1,0,IF(E4=2,G49-AA18,IF(E4=3,(G49-AA18))))","v":0},{"$f":"IF(E4=1,0,IF(E4=2,AA19,IF(E4=3,AA19)))","v":0},{"$f":"IF(E4=1,0,IF(E4=2,0,IF(E4=3,(Z30/2)-(AA17/2))))","v":0},{"$f":"IF(E4=1,0,IF(E4=2,0,IF(E4=3,AA19)))","v":0},{"$f":"IF(E5=Y13,IF(E4<>AA2,K47-(W26/2),),)","v":0},{"$f":"IF(E5=Y13,IF(E4<>AA2,AA19,),)","v":0},{"$f":"IF(E6=Y13,IF(E4=AA4,M47-(W26/2),),)","v":0},{"$f":"IF(E6=Y13,IF(E4=AA4,AA19,),)","v":0},0,0]
[null,null,null,null,{"$f":"E45+(AA16/4)","v":0.25583333333333336},{"$f":"F47*0.75","v":0.10625},{"$f":"IF(E4=1,0,IF(E4=2,G47-(AA18/4),IF(E4=3,G45+(AA18/4))))","v":0},{"$f":"IF(E4=1,0,IF(E4=2,H48,IF(E4=3,H48)))","v":0},{"$f":"IF(E4=1,0,IF(E4=2,0,IF(E4=3,I45+(MAX(AA17:AB17)/4))))","v":0},{"$f":"IF(E4=1,0,IF(E4=2,0,IF(E4=3,Y30)))","v":0},{"$f":"IF(E5=Y13,IF(E4<>AA2,K45+(W26/4),),)","v":0},{"$f":"IF(E5=Y13,IF(E4<>AA2,Z26,),)","v":0},{"$f":"IF(E6=Y13,IF(E4=AA4,M47-(W26/4),),)","v":0},{"$f":"IF(E6=Y13,IF(E4=AA4,Z26,),)","v":0},{"$f":"Z30","v":1},0]
[null,null,null,null,{"$f":"IF(E4=1,(Z30/2),IF(E4=2,E49-(AA16/2),IF(E4=3,(E49-AA19)-(AA16/2))))","v":0.5},{"$f":"X29","v":0.14166666666666666},{"$f":"IF(E4=1,0,IF(E4=2,G49-(AA18/2),IF(E4=3,G49-AA19-(AA18/2))))","v":0},{"$f":"IF(E4=1,0,IF(E4=2,X31,IF(E4=3,X31)))","v":0},{"$f":"IF(E4=1,0,IF(E4=2,0,IF(E4=3,I49-((I49-I45)/2))))","v":0},{"$f":"IF(E4=1,0,IF(E4=2,0,IF(E4=3,X30)))","v":0},{"$f":"IF(E5=Y13,IF(E4=AA3,O46/2,IF(E4=AA4,O46/3)),)","v":0},{"$f":"IF(E5=Y13,IF(E4<>AA2,Y26,),)","v":0},{"$f":"IF(E6=Y13,IF(E4=AA4,O47*(2/3),),)","v":0},{"$f":"IF(E6=Y13,IF(E4=AA4,Y26,),)","v":0},{"$f":"Z30","v":1},{"$f":"Z31","v":1}]
[null,null,null,null,{"$f":"E49-(AA16/4)","v":0.74416666666666675},{"$f":"F46","v":0.10625},{"$f":"G49-(AA18/4)","v":-0.24416666666666667},{"$f":"IF(E4=1,0,IF(E4=2,Y31,IF(E4=3,Y31)))","v":0},{"$f":"IF(E4=1,0,IF(E4=2,0,IF(E4=3,I49-(MAX(AA17:AB17)/4))))","v":0},{"$f":"IF(E4=AA4,Y30,)","v":0},{"$f":"IF(E5=Y13,IF(E4<>AA2,K47+(W26/4),),)","v":0},{"$f":"IF(E5=Y13,IF(E4<>AA2,Z26,),)","v":0},{"$f":"IF(E6=Y13,IF(E4=AA4,M47+(W26/4),),)","v":0},{"$f":"IF(E6=Y13,IF(E4=AA4,N46,),)","v":0},0,{"$f":"Z31","v":1}]
[null,null,null,null,{"$f":"IF(E4=1,E45+AA16,IF(E4=2,AA16+E45,IF(E4=3,E45+AA16)))","v":0.9883333333333334},{"$f":"AA19","v":1.1666666666666667E-2},{"$f":"IF(E4=1,0,IF(E4=2,Z30-AA19,IF(E4=3,Z30-AA19)))","v":0},{"$f":"IF(E4=1,0,IF(E4=2,AA19,IF(E4=3,AA19)))","v":0},{"$f":"IF(E4=1,0,IF(E4=2,0,IF(E4=3,Z30/2+(AB17/2))))","v":0},{"$f":"IF(E4=1,0,IF(E4=2,0,IF(E4=3,AA19)))","v":0},{"$f":"IF(E5=Y13,IF(E4<>AA2,K47+(W26/2),),)","v":0},{"$f":"IF(E5=Y13,IF(E4<>AA2,AA19,),)","v":0},{"$f":"IF(E6=Y13,IF(E4=AA4,M47+(W26/2),),)","v":0},{"$f":"IF(E6=Y13,IF(E4=AA4,N45,),)","v":0},0,0]
[null,null,null,null,{"$f":"E49-Y28","v":0.8367899314374474},{"$f":"Z31/4","v":0.25},{"$f":"IF(E4=1,0,IF(E4=2,G49-Y28,IF(E4=3,(G49-Y28))))","v":0},{"$f":"IF(E4=1,0,IF(E4=2,F60,IF(E4=3,F60)))","v":0},{"$f":"IF(E4=1,0,IF(E4=2,0,IF(E4=3,I49-Y28)))","v":0},{"$f":"IF(E4=1,0,IF(E4=2,0,IF(E4=3,H50)))","v":0},{"$f":"IF(E5=Y13,IF(E4<>AA2,K49-((K49-K53)/1.8),),)","v":0},{"$f":"IF(E5=Y13,IF(E4<>AA2,P47/4,),)","v":0},{"$f":"IF(E6=Y13,IF(E4=AA4,M49-((M49-M53)/1.8),),)","v":0},{"$f":"IF(E6=Y13,IF(E4=AA4,P47/4,),)","v":0},null," "]
[null,null,null,null,{"$f":"E49-X28","v":0.78627546413881877},{"$f":"Z31/2","v":0.5},{"$f":"IF(E4=1,0,IF(E4=2,G49-X28,IF(E4=3,(G49-X28))))","v":0},{"$f":"IF(E4=1,0,IF(E4=2,F51,IF(E4=3,F51)))","v":0},{"$f":"IF(E4=1,0,IF(E4=2,0,IF(E4=3,I49-X28)))","v":0},{"$f":"IF(E4=1,0,IF(E4=2,0,IF(E4=3,F51)))","v":0},{"$f":"IF(E5=Y13,IF(E4<>AA2,K49-((K49-K53)*0.85),),)","v":0},{"$f":"IF(E5=Y13,IF(E4<>AA2,P47/2,),)","v":0},{"$f":"IF(E6=Y13,IF(E4=AA4,M49-((M49-M53)*0.85),),)","v":0},{"$f":"IF(E6=Y13,IF(E4=AA4,P47/2,),)","v":0},null," "]
[null,null,null,null,{"$f":"E50","v":0.8367899314374474},{"$f":"(Z31*0.75)","v":0.75},{"$f":"G50","v":0},{"$f":"IF(E4=1,0,IF(E4=2,F58,IF(E4=3,F58)))","v":0},{"$f":"I50","v":0},{"$f":"IF(E4=1,0,IF(E4=2,0,IF(E4=3,H52)))","v":0},{"$f":"IF(E5=Y13,IF(E4<>AA2,K53+((K49-K53)*0.05),),)","v":0},{"$f":"IF(E5=Y13,IF(E4<>AA2,P47*0.75,),)","v":0},{"$f":"IF(E6=Y13,IF(E4=AA4,M53+((M49-M53)*0.05),),)","v":0},{"$f":"IF(E6=Y13,IF(E4=AA4,P47*0.75,),)","v":0},null," "]
[null,null,null,null,{"$f":"E49","v":0.9883333333333334},{"$f":"Z31-AA19","v":0.98833333333333329},{"$f":"IF(E4=1,0,IF(E4=2,G49,IF(E4=3,G49)))","v":0},{"$f":"IF(E4=1,0,IF(E4=2,F57,IF(E4=3,Z31-AA19)))","v":0},{"$f":"IF(E4=1,0,IF(E4=2,0,IF(E4=3,I49)))","v":0},{"$f":"IF(E4=1,0,IF(E4=2,0,IF(E4=3,H57)))","v":0},{"$f":"IF(E5=Y13,IF(E4<>AA2,K47,),)","v":0},{"$f":"IF(E5=Y13,IF(E4<>AA2,P48-AA19,),)","v":0},{"$f":"IF(E6=Y13,IF(E4=AA4,M47,),)","v":0},{"$f":"IF(E6=Y13,IF(E4=AA4,P48-AA19,),)","v":0}]
[null,null,null,null,{"$f":"E48","v":0.74416666666666675},{"$f":"Z31-F46","v":0.89375000000000004},{"$f":"G48","v":-0.24416666666666667},{"$f":"IF(E4=1,0,IF(E4=2,Z31-Y31,IF(E4=3,Z31-Y31)))","v":0},{"$f":"I48","v":0},{"$f":"IF(E4=1,0,IF(E4=2,0,IF(E4=3,Z31-Y30)))","v":0},{"$f":"IF(E5=Y13,IF(E4<>AA2,K53-((K53-K57)*0.05),),)","v":0},{"$f":"IF(E5=Y13,IF(E4<>AA2,L52,),)","v":0},{"$f":"IF(E6=Y13,IF(E4=AA4,M53-((M53-M57)*0.05),),)","v":0},{"$f":"IF(E6=Y13,IF(E4=AA4,N52,),)","v":0}]
[null,null,null,null,{"$f":"E47","v":0.5},{"$f":"Z31-F47","v":0.85833333333333339},{"$f":"IF(E4=1,0,IF(E4=2,G47,IF(E4=3,G47)))","v":0},{"$f":"IF(E4=1,0,IF(E4=2,Z31-X31,IF(E4=3,Z31-X31)))","v":0},{"$f":"IF(E4=1,0,IF(E4=2,0,IF(E4=3,I47)))","v":0},{"$f":"IF(E4=1,0,IF(E4=2,0,IF(E4=3,Z31-X30)))","v":0},{"$f":"IF(E5=Y13,IF(E4<>AA2,K57+((K53-K57)*0.85),),)","v":0},{"$f":"IF(E5=Y13,IF(E4<>AA2,L51,),)","v":0},{"$f":"IF(E6=Y13,IF(E4=AA4,M57+((M53-M57)*0.85),),)","v":0},{"$f":"IF(E6=Y13,IF(E4=AA4,N51,),)","v":0}]
[null,null,null,null,{"$f":"E46","v":0.25583333333333336},{"$f":"F54","v":0.89375000000000004},{"$f":"G46","v":0},{"$f":"IF(E4=1,0,IF(E4=2,H54,IF(E4=3,H54)))","v":0},{"$f":"I46","v":0},{"$f":"J54","v":0},{"$f":"IF(E5=Y13,IF(E4<>AA2,K57+((K53-K57)/1.8),),)","v":0},{"$f":"IF(E5=Y13,IF(E4<>AA2,L50,),)","v":0},{"$f":"IF(E6=Y13,IF(E4=AA4,M57+((M53-M57)/1.8),),)","v":0},{"$f":"IF(E6=Y13,IF(E4=AA4,N50,),)","v":0}]
[null,null,null,null,{"$f":"E45","v":1.1666666666666667E-2},{"$f":"F53","v":0.98833333333333329},{"$f":"IF(E4=1,0,IF(E4=2,G45,IF(E4=3,G45)))","v":0},{"$f":"IF(E4=1,0,IF(E4=2,H53,IF(E4=3,H53)))","v":0},{"$f":"IF(E4=1,0,IF(E4=2,0,IF(E4=3,I45)))","v":0},{"$f":"IF(E4=1,0,IF(E4=2,0,IF(E4=3,J53)))","v":0},{"$f":"IF(E5=Y13,IF(E4<>AA2,K45,),)","v":0},{"$f":"IF(E5=Y13,IF(E4<>AA2,L45,),)","v":0},{"$f":"IF(E6=Y13,IF(E4=AA4,M45,),)","v":0},{"$f":"IF(E6=Y13,IF(E4=AA4,N45,),)","v":0}]
[null,null,null,null,{"$f":"E45+Y28","v":0.1632100685625526},{"$f":"F52","v":0.75},{"$f":"IF(E4=1,0,IF(E4=2,G57+Y28,IF(E4=3,(G45+Y28))))","v":0},{"$f":"H52","v":0},{"$f":"IF(E4=1,0,IF(E4=2,0,IF(E4=3,(I45+Y28))))","v":0},{"$f":"J52","v":0}]
[null,null,null,null,{"$f":"E45+X28","v":0.21372453586118123},{"$f":"F51","v":0.5},{"$f":"IF(E4=1,0,IF(E4=2,G57+X28,IF(E4=3,(G45+X28))))","v":0},{"$f":"IF(E4=1,0,IF(E4=2,H51,IF(E4=3,H51)))","v":0},{"$f":"IF(E4=1,0,IF(E4=2,0,IF(E4=3,I45+X28)))","v":0},{"$f":"IF(E4=1,0,IF(E4=2,0,IF(E4=3,F51)))","v":0}]
[null,null,null,null,{"$f":"E58","v":0.1632100685625526},{"$f":"F50","v":0.25},{"$f":"G58","v":0},{"$f":"H50","v":0},{"$f":"I58","v":0},{"$f":"J50","v":0}]
[null,null,null,null,{"$f":"E45","v":1.1666666666666667E-2},{"$f":"AA19","v":1.1666666666666667E-2},{"$f":"IF(E4=1,0,IF(E4=2,G57,IF(E4=3,G57)))","v":0},{"$f":"IF(E4=1,0,IF(E4=2,AA19,IF(E4=3,AA19)))","v":0},{"$f":"IF(E4=1,0,IF(E4=2,0,IF(E4=3,I57)))","v":0},{"$f":"IF(E4=1,0,IF(E4=2,0,IF(E4=3,AA19)))","v":0}]

{"sheet":"Lean To Hipped","index":3,"n_rows":79,"n_cols":34,"rows_kept":79,"cut":false,"hidden":false,"merged":[[17,7,18,10],[25,6,27,10],[22,6,24,10],[20,7,21,9],[24,3,27,4],[21,3,22,4]]}
[null,null,null,null,null,null,null,null,null,null,null,null,null,null,null,null,null,null,null,null,null,null,"Main material",{"$f":"IF(OR(E14=AF2,E14=AF3,E14=AF4,E14=AF5,E14=AF6,E14=AF7),5,IF(OR(E14=AF8,E14=AF9,E14=AF10,E14=AF11,E14=AF12,E14=AF13,E14=AF14,E14=AF15,E14=AF16,E14=AF17),6,IF(OR(E14=AF18,E14=AF19,E14=AF20,E14=AF21,E14=AF22,E14=AF23,E14=AF24),7.2,)))","v":5},"Material cost",11.35,"Sails","Warnings left/right","Warnings mid","Warnings mid tri",null,"Fabric Colour",null,"Fittings Colours"]
[null,null,null,null,null,null,null,null,null,null,null,null,null,null,null,null,null,null,null,null,null,null,"Tri Material",{"$f":"IF(OR(E15=AF2,E15=AF3,E15=AF4,E15=AF5,E15=AF6,E15=AF7),5,IF(OR(E15=AF8,E15=AF9,E15=AF10,E15=AF11,E15=AF12,E15=AF13,E15=AF14,E15=AF15,E15=AF16,E15=AF17),6,IF(OR(E15=AF18,E15=AF19,E15=AF20,E15=AF21,E15=AF22,E15=AF23,E15=AF24),7.2,)))","v":5},"PE",2.5,1,{"$f":"Z32","v":3.1120732639190871},{"$f":"AA32","v":3.1120732639190871},{"$f":"IF(OR(E5=AB6,E6=AB6),1,0.00001)*AC32","v":3.1120732639190871},null,"ISX Solid",5,"Stainless steel"]
[null,null,null,null,null,null,null,null,null,null,null,null,null,null,null,null,null,null,null,null,null,null,null,null,"PN",3.5,2,{"$f":"IF(E4=AA2,Z33,MIN(Z33,AB33))","v":2.3999999999999995},{"$f":"AA33*IF(E4<>AA4,1000,1)","v":1529.9999999999995},{"$f":"AC33","v":2.1994512847433607},null,"ISX White",null,"White"]
[null,null,null,"Number of sails",2,null,null,null,null,null,null,null,null,null,null,null,null,null,null,null,null,null,null,null,"IP",2,3,"Tri sails","Warning 1","Warning: Sail too narrow, increase no. of sails, add additional fitting points or reduce gap size",null,"ISX Solid Ivory",null,"Gold"]
[null,null,null,"Left triangle sails","Yes",null,null,null,null,null,null,null,null,null,null,null,null,null,null,null,null,null,null,null,"No. of vents",null,null,"No","Warning 2","Warning: Sail too narrow, decrease no. of sails, add additional fitting points or increase gap size",null,"ISX Solid Oyster"]
[null,null,null,"Right triangle sails","No",null,null,null,null,null,null,null,null,null,null,null,null,null,null,null,null,null,"Shape",{"$f":"IF(AA9=W7,X7,IF(AA9=W8,X8,IF(AA9=W9,X9)))","v":1},0,null,null,"Yes","Warning 3","Warning: Sail too wide for standard fabric, please add more sails or increase gap size",null,"ISX Solid Sand"]
[null,null,null,null,null,null,null,null,null,null,null,null,null,null,null,null,null,null,null,null,null,null,"Triangle",0.6,1,null,null,"Coverage","Warning 4","Warning: Conservatory too long for standard fabric, contact office for more detailed price",null,"ISX Solid Stone"]
[null,null,null,"Reduce left gap size","Standard",null,null,null,null,null,null,null,null,null,null,null,null,null,null,null,null,null,"Diamond",0.6,2,"No. of corners",4,"Cover one side","Warning 5","Warning: Ridge is too short for a 3 sails roof solution, reduce no. of sails",null,"ISX Duplex",6]
[null,null,null,"Reduce right gap size","Standard",null,null,null,null,null," ",null,null,null,null,null,null,null,null,null,null," ","Other",1,3,"Shape","Other","Cover both sides",null,null,null,"ISX Duplex Ocean"]
[null,null,null,"Total additional fittings",0,null,null,null,null,null,null,null,null,null,null,null,null,null,null,null,null," ","Overlap middle left",{"$f":"IF(E8=W11,X11,IF(E8=W12,X12,IF(E8=W13,X13)))","v":0},4,"Curve allowance",0.5,null,null,null,null,"ISX Duplex Forest"]
[null,null,null,"Total tie-bar loops",0,null,null,null,null,null,null,null,null,null,null,null,null,null,null,null,null,null,"Standard",0,5,"Front","Mid","Quarters","Back","Mid","Quarters","ISX Duplex Stone"]
[null,null,null,"Total straight edges",0,null,null,null,null,null,null,null,null,null,null,null,null,null,null,null,null,null,0.5,{"$f":"IF(E4=AA2,0,(AA12*1.5)+(0.035/(B22/1000)))","v":0.13401041666666669},6,"Horizontal",{"$f":"((Z26+(0.07/(IF(B22>B23,B22,B23)/1000)))*0.13)+Z24","v":8.4479166666666675E-2},{"$f":"(AA12)*0.75","v":6.3359375000000009E-2},"Horizontal",{"$f":"((AC26+(0.07/(IF(B22>B23,B22,B23)/1000)))*0.13)+Z24","v":8.4479166666666675E-2},{"$f":"(AD12)*0.75","v":6.3359375000000009E-2},"ISX Duplex Slate"]
[null,null,null,null,null,null,null,null,null,null,null,null,null,null,null,null,null,null,null,null,null,null,1,{"$f":"IF(E4=AA2,0,(AA12*1.5)*2+(0.035/(B22/1000)))","v":0.26072916666666668}," ","Horizontal overlaped",{"$f":"((AA26+(0.07/(IF(B22>B23,B22,B23)/1000)))*0.13)+Z24","v":8.4479166666666675E-2},{"$f":"(AA13)*0.75","v":6.3359375000000009E-2},"Horizontal overlaped",{"$f":"((AC26+(0.07/(IF(B22>B23,B22,B23)/1000)))*0.13)+Z24","v":8.4479166666666675E-2},{"$f":"(AD13)*0.75","v":6.3359375000000009E-2},"ISX Duplex Graphite"]
[null,null,null,"Colour of main sails","ISX Solid",null,null,null,null,null," ",null,null,null,null,null,null,null,null,null,null,"  ","Overlap middle right",{"$f":"IF(E4=AA3,X10,IF(E9=W11,X11,IF(E9=W12,X12,IF(E9=W13,X13))))","v":0},null,"Vertical",{"$f":"IF(E4=AA2,((Z27+(0.07/(IF(B22>B23,B22,B23)/1000)))*0.13)+Z24,((Z27+(0.07/(IF(B22>B23,B22,B23)/1000)))*0.13)+Z24)","v":7.2291666666666671E-2},{"$f":"AA14*0.75","v":5.4218750000000003E-2},"Vertical",{"$f":"IF(E4=AA2,((AB27+(0.07/(IF(B22>B23,B22,B23)/1000)))*0.13)+Z24,((AB27+(0.07/(IF(B22>B23,B22,B23)/1000)))*0.13)+Z24)","v":7.2291666666666671E-2},{"$f":"AD14*0.75","v":5.4218750000000003E-2},"ISXFR Solid",6]
[null,null,null,"Colour of triangles","ISX Solid",null,null,null,null,null,null,null,null,null,null,null,null,null,null,null,null,null,null,"Dims in m"," ","Vertical overlaped",{"$f":"IF(E4=AA2,((AA27+(0.07/(IF(B22>B23,B22,B23)/1000)))*0.13)+Z24,((AA27+(0.07/(IF(B22>B23,B22,B23)/1000)))*0.13)+Z24)","v":7.2291666666666671E-2},{"$f":"AA15*0.75","v":5.4218750000000003E-2},"Vertical overlaped",{"$f":"IF(E4=AA2,((AC27+(0.07/(IF(B22>B23,B22,B23)/1000)))*0.13)+Z24,((AC27+(0.07/(IF(B22>B23,B22,B23)/1000)))*0.13)+Z24)","v":7.2291666666666671E-2},{"$f":"AD15*0.75","v":5.4218750000000003E-2},"ISXFR White"]
[null,null,null,"Colour of fittings","Stainless steel",null,null,null,null,null,null,null,null,null,null,null,null,null,null,null,null,null,"h1",{"$f":"B24/IF(B22>B23,B22,B23)","v":0.41666666666666669},null,"Mid","Mid","Quarters",null,null,null,"ISXFR Solid Ivory"]
[null,null,null,"Number of window vents",0,null,null,null,"Plan view - looking from above",null,null,null,null,null,null,null,null,null,null,null,null,null,"h2",{"$f":"B25/IF(B22>B23,B22,B23)","v":0.67708333333333337},null,"Horizontal",{"$f":"((Z29+(0.07/(IF(B22>B23,B22,B23)/1000)))*0.13)+Z24","v":8.4479166666666675E-2},{"$f":"(AA17)*0.75","v":6.3359375000000009E-2},null,null,null,"ISXFR Solid Oyster"]
[null,null,null,null,null,null,null,{"$f":"IF(OR(E10>0,E11>0,E12>0),\"Mark additional features (fittings/tie-bar loops/straight edges) on sketch\",\"\")","v":""},null,null,null,null,null,null,null,null,null,null,null,null,null,null,"x1",{"$f":"B22/IF(B22>B23,B22,B23)","v":1},null,"Vertical",{"$f":"((Z30+(0.07/(IF(B22>B23,B22,B23)/1000)))*0.13)+Z24","v":5.0624999999999996E-2},{"$f":"AA18*0.75","v":3.7968749999999996E-2},null,null,null,"ISXFR Duplex",7.2]
[null,null,null,"Max length of sail",{"$f":"(MAX(Z32:AB32))*1000","v":3112.0732639190869},null,null,null,null,null,null,null,null,null,null,null,null,null,null,null,null,null,"y1",{"$f":"B23/IF(B22>B23,B22,B23)","v":0.59375}," ","Vertical overlaped",{"$f":"((AVERAGE(Z30:AB30)+(0.07/(IF(B22>B23,B22,B23)/1000)))*0.13)+Z24","v":5.0624999999999996E-2},{"$f":"AA19*0.75","v":3.7968749999999996E-2},null,null,null,"ISXFR Duplex Ocean"]
[null,null,null,"Max width of sail",{"$f":"(MAX(Z33:AB33))*1000","v":2400},null,null,null,null,null,null,null,null,null,null,null,null,null,null,null,null,null,"r1",{"$f":"B26/IF(B22>B23,B22,B23)","v":0.33333333333333331},null,"front","mid","tri front","tri mid",null,null,"ISXFR Duplex Forest"]
[null,"All dims in mm",null,null,null,null,null,"Total budget cost incl. Installation+VAT+Delivery",null,null,{"$f":"(((12.15+(E17*50*VAT!V1)+Z35+AA35+AB35+IF(E5=AB6,AC35,)+IF(AND(E4=AA4,E6=AB6),AC35,))+(25.5*E10)+IF(E16<>AH2,E10*2,0)))+(E11*75*VAT!V1)+(E12*100*VAT!V1)","v":1881.6809421110499},null,null,null,null,null,null,null,null,null,null,null,null,null,"Sail perimeter",{"$f":"((AA26+0.07)*2)+((AA27+0.07)*2)","v":2.4091666666666667},{"$f":"((Z29+0.07)*2)+AA30+0.07+Z30+0.07","v":2.0758333333333332},{"$f":"((AD26+0.07)*2)+AD27+0.07","v":0.21000000000000002},{"$f":"((AC29+0.07)*2)+AC30+0.07","v":1.9211662109544869},null,null,"ISXFR Duplex Sand"]
["X1",4800,null,"Please note that sails larger than 2100mm in both directions, will require a colour matched seam.",null,null,null,null,null,null,{"$f":"'   '!P3","v":2163.9330834277075},null,null,null,null,null,null,null,null,null,null,null,null,null,"Roof area (m^2)",{"$f":"Z23*X18","v":0.64834859664980982},"Tri","Mid","Quarters",null,null,"ISXFR Duplex Stone"]
["Y1",2850,null,null,null,null,{"$f":"'   '!A9","v":0},null,null,null,null,null,null,null,null,null,null,null,null,null,null,null,null,null,"Glazing bar length",{"$f":"SQRT((X17-X16)^2+(X19^2))","v":0.64834859664980982},"Vertical Back",{"$f":"((AC30+(0.07/(B22/1000)))*0.13)+Z24","v":6.6860138961799362E-2},{"$f":"AB23*0.75","v":5.0145104221349518E-2},null,null,"ISXFR Duplex Slate"]
["H1",2000,null,null,null,null,null,null,null,null,null,null,null,null,null,null,null,null,null,null,null,null,null,null,"50mm links",{"$f":"(0.035/(IF(B22>B23,B22,B23)/1000))","v":7.2916666666666676E-3},"Vertical Front",{"$f":"((AD27+(0.07/(B22/1000)))*0.13)+Z24","v":9.1875000000000012E-3},{"$f":"AB24*0.75","v":6.8906250000000009E-3},null,null,"ISXFR Duplex Graphite"]
["H2",3250,null,{"$f":"IF(((MAX(AA12,AA17,AD12)*(B22/1000))*2)>(MIN(AB3:AC3)*AA10),AD5,IF(((MAX(AA14,AA18,AD14)*(B22/1000)*2)>(MIN(AB2:AC2)*AA10)),AD4,IF(AND((X20*(B22/1000))<0.75,E4=AA4),AD8,IF(AND(AB3>4,AB2>4),AD6,\"\"))))","v":""},null,null,null,null,null,null,null,null,null,null,null,null,null,null,null,null,null,null,null,null,null,"front + overlaped"," ","back + overlaped"," "]
["R1",1600,null,null,null,null,{"$f":"'   '!A12","v":0},null,null,null,null,null,null,null,null,null,null,null,null,null,null,null,null,null,"Sail length",{"$f":"X19-(0.07/(IF(B22>B23,B22,B23)/1000))","v":0.57916666666666672},{"$f":"Z26","v":0.57916666666666672},{"$f":"X19-(0.07/(IF(B22>B23,B22,B23)/1000))","v":0.57916666666666672},{"$f":"AB26","v":0.57916666666666672}]
[null,null,null,null,null,null,null,null,null,null,null,null,null,null,null,null,null,null,null,null,null,null,null,null,"Sail width",{"$f":"IF(E4=AA2,O65-(0.07/(IF(B22>B23,B22,B23)/1000)),IF(E4=AA3,O69-(X20/2)-(0.07/(IF(B22>B23,B22,B23)/1000)),O68-(0.07/(IF(B22>B23,B22,B23)/1000))))","v":0.48541666666666666},{"$f":"Z27+X10","v":0.48541666666666666},{"$f":"IF(E4=AA2,O65-(0.07/(IF(B22>B23,B22,B23)/1000)),IF(E4=AA3,O69-(X20/2)-(0.07/(IF(B22>B23,B22,B23)/1000)),O68-(0.07/(IF(B22>B23,B22,B23)/1000))))","v":0.48541666666666666},{"$f":"AB27+X14","v":0.48541666666666666}]
[null,null,null,null,null,null,null,null,null,null,null,null,null,null,null,null,null,null,null,null,null,null,null,null,null,"mid + overlaped",null,null,"tri mid"]
[null,null,null,null,null,null,null,null,null,null,null,null,null,null,null,null,null,null,null,null,null,null,null,null,"Sail length",{"$f":"Z26","v":0.57916666666666672},"<-"," ->",{"$f":"Z23-(0.07/(IF(B22>B23,B22,B23)/1000))","v":0.63376526331647653}]
[null,null,null,null,null,null,null,null,null,null,null,null,null,null,null,null,null,null,null,null,null,null,null,null,"Sail width",{"$f":"O69-O68-(0.07/(IF(B22>B23,B22,B23)/1000))","v":0.31874999999999992},{"$f":"Z30+X10","v":0.31874999999999992},{"$f":"Z30+X14","v":0.31874999999999992},{"$f":"AC29*0.7","v":0.44363568432153355}]
[null,null,null,null,null,null,null,null,null,null,null,null,null,null,null,null,null,null,null,null,null,null,null,null,"Costs","front","mid","back","tri mid left/right"," "," "]
[null,null,null,null,null,null,null,null,null,null,null,null,null,null,null,null,null,null,null,null,null,null,null,null,"length",{"$f":"(Z23*(IF(B22>B23,B22,B23)/1000))","v":3.1120732639190871},{"$f":"(Z23*(IF(B22>B23,B22,B23)/1000))","v":3.1120732639190871},{"$f":"(Z23*(IF(B22>B23,B22,B23)/1000))","v":3.1120732639190871},{"$f":"(Z23*(IF(B22>B23,B22,B23)/1000))","v":3.1120732639190871}]
[null,null,null,null,null,null,null,null,null,null,null,null,null,null,null,null,null,null,null,null,null,null,null,null,"width",{"$f":"IF((((E67-E63)*(IF(B22>B23,B22,B23)/1000))+0.07)>((SQRT(((B22-B26)/2)^2+(B25-B24)^2)))/1000,(((E67-E63)*(IF(B22>B23,B22,B23)/1000))+0.07),(SQRT(((B22-B26)/2)^2+(B25-B24)^2))/1000)","v":2.4},{"$f":"IF(E4<>AA4,Z30*(IF(B22>B23,B22,B23)/1000),((G67-G63)*(IF(B22>B23,B22,B23)/1000))+0.07)","v":1.5299999999999996},{"$f":"IF((((I67-I63)*(IF(B22>B23,B22,B23)/1000))+0.07)>((SQRT(((B22-B26)/2)^2+(B25-B24)^2)))/1000,(((I67-I63)*(IF(B22>B23,B22,B23)/1000))+0.07),(SQRT(((B22-B26)/2)^2+(B25-B24)^2))/1000)","v":2.3999999999999995},{"$f":"(AC30*(IF(B22>B23,B22,B23)/1000))+0.07","v":2.1994512847433607}]
[null,null,null,null,null,null,null,null,null,null,null,null,null,null,null,null,null,null,null,null,null,null,null,null,"perimeter",{"$f":"(Z32+Z33+((Z23*(IF(B22>B23,B22,B23)/1000))+0.07)+((Z27*(IF(B22>B23,B22,B23)/1000))+0.07))*1.05","v":11.648853854230083},{"$f":"((AA32*2)+((Z30*(IF(B22>B23,B22,B23)/1000)+0.07))+AA33)*1.05","v":9.8218538542300831},{"$f":"(AB32+AB33+((Z23*(IF(B22>B23,B22,B23)/1000))+0.07)+((AB27*(IF(B22>B23,B22,B23)/1000))+0.07))*1.05","v":11.648853854230083},{"$f":"((AC32*2)+AC33)*1.05","v":8.8447777032106121}]
[null,null,null,null,null,null,null,null,null,null,null,null,null,null,null,null,null,null,null,null,null,null,null,null,null,{"$f":"((((1.05*(X1*((X6*Z32*Z33*Z1)+(Z34*Z2)+(AA8*Z3)+Z4))+7.2*AA8)))+IF(E16<>AH2,8*VAT!V1,0))/1.2*VAT!V1","v":710.74880430983853},{"$f":"IF(E4=AA4,(IF(E4<>AA4,0,(((1.05*(X1*((X6*AA32*AA33*Z1)+(AA34*Z2)+(AA8*Z3)+Z4))+7.2*AA8))))+IF(E16<>AH2,8*VAT!V1,0))/1.2*VAT!V1,0)","v":0},{"$f":"IF(E4=AA2,0,((((1.05*(X1*((X6*AB32*AB33*Z1)+(AB34*Z2)+(AA8*Z3)+Z4))+7.2*AA8)))+IF(E16<>AH2,8*VAT!V1,0))/1.2*VAT!V1)","v":710.74880430983853},{"$f":"(IF(OR(E5=AB6,E6=AB6),(1.05*(X2*((X7*AC32*AC33*Z1)+(AC34*Z2)+(3*Z3)+Z4))+7.2*3),)+IF(E16<>AH2,6*VAT!V1,0))/1.2*VAT!V1","v":448.03333349137284}]
[]
[]
[]
[]
[]
[]
[]
[]
[]
[]
[]
[]
[]
[]
[]
[]
[]
[]
[]
[]
[]
[]
[]
[]
[]
[null,null,null,null,"x","y","x","y","x","y","x","y","x","y","Roof plan"," "]
[null,null,null,null,"down front",null,"down mid",null,"down left",null,"left tri 1",null,"right tri 2",null,"x-axis","y-axis"]
[null,null,null,null,{"$f":"Z24","v":7.2916666666666676E-3},{"$f":"Z24","v":7.2916666666666676E-3},{"$f":"IF(E4=AA4,X18/2-(AA30/2),)","v":0},{"$f":"IF(E4=AA4,Z24,)","v":0},{"$f":"IF(E4<>AA2,I67-AC27,)","v":0.5072916666666667},{"$f":"IF(E4<>AA2,Z24,)","v":7.2916666666666676E-3},{"$f":"IF(E4=AA2,0,IF(E5=AB6,K65-(AC30/2),))","v":0.27818215783923322},{"$f":"IF(E4=AA2,0,IF(E5=AB6,Z24,))","v":7.2916666666666676E-3},{"$f":"IF(E4<>AA4,0,IF(E6=AB6,M65-(AC30/2),))","v":0},{"$f":"IF(E4<>AA4,0,IF(E6=AB6,Z24,))","v":0},0,0]
[null,null,null,null,{"$f":"IF(E4=AA2,E63+(AA27/4),E63+(AA27/4))","v":0.12864583333333332},{"$f":"F65*0.75","v":5.4218750000000003E-2},{"$f":"IF(E4=AA4,G63+(MAX(AA30:AB30)/4),)","v":0},{"$f":"IF(E4=AA4,AB19,)","v":0},{"$f":"IF(E4<>AA2,I63+(AC27/4),0)","v":0.62864583333333335},{"$f":"IF(E4<>AA2,AE15,)","v":5.4218750000000003E-2},{"$f":"IF(E4=AA2,0,IF(E5=AB6,K65-(AC30/4),))","v":0.38909107891961658},{"$f":"IF(E4=AA2,0,IF(E5=AB6,AC23,))","v":5.0145104221349518E-2},{"$f":"IF(E4<>AA4,0,IF(E6=AB6,M65-(AC30/4),))","v":0},{"$f":"IF(E4<>AA4,0,IF(E6=AB6,AC23,))","v":0},{"$f":"X18","v":1},0]
[null,null,null,null,{"$f":"IF(E4=AA2,E63+(AA27/2),E63+(AA27/2))","v":0.25},{"$f":"AA15","v":7.2291666666666671E-2},{"$f":"IF(E4=AA4,G67-(G67-G63)/2,)","v":0},{"$f":"IF(E4=AA4,AA19,)","v":0},{"$f":"IF(E4<>AA2,I63+(AC27/2),0)","v":0.75},{"$f":"IF(E4<>AA2,AD15,)","v":7.2291666666666671E-2},{"$f":"IF(E4=AA2,0,IF(E5=AB6,K71,))","v":0.5},{"$f":"IF(E4=AA2,0,IF(E5=AB6,AB23,))","v":6.6860138961799362E-2},{"$f":"IF(E4<>AA4,0,IF(E6=AB6,M71,))","v":0},{"$f":"IF(E4<>AA4,0,IF(E6=AB6,AB23,))","v":0},{"$f":"X18","v":1},{"$f":"X19","v":0.59375}]
[null,null,null,null,{"$f":"IF(E4=AA2,E65+(AA27/4),E65+(AA27/4))","v":0.37135416666666665},{"$f":"F64","v":5.4218750000000003E-2},{"$f":"IF(E4=AA4,G67-(MAX(AA30:AB30)/4),)","v":0},{"$f":"IF(E4=AA4,H64,)","v":0},{"$f":"IF(E4<>AA2,I65+(AC27/4),0)","v":0.87135416666666665},{"$f":"IF(E4<>AA2,J64,)","v":5.4218750000000003E-2},{"$f":"IF(E4=AA2,0,IF(E5=AB6,K65+(AC30/4),))","v":0.61090892108038342},{"$f":"IF(E4=AA2,0,IF(E5=AB6,AC23,))","v":5.0145104221349518E-2},{"$f":"IF(E4<>AA4,0,IF(E6=AB6,M65+(AC30/4),))","v":0},{"$f":"IF(E4<>AA4,0,IF(E6=AB6,AC23,))","v":0},0,{"$f":"X19","v":0.59375}]
[null,null,null,null,{"$f":"IF(E4=AA2,E63+AA27,E63+AA27)","v":0.4927083333333333},{"$f":"Z24","v":7.2916666666666676E-3},{"$f":"IF(E4=AA4,X18/2+(AB30/2),)","v":0},{"$f":"IF(E4=AA4,Z24,)","v":0},{"$f":"IF(E4<>AA2,X18-Z24,0)","v":0.9927083333333333},{"$f":"J63","v":7.2916666666666676E-3},{"$f":"IF(E4=AA2,0,IF(E5=AB6,K65+(AC30/2),))","v":0.72181784216076683},{"$f":"L63","v":7.2916666666666676E-3},{"$f":"IF(E4<>AA4,0,IF(E6=AB6,M65+(AC30/2),))","v":0},{"$f":"IF(E4<>AA4,0,IF(E6=AB6,N63,))","v":0},0,0]
[null,null,null,null,{"$f":"E67-AB12-(X10/2.75)","v":0.42934895833333331},{"$f":"IF(E4=AA2,F78,Z26/4)","v":0.14479166666666668},{"$f":"IF(E4=AA4,G67-AB17-(X14/8),)","v":0},{"$f":"IF(E4=AA4,F68,)","v":0},{"$f":"IF(E4<>AA2,I67-AE13,)","v":0.92934895833333331},{"$f":"IF(E4<>AA2,J69-(AC26/4),)","v":0.15208333333333343},{"$f":"IF(E4=AA2,0,IF(E5=AB6,K67-((K67-K71)/1.8),))","v":0.59858570762700747},{"$f":"IF(E4=AA2,0,IF(E5=AB6,L69-(AC29/4),))","v":0.13843368417088087},{"$f":"IF(E4<>AA4,0,IF(E6=AB6,M67-((M67-M71)/1.8),))","v":0},{"$f":"IF(E4<>AA4,0,IF(E6=AB6,N69-(AC29/4),))","v":0},{"$f":"(X18/2)-(X20/2)","v":0.33333333333333337},{"$f":"X19","v":0.59375}]
[null,null,null,null,{"$f":"E67-AA12-(X10/1.6)","v":0.40822916666666664},{"$f":"IF(E4=AA2,F77,X19/2)","v":0.296875},{"$f":"IF(E4=AA4,G67-AA17-(X14/4),)","v":0},{"$f":"IF(E4=AA4,F69,)","v":0},{"$f":"IF(E4<>AA2,I67-AD13,)","v":0.90822916666666664},{"$f":"IF(E4<>AA2,J70-(AC26/4),)","v":0.29687500000000011},{"$f":"IF(E4=AA2,0,IF(E5=AB6,K67-((K67-K71)*0.85),))","v":0.53327267632411501},{"$f":"IF(E4=AA2,0,IF(E5=AB6,X19-(X19/2),))","v":0.296875},{"$f":"IF(E4<>AA4,0,IF(E6=AB6,M67-((M67-M71)*0.85),))","v":0},{"$f":"IF(E4<>AA4,0,IF(E6=AB6,X19-(X19/2),))","v":0},{"$f":"(X18/2)+(X20/2)","v":0.66666666666666663},{"$f":"P68","v":0.59375}]
[null,null,null,null,{"$f":"E71-AB12+(X10/5.5)","v":0.42934895833333331},{"$f":"IF(E4=AA2,F76,Z26*0.75)","v":0.43437500000000007},{"$f":"IF(E4=AA4,G71-AB17+(X14/6),)","v":0},{"$f":"IF(E4=AA4,F70,)","v":0},{"$f":"IF(E4<>AA2,I67-AE13,)","v":0.92934895833333331},{"$f":"IF(E4<>AA2,J71-(AC26/4),)","v":0.44166666666666676},{"$f":"IF(E4=AA2,0,IF(E5=AB6,K71+((K67-K71)*0.05),))","v":0.51109089210803837},{"$f":"IF(E4=AA2,0,IF(E5=AB6,L69+(AC29/4),))","v":0.45531631582911913},{"$f":"IF(E4<>AA4,0,IF(E6=AB6,M71+((M67-M71)*0.05),))","v":0},{"$f":"IF(E4<>AA4,0,IF(E6=AB6,N69+(AC29/4),))","v":0},{"$f":"X18","v":1},0]
[null,null,null,null,{"$f":"IF(E4=AA2,E63+AA27,E63+Z27)","v":0.4927083333333333},{"$f":"IF(E4=AA2,F75,X19-Z24)","v":0.5864583333333333},{"$f":"IF(E4=AA4,O69-Z24,)","v":0},{"$f":"IF(E4=AA4,X19-Z24,)","v":0},{"$f":"IF(E4<>AA2,I67,0)","v":0.9927083333333333},{"$f":"IF(E4<>AA2,J67+AC26,)","v":0.58645833333333341},{"$f":"IF(E4=AA2,0,IF(E5=AB6,O68+IF(E4=AA3,X20/2,),))","v":0.5},{"$f":"IF(E4=AA2,0,IF(E5=AB6,P68-Z24,))","v":0.5864583333333333},{"$f":"IF(E4<>AA4,0,IF(E6=AB6,X20+O68,))","v":0},{"$f":"IF(E4<>AA4,0,IF(E6=AB6,P68-Z24,))","v":0}]
[null,null,null,null,{"$f":"IF(E4=AA2,E65+(AA27/4),E71-(Z27/4))","v":0.37135416666666665},{"$f":"IF(E4=AA2,F74,F71-AB14)","v":0.53223958333333332},{"$f":"IF(E4=AA4,G71-(Z30/4),)","v":0},{"$f":"IF(E4=AA4,X19-AB18,)","v":0},{"$f":"IF(E4<>AA2,I71-(Z27/4),)","v":0.87135416666666665},{"$f":"IF(E4<>AA2,J71-AE14,)","v":0.53223958333333343},{"$f":"IF(E5=AB6,K71-((K67-K71)*0.05),)","v":0.48890910789196168},{"$f":"L70","v":0.45531631582911913},{"$f":"IF(E4<>AA4,0,IF(E6=AB6,M71-((M67-M71)*0.05),))","v":0},{"$f":"IF(E4<>AA4,0,IF(E6=AB6,N70,))","v":0}]
[null,null,null,null,{"$f":"IF(E4=AA2,E63+(AA27/2),E72-(Z27/4))","v":0.25},{"$f":"F75-AA14","v":0.51416666666666677},{"$f":"IF(E4=AA4,X18/2,)","v":0},{"$f":"IF(E4=AA4,X19-AA18,)","v":0},{"$f":"IF(E4<>AA2,I71-(Z27/2),0)","v":0.75},{"$f":"IF(E4<>AA2,J71-AD14,)","v":0.51416666666666677},{"$f":"IF(E5=AB6,K75+((K71-K75)*0.85),)","v":0.46672732367588499},{"$f":"L69","v":0.296875},{"$f":"IF(E4<>AA4,0,IF(E6=AB6,M75+((M71-M75)*0.85),))","v":0},{"$f":"IF(E4<>AA4,0,IF(E6=AB6,N69,))","v":0}]
[null,null,null,null,{"$f":"IF(E4=AA2,E63+(AA27/4),E73-(Z27/4))","v":0.12864583333333335},{"$f":"F75-AB14","v":0.53223958333333343},{"$f":"IF(E4=AA4,G73-(Z30/4),)","v":0},{"$f":"IF(E4=AA4,X19-AB18,)","v":0},{"$f":"IF(E4<>AA2,I75+(Z27/4),0)","v":0.62864583333333335},{"$f":"IF(E4<>AA2,J71-AE14,)","v":0.53223958333333343},{"$f":"K75+((K71-K75)/1.8)","v":0.40141429237299253},{"$f":"L68","v":0.13843368417088087},{"$f":"IF(E4<>AA4,0,IF(E6=AB6,M75+((M71-M75)/1.8),))","v":0},{"$f":"IF(E4<>AA4,0,IF(E6=AB6,N68,))","v":0}]
[null,null,null,null,{"$f":"E63","v":7.2916666666666676E-3},{"$f":"F63+AA26","v":0.58645833333333341},{"$f":"IF(E4=AA4,G71-Z30,)","v":0},{"$f":"IF(E4=AA4,H71,)","v":0},{"$f":"IF(E4=AA3,O68+(X20/2)+Z24,IF(E4<>AA2,O69+Z24,))","v":0.5072916666666667},{"$f":"IF(E4<>AA2,P69-Z24,)","v":0.5864583333333333},{"$f":"K63","v":0.27818215783923322},{"$f":"L63","v":7.2916666666666676E-3},{"$f":"IF(E4<>AA4,0,IF(E6=AB6,M63,))","v":0},{"$f":"IF(E4<>AA4,0,IF(E6=AB6,N63,))","v":0}]
[null,null,null,null,{"$f":"E63+AB13","v":7.0651041666666678E-2},{"$f":"F75-(AA26/4)","v":0.44166666666666676},{"$f":"IF(E4=AA4,G75+AB17-(X10/6),)","v":0},{"$f":"H70","v":0},{"$f":"IF(E4<>AA2,I75+AB12-(X14/5.5),)","v":0.57065104166666669},{"$f":"IF(E4<>AA2,(Z26*0.75),)","v":0.43437500000000007}]
[null,null,null,null,{"$f":"E63+AA13","v":9.1770833333333343E-2},{"$f":"F76-(AA26/4)","v":0.29687500000000011},{"$f":"IF(E4=AA4,G79+AA17+(X10/4),)","v":0},{"$f":"IF(E4=AA4,H69,)","v":0},{"$f":"IF(E4<>AA2,I79+AA12+(X14/1.6),)","v":0.59177083333333336},{"$f":"IF(E4<>AA2,X19/2,)","v":0.296875}]
[null,null,null,null,{"$f":"E76","v":7.0651041666666678E-2},{"$f":"F77-(AA26/4)","v":0.15208333333333343},{"$f":"IF(E4=AA4,G79+AB17+(X10/8),)","v":0},{"$f":"H68","v":0},{"$f":"IF(E4<>AA2,I79+AB12+(X14/2.75),)","v":0.57065104166666669},{"$f":"IF(E4<>AA2,Z26/4,)","v":0.14479166666666668}]
[null,null,null,null,{"$f":"E63","v":7.2916666666666676E-3},{"$f":"Z24","v":7.2916666666666676E-3},{"$f":"IF(E4=AA4,G63,)","v":0},{"$f":"IF(E4=AA4,Z24,)","v":0},{"$f":"I63","v":0.5072916666666667},{"$f":"J63","v":7.2916666666666676E-3}]

{"sheet":"Georgian Gable","index":4,"n_rows":80,"n_cols":29,"rows_kept":80,"cut":false,"hidden":false,"merged":[[17,6,18,10],[25,6,27,10],[20,7,21,9],[22,6,24,10],[25,3,28,4],[22,3,23,4]]}
[null,null,null,null,null,null,null,null,null,null,null,null,null,null,null,null,null,null,"Main material",{"$f":"IF(OR(E15=AA2,E15=AA3,E15=AA4,E15=AA5,E15=AA6,E15=AA7),5,IF(OR(E15=AA8,E15=AA9,E15=AA10,E15=AA11,E15=AA12,E15=AA13,E15=AA14,E15=AA15,E15=AA16,E15=AA17),6,IF(OR(E15=AA18,E15=AA19,E15=AA20,E15=AA21,E15=AA22,E15=AA23,E15=AA24),7.2,)))","v":5},"Material cost",11.35,"Sails","Warning 1","Warning: Sail too narrow, increase no. of sails, add additional fitting points or reduce gap size","Sails","Fabric Colour",null,"Fittings Colours"]
[null,null,null,null,null,null,null,null,null,null,null,null,null,null,null,null,null,null,"Tri material",{"$f":"IF(OR(E16=AA2,E16=AA3,E16=AA4,E16=AA5,E16=AA6,E16=AA7),5,IF(OR(E16=AA8,E16=AA9,E16=AA10,E16=AA11,E16=AA12,E16=AA13,E16=AA14,E16=AA15,E16=AA16,E16=AA17),6,IF(OR(E16=AA18,E16=AA19,E16=AA20,E16=AA21,E16=AA22,E16=AA23,E16=AA24),7.2,)))","v":5},"PE",2.5,"1 - Front","Warning 2","Warning: Sail too narrow, decrease no. of sails, add additional fitting points gap size",{"$f":"IF(E5=W2,2,IF(E5=W3,1,E5))","v":3},"ISX Solid",5,"Stainless steel"]
[null,null,null,null,null,null,null,null,null,null,null,null,null,null,null,null,null," ",null,null,"PN",3.5,"1 - Full","Warning 3","Warning: Sail too wide for standard fabric, please add more sails or increase gap size",null,"ISX White",null,"White"]
[null,null,null,"Select coverage","Cover both sides",null,null,null,null,null,null,null,null,null,null,null,null," ",null,null,"IP",2,2,"Warning 4","Warning: Conservatory too long for standard fabric, contact office for more detailed price",null,"ISX Solid Ivory",null,"Gold"]
[null,null,null,"Number of sails per side",3,null,null,null,null,null,null,null,null,null,null,null,null," ",null,null,"No. of vents",null,3,null,null,null,"ISX Solid Oyster"]
[null,null,null,"Left triangle sail","No",null,null,null,null,null,null,null,null,null,null,null,null,null,"Shape",{"$f":"IF(W10=S7,T7,IF(W10=S8,T8,IF(W10=S9,T9)))","v":1},0,null,null," ",null,null,"ISX Solid Sand"]
[null,null,null,"Right triangle sail","No",null,null,null,null,null,null,null,null,null,null,null,null,null,"Triangle",0.6,1,null,null,null,"Dims in m",null,"ISX Solid Stone"]
[null,null,null,null,null,null,null,null,null,null,null,null,null,null,null,null,null,null,"Diamond",0.6,2,null,null,"h1",{"$f":"B26/IF(B24>B25,B24,B25)","v":0.53749999999999998},null,"ISX Duplex",6]
[null,null,null,"Reduce left gap size",1,null,null,null,null,null,null,null,null,null,null,null,null," ","Other",1,3,"No. of corners",4,"h2",{"$f":"B27/IF(B24>B25,B24,B25)","v":0.76249999999999996},null,"ISX Duplex Ocean"]
[null,null,null,"Reduce right gap size",1,null,null,null,null,null,null,null,null,null,null,null,null," ","Overlap left",{"$f":"IF(E9=S11,T11,IF(E9=S12,T12,IF(E9=S13,T13,)))","v":0.10757500000000003},4,"Shape","Other","y1",{"$f":"B25/IF(B24>B25,B24,B25)","v":0.86250000000000004},null,"ISX Duplex Forest"]
[null,null,null,"Total additional fittings",0,null,null,null,null,null,null,null,null,null,null,null,null,null,"Standard",0,null,"Curve allowance",0.5,"x1",{"$f":"B24/IF(B24>B25,B24,B25)","v":1},null,"ISX Duplex Stone"]
[null,null,null,"Total tie-bar loops",0,null,null,null,null,null,null,null,null,null,null,null,null,null,0.5,{"$f":"IF(E5=W3,0,IF(OR(E5=W4,E5=W2),(U16/2)+(0.035/(IF(B24>B25,B24,B25)/1000)),IF(E5=W5,(U16*0.67)+Y23)))","v":5.8162500000000013E-2},null,null,null,null,null,null,"ISX Duplex Slate"]
[null,null,null,"Total straight edges",0,null,null,null,null,null,null,null,null,null,null,null,null,null,1,{"$f":"IF(E5=W3,0,IF(OR(E5=W4,E5=W2),U16+(0.035/(IF(B24>B25,B24,B25)/1000)),IF(E5=W5,(U16*1.34)+(0.035/(IF(B24>B25,B24,B25)/1000)))))","v":0.10757500000000003},"tri width","tri length","tri mid","tri quarter","tri perimeter",null,"ISX Duplex Graphite"]
[null,null,null,null,null,null,null,null,null,null,null,null,null,null,null,null,null,null,"Overlap right",{"$f":"IF(E5=W4,T10,IF(E10=S11,T11,IF(E10=S12,T12,IF(E10=S13,T13))))","v":0.10757500000000003},{"$f":"V14*0.7","v":0.33774999999999999},{"$f":"R65-(0.07/(IF(B24>B25,B24,B25)/1000))","v":0.48249999999999998},{"$f":"U14*0.13","v":4.3907500000000002E-2},{"$f":"W14*0.75","v":3.2930625000000005E-2},{"$f":"(U14+(0.07/(IF(B24>B25,B24,B25)/1000)))+((V14+(0.07/(IF(B24>B25,B24,B25)/1000)))*2)","v":1.3552500000000001},null,"ISXFR Solid",6]
[null,null,null,"Colour of main sails","ISX Solid",null,null,null,null,null,null,null,null,null,null,null,null,null,null,"Warnings","Mid","Quarters","Coverage","Roof area (m^2)",{"$f":"Y18*Y10","v":0.47290254430088446},null,"ISXFR White"]
[null,null,null,"Colour of triangles","ISX Solid",null,null,null,null,null,null,null,null,null,null,null,null,null,"Width",{"$f":"(IF(OR(E5=W2,E5=W3),T23,IF(OR(E5=W4,E5=W5),MIN(T23:V23),)))","v":1.5803},{"$f":"((Y19+(0.07/(IF(B24>B25,B24,B25)/1000)))*0.13)+Y23","v":7.375000000000001E-2},{"$f":"(U16)*0.75","v":5.5312500000000007E-2},"Cover one side","Area of each sail",{"$f":"Y15/Z2","v":0.15763418143362815},null,"ISXFR Solid Ivory"]
[null,null,null,"Colour of fittings","Stainless steel",null,null,"Plan view - looking from above",null,null,null,null,null,null,null,null,null,null,"Length",{"$f":"(Y19*(IF(B24>B25,B24,B25)/1000))+0.07","v":2},"-","-","Cover both sides","Sail perimeter",{"$f":"((Y19+0.07)*2)+((Y20+0.07)*2)","v":2.0001500000000001},null,"ISXFR Solid Oyster"]
[null,null,null,"Number of window vents",0,null,{"$f":"IF(OR(E11>0,E12>0,E13>0),\"Mark additional features (fittings/tie-bar loops/straight edges) on sketch\",\"\")","v":""},null,null,null,null,null,null,null,null,null,null,null,"Vertical left",{"$f":"((Y20+(0.07/(IF(B24>B25,B24,B25)/1000)))*0.13)+Y23","v":6.010975000000001E-2},{"$f":"T18*0.75","v":4.5082312500000006E-2},null,"triangles","Glazing bar length",{"$f":"SQRT((Y9-Y8)^2+(Y11/2)^2)","v":0.54829280498653266},null,"ISXFR Duplex",7.2]
[null,null,null,null,null,null,null,null,null,null,null,null,null,null,null,null,null,null,"Vertical mid",{"$f":"((AVERAGE(Y21:Z21)+(0.07/(IF(B24>B25,B24,B25)/1000)))*0.13)+Y23","v":6.010975000000001E-2},{"$f":"T19*0.75","v":4.5082312500000006E-2},null,"No","Length of sail",{"$f":"(Y11/2)-(0.07/(IF(B24>B25,B24,B25)/1000))","v":0.48249999999999998},null,"ISXFR Duplex Ocean"]
[null,null,null,"Max length of sail",{"$f":"(MAX(T22:V22))*1000","v":2193.1712199461308},null,null,null,null,null,null,null,null,null,null,null,null,null,"Vertical right",{"$f":"((Y22+(0.07/(IF(B24>B25,B24,B25)/1000)))*0.13)+Y23","v":6.010975000000001E-2},{"$f":"T20*0.75","v":4.5082312500000006E-2},null,"Yes","Width left",{"$f":"(Y10/Z2)-(0.07/(IF(B24>B25,B24,B25)/1000))+T10","v":0.37757500000000005}," ->","ISXFR Duplex Forest"]
[null,null,null,"Max width of sail",{"$f":"T16*1000","v":1580.3},null,null,"Total budget cost incl. Installation+VAT+Delivery",null,null,{"$f":"(((T25+U25+V25+12.15+(E18*50*VAT!V1)+IF(AND(E6=W20,E5<>W3),W25,)+IF(AND(E7=W20,E5=W5),W25,))+(25.5*E11)+IF(E17<>AC2,E11*2,0)))+(E12*75*VAT!V1)+(E13*100*VAT!V1)","v":2552.1224309104755},null,null,null,null,null,null,null,"Costs","left","mid","right","tri","Width middle",{"$f":"(Y10/Z2)-(0.07/(IF(B24>B25,B24,B25)/1000))+T10","v":0.37757500000000005},{"$f":"(Y10/Z2)-(0.07/(IF(B24>B25,B24,B25)/1000))+T14","v":0.37757500000000005},"ISXFR Duplex Sand"]
[null,null,null,null,null,null,null,null,null,null,{"$f":"'   '!P4","v":2934.9407955470469},null,null,null,null,null,null,null,"length",{"$f":"(Y18*(IF(B24>B25,B24,B25)/1000))","v":2.1931712199461306},{"$f":"T22","v":2.1931712199461306},{"$f":"U22","v":2.1931712199461306},{"$f":"V22","v":2.1931712199461306},"Width right",{"$f":"(Y10/Z2)-(0.07/(IF(B24>B25,B24,B25)/1000))+T14","v":0.37757500000000005},null,"ISXFR Duplex Stone"]
[null,"All dims in mm",null,"Please note that sails larger than 2100mm in both directions, will require a colour matched seam.",null,null,{"$f":"'   '!A9","v":0},null,null,null,null,null,null,null,null,null,null,null,"width",{"$f":"((D68-D64)*(IF(B24>B25,B24,B25)/1000))+0.07","v":1.5803000000000003},{"$f":"IF(E5<>W5,MIN(T23,V23),((H68-H64)*(IF(B24>B25,B24,B25)/1000))+0.07)","v":1.5803},{"$f":"((F68-F64)*(IF(B24>B25,B24,B25)/1000))+0.07*IF(E5<>W3,1,1000)","v":1.5803000000000003},{"$f":"(U14*(IF(B24>B25,B24,B25)/1000))+0.07","v":1.421},"50mm links",{"$f":"0.035/(IF(B24>B25,B24,B25)/1000)","v":8.7500000000000008E-3},null,"ISXFR Duplex Slate"]
["X1",4000,null,null,null,null,null,null,null,null,null,null,null,null,null,null,null,null,"perimeter",{"$f":"((T22*2)+(T23*2))*1.05","v":7.9242895618868756},{"$f":"((U22*2)+(U23*2))*1.05","v":7.9242895618868738},{"$f":"((V22*2)+(V23*2))*1.05","v":7.9242895618868756},{"$f":"((W22*2)+W23)*1.05","v":6.0977095618868749},null,null,null,"ISXFR Duplex Graphite"]
["Y1",3450,null,null,null,null,null,null,null,null,null,null,null,null,null,null,null,null,null,{"$f":"(IF(E4=W17,2,1)*((((1.05*(T1*((T6*T22*T23*V1)+(T24*V2)+(W9*V3)+V4))+7.2*W9)))+IF(E17<>AC2,8*VAT!V1,0)))/1.2*VAT!V1","v":846.65747697015843},{"$f":"IF(E5<>W5,0,(IF(E4=W17,2,1)*(IF(E5=W5,((1.05*(T1*((T6*U23*U22*V1)+(U24*V2)+(W9*V3)+V4))+7.2*W9)),)+IF(E17<>AC2,8*VAT!V1,0)))/1.2*VAT!V1)","v":846.65747697015843},{"$f":"IF(OR(E5=W2,E5=W3),0,(IF(E4=W17,2,1)*(IF(OR(E5=W4,E5=W5),((1.05*(T1*((T6*V22*V23*V1)+(V24*V2)+(W9*V3)+V4))+7.2*W9)),0)+IF(E17<>AC2,8*VAT!V1,0)))/1.2*VAT!V1)","v":846.65747697015843},{"$f":"((IF(AND(E5<>W3,OR(E6=W20,AND(E7=W20,E5<>W4))),((1.05*(T2*((T7*W23*W22*V1)+(W24*V2)+(3*V3)+V4))+7.2*3)),)+IF(E17<>AC2,6*VAT!V1,0))*IF(E4=W17,2,1))/1.2*VAT!V1","v":0}]
["H1",2150,null,{"$f":"IF(((T18*(IF(B24>B25,B24,B25)/1000))*2)>(T17*W11),Y1,IF(((U16*(IF(B24>B25,B24,B25)/1000))*2)>(T16*W11),Y2,IF(AND(T16>4,T17>4),Y3,\"\")))","v":""},null,null,{"$f":"'   '!A12","v":0}]
["H2",3050]
[]
[]
[]
[]
[]
[]
[]
[]
[]
[]
[]
[]
[]
[]
[null,null,null,"x","y","x","y","x","y",null,"triangles"]
[null,null,null,"Left up",null,"Right up",null,"Mid up",null,null,"x","y","x","y","x","y","x","y"]
[null,null,null,{"$f":"IF(E4=W16,0,Y23)","v":8.7500000000000008E-3},{"$f":"IF(E4=W16,0,Y23+(Y11/2))","v":0.50875000000000004},{"$f":"IF(E4=W16,0,IF(E5=W3,0,IF(E5=W4,F48-Y22,IF(E5=W5,(F48-Y22)))))","v":0.47617499999999996},{"$f":"IF(E5=W3,0,IF(E5=W4,E44,IF(E5=W5,E44)))","v":0.50875000000000004},{"$f":"IF(E4=W16,0,IF(OR(E5=W2,E5=W3),0,IF(E5=W4,0,IF(E5=W5,(Y10/2)-(Y21/2)))))","v":0.2424625},{"$f":"IF(OR(E5=W2,E5=W3),0,IF(E5=W4,0,IF(E5=W5,E44)))","v":0.50875000000000004},null,"down left",null,"down right",null,"up left",null,"up right"]
[null,null,null,{"$f":"IF(E4=W16,0,D64+(Y20/4))","v":0.10314375000000001},{"$f":"IF(E4=W16,0,(E66*0.75)+(Y11/2))","v":0.54508231250000005},{"$f":"IF(E4=W16,0,IF(E5=W3,0,IF(E5=W4,F46-(Y22/4),IF(E5=W5,F46-Y23-(Y22/4)))))","v":0.55306874999999989},{"$f":"IF(E4=W16,0,IF(E5=W3,0,IF(E5=W4,(Y11/2)+U20,IF(E5=W5,(Y11/2)+U20))))","v":0.54508231250000005},{"$f":"IF(E4=W16,0,IF(OR(E5=W2,E5=W3),0,IF(E5=W4,0,IF(E5=W5,H44+(MAX(Y21:Z21)/4)))))","v":0.33685625000000002},{"$f":"IF(E4=W16,0,IF(OR(E5=W2,E5=W3),0,IF(E5=W4,0,IF(E5=W5,(Y11/2)+U19))))","v":0.54508231250000005},null,{"$f":"IF(E6=W20,IF(E5<>W3,K47-(U14/2),),)","v":0},{"$f":"IF(E6=W20,IF(E5<>W3,Y23,),)","v":0},{"$f":"IF(E7=W20,IF(E5=W5,M47-(U14/2),),)","v":0},{"$f":"IF(E7=W20,IF(E5=W5,Y23,),)","v":0},{"$f":"IF(E4=W16,0,IF(E6=W20,IF(E5<>W3,K47-(U14/2),),))","v":0},{"$f":"IF(E4=W16,0,IF(E6=W20,IF(E5<>W3,R63-Y23,),))","v":0},{"$f":"IF(E4=W16,0,IF(E7=W20,IF(E5=W5,M47-(U14/2),),))","v":0},{"$f":"IF(E7=W20,IF(E5=W5,R63-Y23,),)","v":0}]
[null,null,null,{"$f":"IF(E4=W16,0,IF(E5=W3,(Y10/2),IF(OR(E5=W2,E5=W4),D68-(Y20/2),IF(E5=W5,D68-(Y20/2)))))","v":0.1975375},{"$f":"IF(E4=W16,0,T18+(Y11/2))","v":0.56010974999999996},{"$f":"IF(E4=W16,0,IF(E5=W3,0,IF(E5=W4,F48-(Y22/2),IF(E5=W5,F48-Y23-(Y22/2)))))","v":0.65621249999999998},{"$f":"IF(E4=W16,0,IF(E5=W3,0,IF(E5=W4,(Y11/2)+T20,IF(E5=W5,(Y11/2)+T20))))","v":0.56010974999999996},{"$f":"IF(E4=W16,0,IF(OR(E5=W2,E5=W3),0,IF(E5=W4,0,IF(E5=W5,H48-((H48-H44)/2)))))","v":0.43125000000000002},{"$f":"IF(E4=W16,0,IF(OR(E5=W2,E5=W3),0,IF(E5=W4,0,IF(E5=W5,(Y11/2)+T19))))","v":0.56010974999999996},null,{"$f":"IF(E6=W20,IF(E5<>W3,K45+(U14/4),),)","v":0},{"$f":"IF(E6=W20,IF(E5<>W3,X14,),)","v":0},{"$f":"IF(E7=W20,IF(E5=W5,M47-(U14/4),),)","v":0},{"$f":"IF(E7=W20,IF(E5=W5,X14,),)","v":0},{"$f":"IF(E4=W16,0,IF(E6=W20,IF(E5<>W3,K45+(U14/4),),))","v":0},{"$f":"IF(E4=W16,0,IF(E6=W20,IF(E5<>W3,R63-X14,),))","v":0},{"$f":"IF(E4=W16,0,IF(E7=W20,IF(E5=W5,M47-(U14/4),),))","v":0},{"$f":"IF(E7=W20,IF(E5=W5,R63-X14,),)","v":0}]
[null,null,null,{"$f":"IF(E4=W16,0,D68-(Y20/4))","v":0.29193125000000003},{"$f":"IF(E4=W16,0,E65+(Y11/2))","v":0.54508231250000005},{"$f":"F46+Y23+(F46-F45)","v":0.7681062500000001},{"$f":"IF(E5=W3,0,IF(E5=W4,G45,IF(E5=W5,G45)))","v":0.54508231250000005},{"$f":"IF(E4=W16,0,IF(OR(E5=W2,E5=W3),0,IF(E5=W4,0,IF(E5=W5,H48-(MAX(Y21:Z21)/4)))))","v":0.52564374999999997},{"$f":"I45","v":0.54508231250000005},null,{"$f":"IF(E6=W20,IF(OR(E5=W2,E5=W4),Y10/2,IF(E5=W5,Y10/3,)),)","v":0},{"$f":"IF(E6=W20,IF(E5<>W3,W14,),)","v":0},{"$f":"IF(E7=W20,IF(E5=W5,Y10*(2/3),),)","v":0},{"$f":"IF(E7=W20,IF(E5=W5,W14,),)","v":0},{"$f":"IF(E4=W16,0,IF(E6=W20,IF(OR(E5=W2,E5=W4),Y10/2,IF(E5=W5,Y10/3)),))","v":0},{"$f":"IF(E4=W16,0,IF(E6=W20,IF(E5<>W3,R63-W14,),))","v":0},{"$f":"IF(E4=W16,0,IF(E7=W20,IF(E5=W5,Y10*(2/3),),))","v":0},{"$f":"IF(E7=W20,IF(E5=W5,R63-W14,),)","v":0}]
[null,null,null,{"$f":"IF(E4=W16,0,IF(E5=W3,D64+Y20,IF(OR(E5=W2,E5=W4),Y20+D64,IF(E5=W5,D64+Y20))))","v":0.38632500000000003},{"$f":"IF(E4=W16,0,E44)","v":0.50875000000000004},{"$f":"IF(E4=W16,0,IF(E5=W3,0,IF(E5=W4,Y10-Y23,IF(E5=W5,Y10-Y23))))","v":0.85375000000000001},{"$f":"IF(E5=W3,0,IF(E5=W4,E44,IF(E5=W5,E44)))","v":0.50875000000000004},{"$f":"IF(E4=W16,0,IF(OR(E5=W2,E5=W3),0,IF(E5=W4,0,IF(E5=W5,(Y10/2)+(Z21/2)))))","v":0.62003750000000002},{"$f":"IF(OR(E5=W2,E5=W3),0,IF(E5=W4,0,IF(E5=W5,E44)))","v":0.50875000000000004},null,{"$f":"IF(E6=W20,IF(E5<>W3,K47+(U14/4),),)","v":0},{"$f":"IF(E6=W20,IF(E5<>W3,X14,),)","v":0},{"$f":"IF(E7=W20,IF(E5=W5,M47+(U14/4),),)","v":0},{"$f":"IF(E7=W20,IF(E5=W5,X14,),)","v":0},{"$f":"IF(E4=W16,0,IF(E6=W20,IF(E5<>W3,K47+(U14/4),),))","v":0},{"$f":"IF(E4=W16,0,IF(E6=W20,IF(E5<>W3,R63-X14,),))","v":0},{"$f":"IF(E4=W16,0,IF(E7=W20,IF(E5=W5,M47+(U14/4),),))","v":0},{"$f":"IF(E7=W20,IF(E5=W5,R46,),)","v":0}]
[null,null,null,{"$f":"IF(E4=W16,0,D68-V16)","v":0.33101250000000004},{"$f":"IF(E4=W16,0,(Y19/4)+(Y11/2))","v":0.62062499999999998},{"$f":"IF(E4=W16,0,IF(E5=W3,0,IF(E5=W4,F48-V16,IF(E5=W5,(F48-V16)))))","v":0.79843750000000002},{"$f":"IF(E5=W3,0,IF(E5=W4,E59,IF(E5=W5,E59)))","v":0.62062499999999998},{"$f":"IF(E4=W16,0,IF(OR(E5=W2,E5=W3),0,IF(E5=W4,0,IF(E5=W5,H48-V16))))","v":0.56472500000000003},{"$f":"IF(OR(E5=W2,E5=W3),0,IF(E5=W4,0,IF(E5=W5,G49)))","v":0.62062499999999998},null,{"$f":"IF(E6=W20,IF(E5<>W3,K47+(U14/2),),)","v":0},{"$f":"IF(E6=W20,IF(E5<>W3,Y23,),)","v":0},{"$f":"IF(E7=W20,IF(E5=W5,M47+(U14/2),),)","v":0},{"$f":"IF(E7=W20,IF(E5=W5,N45,),)","v":0},{"$f":"IF(E4=W16,0,IF(E6=W20,IF(E5<>W3,K47+(U14/2),),))","v":0},{"$f":"IF(E4=W16,0,IF(E6=W20,IF(E5<>W3,R63-Y23,),))","v":0},{"$f":"IF(E4=W16,0,IF(E7=W20,IF(E5=W5,M47+(U14/2),),))","v":0},{"$f":"IF(E7=W20,IF(E5=W5,R45,),)","v":0}]
[null,null,null,{"$f":"IF(E4=W16,0,D68-U16)","v":0.31257500000000005},{"$f":"IF(E4=W16,0,((Y11/2)/2)+(Y11/2))","v":0.75},{"$f":"IF(E4=W16,0,IF(E5=W3,0,IF(E5=W4,F48-U16,IF(E5=W5,(F48-U16)))))","v":0.78},{"$f":"IF(E5=W3,0,IF(E5=W4,E50,IF(E5=W5,E50)))","v":0.75},{"$f":"IF(E4=W16,0,IF(OR(E5=W2,E5=W3),0,IF(E5=W4,0,IF(E5=W5,H48-U16))))","v":0.54628750000000004},{"$f":"IF(OR(E5=W2,E5=W3),0,IF(E5=W4,0,IF(E5=W5,E50)))","v":0.75},null,{"$f":"IF(E6=W20,IF(E5<>W3,K49-((K49-K53)/1.8),),)","v":0},{"$f":"IF(E6=W20,IF(E5<>W3,R65/4,),)","v":0},{"$f":"IF(E7=W20,IF(E5=W5,M49-((M49-M53)/1.8),),)","v":0},{"$f":"IF(E7=W20,IF(E5=W5,R65/4,),)","v":0},{"$f":"IF(E4=W16,0,IF(E6=W20,IF(E5<>W3,K49-((K49-K53)/1.8),),))","v":0},{"$f":"IF(E4=W16,0,IF(E6=W20,IF(E5<>W3,R65+R65*0.75,),))","v":0},{"$f":"IF(E4=W16,0,IF(E7=W20,IF(E5=W5,M49-((M49-M53)/1.8),),))","v":0},{"$f":"IF(E7=W20,IF(E5=W5,R65+R65*0.75,),)","v":0}]
[null,null,null,{"$f":"IF(E4=W16,0,D69)","v":0.33101250000000004},{"$f":"IF(E4=W16,0,(Y19*0.75)+(Y11/2))","v":0.86187499999999995},{"$f":"F49","v":0.79843750000000002},{"$f":"IF(E5=W3,0,IF(E5=W4,E57,IF(E5=W5,E57)))","v":0.86187499999999995},{"$f":"H49","v":0.56472500000000003},{"$f":"IF(OR(E5=W2,E5=W3),0,IF(E5=W4,0,IF(E5=W5,G51)))","v":0.86187499999999995},null,{"$f":"IF(E6=W20,IF(E5<>W3,K49-((K49-K53)*0.85),),)","v":0},{"$f":"IF(E6=W20,IF(E5<>W3,R65/2,),)","v":0},{"$f":"IF(E7=W20,IF(E5=W5,M49-((M49-M53)*0.85),),)","v":0},{"$f":"IF(E7=W20,IF(E5=W5,R65/2,),)","v":0},{"$f":"IF(E4=W16,0,IF(E6=W20,IF(E5<>W3,K49-((K49-K53)*0.85),),))","v":0},{"$f":"IF(E4=W16,0,IF(E6=W20,IF(E5<>W3,R65+R65/2,),))","v":0},{"$f":"IF(E4=W16,0,IF(E7=W20,IF(E5=W5,M49-((M49-M53)*0.85),),))","v":0},{"$f":"IF(E7=W20,IF(E5=W5,R65+R65/2,),)","v":0}]
[null,null,null,{"$f":"IF(E4=W16,0,D68)","v":0.38632500000000003},{"$f":"IF(E4=W16,0,((Y11/2)*2)-Y23)","v":0.99124999999999996},{"$f":"IF(E5=W3,0,IF(E5=W4,F48,IF(E5=W5,F48)))","v":0.85375000000000001},{"$f":"IF(E5=W3,0,IF(E5=W4,E56,IF(E5=W5,E52)))","v":0.99124999999999996},{"$f":"IF(OR(E5=W2,E5=W3),0,IF(E5=W4,0,IF(E5=W5,H48)))","v":0.62003750000000002},{"$f":"IF(OR(E5=W2,E5=W3),0,IF(E5=W4,0,IF(E5=W5,G56)))","v":0.99124999999999996},null,{"$f":"IF(E6=W20,IF(E5<>W3,K53+((K49-K53)*0.05),),)","v":0},{"$f":"IF(E6=W20,IF(E5<>W3,R65*0.75,),)","v":0},{"$f":"IF(E7=W20,IF(E5=W5,M53+((M49-M53)*0.05),),)","v":0},{"$f":"IF(E7=W20,IF(E5=W5,R65*0.75,),)","v":0},{"$f":"IF(E4=W16,0,IF(E6=W20,IF(E5<>W3,K53+((K49-K53)*0.05),),))","v":0},{"$f":"IF(E4=W16,0,IF(E6=W20,IF(E5<>W3,R65+R65/4,),))","v":0},{"$f":"IF(E4=W16,0,IF(E7=W20,IF(E5=W5,M53+((M49-M53)*0.05),),))","v":0},{"$f":"IF(E7=W20,IF(E5=W5,R65+R65/4,),)","v":0}]
[null,null,null,{"$f":"IF(E4=W16,0,D67)","v":0.29193125000000003},{"$f":"IF(E4=W16,0,((Y11/2)-E65)+(Y11/2))","v":0.95491768750000006},{"$f":"F47","v":0.7681062500000001},{"$f":"IF(E4=W16,0,IF(E5=W3,0,IF(E5=W4,R63-U20,IF(E5=W5,R63-U20))))","v":0.95491768749999995},{"$f":"H47","v":0.52564374999999997},{"$f":"IF(E4=W16,0,IF(OR(E5=W2,E5=W3),0,IF(E5=W4,0,IF(E5=W5,R63-U19))))","v":0.95491768749999995},null,{"$f":"IF(E6=W20,IF(E5<>W3,K47,),)","v":0},{"$f":"IF(E6=W20,IF(E5<>W3,R65-Y23,),)","v":0},{"$f":"IF(E7=W20,IF(E5=W5,M47,),)","v":0},{"$f":"IF(E7=W20,IF(E5=W5,R65-Y23,),)","v":0},{"$f":"IF(E4=W16,0,IF(E6=W20,IF(E5<>W3,K47,),))","v":0},{"$f":"IF(E4=W16,0,IF(E6=W20,IF(E5<>W3,R65+Y23,),))","v":0},{"$f":"IF(E4=W16,0,IF(E7=W20,IF(E5=W5,M47,),))","v":0},{"$f":"IF(E7=W20,IF(E5=W5,R65+Y23,),)","v":0}]
[null,null,null,{"$f":"IF(E4=W16,0,D66)","v":0.1975375},{"$f":"IF(E4=W16,0,((Y11/2)-E66)+(Y11/2))","v":0.93989024999999993},{"$f":"IF(E5=W3,0,IF(E5=W4,F46,IF(E5=W5,F46)))","v":0.65621249999999998},{"$f":"IF(E4=W16,0,IF(E5=W3,0,IF(E5=W4,R63-T20,IF(E5=W5,R63-T20))))","v":0.93989025000000004},{"$f":"IF(OR(E5=W2,E5=W3),0,IF(E5=W4,0,IF(E5=W5,H46)))","v":0.43125000000000002},{"$f":"IF(E4=W16,0,IF(OR(E5=W2,E5=W3),0,IF(E5=W4,0,IF(E5=W5,R63-T19))))","v":0.93989025000000004},null,{"$f":"IF(E6=W20,IF(E5<>W3,K53-((K53-K57)*0.05),),)","v":0},{"$f":"IF(E6=W20,IF(E5<>W3,L52,),)","v":0},{"$f":"IF(E7=W20,IF(E5=W5,M53-((M53-M57)*0.05),),)","v":0},{"$f":"IF(E7=W20,IF(E5=W5,N52,),)","v":0},{"$f":"IF(E4=W16,0,IF(E6=W20,IF(E5<>W3,K53-((K53-K57)*0.05),),))","v":0},{"$f":"IF(E4=W16,0,IF(E6=W20,IF(E5<>W3,P52,),))","v":0},{"$f":"IF(E4=W16,0,IF(E7=W20,IF(E5=W5,M53-((M53-M57)*0.05),),))","v":0},{"$f":"IF(E7=W20,IF(E5=W5,R52,),)","v":0}]
[null,null,null,{"$f":"IF(E4=W16,0,D65)","v":0.11189375000000001},{"$f":"E53","v":0.95491768750000006},{"$f":"F45","v":0.55306874999999989},{"$f":"IF(E5=W3,0,IF(E5=W4,G53,IF(E5=W5,G53)))","v":0.95491768749999995},{"$f":"H45","v":0.33685625000000002},{"$f":"I53","v":0.95491768749999995},null,{"$f":"IF(E6=W20,IF(E5<>W3,K57+((K53-K57)*0.85),),)","v":0},{"$f":"IF(E6=W20,IF(E5<>W3,L51,),)","v":0},{"$f":"IF(E7=W20,IF(E5=W5,M57+((M53-M57)*0.85),),)","v":0},{"$f":"IF(E7=W20,IF(E5=W5,N51,),)","v":0},{"$f":"IF(E4=W16,0,IF(E6=W20,IF(E5<>W3,K57+((K53-K57)*0.85),),))","v":0},{"$f":"IF(E6=W20,IF(E5<>W3,P51,),)","v":0},{"$f":"IF(E4=W16,0,IF(E7=W20,IF(E5=W5,M57+((M53-M57)*0.85),),))","v":0},{"$f":"IF(E7=W20,IF(E5=W5,R51,),)","v":0}]
[null,null,null,{"$f":"IF(E4=W16,0,D64)","v":8.7500000000000008E-3},{"$f":"E52","v":0.99124999999999996},{"$f":"IF(E5=W3,0,IF(E5=W4,F44,IF(E5=W5,F44)))","v":0.47617499999999996},{"$f":"IF(E5=W3,0,IF(E5=W4,G52,IF(E5=W5,G52)))","v":0.99124999999999996},{"$f":"IF(OR(E5=W2,E5=W3),0,IF(E5=W4,0,IF(E5=W5,H44)))","v":0.2424625},{"$f":"IF(OR(E5=W2,E5=W3),0,IF(E5=W4,0,IF(E5=W5,I52)))","v":0.99124999999999996},null,{"$f":"IF(E6=W20,IF(E5<>W3,K57+((K53-K57)/1.8),),)","v":0},{"$f":"IF(E6=W20,IF(E5<>W3,L50,),)","v":0},{"$f":"IF(E7=W20,IF(E5=W5,M57+((M53-M57)/1.8),),)","v":0},{"$f":"IF(E7=W20,IF(E5=W5,N50,),)","v":0},{"$f":"IF(E4=W16,0,IF(E6=W20,IF(E5<>W3,K57+((K53-K57)/1.8),),))","v":0},{"$f":"IF(E6=W20,IF(E5<>W3,P50,),)","v":0},{"$f":"IF(E4=W16,0,IF(E7=W20,IF(E5=W5,M57+((M53-M57)/1.8),),))","v":0},{"$f":"IF(E7=W20,IF(E5=W5,R50,),)","v":0}]
[null,null,null,{"$f":"IF(E4=W16,0,D64+V16)","v":6.4062500000000008E-2},{"$f":"E51","v":0.86187499999999995},{"$f":"IF(E4=W16,0,IF(E5=W3,0,IF(E5=W4,F56+V16,IF(E5=W5,(F44+V16)))))","v":0.5314875},{"$f":"G51","v":0.86187499999999995},{"$f":"IF(E4=W16,0,IF(OR(E5=W2,E5=W3),0,IF(E5=W4,0,IF(E5=W5,(H44+V16)))))","v":0.29777500000000001},{"$f":"I51","v":0.86187499999999995},null,{"$f":"IF(E6=W20,IF(E5<>W3,K45,),)","v":0},{"$f":"IF(E6=W20,IF(E5<>W3,L45,),)","v":0},{"$f":"IF(E7=W20,IF(E5=W5,M45,),)","v":0},{"$f":"IF(E7=W20,IF(E5=W5,N45,),)","v":0},{"$f":"IF(E4=W16,0,IF(E6=W20,IF(E5<>W3,K45,),))","v":0},{"$f":"IF(E6=W20,IF(E5<>W3,P45,),)","v":0},{"$f":"IF(E4=W16,0,IF(E7=W20,IF(E5=W5,M45,),))","v":0},{"$f":"IF(E7=W20,IF(E5=W5,R49,),)","v":0}]
[null,null,null,{"$f":"IF(E4=W16,0,D64+U16)","v":8.2500000000000018E-2},{"$f":"E50","v":0.75},{"$f":"IF(E4=W16,0,IF(E5=W3,0,IF(E5=W4,F56+U16,IF(E5=W5,(F44+U16)))))","v":0.549925},{"$f":"IF(E5=W3,0,IF(E5=W4,G50,IF(E5=W5,G50)))","v":0.75},{"$f":"IF(E4=W16,0,IF(OR(E5=W2,E5=W3),0,IF(E5=W4,0,IF(E5=W5,H44+U16))))","v":0.31621250000000001},{"$f":"IF(OR(E5=W2,E5=W3),0,IF(E5=W4,0,IF(E5=W5,E50)))","v":0.75},null,null,null,null,null,null,null,"Roof plan"]
[null,null,null,{"$f":"IF(E4=W16,0,D77)","v":6.4062500000000008E-2},{"$f":"E49","v":0.62062499999999998},{"$f":"F57","v":0.5314875},{"$f":"G49","v":0.62062499999999998},{"$f":"H57","v":0.29777500000000001},{"$f":"I49","v":0.62062499999999998},null,null,null,null,null,null,null,"x-axis","y-axis"]
[null,null,null,{"$f":"IF(E4=W16,0,D64)","v":8.7500000000000008E-3},{"$f":"E44","v":0.50875000000000004},{"$f":"IF(E5=W3,0,IF(E5=W4,F56,IF(E5=W5,F56)))","v":0.47617499999999996},{"$f":"IF(E5=W3,0,IF(E5=W4,E44,IF(E5=W5,E44)))","v":0.50875000000000004},{"$f":"IF(OR(E5=W2,E5=W3),0,IF(E5=W4,0,IF(E5=W5,H56)))","v":0.2424625},{"$f":"IF(OR(E5=W2,E5=W3),0,IF(E5=W4,0,IF(E5=W5,E44)))","v":0.50875000000000004},null,null,null,null,null,null,null,0,0]
[null,null,null,null,null,null,null,null,null,null,null,null,null,null,null,null,{"$f":"Y10","v":0.86250000000000004},0]
[null,null,null,"x","y","x","y","x","y",null,null,null,null,null,null,null,{"$f":"Y10","v":0.86250000000000004},{"$f":"Y11","v":1}]
[null,null,null,"Left down",null,"Right down",null,"Mid down",null,null,null,null,null,null,null,null,0,{"$f":"Y11","v":1}]
[null,null,null,{"$f":"Y23","v":8.7500000000000008E-3},{"$f":"Y23","v":8.7500000000000008E-3},{"$f":"IF(E5=W3,0,IF(E5=W4,F68-Y22,IF(E5=W5,(F68-Y22))))","v":0.47617499999999996},{"$f":"IF(E5=W3,0,IF(E5=W4,Y23,IF(E5=W5,Y23)))","v":8.7500000000000008E-3},{"$f":"IF(OR(E5=W2,E5=W3),0,IF(E5=W4,0,IF(E5=W5,(Y10/2)-(Y21/2))))","v":0.2424625},{"$f":"IF(OR(E5=W2,E5=W3),0,IF(E5=W4,0,IF(E5=W5,Y23)))","v":8.7500000000000008E-3},null,null,null,null,null,null,null,0,0]
[null,null,null,{"$f":"D64+(Y20/4)+Y23","v":0.11189375000000001},{"$f":"E66*0.75","v":4.5082312500000006E-2},{"$f":"IF(E5=W3,0,IF(E5=W4,F66-(Y22/4),IF(E5=W5,F66-Y23-(Y22/4))))","v":0.55306874999999989},{"$f":"IF(E5=W3,0,IF(E5=W4,U20,IF(E5=W5,U20)))","v":4.5082312500000006E-2},{"$f":"IF(OR(E5=W2,E5=W3),0,IF(E5=W4,0,IF(E5=W5,H64+(MAX(Y21:Z21)/4))))","v":0.33685625000000002},{"$f":"IF(OR(E5=W2,E5=W3),0,IF(E5=W4,0,IF(E5=W5,U19)))","v":4.5082312500000006E-2},null,null,null,null,null,null,null,0,{"$f":"Y11/2","v":0.5}]
[null,null,null,{"$f":"IF(E5=W3,(Y10/2),IF(OR(E5=W2,E5=W4),D68-(Y20/2),IF(E5=W5,(D68-(Y20/2)))))","v":0.1975375},{"$f":"T18","v":6.010975000000001E-2},{"$f":"IF(E5=W3,0,IF(E5=W4,F68-(Y22/2),IF(E5=W5,F68-Y23-(Y22/2))))","v":0.65621249999999998},{"$f":"IF(E5=W3,0,IF(E5=W4,T20,IF(E5=W5,T20)))","v":6.010975000000001E-2},{"$f":"IF(OR(E5=W2,E5=W3),0,IF(E5=W4,0,IF(E5=W5,H68-((H68-H64)/2))))","v":0.43125000000000002},{"$f":"IF(OR(E5=W2,E5=W3),0,IF(E5=W4,0,IF(E5=W5,T19)))","v":6.010975000000001E-2},null,null,null,null,null,null,null,{"$f":"Q62","v":0.86250000000000004},{"$f":"R65","v":0.5}]
[null,null,null,{"$f":"D68-(Y20/4)","v":0.29193125000000003},{"$f":"E65","v":4.5082312500000006E-2},{"$f":"F66+Y23+(F66-F65)","v":0.7681062500000001},{"$f":"IF(E5=W3,0,IF(E5=W4,U20,IF(E5=W5,U20)))","v":4.5082312500000006E-2},{"$f":"IF(OR(E5=W2,E5=W3),0,IF(E5=W4,0,IF(E5=W5,H68-(MAX(Y21:Z21)/4))))","v":0.52564374999999997},{"$f":"I65","v":4.5082312500000006E-2}]
[null,null,null,{"$f":"IF(E5=W3,D64+Y20,IF(OR(E5=W2,E5=W4),Y20+D64,IF(E5=W5,D64+Y20)))","v":0.38632500000000003},{"$f":"Y23","v":8.7500000000000008E-3},{"$f":"IF(E5=W3,0,IF(E5=W4,Y10-Y23,IF(E5=W5,Y10-Y23)))","v":0.85375000000000001},{"$f":"IF(E5=W3,0,IF(E5=W4,Y23,IF(E5=W5,Y23)))","v":8.7500000000000008E-3},{"$f":"IF(OR(E5=W2,E5=W3),0,IF(E5=W4,0,IF(E5=W5,(Y10/2)+(Z21/2))))","v":0.62003750000000002},{"$f":"IF(OR(E5=W2,E5=W3),0,IF(E5=W4,0,IF(E5=W5,Y23)))","v":8.7500000000000008E-3}]
[null,null,null,{"$f":"D68-V16","v":0.33101250000000004},{"$f":"Y19/4","v":0.120625},{"$f":"IF(E5=W3,0,IF(E5=W4,F68-V16,IF(E5=W5,(F68-V16))))","v":0.79843750000000002},{"$f":"IF(E5=W3,0,IF(E5=W4,E79,IF(E5=W5,E79)))","v":0.120625},{"$f":"IF(OR(E5=W2,E5=W3),0,IF(E5=W4,0,IF(E5=W5,H68-V16)))","v":0.56472500000000003},{"$f":"IF(OR(E5=W2,E5=W3),0,IF(E5=W4,0,IF(E5=W5,G69)))","v":0.120625}]
[null,null,null,{"$f":"D68-U16","v":0.31257500000000005},{"$f":"(Y11/2)/2","v":0.25},{"$f":"IF(E5=W3,0,IF(E5=W4,F68-U16,IF(E5=W5,(F68-U16))))","v":0.78},{"$f":"IF(E5=W3,0,IF(E5=W4,E70,IF(E5=W5,E70)))","v":0.25},{"$f":"IF(OR(E5=W2,E5=W3),0,IF(E5=W4,0,IF(E5=W5,H68-U16)))","v":0.54628750000000004},{"$f":"IF(OR(E5=W2,E5=W3),0,IF(E5=W4,0,IF(E5=W5,E70)))","v":0.25}]
[null,null,null,{"$f":"D69","v":0.33101250000000004},{"$f":"(Y19*0.75)","v":0.361875},{"$f":"F69","v":0.79843750000000002},{"$f":"IF(E5=W3,0,IF(E5=W4,E77,IF(E5=W5,E77)))","v":0.361875},{"$f":"H69","v":0.56472500000000003},{"$f":"IF(OR(E5=W2,E5=W3),0,IF(E5=W4,0,IF(E5=W5,G71)))","v":0.361875}]
[null,null,null,{"$f":"D68","v":0.38632500000000003},{"$f":"(Y11/2)-Y23","v":0.49125000000000002},{"$f":"IF(E5=W3,0,IF(E5=W4,F68,IF(E5=W5,F68)))","v":0.85375000000000001},{"$f":"IF(E5=W3,0,IF(E5=W4,E76,IF(E5=W5,(Y11/2)-Y23)))","v":0.49125000000000002},{"$f":"IF(OR(E5=W2,E5=W3),0,IF(E5=W4,0,IF(E5=W5,H68)))","v":0.62003750000000002},{"$f":"IF(OR(E5=W2,E5=W3),0,IF(E5=W4,0,IF(E5=W5,G76)))","v":0.49125000000000002}]
[null,null,null,{"$f":"D67","v":0.29193125000000003},{"$f":"(Y11/2)-E65","v":0.4549176875},{"$f":"F67","v":0.7681062500000001},{"$f":"IF(E5=W3,0,IF(E5=W4,(Y11/2)-U20,IF(E5=W5,(Y11/2)-U20)))","v":0.4549176875},{"$f":"H67","v":0.52564374999999997},{"$f":"IF(OR(E5=W2,E5=W3),0,IF(E5=W4,0,IF(E5=W5,(Y11/2)-U19)))","v":0.4549176875}]
[null,null,null,{"$f":"D66","v":0.1975375},{"$f":"(Y11/2)-E66","v":0.43989024999999998},{"$f":"IF(E5=W3,0,IF(E5=W4,F66,IF(E5=W5,F66)))","v":0.65621249999999998},{"$f":"IF(E5=W3,0,IF(E5=W4,(Y11/2)-T20,IF(E5=W5,(Y11/2)-T20)))","v":0.43989024999999998},{"$f":"IF(OR(E5=W2,E5=W3),0,IF(E5=W4,0,IF(E5=W5,H66)))","v":0.43125000000000002},{"$f":"IF(OR(E5=W2,E5=W3),0,IF(E5=W4,0,IF(E5=W5,(Y11/2)-T19)))","v":0.43989024999999998}]
[null,null,null,{"$f":"D65","v":0.11189375000000001},{"$f":"E73","v":0.4549176875},{"$f":"F65","v":0.55306874999999989},{"$f":"IF(E5=W3,0,IF(E5=W4,G73,IF(E5=W5,G73)))","v":0.4549176875},{"$f":"H65","v":0.33685625000000002},{"$f":"I73","v":0.4549176875}]
[null,null,null,{"$f":"D64","v":8.7500000000000008E-3},{"$f":"E72","v":0.49125000000000002},{"$f":"IF(E5=W3,0,IF(E5=W4,F64,IF(E5=W5,F64)))","v":0.47617499999999996},{"$f":"IF(E5=W3,0,IF(E5=W4,G72,IF(E5=W5,G72)))","v":0.49125000000000002},{"$f":"IF(OR(E5=W2,E5=W3),0,IF(E5=W4,0,IF(E5=W5,H64)))","v":0.2424625},{"$f":"IF(OR(E5=W2,E5=W3),0,IF(E5=W4,0,IF(E5=W5,I72)))","v":0.49125000000000002}]
[null,null,null,{"$f":"D64+V16","v":6.4062500000000008E-2},{"$f":"E71","v":0.361875},{"$f":"IF(E5=W3,0,IF(E5=W4,F76+V16,IF(E5=W5,(F64+V16))))","v":0.5314875},{"$f":"G71","v":0.361875},{"$f":"IF(OR(E5=W2,E5=W3),0,IF(E5=W4,0,IF(E5=W5,(H64+V16))))","v":0.29777500000000001},{"$f":"I71","v":0.361875}]
[null,null,null,{"$f":"D64+U16","v":8.2500000000000018E-2},{"$f":"E70","v":0.25},{"$f":"IF(E5=W3,0,IF(E5=W4,F76+U16,IF(E5=W5,(F64+U16))))","v":0.549925},{"$f":"IF(E5=W3,0,IF(E5=W4,G70,IF(E5=W5,G70)))","v":0.25},{"$f":"IF(OR(E5=W2,E5=W3),0,IF(E5=W4,0,IF(E5=W5,H64+U16)))","v":0.31621250000000001},{"$f":"IF(OR(E5=W2,E5=W3),0,IF(E5=W4,0,IF(E5=W5,E70)))","v":0.25}]
[null,null,null,{"$f":"D77","v":6.4062500000000008E-2},{"$f":"E69","v":0.120625},{"$f":"F77","v":0.5314875},{"$f":"G69","v":0.120625},{"$f":"H77","v":0.29777500000000001},{"$f":"I69","v":0.120625}]
[null,null,null,{"$f":"D64","v":8.7500000000000008E-3},{"$f":"Y23","v":8.7500000000000008E-3},{"$f":"IF(E5=W3,0,IF(E5=W4,F76,IF(E5=W5,F76)))","v":0.47617499999999996},{"$f":"IF(E5=W3,0,IF(E5=W4,Y23,IF(E5=W5,Y23)))","v":8.7500000000000008E-3},{"$f":"IF(OR(E5=W2,E5=W3),0,IF(E5=W4,0,IF(E5=W5,H76)))","v":0.2424625},{"$f":"IF(OR(E5=W2,E5=W3),0,IF(E5=W4,0,IF(E5=W5,Y23)))","v":8.7500000000000008E-3}]

{"sheet":"Georgian Hipped","index":5,"n_rows":76,"n_cols":32,"rows_kept":76,"cut":false,"hidden":false,"merged":[[17,7,18,10],[24,6,26,10],[22,7,23,9],[27,6,29,10],[27,3,31,4],[24,3,25,4]]}
[null,null,null,null,null,null,null,null,null,null,null,null,null,null,null,null,null,null,null,"Main material",{"$f":"IF(OR(E17=AD2,E17=AD3,E17=AD4,E17=AD5,E17=AD6,E17=AD7),5,IF(OR(E17=AD8,E17=AD9,E17=AD10,E17=AD11,E17=AD12,E17=AD13,E17=AD14,E17=AD15,E17=AD16,E17=AD17),6,IF(OR(E17=AD18,E17=AD19,E17=AD20,E17=AD21,E17=AD22,E17=AD23,E17=AD24),7.2,)))","v":5},"Material cost",11.35,"Sails","Warning 1","Warning: Sail too narrow, decrease no. of sails, add additional fitting points or increase gap size","Triangles",null,null,"Fabric Colour",null,"Fittings Colours"]
[null,null,null,null,null,null," ",null,null,null,null,null,null,null,null,null,null,null,null,"Tri material",{"$f":"IF(OR(E18=AD2,E18=AD3,E18=AD4,E18=AD5,E18=AD6,E18=AD7),5,IF(OR(E18=AD8,E18=AD9,E18=AD10,E18=AD11,E18=AD12,E18=AD13,E18=AD14,E18=AD15,E18=AD16,E18=AD17),6,IF(OR(E18=AD18,E18=AD19,E18=AD20,E18=AD21,E18=AD22,E18=AD23,E18=AD24),7.2,)))","v":5},"PE",2.5,"1 - Front","Warning 2","Warning: Sail too narrow, increase no. of sails, add additional fitting points or reduce gap size","No",null,null,"ISX Solid",5,"Stainless steel"]
[null,null,null,null,null,null,null,null,null,null,null,null,null,null,null,null,null,null,null,null,null,"PN",3.5,"1 - Full","Warning 3","Warning: Sail too wide for standard fabric, please add more sails or increase gap size","Yes",null,null,"ISX White",null,"White"]
[null,null,null,"Select coverage","Cover both sides",null,null,null,null,null,null,null,null,null,null,null,null,null,null,null,null,"IP",2,2,"Warning 4","Warning: Conservatory too long for standard fabric, contact office for more detailed price","Coverage",null,null,"ISX Solid Ivory",null,"Gold"]
[null,null,null,"Number of sails per side",2,null,null,null,null,null,null,null,null,null,null,null,null,null,null,null,null,null,null,3,"Warning 5","Warning: Ridge is too short for a 3 sails per side solution, reduce no. of sails","Cover one side",null,null,"ISX Solid Oyster"]
[null,null,null,"Front triangle sail","Yes",null,null,null,null,null,null,null,null,null,null,null,null,null,null,"Shape",{"$f":"IF(X10=T7,U7,IF(X10=T8,U8,IF(X10=T9,U9)))","v":1},"No. of vents",null,null,"Warning 6","Warning: Some triangular sails are too thin for this conservatory","Cover both sides",null,null,"ISX Solid Sand"]
[null,null,null,"Middle triangle sails","Yes",null,null,null,null,null,null,null,null,null,null,null,null,null,null,"Triangle",0.6,0,null,null,null,null,null,null,null,"ISX Solid Stone"]
[null,null,null,"Back triangle sails","Yes",null,null,null,null,null,null,null,null,null,null,null,null,null,null,"Diamond",0.6,1,null,null,"Warnings front","Warnings mid","Warnings back","Warnings front tri","Warnings back tri","ISX Duplex",6]
[null,null,null,null,null,null,null,null,null," "," ",null,null,null,null,null,null,null," ","Other",1,2,"No. of corners",4,{"$f":"W30","v":2.1931712199461306},{"$f":"IF(OR(E5=X2,E5=X3),Y9,X30)","v":2.1931712199461306},{"$f":"Y30","v":2.1931712199461306},{"$f":"IF(E6=AA2,0.001,1)*Z30","v":2.2388613177238113},{"$f":"IF(OR(E6=AA3,E7=AA3),1,0.0001)*AA30","v":2.1931712199461306},"ISX Duplex Ocean"]
[null,null,null,"Reduce front gap size","Standard",null,null,null,null,null," ",null,null,null,null,null,null,null," ","Overlap front",{"$f":"IF(E10=T11,U11,IF(E10=T12,U12,IF(E10=T13,U13,)))","v":0},3,"Shape","Other",{"$f":"W31","v":2.2388613177238113},{"$f":"IF(OR(E5=X2,E5=X3),Y10,X31)","v":1.3999999999999997},{"$f":"IF(E5<>X5,Y10,Y31)","v":2.2388613177238113},{"$f":"Z31+IF(E5=X3,1000)","v":1.4560000000000002},{"$f":"AA31","v":1.421},"ISX Duplex Forest"]
[null,null,null,"Reduce middle gap size","Standard",null,null,null,null,null,null,null,null,null,null,null,null,null,null,"Point to point",0,4,"Curve allowance",0.5,"Tri","Mid","Quarters",null,null,"ISX Duplex Stone"]
[null,null,null,"Reduce back gap size","Standard",null,null,null,null,null,null,null,null,null,null,null,null,null,null,0.5,{"$f":"(W15*2)/2+(0.035/(IF(B24>B25,B24,B25)/1000))","v":8.4125000000000033E-2},"Front","Mid","Quarters","Vertical Back",{"$f":"((AA25+(0.07/(IF(B24>B25,B24,B25)/1000)))*0.13)+U30","v":5.4932500000000002E-2},{"$f":"Z12*0.75","v":4.1199375000000003E-2},null,null,"ISX Duplex Slate"]
[null,null,null,"Total additional fittings",0,null,null,null,null," "," ",null,null,null,null,null,null,null," ",1,{"$f":"W15*2+(0.035/(IF(B24>B25,B24,B25)/1000))","v":0.15950000000000006},"Horizontal",{"$f":"((W24+(0.07/(IF(B24>B25,B24,B25)/1000)))*0.13)+U30","v":7.375000000000001E-2},{"$f":"(W13)*0.75","v":5.5312500000000007E-2},"Vertical Middle",{"$f":"((Z25+(0.07/(IF(B24>B25,B24,B25)/1000)))*0.13)+U30","v":5.4932500000000002E-2},{"$f":"Z13*0.75","v":4.1199375000000003E-2},null,null,"ISX Duplex Graphite"]
[null,null,null,"Total tie-bar loops",0,null,null,null,null,null,null,null,null,null,null,null,null,null," ","Overlap middle",{"$f":"IF(E11=T15,U15,IF(E11=T16,U16,IF(E11=T17,U17,)))*IF(E5=X3,0,1)","v":0},"Hotizontal overlaped",{"$f":"((X24+(0.07/(IF(B24>B25,B24,B25)/1000)))*0.13)+U30","v":7.375000000000001E-2},{"$f":"(W14)*0.75","v":5.5312500000000007E-2},"Vertical Front",{"$f":"((Y25+(0.07/(IF(B24>B25,B24,B25)/1000)))*0.13)+U30","v":5.6070000000000009E-2},{"$f":"Z14*0.75","v":4.2052500000000007E-2},null,null,"ISXFR Solid",6]
[null,null,null,"Total straight edges",0,null,null,null,null,null,null,null,null,null,null,null,null,null,null,"Standard",0,"Vertical",{"$f":"IF(E5=X2,((W25+(0.07/(IF(B24>B25,B24,B25)/1000)))*0.13)+U30,((W25+(0.07/(IF(B24>B25,B24,B25)/1000)))*0.13)+U30)","v":7.5375000000000025E-2},{"$f":"W15*0.75","v":5.6531250000000019E-2},"Back","Mid","Quarters",null,null,"ISXFR White"]
[null,null,null,null,null,null,null,null,null,null,null,null,null,null,null,null,null,null,null,0.5,{"$f":"(W18*2.5)/2+(0.035/(IF(B24>B25,B24,B25)/1000))","v":0.10093750000000001},"Vertical overlaped",{"$f":"((X25+(0.07/(IF(B24>B25,B24,B25)/1000)))*0.13)+U30","v":7.5375000000000025E-2},{"$f":"W16*0.75","v":5.6531250000000019E-2},"Horizontal",{"$f":"((Z27+(0.07/(IF(B24>B25,B24,B25)/1000)))*0.13)+U30","v":7.375000000000001E-2},{"$f":"Z16*0.75","v":5.5312500000000007E-2},null,null,"ISXFR Solid Ivory"]
[null,null,null,"Colour of main sails","ISX Solid",null,null,"Plan view - looking from above",null,null,null,null,null,null,null,null,null,null,null,1,{"$f":"W18*2.5+(0.035/(IF(B24>B25,B24,B25)/1000))","v":0.19312500000000002},"Mid","Mid","Quarters","Vertical",{"$f":"((Z28+(0.07/(IF(B24>B25,B24,B25)/1000)))*0.13)+U30","v":3.15E-2},{"$f":"Z17*0.75","v":2.3625E-2},null,null,"ISXFR Solid Oyster"]
[null,null,null,"Colour of triangles","ISX Solid",null,null,{"$f":"IF(OR(E13>0,E14>0,E15>0),\"Mark additional features (fittings/tie-bar loops/straight edges) on sketch\",\"\")","v":""},null,null,null,null,null,null,null,null,null,null," ","Overlap back",{"$f":"IF(E5<>X5,0,IF(E12=T15,U19,IF(E12=T16,U20,IF(E12=T17,U21,))))","v":0},"Horizontal",{"$f":"((W27+(0.07/(IF(B24>B25,B24,B25)/1000)))*0.13)+U30","v":7.375000000000001E-2},{"$f":"(W18)*0.75","v":5.5312500000000007E-2},null,null,null,null,null,"ISXFR Duplex",7.2]
[null,null,null,"Colour of fittings","Stainless steel",null,null,null,null,null,null,null,null,null,null,null,null,null,null,"Standard",0,"Vertical",{"$f":"((Y28+(0.07/(IF(B24>B25,B24,B25)/1000)))*0.13)+U30","v":5.425E-2},{"$f":"W19*0.75","v":4.0687500000000001E-2},null,null,null,null,null,"ISXFR Duplex Ocean"]
[null,null,null,"Number of window vents",0,null,null,null,null,null,null,null,null,null,null,null,null,null,null,0.5,{"$f":"IF(E5=X4,W18+(0.035/(IF(B24>B25,B24,B25)/1000)),IF(E5=X5,W18/2+(0.035/(IF(B24>B25,B24,B25)/1000)),))","v":8.2500000000000018E-2},"Vertical overlaped",{"$f":"((AVERAGE(W28:Y28)+(0.07/(IF(B24>B25,B24,B25)/1000)))*0.13)+U30","v":5.425E-2},{"$f":"W20*0.75","v":4.0687500000000001E-2},null,null,null,null,null,"ISXFR Duplex Forest"]
[null,null,null,null,null,null,null,null,null,null,null,null,null,null,null,null,null,null,null,1,{"$f":"IF(E5=X4,W18*2+(0.035/(IF(B24>B25,B24,B25)/1000)),IF(E5=X5,W18+(0.035/(IF(B24>B25,B24,B25)/1000)),))","v":0.15625000000000003},null,"front","mid","back","tri front","tri mid/back",null,null,"ISXFR Duplex Sand"]
[null,null,null,"Max length of sail",{"$f":"(MAX(W30:Y30))*1000","v":2193.1712199461308},null,null,null,null,null,null,null,null,null,null,null,null,null,null,null,"Dims in m","Sail perimeter",{"$f":"((X24+0.07)*2)+((X25+0.07)*2)","v":2.2350000000000003},{"$f":"((W27+0.07)*2)+X28+0.07+W28+0.07","v":1.9100000000000001},{"$f":"((Z27+0.07)*2)+((Z28+0.07)*2)","v":1.56},{"$f":"((Y24+0.07)*2)+Y25+0.07","v":1.5465000000000002},{"$f":"((Z24+0.07)*2)+Z25+0.07","v":1.51275},null,null,"ISXFR Duplex Stone"]
[null,"All dims in mm",null,"Max width of sail",{"$f":"(MAX(W31:Y31))*1000","v":2238.8613177238112},null,null,"Total budget cost incl. Installation+VAT+Delivery",null,null,{"$f":"(((12.15+(E20*50*VAT!V1)+W33+X33+Y33+Z33+IF(E7=AA3,AA33,)+IF(AND(E5=X5,E8=AA3),AA33,))+(25.5*E13)+IF(E19<>AF2,E13*2,0)))+(E14*75*VAT!V1)+(E15*100*VAT!V1)","v":2689.2074803072251},null,null,null,null,null,null,null,null,"h1",{"$f":"B26/IF(B24>B25,B24,B25)","v":0.53749999999999998},null,"front + overlaped",null,"tri front","tri mid","tri back",null,null,"ISXFR Duplex Slate"]
["X1",4000,null,null,null,null,null,null,null,null,{"$f":"'   '!P5","v":3092.5886023533089},null,null,null,null,null,null,null,null,"h2",{"$f":"B27/IF(B24>B25,B24,B25)","v":0.76249999999999996},"Sail length",{"$f":"(U26/2)-(0.07/(IF(B24>B25,B24,B25)/1000))","v":0.48249999999999998},{"$f":"W24+U10","v":0.48249999999999998},{"$f":"N49-(0.07/(IF(B24>B25,B24,B25)/1000))","v":0.49500000000000005},{"$f":"(U26/2)-(0.07/(IF(B24>B25,B24,B25)/1000))","v":0.48249999999999998},{"$f":"(U26/2)-(0.07/(IF(B24>B25,B24,B25)/1000))","v":0.48249999999999998},null,null,"ISXFR Duplex Graphite"]
["Y1",3450,null,"Please note that sails larger than 2100mm in both directions, will require a colour matched seam.",null,null,{"$f":"'   '!A9","v":0},null,null,null,null,null,null,null,null,null,null,null,null,"y1",{"$f":"B25/IF(B24>B25,B24,B25)","v":0.86250000000000004},"Sail width",{"$f":"IF(E5=X3,N46-(0.07/(IF(B24>B25,B24,B25)/1000)),N49-(0.07/(IF(B24>B25,B24,B25)/1000)))","v":0.49500000000000005},{"$f":"W25+U14","v":0.49500000000000005},{"$f":"Y24*0.7","v":0.34650000000000003},{"$f":"Z24*0.7","v":0.33774999999999999},{"$f":"AA24*0.7","v":0.33774999999999999}]
["H1",2150,null,null,null,null,null,null,null,null,null,null,null,null,null,null,null,null,null,"x1",{"$f":"B24/IF(B24>B25,B24,B25)","v":1},null,"mid + overlaped",null,null,"back"," "]
["H2",3050,null,null,null,null,null,null,null,null,null,null,null,null,null,null,null,null,null,"r1",{"$f":"B28/IF(B24>B25,B24,B25)","v":0.35},"Sail length",{"$f":"W24","v":0.48249999999999998}," <-"," ->",{"$f":"W27","v":0.48249999999999998}]
["R1",1400,null,{"$f":"IF(((MAX(W13,W18,Z16)*(IF(B24>B25,B24,B25)/1000))*2)>((MIN(Y10:AA10))*X11),Z1,IF(((MAX(W15,W19,Z17)*(IF(B24>B25,B24,B25)/1000))*2)>((MIN(Y9:AA9))*X11),Z2,IF(AND(Y9>4,Y10>4),Z3,IF(AND((U27*(IF(B24>B25,B24,B25)/1000))<1.5,E5=X5),Z5,IF(AND(OR(E6=AA3,E7=AA3,E8=AA3),OR(Y25*2<Y24,Z25*2<Z24,AA25*2<AA24)),Z6,\"\")))))","v":""},null,null,{"$f":"'   '!A12","v":0},null,null,null,null,null,null,null,null,null,null,null,null,"Roof area (m^2)",{"$f":"U29*U25","v":0.47290254430088446},"Sail width",{"$f":"((U27/IF(E5=X4,1,2))-(0.07/(IF(B24>B25,B24,B25)/1000)))","v":0.33249999999999996},{"$f":"W28+U14","v":0.33249999999999996},{"$f":"W28+U18","v":0.33249999999999996},{"$f":"((U27)/2)-(0.07/(IF(B24>B25,B24,B25)/1000))+U18","v":0.15749999999999997}]
[null,null,null,null,null,null,null,null,null,null,null,null,null,null,null,null,null,null,null,"Glazing bar length",{"$f":"SQRT((U24-U23)^2+(U26/2)^2)","v":0.54829280498653266},"Costs","front","mid","right","tri front","tri mid/back"]
[null,null,null,null,null,null,null,null,null,null,null,null,null,null,null,null,null,null,null,"50mm links",{"$f":"(0.035/(IF(B24>B25,B24,B25)/1000))","v":8.7500000000000008E-3},"length",{"$f":"(IF((I72-I76)<U29,U29,(I72-I76))*(IF(B24>B25,B24,B25)/1000))","v":2.1931712199461306},{"$f":"(IF(W27<U29,U29,W27)*(IF(B24>B25,B24,B25)/1000))","v":2.1931712199461306},{"$f":"X30","v":2.1931712199461306},{"$f":"(SQRT(((B25-B28)^2)+((B27-B26)^2)))/1000","v":2.2388613177238113},{"$f":"Y30","v":2.1931712199461306}]
[null,null,null,null,null,null,null,null,null,null,null,null,null,null,null,null,null,null,null,null,null,"width",{"$f":"IF(E5<>X3,IF((((H64-H60)*(IF(B24>B25,B24,B25)/1000))+0.07)>((SQRT(((B25-B28)^2)+((B27-B26)^2)))/1000),(((H64-H60)*(IF(B24>B25,B24,B25)/1000))+0.07),((SQRT(((B25-B28)^2)+((B27-B26)^2)))/1000)),(SQRT((B25^2)+((B27-B26)^2)))/1000)","v":2.2388613177238113},{"$f":"((J64-J60)*(IF(B24>B25,B24,B25)/1000))+0.07","v":1.3999999999999997},{"$f":"IF(E5<>X5,MIN(W31,X31),((L64-L60)*(IF(B24>B25,B24,B25)/1000))+0.07)","v":1.3999999999999997},{"$f":"((E44-E48)*(IF(B24>B25,B24,B25)/1000))+0.07","v":1.4560000000000002},{"$f":"(Z25*(IF(B24>B25,B24,B25)/1000))+0.07","v":1.421}]
[null,null,null,null,null,null,null,null,null,null,null,null,null,null,null,null,null,null,null,null," ","perimeter",{"$f":"(W30+W31+((W24*(IF(B24>B25,B24,B25)/1000))+0.07)+((W25*(IF(B24>B25,B24,B25)/1000))+0.07))*1.05","v":8.9061341645534409},{"$f":"((X30*2)+X31+(((J68-J72)*(IF(B24>B25,B24,B25)/1000))+0.07))*1.05","v":7.5456595618868736},{"$f":"((Y30*2)+(Y31*2))*1.05","v":7.5456595618868745},{"$f":"((Z30*2)+Z31)*1.05","v":6.2304087672200046},{"$f":"((AA30*2)+AA31)*1.05","v":6.0977095618868749}]
[null,null,null,null,null,null,null,null,null,null,null,null,null,null,null,null,null,null,null,null," ",null,{"$f":"(IF(E4=AA6,2,1)*((((1.05*(U1*((U6*W30*W31*W1)+(W32*W2)+(X9*W3)+W4))+7.2*X9))))+IF(E19<>AF2,8*VAT!V1,0))/1.2*VAT!V1","v":1044.5598465962587},{"$f":"(IF(OR(E5=X2,E5=X3),0,IF(E4=AA6,2,1)*((((1.05*(U1*((U6*X30*X31*W1)+(X32*W2)+(X9*W3)+W4))+7.2*X9)))+IF(E19<>AF2,8*VAT!V1,0))))/1.2*VAT!V1","v":789.59321569144242},{"$f":"(IF(E5<>X5,0,IF(E4=AA6,2,1)*(((1.05*(U1*((U6*Y30*Y31*W1)+(Y32*W2)+(X9*W3)+W4))+7.2*X9))+IF(E19<>AF2,8*VAT!V1,0))))/1.2*VAT!V1","v":0},{"$f":"IF(E6=AA2,0,(IF(E6=AA3,(1.05*(U2*((U7*Z30*Z31*W1)+(Z32*W2)+(3*W3)+W4))+7.2*3),)+IF(E19<>AF2,6*VAT!V1,0))/1.2*VAT!V1)","v":285.54447383511894},{"$f":"IF(OR(E5=X3,AND(E5=X2,E7=AA2)),0,((IF(E5=X3,0,IF(OR(E7=AA3,E8=AA3),(1.05*(U2*((U7*AA30*AA31*W1)+(AA32*W2)+(3*W3)+W4))+7.2*3),))+IF(E19<>AF2,6*VAT!V1,0))*IF(E4=AA6,2,1))/1.2*VAT!V1)","v":557.35994418440498}]
[]
[]
[]
[]
[]
[]
[]
[]
[null,null,null,"x","y","x","y","x","y","x","y","x","y","Roof plan"]
[null,null,null,"f tri 3",null,"m tri 1",null,"m tri 2",null,"b tri 4",null,"b tri 5",null,"x-axis","y-axis"]
[null,null,null,{"$f":"IF(E6=AA3,U30,)","v":8.7500000000000008E-3},{"$f":"IF(E6=AA3,O49+(Y25/2),)","v":0.67325000000000002},{"$f":"IF(AND(E5<>X3,E7=AA3),F46-(Z25/2),)","v":0.34362500000000007},{"$f":"IF(AND(E5<>X3,E7=AA3),U30,)","v":8.7500000000000008E-3},{"$f":"IF(AND(E5<>X3,E7=AA3,E4<>AA5),F46-(Z25/2),)","v":0.34362500000000007},{"$f":"IF(AND(E5<>X3,E7=AA3,E4<>AA5),O46-U30,)","v":0.99124999999999996},{"$f":"IF(AND(E5=X5,E8=AA3),J46-(AA25/2),)","v":0},{"$f":"IF(AND(E5=X5,E8=AA3),U30,)","v":0},{"$f":"IF(AND(E5=X5,E8=AA3,E4<>AA5),J46-(AA25/2),)","v":0},{"$f":"IF(AND(E5=X5,E8=AA3,E4<>AA5),O46-U30,)","v":0},0,0]
[null,null,null,{"$f":"IF(E6=AA3,AA14,)","v":4.2052500000000007E-2},{"$f":"IF(E6=AA3,E44-(Y25/4),)","v":0.58662499999999995},{"$f":"IF(AND(E5<>X3,E7=AA3),F46-(Z25/4),)","v":0.42806250000000007},{"$f":"IF(AND(E5<>X3,E7=AA3),AA13,)","v":4.1199375000000003E-2},{"$f":"IF(AND(E5<>X3,E7=AA3,E4<>AA5),F46-(Z25/4),)","v":0.42806250000000007},{"$f":"IF(AND(E5<>X3,E7=AA3,E4<>AA5),O46-AA13,)","v":0.95880062499999996},{"$f":"IF(AND(E5=X5,E8=AA3),J46-(AA25/4),)","v":0},{"$f":"IF(AND(E5=X5,E8=AA3),AA12,)","v":0},{"$f":"IF(AND(E5=X5,E8=AA3,E4<>AA5),J46-(AA25/4),)","v":0},{"$f":"IF(AND(E5=X5,E8=AA3,E4<>AA5),O46-AA12,)","v":0},{"$f":"U25","v":0.86250000000000004},0]
[null,null,null,{"$f":"IF(E6=AA3,Z14,)","v":5.6070000000000009E-2},{"$f":"IF(E6=AA3,E45-(Y25/4),)","v":0.49999999999999994},{"$f":"IF(AND(E5<>X3,E7=AA3),F52,)","v":0.51250000000000007},{"$f":"IF(AND(E5<>X3,E7=AA3),Z13,)","v":5.4932500000000002E-2},{"$f":"IF(AND(E5<>X3,E7=AA3,E4<>AA5),F52,)","v":0.51250000000000007},{"$f":"IF(AND(E5<>X3,E7=AA3,E4<>AA5),O47-Z13,)","v":0.94506749999999995},{"$f":"IF(AND(E5=X5,E8=AA3),J52,)","v":0},{"$f":"IF(AND(E5=X5,E8=AA3),Z12,)","v":0},{"$f":"IF(AND(E5=X5,E8=AA3,E4<>AA5),J52,)","v":0},{"$f":"IF(AND(E5=X5,E8=AA3,E4<>AA5),O47-Z12,)","v":0},{"$f":"U25","v":0.86250000000000004},{"$f":"U26","v":1}]
[null,null,null,{"$f":"IF(E6=AA3,D45,)","v":4.2052500000000007E-2},{"$f":"IF(E6=AA3,E46-(Y25/4),)","v":0.41337499999999994},{"$f":"IF(AND(E5<>X3,E7=AA3),F46+(Z25/4),)","v":0.59693750000000012},{"$f":"IF(AND(E5<>X3,E7=AA3),AA13,)","v":4.1199375000000003E-2},{"$f":"IF(AND(E5<>X3,E7=AA3,E4<>AA5),F46+(Z25/4),)","v":0.59693750000000012},{"$f":"IF(AND(E5<>X3,E7=AA3,E4<>AA5),O47-AA13,)","v":0.95880062499999996},{"$f":"IF(AND(E5=X5,E8=AA3),J46+(AA25/4),)","v":0},{"$f":"IF(AND(E5=X5,E8=AA3),AA12,)","v":0},{"$f":"IF(AND(E5=X5,E8=AA3,E4<>AA5),J46+(AA25/4),)","v":0},{"$f":"IF(AND(E5=X5,E8=AA3,E4<>AA5),O47-AA12,)","v":0},0,{"$f":"U26","v":1}]
[null,null,null,{"$f":"D44","v":8.7500000000000008E-3},{"$f":"IF(E6=AA3,O49-(Y25/2),)","v":0.32674999999999998},{"$f":"IF(AND(E5<>X3,E7=AA3),F46+(Z25/2),)","v":0.68137500000000006},{"$f":"G44","v":8.7500000000000008E-3},{"$f":"IF(AND(E5<>X3,E7=AA3,E4<>AA5),F46+(Z25/2),)","v":0.68137500000000006},{"$f":"IF(AND(E5<>X3,E7=AA3,E4<>AA5),O46-G44,)","v":0.99124999999999996},{"$f":"IF(AND(E5=X5,E8=AA3),J46+(AA25/2),)","v":0},{"$f":"K44","v":0},{"$f":"IF(AND(E5=X5,E8=AA3,E4<>AA5),J46+(AA25/2),)","v":0},{"$f":"IF(AND(E5=X5,E8=AA3,E4<>AA5),O46-G44,)","v":0},0,0]
[null,null,null,{"$f":"IF(E6=AA3,D50-(Y24/4),)","v":0.13249999999999995},{"$f":"IF(E6=AA3,E48+((E52-E48)/1.8),)","v":0.42299999999999999},{"$f":"IF(AND(E5<>X3,E7=AA3),F48-((F48-F52)/1.8),)","v":0.58755555555555561},{"$f":"IF(AND(E5<>X3,E7=AA3),G50-(Z24/4),)","v":0.12937500000000002},{"$f":"IF(AND(E7=AA3,E4<>AA5),F48-((F48-F52)/1.8),)","v":0.58755555555555561},{"$f":"IF(AND(E5<>X3,E7=AA3,E4<>AA5),I50+(Z24/4),)","v":0.87062499999999998},{"$f":"IF(AND(E5=X5,E8=AA3),J48-((J48-J52)/1.8),)","v":0},{"$f":"IF(AND(E5=X5,E8=AA3),K50-(Z24/4),)","v":0},{"$f":"IF(AND(E8=AA3,E4<>AA5),J48-((J48-J52)/1.8),)","v":0},{"$f":"IF(AND(E5=X5,E8=AA3,E4<>AA5),M50+(Z24/4),)","v":0},{"$f":"U25-U27","v":0.51250000000000007},{"$f":"U26/2","v":0.5}]
[null,null,null,{"$f":"IF(E6=AA3,D51-(Y24/4),)","v":0.25624999999999998},{"$f":"IF(E6=AA3,E48+((E52-E48)*0.85),)","v":0.4740125},{"$f":"IF(AND(E5<>X3,E7=AA3),F48-((F48-F52)*0.85),)","v":0.53783125000000009},{"$f":"IF(AND(E5<>X3,E7=AA3),(U26/2)-(U26/4),)","v":0.25},{"$f":"IF(AND(E7=AA3,E4<>AA5),F48-((F48-F52)*0.85),)","v":0.53783125000000009},{"$f":"IF(AND(E5<>X3,E7=AA3,E4<>AA5),O46-(U26/4),)","v":0.75},{"$f":"IF(AND(E5=X5,E8=AA3),J48-((J48-J52)*0.85),)","v":0},{"$f":"IF(AND(E5=X5,E8=AA3),(U26/2)-(U26/4),)","v":0},{"$f":"IF(AND(E8=AA3,E4<>AA5),J48-((J48-J52)*0.85),)","v":0},{"$f":"IF(AND(E5=X5,E8=AA3,E4<>AA5),O46-(U26/4),)","v":0},{"$f":"N46","v":0.86250000000000004},{"$f":"O49","v":0.5}]
[null,null,null,{"$f":"IF(E6=AA3,D52-(Y24/4),)","v":0.38},{"$f":"IF(E6=AA3,E52-((E52-E48)*0.05),)","v":0.49133749999999998},{"$f":"IF(AND(E5<>X3,E7=AA3),F52+((F48-F52)*0.05),)","v":0.52094375000000004},{"$f":"IF(AND(E5<>X3,E7=AA3),G50+(Z24/4),)","v":0.37062499999999998},{"$f":"IF(AND(E7=AA3,E4<>AA5),F52+((F48-F52)*0.05),)","v":0.52094375000000004},{"$f":"IF(AND(E5<>X3,E7=AA3,E4<>AA5),I50-(Z24/4),)","v":0.62937500000000002},{"$f":"IF(AND(E5=X5,E8=AA3),J52+((J48-J52)*0.05),)","v":0},{"$f":"IF(AND(E5=X5,E8=AA3),K50+(Z24/4),)","v":0},{"$f":"IF(AND(E8=AA3,E4<>AA5),J52+((J48-J52)*0.05),)","v":0},{"$f":"IF(AND(E5=X5,E8=AA3,E4<>AA5),M50-(Z24/4),)","v":0},0,0]
[null,null,null,{"$f":"IF(E6=AA3,N49-U30,)","v":0.50375000000000003},{"$f":"IF(E6=AA3,O49,)","v":0.5},{"$f":"IF(AND(E5<>X3,E7=AA3),N49,)","v":0.51250000000000007},{"$f":"IF(AND(E5<>X3,E7=AA3),O49-U30,)","v":0.49125000000000002},{"$f":"IF(AND(E5<>X3,E7=AA3,E4<>AA5),N49,)","v":0.51250000000000007},{"$f":"IF(AND(E5<>X3,E7=AA3,E4<>AA5),O49+U30,)","v":0.50875000000000004},{"$f":"IF(AND(E5=X5,E8=AA3),N49+(U27/2),)","v":0},{"$f":"IF(AND(E5=X5,E8=AA3),O49-U30,)","v":0},{"$f":"IF(AND(E5=X5,E8=AA3,E4<>AA5),J52,)","v":0},{"$f":"IF(AND(E5=X5,E8=AA3,E4<>AA5),O49+U30,)","v":0},{"$f":"U25-U27","v":0.51250000000000007},{"$f":"O50","v":0.5}]
[null,null,null,{"$f":"D51","v":0.38},{"$f":"E52+((E52-E48)*0.05)","v":0.50866250000000002},{"$f":"IF(AND(E5<>X3,E7=AA3),F52-((F48-F52)*0.05),)","v":0.50405625000000009},{"$f":"G51","v":0.37062499999999998},{"$f":"IF(AND(E7=AA3,E4<>AA5),F52-((F48-F52)*0.05),)","v":0.50405625000000009},{"$f":"I51","v":0.62937500000000002},{"$f":"IF(AND(E5=X5,E8=AA3),J52-((J48-J52)*0.05),)","v":0},{"$f":"K51","v":0},{"$f":"IF(AND(E8=AA3,E4<>AA5),J52-((J48-J52)*0.05),)","v":0},{"$f":"M51","v":0},0,{"$f":"O47","v":1}]
[null,null,null,{"$f":"D50","v":0.25624999999999998},{"$f":"E56-((E52-E48)*0.85)","v":0.52598750000000005},{"$f":"IF(AND(E5<>X3,E7=AA3),F56+((F52-F56)*0.85),)","v":0.48716875000000004},{"$f":"G50","v":0.25},{"$f":"IF(AND(E7=AA3,E4<>AA5),F56+((F52-F56)*0.85),)","v":0.48716875000000004},{"$f":"I50","v":0.75},{"$f":"IF(AND(E5=X5,E8=AA3),J56+((J52-J56)*0.85),)","v":0},{"$f":"K50","v":0},{"$f":"IF(AND(E8=AA3,E4<>AA5),J56+((J52-J56)*0.85),)","v":0},{"$f":"M50","v":0}]
[null,null,null,{"$f":"D49","v":0.13249999999999995},{"$f":"E56-((E52-E48)/1.8)","v":0.57699999999999996},{"$f":"F56+((F52-F56)/1.8)","v":0.43744444444444452},{"$f":"G49","v":0.12937500000000002},{"$f":"IF(AND(E7=AA3,E4<>AA5),F56+((F52-F56)/1.8),)","v":0.43744444444444452},{"$f":"I49","v":0.87062499999999998},{"$f":"J56+((J52-J56)/1.8)","v":0},{"$f":"K49","v":0},{"$f":"IF(AND(E8=AA3,E4<>AA5),J56+((J52-J56)/1.8),)","v":0},{"$f":"M49","v":0}]
[null,null,null,{"$f":"D44","v":8.7500000000000008E-3},{"$f":"E44","v":0.67325000000000002},{"$f":"F44","v":0.34362500000000007},{"$f":"G44","v":8.7500000000000008E-3},{"$f":"IF(AND(E7=AA3,E4<>AA5),F44,)","v":0.34362500000000007},{"$f":"I48","v":0.99124999999999996},{"$f":"J44","v":0},{"$f":"K44","v":0},{"$f":"IF(AND(E8=AA3,E4<>AA5),J44,)","v":0},{"$f":"M48","v":0}]
[]
[null,null,null,null,null,null,null,"x","y","x","y","x","y","x","y","x","y","x","y"]
[null,null,null,null,null,null,null,"down front",null,"down mid",null,"down right",null,"up front",null,"up mid",null,"up right"]
[null,null,null,null,null,null,null,{"$f":"U30","v":8.7500000000000008E-3},{"$f":"U30","v":8.7500000000000008E-3},{"$f":"IF(OR(E5=X4,E5=X5),N52+U30-U14,)","v":0.5212500000000001},{"$f":"IF(OR(E5=X4,E5=X5),U30,)","v":8.7500000000000008E-3},{"$f":"IF(E5=X5,L64-Z28,)","v":0},{"$f":"M64","v":0},{"$f":"IF(E4=AA5,0,U30)","v":8.7500000000000008E-3},{"$f":"IF(E4=AA5,0,O46-X24-U30)","v":0.50875000000000004},{"$f":"IF(AND(E4=AA6,OR(E5=X4,E5=X5)),J72,)","v":0.5212500000000001},{"$f":"IF(AND(E4=AA6,OR(E5=X4,E5=X5)),O64,)","v":0.50875000000000004},{"$f":"IF(AND(E4=AA6,E5=X5),L64-Z28,)","v":0},{"$f":"IF(AND(E4=AA6,E5=X5),(U26/2)+U30,)","v":0}]
[null,null,null,null,null,null,null,{"$f":"IF(E5=X2,H60+(X25/4),H60+(X25/4))","v":0.13250000000000001},{"$f":"I62*0.75","v":5.6531250000000019E-2},{"$f":"IF(OR(E5=X4,E5=X5),J60+(MAX(X28:Y28)/4),)","v":0.60437500000000011},{"$f":"IF(OR(E5=X4,E5=X5),X20,)","v":4.0687500000000001E-2},{"$f":"IF(E5=X5,L62-(Z28/4),)","v":0},{"$f":"IF(E5=X5,AA17,)","v":0},{"$f":"IF(E4=AA5,0,H71)","v":0.13249999999999995},{"$f":"IF(E4=AA5,0,O60+X15+(U10/4))","v":0.56528125000000007},{"$f":"IF(AND(E4=AA6,OR(E5=X4,E5=X5)),J71,)","v":0.604375},{"$f":"IF(AND(E4=AA6,OR(E5=X4,E5=X5)),O49+X19,)","v":0.54068749999999999},{"$f":"IF(AND(E4=AA6,E5=X5),L62-(Z28/4),)","v":0},{"$f":"IF(AND(E4=AA6,E5=X5),AA17+(U26/2),)","v":0}]
[null,null,null,null,null,null,null,{"$f":"IF(E5=X2,H60+(X25/2),H60+(X25/2))","v":0.25625000000000003},{"$f":"W16","v":7.5375000000000025E-2},{"$f":"IF(E5=X4,J64-(J64-J60)/2,IF(E5=X5,J64-(J64-J60)/2,))","v":0.6875},{"$f":"IF(OR(E5=X4,E5=X5),W20,)","v":5.425E-2},{"$f":"IF(E5=X5,L63-(Z28/4),)","v":0},{"$f":"IF(E5=X5,Z17,)","v":0},{"$f":"IF(E4=AA5,0,H70)","v":0.25624999999999998},{"$f":"IF(E4=AA5,0,O60+W15+(U10/2))","v":0.58412500000000001},{"$f":"IF(AND(E4=AA6,OR(E5=X4,E5=X5)),J70,)","v":0.6875},{"$f":"IF(AND(E4=AA6,OR(E5=X4,E5=X5)),O50+W19,)","v":0.55425000000000002},{"$f":"IF(AND(E4=AA6,E5=X5),L63-(Z28/4),)","v":0},{"$f":"IF(AND(E4=AA6,E5=X5),Z17+(U26/2),)","v":0}]
[null,null,null,null,null,null,null,{"$f":"IF(E5=X2,H62+(X25/4),H62+(X25/4))","v":0.38000000000000006},{"$f":"I61","v":5.6531250000000019E-2},{"$f":"IF(OR(E5=X4,E5=X5),J64-(MAX(X28:Y28)/4),)","v":0.770625},{"$f":"IF(OR(E5=X4,E5=X5),K61,)","v":4.0687500000000001E-2},{"$f":"IF(E5=X5,L64-(Z28/4),)","v":0},{"$f":"IF(E5=X5,M61,)","v":0},{"$f":"IF(E4=AA5,0,H69)","v":0.38},{"$f":"IF(E4=AA5,0,O64+X15-(U10/4))","v":0.56528125000000007},{"$f":"P62+(P62-P61)","v":0.770625},{"$f":"IF(AND(E4=AA6,OR(E5=X4,E5=X5)),Q61,)","v":0.54068749999999999},{"$f":"IF(AND(E4=AA6,E5=X5),L64-(Z28/4),)","v":0},{"$f":"IF(AND(E4=AA6,E5=X5),M61+(U26/2),)","v":0}]
[null,null,null,null,null,null,null,{"$f":"IF((H60+X25)>U25,U25,H60+X25)","v":0.50375000000000003},{"$f":"U30","v":8.7500000000000008E-3},{"$f":"IF(OR(E5=X4,E5=X5),J68,)","v":0.85375000000000001},{"$f":"IF(OR(E5=X4,E5=X5),U30,)","v":8.7500000000000008E-3},{"$f":"IF(E5=X5,N50-U30,)","v":0},{"$f":"IF(E5=X5,U30,)","v":0},{"$f":"IF(E4=AA5,0,IF(E5=X3,H60+X25,W25+H60))","v":0.50375000000000003},{"$f":"IF(E4=AA5,0,O47-W24-U30)","v":0.50875000000000004},{"$f":"IF(AND(E4=AA6,OR(E5=X4,E5=X5)),J68,)","v":0.85375000000000001},{"$f":"IF(AND(E4=AA6,OR(E5=X4,E5=X5)),Q60,)","v":0.50875000000000004},{"$f":"IF(AND(E4=AA6,E5=X5),N50-U30,)","v":0},{"$f":"IF(AND(E4=AA6,E5=X5),S60,)","v":0}]
[null,null,null,null,null,null,null,{"$f":"H64-X13-(U14/IF(E5=X5,2.75,2.75))","v":0.44843750000000004},{"$f":"W24/4","v":0.120625},{"$f":"IF(OR(E5=X4,E5=X5),J64-X18,)","v":0.79843750000000002},{"$f":"IF(OR(E5=X4,E5=X5),I65,)","v":0.120625},{"$f":"IF(E5=X5,L64-AA16,)","v":0},{"$f":"IF(E5=X5,K65,)","v":0},{"$f":"IF(E4=AA5,0,H67)","v":0.44843750000000004},{"$f":"IF(E4=AA5,0,(W24/4)+(U26/2))","v":0.62062499999999998},{"$f":"IF(AND(E4=AA6,OR(E5=X4,E5=X5)),P64-X18,)","v":0.79843750000000002},{"$f":"IF(AND(E4=AA6,OR(E5=X4,E5=X5)),O65,)","v":0.62062499999999998},{"$f":"IF(AND(E4=AA6,E5=X5),L64-AA16,)","v":0},{"$f":"IF(AND(E4=AA6,E5=X5),Q65,)","v":0}]
[null,null,null,null,null,null,null,{"$f":"H64-W13-(U14/IF(E5=X5,1.6,1.6))","v":0.43000000000000005},{"$f":"U26/4","v":0.25},{"$f":"IF(OR(E5=X4,E5=X5),J64-W18,)","v":0.78},{"$f":"IF(OR(E5=X4,E5=X5),I66,)","v":0.25},{"$f":"IF(E5=X5,L64-Z16,)","v":0},{"$f":"IF(E5=X5,K66,)","v":0},{"$f":"IF(E4=AA5,0,H66)","v":0.43000000000000005},{"$f":"IF(E4=AA5,0,(U26/4)+(U26/2))","v":0.75},{"$f":"IF(AND(E4=AA6,OR(E5=X4,E5=X5)),P64-W18,)","v":0.78},{"$f":"IF(OR(E5=X2,E5=X3),0,O66)","v":0.75},{"$f":"IF(AND(E4=AA6,E5=X5),L64-Z16,)","v":0},{"$f":"IF(AND(E4=AA6,E5=X5),Q66,)","v":0}]
[null,null,null,null,null,null,null,{"$f":"H68-X13+(U14/5)","v":0.44843750000000004},{"$f":"(W24*0.75)","v":0.361875},{"$f":"J65","v":0.79843750000000002},{"$f":"IF(OR(E5=X4,E5=X5),I67,)","v":0.361875},{"$f":"IF(E5=X5,L65,)","v":0},{"$f":"IF(E5=X5,K67,)","v":0},{"$f":"IF(E4=AA5,0,H65)","v":0.44843750000000004},{"$f":"IF(E4=AA5,0,(W24*0.75)+(U26/2))","v":0.86187499999999995},{"$f":"P65","v":0.79843750000000002},{"$f":"IF(OR(E5=X2,E5=X3),0,O67)","v":0.86187499999999995},{"$f":"IF(AND(E4=AA6,E5=X5),L65,)","v":0},{"$f":"IF(E5=X5,Q67,)","v":0}]
[null,null,null,null,null,null,null,{"$f":"IF(E5=X3,H60+X25,H60+W25)","v":0.50375000000000003},{"$f":"(U26/2)-U30","v":0.49125000000000002},{"$f":"IF(E5=X4,U25-U30,IF(E5=X5,N52+(U27/4)+(W28/2)+U18,))","v":0.85375000000000001},{"$f":"IF(OR(E5=X4,E5=X5),(U26/2)-U30,)","v":0.49125000000000002},{"$f":"IF(E5=X5,L64,)","v":0},{"$f":"IF(E5=X5,K68,)","v":0},{"$f":"IF(E4=AA5,0,H64)","v":0.50375000000000003},{"$f":"IF(E4=AA5,0,U26-U30)","v":0.99124999999999996},{"$f":"IF(AND(E4=AA6,OR(E5=X4,E5=X5)),P64,)","v":0.85375000000000001},{"$f":"IF(OR(E5=X2,E5=X3),0,O72)","v":0.99124999999999996},{"$f":"IF(AND(E4=AA6,E5=X5),L64,)","v":0},{"$f":"IF(E5=X5,Q68,)","v":0}]
[null,null,null,null,null,null,null,{"$f":"IF(E5=X3,H62+(X25/4),H68-(W25/4))","v":0.38},{"$f":"I68-X15+(U10/4)","v":0.43471874999999999},{"$f":"IF(OR(E5=X4,E5=X5),J68-(Y28/4),)","v":0.770625},{"$f":"IF(OR(E5=X4,E5=X5),(U26/2)-X19,)","v":0.45931250000000001},{"$f":"IF(E5=X5,L63,)","v":0},{"$f":"IF(E5=X5,(U26/2)-AA17,)","v":0},{"$f":"IF(E4=AA5,0,H63)","v":0.38000000000000006},{"$f":"IF(E4=AA5,0,((U26/2)-I61)+(U26/2))","v":0.94346874999999997},{"$f":"IF(AND(E4=AA6,OR(E5=X4,E5=X5)),J63,)","v":0.770625},{"$f":"IF(E4=AA5,0,IF(OR(E5=X2,E5=X3),0,O47-X20))","v":0.95931250000000001},{"$f":"IF(AND(E4=AA6,E5=X5),L63,)","v":0},{"$f":"IF(AND(E4=AA6,E5=X5),O47-AA17,)","v":0}]
[null,null,null,null,null,null,null,{"$f":"IF(E5=X3,H60+(X25/2),H69-(W25/4))","v":0.25624999999999998},{"$f":"I72-W15-(U10/2)","v":0.41587499999999999},{"$f":"IF(OR(E5=X4,E5=X5),J69-(Y28/4),)","v":0.6875},{"$f":"IF(OR(E5=X4,E5=X5),(U26/2)-W19,)","v":0.44574999999999998},{"$f":"IF(E5=X5,L62,)","v":0},{"$f":"IF(E5=X5,(U26/2)-Z17,)","v":0},{"$f":"IF(E4=AA5,0,H62)","v":0.25625000000000003},{"$f":"IF(E4=AA5,0,((U26/2)-I62)+(U26/2))","v":0.92462500000000003},{"$f":"IF(AND(E4=AA6,OR(E5=X4,E5=X5)),J62,)","v":0.6875},{"$f":"IF(E4=AA5,0,IF(OR(E5=X2,E5=X3),0,O47-W20))","v":0.94574999999999998},{"$f":"IF(AND(E4=AA6,E5=X5),L62,)","v":0},{"$f":"IF(AND(E4=AA6,E5=X5),O47-Z17,)","v":0}]
[null,null,null,null,null,null,null,{"$f":"IF(E5=X3,H60+(X25/4),H70-(W25/4))","v":0.13249999999999995},{"$f":"I72-X15-(U10/4)","v":0.43471874999999999},{"$f":"IF(OR(E5=X4,E5=X5),J70-(Y28/4),)","v":0.604375},{"$f":"IF(OR(E5=X4,E5=X5),(U26/2)-X19,)","v":0.45931250000000001},{"$f":"IF(E5=X5,L61,)","v":0},{"$f":"IF(E5=X5,M69,)","v":0},{"$f":"IF(E4=AA5,0,H61)","v":0.13250000000000001},{"$f":"O69","v":0.94346874999999997},{"$f":"IF(AND(E4=AA6,OR(E5=X4,E5=X5)),J61,)","v":0.60437500000000011},{"$f":"IF(OR(E5=X2,E5=X3),0,Q69)","v":0.95931250000000001},{"$f":"IF(AND(E4=AA6,E5=X5),L61,)","v":0},{"$f":"IF(E5=X5,S69,)","v":0}]
[null,null,null,null,null,null,null,{"$f":"H60","v":8.7500000000000008E-3},{"$f":"I68+U10","v":0.49125000000000002},{"$f":"IF(OR(E5=X4,E5=X5),N49+U30,)","v":0.5212500000000001},{"$f":"IF(OR(E5=X4,E5=X5),K68,)","v":0.49125000000000002},{"$f":"IF(E5=X5,L60,)","v":0},{"$f":"IF(E5=X5,M68,)","v":0},{"$f":"IF(E4=AA5,0,H60)","v":8.7500000000000008E-3},{"$f":"O68","v":0.99124999999999996},{"$f":"IF(AND(E4=AA6,OR(E5=X4,E5=X5)),J76,)","v":0.5212500000000001},{"$f":"IF(OR(E5=X2,E5=X3),0,Q68)","v":0.99124999999999996},{"$f":"IF(AND(E4=AA6,E5=X5),L60,)","v":0},{"$f":"IF(E5=X5,S68,)","v":0}]
[null,null,null,null,null,null,null,{"$f":"H60+X14","v":6.4062500000000008E-2},{"$f":"I72-(X24/4)","v":0.37062500000000004},{"$f":"IF(OR(E5=X4,E5=X5),J72+X18-(U14/5),)","v":0.57656250000000009},{"$f":"K67","v":0.361875},{"$f":"IF(E5=X5,L72+AA16,)","v":0},{"$f":"IF(E5=X5,M67,)","v":0},{"$f":"IF(E4=AA5,0,H60+X14)","v":6.4062500000000008E-2},{"$f":"IF(E4=AA5,0,O72-(X24/4))","v":0.87062499999999998},{"$f":"IF(AND(E4=AA6,OR(E5=X4,E5=X5)),J75,)","v":0.57656250000000009},{"$f":"Q67","v":0.86187499999999995},{"$f":"IF(AND(E4=AA6,E5=X5),L72+AA16,)","v":0},{"$f":"IF(E5=X5,Q73,)","v":0}]
[null,null,null,null,null,null,null,{"$f":"H60+W14","v":8.2500000000000018E-2},{"$f":"I73-(X24/4)","v":0.25000000000000006},{"$f":"IF(OR(E5=X4,E5=X5),J76+W18+(U14/1.6),)","v":0.59500000000000008},{"$f":"IF(OR(E5=X4,E5=X5),K66,)","v":0.25},{"$f":"IF(E5=X5,L72+Z16,)","v":0},{"$f":"IF(E5=X5,M66,)","v":0},{"$f":"IF(E4=AA5,0,H60+W14)","v":8.2500000000000018E-2},{"$f":"IF(E4=AA5,0,O73-(X24/4))","v":0.75},{"$f":"IF(AND(E4=AA6,OR(E5=X4,E5=X5)),J74,)","v":0.59500000000000008},{"$f":"IF(OR(E5=X2,E5=X3),0,Q66)","v":0.75},{"$f":"IF(AND(E4=AA6,E5=X5),L72+Z16,)","v":0},{"$f":"IF(E5=X5,Q74,)","v":0}]
[null,null,null,null,null,null,null,{"$f":"H73","v":6.4062500000000008E-2},{"$f":"I74-(X24/4)","v":0.12937500000000007},{"$f":"IF(OR(E5=X4,E5=X5),J76+X18+(U14/2.75),)","v":0.57656250000000009},{"$f":"K65","v":0.120625},{"$f":"IF(E5=X5,L73,)","v":0},{"$f":"IF(E5=X5,M65,)","v":0},{"$f":"IF(E4=AA5,0,N73)","v":6.4062500000000008E-2},{"$f":"IF(E4=AA5,0,O74-(X24/4))","v":0.62937500000000002},{"$f":"IF(AND(E4=AA6,OR(E5=X4,E5=X5)),J73,)","v":0.57656250000000009},{"$f":"Q65","v":0.62062499999999998},{"$f":"IF(AND(E4=AA6,E5=X5),L73,)","v":0},{"$f":"IF(E5=X5,Q75,)","v":0}]
[null,null,null,null,null,null,null,{"$f":"H60","v":8.7500000000000008E-3},{"$f":"U30","v":8.7500000000000008E-3},{"$f":"IF(OR(E5=X4,E5=X5),J60,)","v":0.5212500000000001},{"$f":"IF(OR(E5=X4,E5=X5),U30,)","v":8.7500000000000008E-3},{"$f":"IF(E5=X5,L60,)","v":0},{"$f":"IF(E5=X5,M64,)","v":0},{"$f":"IF(E4=AA5,0,H60)","v":8.7500000000000008E-3},{"$f":"O60","v":0.50875000000000004},{"$f":"IF(AND(E4=AA6,OR(E5=X4,E5=X5)),P60,)","v":0.5212500000000001},{"$f":"IF(E5=X2,0,Q60)","v":0.50875000000000004},{"$f":"IF(AND(E4=AA6,E5=X5),L60,)","v":0},{"$f":"IF(E5=X5,S60,)","v":0}]

{"sheet":"Georgian Double Hipped","index":6,"n_rows":83,"n_cols":31,"rows_kept":83,"cut":false,"hidden":false,"merged":[[20,7,21,9],[26,6,28,9],[24,7,25,8],[29,6,31,9],[30,3,33,4],[27,3,28,4]]}
[null,null,null,null,null,null,null,null,null,null,null,null,null,null,null,null,null,null,null,"Main material",{"$f":"IF(OR(E20=AC2,E20=AC3,E20=AC4,E20=AC5,E20=AC6,E20=AC7),5,IF(OR(E20=AC8,E20=AC9,E20=AC10,E20=AC11,E20=AC12,E20=AC13,E20=AC14,E20=AC15,E20=AC16,E20=AC17),6,IF(OR(E20=AC18,E20=AC19,E20=AC20,E20=AC21,E20=AC22,E20=AC23,E20=AC24),7.2,)))","v":5},"Material cost",11.35,"Sails","Warnings front/back","Warnings mid","Warnings front/back tri","Warnings mid tri","Fabric Colour",null,"Fittings Colours"]
[null,null,null,null,null,null,null,null,null,null,null,null,null,null,null,null,null,null,null,"Tri material",{"$f":"IF(OR(E21=AC2,E21=AC3,E21=AC4,E21=AC5,E21=AC6,E21=AC7),5,IF(OR(E21=AC8,E21=AC9,E21=AC10,E21=AC11,E21=AC12,E21=AC13,E21=AC14,E21=AC15,E21=AC16,E21=AC17),6,IF(OR(E21=AC18,E21=AC19,E21=AC20,E21=AC21,E21=AC22,E21=AC23,E21=AC24),7.2,)))","v":5},"PE",2.5,1,{"$f":"MIN(W33,Z33)","v":2.069},{"$f":"X33","v":1.7269916039170545},{"$f":"IF(E6<>Y6,0.001,1)*AA33","v":1.5435349040433134E-3},{"$f":"IF(OR(E7=Y6,E8=Y6),1,0.00001)*AB33","v":1.7269916039170547E-5},"ISX Solid",5,"Stainless steel"]
[null,null,null,null,null," ",null,null,null,null,null,null,null,null,null,null,null,null,null,null,null,"PN",3.5,2,{"$f":"IF(E5=X2,W34,MIN(W34,Z34))","v":2.2854999999999999},{"$f":"X34+IF(OR(E5=X2,E5=X3),1000,1)","v":3.9855},{"$f":"AA34","v":1.0009999999999999},{"$f":"AB34","v":1.141},"ISX White",null,"White"]
[null,null,null,"Select coverage","Cover both sides",null,null,null,null,null,null,null,null,null,null,null,null,null,null,null,null,"IP",2,3,"Tri sails","Warning 1","Warning: Sail too narrow, increase no. of sails, add additional fitting points or reduce gap size",null,"ISX Solid Ivory",null,"Gold"]
[null,null,null,"Number of sails per side",3,null,null,null,null,null,null,null,null,null,null,null,null,null,null,null,null,"No. of vents",null,4,"No","Warning 2","Warning: Sail too narrow, decrease no. of sails, add additional fitting points or increase gap size",null,"ISX Solid Oyster"]
[null,null,null,"Front triangle sail","No",null,null,null,null,null,null,null,null,null,null,null,null,null,null,"Shape",{"$f":"IF(X9=T7,U7,IF(X9=T8,U8,IF(X9=T9,U9)))","v":1},0,null,null,"Yes","Warning 3","Warning: Sail too wide for standard fabric, please add more sails or increase gap size",null,"ISX Solid Sand"]
[null,null,null,"Middle left triangle sails","No",null,null,null,null,null,null,null,null,null,null,null,null,null,null,"Triangle",0.6,1,null,null,"Coverage","Warning 4","Warning: Conservatory too long for standard fabric, contact office for more detailed price",null,"ISX Solid Stone"]
[null,null,null,"Middle right triangle sails","No",null,null,null,null,null,null,null,null,null,null,null,null,null,null,"Diamond",0.6,2,"No. of corners",4,"Cover one side","Warning 5","Warning: Some triangular sails are too thin for this conservatory",null,"ISX Duplex",6]
[null,null,null,"Back triangle sail","No",null,null,null,null,null," "," ",null,null,null,null,null,null," ","Other",1,3,"Shape","Other","Cover both sides","Warning 6","Warning: Ridge is too short for a 3 sails per side solution, reduce no. of sails",null,"ISX Duplex Ocean"]
[null,null,null,null,null,null,null,null,null,null,null,null,null,null,null,null,null,null," ","Overlap front",{"$f":"IF(E11=T11,U11,IF(E11=T12,U12,IF(E11=T13,U13)))","v":9.5714285714285724E-2},4,"Curve allowance",0.5,null,null,null,null,"ISX Duplex Forest"]
[null,null,null,"Reduce front gap size",1,null,null,null,null,null,null,null,null,null,null,null,null,null,null,"Standard",0,5,"Front","Mid","Quarters","Back","Mid","Quarters","ISX Duplex Stone"]
[null,null,null,"Reduce middle left gap size",1,null,null,null,null,null,null,null,null,null,null,null,null,null,null,0.5,{"$f":"(X14*2)/2+(0.035/(IF(B23>B24,B23,B24)/1000))","v":5.1428571428571435E-2},6,"Horizontal",{"$f":"((W27+(0.07/(IF(B23>B24,B23,B24)/1000)))*0.13)+W25","v":4.9591836734693875E-2},{"$f":"(X12)*0.75","v":3.719387755102041E-2},"Horizontal",{"$f":"((Z27+(0.07/(IF(B23>B24,B23,B24)/1000)))*0.13)+W25","v":6.2034693877551027E-2},{"$f":"(AA12)*0.75","v":4.6526020408163268E-2},"ISX Duplex Slate"]
[null,null,null,"Reduce centre gap size",1,null,null,null,null,null," "," ",null,null,null,null,null,null," ",1,{"$f":"X14*2+(0.035/(IF(B23>B24,B23,B24)/1000))","v":9.5714285714285724E-2}," ","Horizontal overlaped",{"$f":"((X27+(0.07/(IF(B23>B24,B23,B24)/1000)))*0.13)+W25","v":6.2034693877551027E-2},{"$f":"(X13)*0.75","v":4.6526020408163268E-2},"Horizontal overlaped",{"$f":"((Z27+(0.07/(IF(B23>B24,B23,B24)/1000)))*0.13)+W25","v":6.2034693877551027E-2},{"$f":"(AA13)*0.75","v":4.6526020408163268E-2},"ISX Duplex Graphite"]
[null,null,null,"Reduce middle right gap size",1,null,null,null,null,null," ",null,null,null,null,null,null,null," ","Overlap back",{"$f":"IF(E15=T15,U15,IF(E15=T16,U16,IF(E15=T17,U17)))","v":9.5714285714285724E-2},null,"Vertical",{"$f":"IF(E5=X2,((W28+(0.07/(IF(B23>B24,B23,B24)/1000)))*0.13)+W25,((W28+(0.07/(IF(B23>B24,B23,B24)/1000)))*0.13)+W25)","v":4.4285714285714289E-2},{"$f":"X14*0.75","v":3.3214285714285717E-2},"Vertical",{"$f":"IF(E5=X2,0,((Y28+(0.07/(IF(B23>B24,B23,B24)/1000)))*0.13)+W25)","v":4.4285714285714289E-2},{"$f":"AA14*0.75","v":3.3214285714285717E-2},"ISXFR Solid",6]
[null,null,null,"Reduce back gap size",1,null,null,null,null,null,null,null,null,null,null,null,null,null,null,"Standard",0," ","Vertical overlaped",{"$f":"IF(E5=X2,((X28+(0.07/(IF(B23>B24,B23,B24)/1000)))*0.13)+W25,((X28+(0.07/(IF(B23>B24,B23,B24)/1000)))*0.13)+W25)","v":6.7778571428571424E-2},{"$f":"X15*0.75","v":5.0833928571428572E-2},"Vertical overlaped",{"$f":"IF(E5=X2,((Z28+(0.07/(IF(B23>B24,B23,B24)/1000)))*0.13)+W25,((Z28+(0.07/(IF(B23>B24,B23,B24)/1000)))*0.13)+W25)","v":6.7778571428571424E-2},{"$f":"AA15*0.75","v":5.0833928571428572E-2},"ISXFR White"]
[null,null,null,"Total additional fittings",0,null,null,null,null,null,null,null,null,null,null,null,null,null,null,0.5,{"$f":"(AA14*2)/2+(0.035/(IF(B23>B24,B23,B24)/1000))","v":5.1428571428571435E-2},null,null,null,null,null,null,null,"ISXFR Solid Ivory"]
[null,null,null,"Total tie-bar loops",0,null,null,null,null,null,null,null,null,null,null,null,null,null,null,1,{"$f":"AA14*2+(0.035/(IF(B23>B24,B23,B24)/1000))","v":9.5714285714285724E-2},null,"Mid left","Mid","Quarters","Mid right","Mid","Quarters","ISXFR Solid Oyster"]
[null,null,null,"Total straight edges",0,null,null,null,null,null," "," ",null,null,null,null,null,null," ","Overlap middle left",{"$f":"IF(E12=T19,U19,IF(E12=T20,U20,IF(E12=T21,U21)))","v":0.18071428571428572},null,"Horizontal",{"$f":"((W30+(0.07/(IF(B23>B24,B23,B24)/1000)))*0.13)+W25","v":4.9591836734693875E-2},{"$f":"(X18)*0.75","v":3.719387755102041E-2},"Horizontal",{"$f":"((Z30+(0.07/(IF(B23>B24,B23,B24)/1000)))*0.13)+W25","v":4.9591836734693875E-2},{"$f":"(AA18)*0.75","v":3.719387755102041E-2},"ISXFR Duplex",7.2]
[null,null,null,null,null,null,null,null,null,null," ",null,null,null,null,null,null,null," ","Standard",0,null,"Vertical",{"$f":"((W31+(0.07/(IF(B23>B24,B23,B24)/1000)))*0.13)+W25","v":6.2857142857142861E-2},{"$f":"X19*0.75","v":4.7142857142857146E-2},"Vertical",{"$f":"((Z31+(0.07/(IF(B23>B24,B23,B24)/1000)))*0.13)+W25","v":8.9999999999999993E-3},{"$f":"AA19*0.75","v":6.7499999999999991E-3},"ISXFR Duplex Ocean"]
[null,null,null,"Colour of main sails","ISX Solid",null,null,"           Plan view - looking from above",null,null,null,null,null,null,null,null,null,null,null,0.5,{"$f":"((X12*3)/1.75)+(0.035/(IF(B23>B24,B23,B24)/1000))","v":9.2157434402332372E-2}," ","Vertical overlaped",{"$f":"((AVERAGE(W31:Y31)+(0.07/(IF(B23>B24,B23,B24)/1000)))*0.13)+W25","v":7.8519047619047613E-2},{"$f":"X20*0.75","v":5.8889285714285713E-2},"Vertical overlaped",{"$f":"((AVERAGE(Z31:AB31)+(0.07/(IF(B23>B24,B23,B24)/1000)))*0.13)+W25","v":1.8979931972789115E-2},{"$f":"AA20*0.75","v":1.4234948979591835E-2},"ISXFR Duplex Forest"]
[null,null,null,"Colour of triangles","ISX Solid",null,null,{"$f":"IF(OR(E16>0,E17>0,E18>0),\"Mark additional features (fittings/tie-bar loops/straight edges) on sketch\",\"\")","v":""},null,null,null,null,null,null,null,null,null,null,null,1,{"$f":"(X12*3.5+(0.035/(IF(B23>B24,B23,B24)/1000)))*IF(E5=X5,0.8,1)","v":0.18071428571428572},null,"front","mid","tri front","tri mid",null,null,"ISXFR Duplex Sand"]
[null,"All dims in mm",null,"Colour of fittings","Stainless steel",null,null,null,null,null,null," ",null,null,null,null,null,null," ","Overlap middle right",{"$f":"IF(E5=X3,U18,IF(E14=T19,U19,IF(E14=T20,U20,IF(E14=T21,U21))))","v":0.18071428571428572},"Sail perimeter",{"$f":"((X27+0.07)*2)+((X28+0.07)*2)","v":2.0002040816326532},{"$f":"((W30+0.07)*2)+X31+0.07+W31+0.07","v":1.9137755102040817},{"$f":"((AD30+0.07)*2)+AD31+0.07","v":0.94285714285714284},{"$f":"((AC30+0.07)*2)+AC31+0.07","v":1.0530612244897959},null,null,"ISXFR Duplex Stone"]
["X1",4900,null,"Number of window vents",0,null,null,null,null,null,null,null,null,null,null,null,null,null," ","centre",{"$f":"IF(E13=T24,U24,IF(E13=T25,U25,IF(E13=T26,U26)))","v":4.9591836734693875E-2},"Roof area (m^2)",{"$f":"U31/2*U30","v":0.32653061224489793},"Tri","Mid","Quarters",null,null,"ISXFR Duplex Slate"]
["Y1",3200,null,null,null,null,null,null,null,null,null,null,null,null,null,null,null,null,null,"Standard",0,"Glazing bar length",{"$f":"SQRT((U29-U28)^2+(U31/2)^2)","v":0.3524472661055213},"Vertical mid",{"$f":"((AC31+W25)*0.13)+W25","v":3.6485714285714281E-2},{"$f":"Y24*0.75","v":2.7364285714285709E-2},null,null,"ISXFR Duplex Graphite"]
["H1",3200,null,"Max length of sail",{"$f":"(MAX(W33:Z33))*1000","v":2069},null,null,"Total budget cost incl. Installation+VAT+Delivery",null,{"$f":"(((12.15+(E23*50*VAT!V1)+W36+X36+Y36+Z36+IF(E6=Y6,AA36,)+IF(AND(E9=Y6,E5<>X2),AA36,)+IF(E7=Y6,AB36,)+IF(AND(OR(E5=X4,E5=X5),E8=Y6),AB36,))+(25.5*E16)+IF(E22<>AE2,E16*2,0)))+(E17*75*VAT!V1)+(E18*100*VAT!V1)","v":3071.2802111776191},null,null,null,null,null,null,null,null,null,0.5,{"$f":"(((Z30+(0.07/(IF(B23>B24,B23,B24)/1000)))*0.13)+W25)/2","v":2.4795918367346938E-2},"50mm links",{"$f":"(0.035/(IF(B23>B24,B23,B24)/1000))","v":7.1428571428571426E-3},"Vertical Front/back",{"$f":"((AD31+W25)*0.13)+W25","v":3.2771428571428569E-2},{"$f":"Y25*0.75","v":2.4578571428571429E-2}]
["H2",3850,null,"Max width of sail",{"$f":"(MAX(W34:Z34))*1000","v":2985.5},null,null,null,null,{"$f":"'   '!P6","v":3531.9722428542618}," "," ",null,null,null,null,null,null,null,1,{"$f":"((Z30+(0.07/(IF(B23>B24,B23,B24)/1000)))*0.13)+W25","v":4.9591836734693875E-2},null,"front + overlaped"," ","back + overlaped"," ",null," "]
["R1",2100,null,null,null,null,{"$f":"'   '!A9","v":0},null,null,null,null,null,null,null,null,null,null,null,null,null,"Dims in m","Sail length",{"$f":"U31/2-(0.07/(IF(B23>B24,B23,B24)/1000))","v":0.31224489795918364},{"$f":"W27+U10","v":0.40795918367346939},{"$f":"U31/2-(0.07/(IF(B23>B24,B23,B24)/1000))","v":0.31224489795918364},{"$f":"W27+U14","v":0.40795918367346939}]
[null,null,null,"Please note that sails larger than 2100mm in both directions, will require a colour matched seam.",null,null,null,null,null,null,null,null,null,null,null,null,null,null,null,"h1",{"$f":"B25/IF(B23>B24,B23,B24)","v":0.65306122448979587},"Sail width",{"$f":"IF(E5=X3,I57-(U32/2)-(0.07/(IF(B23>B24,B23,B24)/1000)),I51-(0.07/(IF(B23>B24,B23,B24)/1000)))","v":0.27142857142857141},{"$f":"W28+U18","v":0.45214285714285712},{"$f":"IF(E5=X2,I48-(0.07/(IF(B23>B24,B23,B24)/1000)),IF(E5=X3,I57-(U32/2)-(0.07/(IF(B23>B24,B23,B24)/1000)),I51-(0.07/(IF(B23>B24,B23,B24)/1000))))","v":0.27142857142857141},{"$f":"Y28+U22","v":0.45214285714285712}]
[null,null,null,null,null,null,null,null,null,null,null,null,null,null,null,null,null,null,null,"h2",{"$f":"B26/IF(B23>B24,B23,B24)","v":0.7857142857142857},null,"mid left + overlaped",null,null,"mid right + overlaped",null,null,"tri mid","tri front/back"]
[null,null,null,null,null,null,{"$f":"'   '!A12","v":0},null,null,null,null,null,null,null,null,null,null,null,null,"x1",{"$f":"B23/IF(B23>B24,B23,B24)","v":1},"Sail length",{"$f":"W27","v":0.31224489795918364},"<-"," ->",{"$f":"Y27","v":0.31224489795918364},"<-"," ->",{"$f":"U31/2-(0.07/(IF(B23>B24,B23,B24)/1000))","v":0.31224489795918364},{"$f":"I51-(0.07/(IF(B23>B24,B23,B24)/1000))","v":0.27142857142857141}]
[null,null,null,{"$f":"IF(((X18*(IF(B23>B24,B23,B24)/1000))*2)>(Z3*X10),AA5,IF(((X12*(IF(B23>B24,B23,B24)/1000))*2)>(Y3*X10),AA5,IF((((MAX(X14,X19,AA14))*(IF(B23>B24,B23,B24)/1000))*2)>(Y2*X10),AA4,IF(AND(Y3>4,Y2>4),AA6,IF(AND(OR(E6=Y6,E7=Y6,E8=Y6,E9=Y6),OR(AC31*2<AC30,AD31*2<AD30)),AA8,IF(AND((U32*(IF(B23>B24,B23,B24)/1000))<0.75,E5=X4),AA9,\"\"))))))","v":""},null,null,null,null,null,null,null,null,null,null,null,null,null,null,null,"y1",{"$f":"B24/IF(B23>B24,B23,B24)","v":0.65306122448979587},"Sail width",{"$f":"IF(E5=X4,I52-I51-(0.07/(IF(B23>B24,B23,B24)/1000)),IF(E5=X5,U32/2))","v":0.41428571428571431},{"$f":"W31+U18","v":0.59499999999999997},{"$f":"W31+IF(E5=X5,U23,U22)","v":0.59499999999999997},{"$f":"IF(E5=X5,U32/2,)","v":0},{"$f":"Z31+U23","v":4.9591836734693875E-2},{"$f":"Z31+U22","v":0.18071428571428572},{"$f":"IF(AC30*0.7<(U30-U32)/2,AC30*0.7,(U30-U32)-(2*W25))","v":0.21857142857142853},{"$f":"IF(AD30*0.7<U31,AD30*0.7,U31-(2*W25))","v":0.18999999999999997}]
[null,null,null,null,null,null,null,null,null,null,null,null,null,null,null,null,null,null,null,"r1",{"$f":"B27/IF(B23>B24,B23,B24)","v":0.42857142857142855},"Costs","front","mid left","mid right","back","tri front/back","tri mid left/right"]
[null,null,null,null,null,null,null,null,null,null,null,null,null,null,null,null,null,null,null,null,null,"length",{"$f":"IF((((M59-M63)*(IF(B23>B24,B23,B24)/1000))+0.07)>(W24*(IF(B23>B24,B23,B24)/1000)),(((M59-M63)*(IF(B23>B24,B23,B24)/1000))+0.07),(W24*(IF(B23>B24,B23,B24)/1000)))","v":2.069},{"$f":"W24*(IF(B23>B24,B23,B24)/1000)","v":1.7269916039170545},{"$f":"W24*(IF(B23>B24,B23,B24)/1000)","v":1.7269916039170545},{"$f":"IF((((S55-S51)*(IF(B23>B24,B23,B24)/1000))+0.07)>(W24*(IF(B23>B24,B23,B24)/1000)),(((S55-S51)*(IF(B23>B24,B23,B24)/1000))+0.07),(W24*(IF(B23>B24,B23,B24)/1000)))","v":2.069},{"$f":"(SQRT((((B23-B27)/2)^2)+((B26-B25)^2)))/1000","v":1.5435349040433133},{"$f":"W24*(IF(B23>B24,B23,B24)/1000)","v":1.7269916039170545}]
[null,null,null,null,null,null,null,null,null,null,null,null,null,null,null,null,null,null,null,null,null,"width",{"$f":"IF(E5<>X3,IF((((L51-L47)*(IF(B23>B24,B23,B24)/1000))+0.07)>((SQRT((((B23-B27)/2)^2)+((B26-B25)^2)))/1000),(((L51-L47)*(IF(B23>B24,B23,B24)/1000))+0.07),((SQRT((((B23-B27)/2)^2)+((B26-B25)^2)))/1000)),(SQRT(((B23/2)^2)+((B26-B25)^2)))/1000)","v":2.2854999999999999},{"$f":"IF(OR(E5=X4,R5=X5),((N51-N47)*(IF(B23>B24,B23,B24)/1000))+0.07,(W31+U23+U18)*(IF(B23>B24,B23,B24)/1000))","v":2.9855},{"$f":"IF(E5=X5,(W31+U23+U22)*(IF(B23>B24,B23,B24)/1000),)","v":0},{"$f":"IF(E5<>X3,IF((((R51-R47)*(IF(B23>B24,B23,B24)/1000))+0.07)>((SQRT((((B23-B27)/2)^2)+((B26-B25)^2)))/1000),(((R51-R47)*(IF(B23>B24,B23,B24)/1000))+0.07),((SQRT((((B23-B27)/2)^2)+((B26-B25)^2)))/1000)),(SQRT(((B23/2)^2)+((B26-B25)^2)))/1000)","v":2.2855000000000003},{"$f":"(AD31*(IF(B23>B24,B23,B24)/1000))+0.07","v":1.0009999999999999},{"$f":"(AC31*(IF(B23>B24,B23,B24)/1000))+0.07","v":1.141}]
[null,null,null,null,null,null,null,null,null,null,null,null,null,null,null,null,null,null,null,null,null,"perimeter",{"$f":"(W33+W34+((W27*(IF(B23>B24,B23,B24)/1000))+0.07)+((W28*(IF(B23>B24,B23,B24)/1000))+0.07))*1.05","v":7.7222249999999999},{"$f":"((X33*2)+((W31*(IF(B23>B24,B23,B24)/1000))+0.07)+X34)*1.05","v":8.9664573682258162},{"$f":"((Y33*2)+((Z31*(IF(B23>B24,B23,B24)/1000))+0.07)+Y34)*1.05","v":3.7001823682258146},{"$f":"(Z33+Z34+((Y27*(IF(B23>B24,B23,B24)/1000))+0.07)+((Y28*(IF(B23>B24,B23,B24)/1000))+0.07))*1.05","v":7.7222249999999999},{"$f":"((AA33*2)+AA34)*1.05","v":4.2924732984909575},{"$f":"((AB33*2)+AB34)*1.05","v":4.8247323682258143}]
[null,null,null,null,null,null,null,null,null,null,null,null,null,null,null,null,null,null,null,null,null,null,{"$f":"(IF(E4=Y9,2,1)*(((1.05*(U1*((U6*W33*W34*W1)+(W35*W2)+(X8*W3)+W4))+7.2*X8))+IF(E22<>AE2,8*VAT!V1,0)))/1.2*VAT!V1","v":991.8511691624999},{"$f":"(IF(OR(E5=X4,E5=X5),(IF(E4=Y9,2,1)*(((1.05*(U1*((U6*X33*X34*W1)+(X35*W2)+(X8*W3)+W4))+7.2*X8))+IF(E22<>AE2,8*VAT!V1,0))),))/1.2*VAT!V1","v":1075.4278728526187},{"$f":"(IF(E5=X5,(IF(E4=Y9,2,1)*(((1.05*(U1*((U6*Y33*Y34*W1)+(Y35*W2)+(X8*W3)+W4))+7.2*X8))+IF(E22<>AE2,8*VAT!V1,0))),0))/1.2*VAT!V1","v":0},{"$f":"(IF(E5=X2,0,IF(E4=Y9,2,1)*(((1.05*(U1*((U6*Z33*Z34*W1)+(Z35*W2)+(X8*W3)+W4))+7.2*X8)+(IF(E22<>AE2,8*VAT!V1,0))))))/1.2*VAT!V1","v":991.85116916250013},{"$f":"(IF(OR(E6=Y6,E9=Y6),1.05*((U2*((U7*AA33*AA34*W1)+(AA35*W2)+(3*W3)+W4))+7.2*3),)+IF(E22<>AE2,6*VAT!V1,0))/1.2*VAT!V1","v":0},{"$f":"(((IF(OR(E7=Y6,E8=Y6),1.05*((U2*((U7*AB33*AB34*W1)+(AB35*W2)+(3*W3)+W4))+7.2*3),))+IF(E22<>AE2,6*VAT!V1,0))*IF(E4=Y9,2,1))/1.2*VAT!V1","v":0}]
[]
[]
[]
[]
[]
[]
[]
[null,null,"x","y","x","y","x","y","Roof plan"," "]
[null,null,"mid left tri 1",null,"mid right tri 4",null,"f tri 3",null,"x-axis","y-axis",null,"x","y","x","y","x","y","x","y"]
[null,null,{"$f":"IF(E7=Y6,C48-(AC31/2),)","v":0},{"$f":"IF(E7=Y6,W25,)","v":0},{"$f":"IF(OR(E5=X4,E5=X5),IF(E8=Y6,E48-(AC31/2),),0)","v":0},{"$f":"IF(OR(E5=X4,E5=X5),IF(E8=Y6,W25,),0)","v":0},{"$f":"IF(E6=Y6,W25,)","v":0},{"$f":"IF(E6=Y6,J51+(AD31/2),)","v":0},0,0,null,"down front",null,"down mid left",null,"down mid right",null,"down left"]
[null,null,{"$f":"IF(E7=Y6,C48-(AC31/4),)","v":0},{"$f":"IF(E7=Y6,Z24,)","v":0},{"$f":"IF(OR(E5=X4,E5=X5),IF(E8=Y6,E48-(AC31/4),),0)","v":0},{"$f":"IF(OR(E5=X4,E5=X5),IF(E8=Y6,Z24,),0)","v":0},{"$f":"IF(E6=Y6,Z25,)","v":0},{"$f":"IF(E6=Y6,H46-(AD31/4),)","v":0},{"$f":"U30","v":1},0,null,{"$f":"W25","v":7.1428571428571426E-3},{"$f":"W25","v":7.1428571428571426E-3},{"$f":"IF(E5=X4,U30/2-(X31/2),IF(E5=X5,U30/2-W31-U18))","v":0.20250000000000001},{"$f":"IF(OR(E5=X4,E5=X5),W25,)","v":7.1428571428571426E-3},{"$f":"IF(E5=X5,U30/2-U23,)","v":0},{"$f":"IF(E5=X5,W25,)","v":0},{"$f":"IF(E5<>X2,R51-Z28,)","v":0.5407142857142857},{"$f":"IF(E5<>X2,W25,)","v":7.1428571428571426E-3}]
[null,null,{"$f":"IF(E7=Y6,C54,)","v":0},{"$f":"IF(E7=Y6,Y24,)","v":0},{"$f":"IF(OR(E5=X4,E5=X5),IF(E8=Y6,E54,),0)","v":0},{"$f":"IF(OR(E5=X4,E5=X5),IF(E8=Y6,Y24,),0)","v":0},{"$f":"IF(E6=Y6,Y25,)","v":0},{"$f":"IF(E6=Y6,H47-(AD31/4),)","v":0},{"$f":"U30","v":1},{"$f":"U31","v":0.65306122448979587},null,{"$f":"IF(E5=X2,L47+(X28/4),L47+(X28/4))","v":0.12017857142857143},{"$f":"M49*0.75","v":5.0833928571428572E-2},{"$f":"IF(E5=X4,N47+(MAX(X31:Y31)/4),IF(E5=X5,N47+((N51-N47)/4),))","v":0.35125000000000001},{"$f":"IF(E5=X4,Y20,IF(E5=X5,Y20,))","v":5.8889285714285713E-2},{"$f":"IF(E5=X5,P47+((P51-P47)/4),)","v":0},{"$f":"IF(E5=X5,AB20,)","v":0},{"$f":"IF(E5<>X2,R47+(Z28/4),0)","v":0.65374999999999994},{"$f":"IF(E5<>X2,AB15,)","v":5.0833928571428572E-2}]
[null,null,{"$f":"IF(E7=Y6,C48+(AC31/4),)","v":0},{"$f":"IF(E7=Y6,Z24,)","v":0},{"$f":"IF(OR(E5=X4,E5=X5),IF(E8=Y6,E48+(AC31/4),),0)","v":0},{"$f":"IF(OR(E5=X4,E5=X5),IF(E8=Y6,Z24,),0)","v":0},{"$f":"IF(E6=Y6,G47,)","v":0},{"$f":"IF(E6=Y6,H48-(AD31/4),)","v":0},0,{"$f":"U31","v":0.65306122448979587},null,{"$f":"IF(E5=X2,L47+(X28/2),L47+(X28/2))","v":0.23321428571428571},{"$f":"X15","v":6.7778571428571424E-2},{"$f":"IF(OR(E5=X4,E5=X5),N51-(N51-N47)/2,)","v":0.5},{"$f":"IF(E5=X4,X20,IF(E5=X5,X20,))","v":7.8519047619047613E-2},{"$f":"IF(E5=X5,P51+(P47-P51)/2,)","v":0},{"$f":"IF(E5=X5,AA20,)","v":0},{"$f":"IF(E5<>X2,R47+(Z28/2),0)","v":0.76678571428571429},{"$f":"IF(E5<>X2,AA15,)","v":6.7778571428571424E-2}]
[null,null,{"$f":"IF(E7=Y6,C48+(AC31/2),)","v":0},{"$f":"D46","v":0},{"$f":"IF(OR(E5=X4,E5=X5),IF(E8=Y6,E48+(AC31/2),),0)","v":0},{"$f":"IF(OR(E5=X4,E5=X5),IF(E8=Y6,F46,),0)","v":0},{"$f":"G46","v":0},{"$f":"IF(E6=Y6,J51-(AD31/2),)","v":0},0,0,null,{"$f":"IF(E5=X2,L49+(X28/4),L49+(X28/4))","v":0.34625},{"$f":"M48","v":5.0833928571428572E-2},{"$f":"IF(E5=X4,N51-(MAX(X31:Y31)/4),IF(E5=X5,N51-((N51-N47)/4)))","v":0.64874999999999994},{"$f":"IF(OR(E5=X4,E5=X5),O48,)","v":5.8889285714285713E-2},{"$f":"IF(E5=X5,P51-((P51-P47)/4),)","v":0},{"$f":"IF(E5=X5,Q48,)","v":0},{"$f":"IF(E5<>X2,R49+(Z28/4),0)","v":0.87982142857142853},{"$f":"IF(E5<>X2,S48,)","v":5.0833928571428572E-2}]
[null,null,{"$f":"IF(E7=Y6,C50-((C50-C54)/1.8),)","v":0},{"$f":"IF(E7=Y6,D52-(AC30/4),)","v":0},{"$f":"IF(OR(E5=X4,E5=X5),IF(E8=Y6,E50-((E50-E54)/1.8),),0)","v":0},{"$f":"IF(OR(E5=X4,E5=X5),IF(E8=Y6,F52-(AC30/4),),0)","v":0},{"$f":"IF(E6=Y6,G52-(AD30/4),)","v":0},{"$f":"IF(E6=Y6,H50+((H54-H50)/1.8),)","v":0},{"$f":"(U30/2)-(U32/2)","v":0.2857142857142857},{"$f":"U31/2","v":0.32653061224489793},null,{"$f":"L47+X28","v":0.45928571428571424},{"$f":"W25","v":7.1428571428571426E-3},{"$f":"IF(E5=X4,U30/2+(Y31/2),IF(E5=X5,U30/2+U23,))","v":0.79749999999999999},{"$f":"IF(OR(E5=X4,E5=X5),W25,)","v":7.1428571428571426E-3},{"$f":"IF(E5=X5,P47+Z31+U23+U22,)","v":0},{"$f":"IF(E5=X5,W25,)","v":0},{"$f":"IF(E5<>X2,U30-W25,0)","v":0.99285714285714288},{"$f":"S47","v":7.1428571428571426E-3}]
[null,null,{"$f":"IF(E7=Y6,C50-((C50-C54)*0.85),)","v":0},{"$f":"IF(E7=Y6,(U31/2)-(U31/4),)","v":0},{"$f":"IF(OR(E5=X4,E5=X5),IF(E8=Y6,E50-((E50-E54)*0.85),),0)","v":0},{"$f":"IF(OR(E5=X4,E5=X5),IF(E8=Y6,U31/2-(U31/4),),0)","v":0},{"$f":"IF(E6=Y6,G53-(AD30/4),)","v":0},{"$f":"IF(E6=Y6,H50+((H54-H50)*0.85),)","v":0},{"$f":"(U30/2)+(U32/2)","v":0.7142857142857143},{"$f":"J51","v":0.32653061224489793},null,{"$f":"IF(E5=X2,L51-Y12,L51-Y12-(U18/2.75))","v":0.35637755102040813},{"$f":"W27/4","v":7.8061224489795911E-2},{"$f":"IF(E5=X4,N51-Y18-(U22/7),IF(E5=X5,N51-Y18,))","v":0.73448979591836727},{"$f":"IF(OR(E5=X4,E5=X5),M52,)","v":7.8061224489795911E-2},{"$f":"IF(E5=X5,P51-Y18-(U22/2.75),)","v":0},{"$f":"IF(E5=X5,U31/8,)","v":0},{"$f":"IF(E5<>X2,R51-AB13,)","v":0.94633112244897966},{"$f":"IF(E5<>X2,S53-(Z27/4),)","v":0.10913265306122449}]
[null,null,{"$f":"IF(E7=Y6,C54+((C50-C54)*0.05),)","v":0},{"$f":"IF(E7=Y6,D52+(AC30/4),)","v":0},{"$f":"IF(OR(E5=X4,E5=X5),IF(E8=Y6,E54+((E50-E54)*0.05),),0)","v":0},{"$f":"IF(OR(E5=X4,E5=X5),IF(E8=Y6,F52+(AC30/4),),0)","v":0},{"$f":"IF(E6=Y6,G54-(AD30/4),)","v":0},{"$f":"IF(E6=Y6,H54-((H54-H50)*0.05),)","v":0},0,0,null,{"$f":"IF(E5=X2,L51-X12,L51-X12-(U18/1.6))","v":0.29674744897959182},{"$f":"U31/4","v":0.16326530612244897},{"$f":"IF(E5=X4,N51-X18-(U22/3.5),IF(E5=X5,N51-X18,))","v":0.69627551020408163},{"$f":"IF(OR(E5=X4,E5=X5),M53,)","v":0.16326530612244897},{"$f":"IF(E5=X5,P51-X18-(U22/1.6),)","v":0},{"$f":"IF(E5=X5,U31/4,)","v":0},{"$f":"IF(E5<>X2,R51-AA13,)","v":0.93082244897959188},{"$f":"IF(E5<>X2,S54-(Z27/4),)","v":0.21112244897959184}]
[null,null,{"$f":"IF(E7=Y6,I51+IF(E5=X3,U32/2,),)","v":0},{"$f":"IF(E7=Y6,J51-W25,)","v":0},{"$f":"IF(OR(E5=X4,E5=X5),IF(E8=Y6,U32+I51,),0)","v":0},{"$f":"IF(OR(E5=X4,E5=X5),IF(E8=Y6,J51-W25,),0)","v":0},{"$f":"IF(E6=Y6,I51-W25,)","v":0},{"$f":"IF(E6=Y6,J51,)","v":0},{"$f":"(U30/2)-(U32/2)","v":0.2857142857142857},{"$f":"J52","v":0.32653061224489793},null,{"$f":"IF(E5=X2,L55-Y12,L55-Y12+(U18/5.5))","v":0.27423469387755095},{"$f":"W27*0.75","v":0.23418367346938773},{"$f":"IF(E5=X4,N55-Y18+(U22/9),IF(E5=X5,N55-Y18,))","v":0.69002834467120178},{"$f":"IF(OR(E5=X4,E5=X5),M54,)","v":0.23418367346938773},{"$f":"IF(E5=X5,P55-Y18+(U22/5),)","v":0},{"$f":"IF(E5=X5,(U31/8)*3,)","v":0},{"$f":"IF(E5<>X2,R51-AB13,)","v":0.94633112244897966},{"$f":"IF(E5<>X2,S55-(Z27/4),)","v":0.31311224489795919}]
[null,null,{"$f":"IF(E7=Y6,C54-((C50-C54)*0.05),)","v":0},{"$f":"D53","v":0},{"$f":"IF(OR(E5=X4,E5=X5),IF(E8=Y6,E54-((E50-E54)*0.05),),0)","v":0},{"$f":"IF(OR(E5=X4,E5=X5),IF(E8=Y6,F53,),0)","v":0},{"$f":"G53","v":0},{"$f":"H54+((H54-H50)*0.05)","v":0},0,{"$f":"J49","v":0.65306122448979587},null,{"$f":"IF(E5=X2,L47+X28,W28+L47)","v":0.27857142857142853},{"$f":"U31/2-W25","v":0.31938775510204082},{"$f":"IF(E5=X4,I57-W25,IF(E5=X5,U30/2+U23,))","v":0.70714285714285718},{"$f":"IF(OR(E5=X4,E5=X5),U31/2-W25,)","v":0.31938775510204082},{"$f":"IF(E5=X5,(U30/2)+Z31,)","v":0},{"$f":"IF(E5=X5,U31/2-W25,)","v":0},{"$f":"IF(E5<>X2,R51,0)","v":0.99285714285714288},{"$f":"IF(E5<>X2,S51+Z27,)","v":0.41510204081632651}]
[null,null,{"$f":"IF(E7=Y6,C58+((C54-C58)*0.85),)","v":0},{"$f":"D52","v":0},{"$f":"IF(OR(E5=X4,E5=X5),IF(E8=Y6,E58+((E54-E58)*0.85),),0)","v":0},{"$f":"IF(OR(E5=X4,E5=X5),IF(E8=Y6,F52,),0)","v":0},{"$f":"G52","v":0},{"$f":"H58-((H54-H50)*0.85)","v":0},{"$f":"U30","v":1},0,null,{"$f":"IF(E5=X2,L49+(X28/4),L55-(W28/4))","v":0.21071428571428569},{"$f":"M55-Y14+(U10/4)","v":0.31010204081632653},{"$f":"IF(OR(E5=X4,E5=X5),N55-(W31/4),)","v":0.60357142857142865},{"$f":"IF(OR(E5=X4,E5=X5),U31/2-Y19,)","v":0.27938775510204078},{"$f":"IF(E5=X5,P55-((P55-P59)/4),)","v":0},{"$f":"IF(E5=X5,U31/2-AB19,)","v":0},{"$f":"IF(E5<>X2,R55-(W28/4),)","v":0.92500000000000004},{"$f":"IF(E5<>X2,S55-AB14-(U14/4),)","v":0.35795918367346941}]
[null,null,{"$f":"C58+((C54-C58)/1.8)","v":0},{"$f":"D51","v":0},{"$f":"IF(OR(E5=X4,E5=X5),IF(E8=Y6,E58+((E54-E58)/1.8),),0)","v":0},{"$f":"IF(OR(E5=X4,E5=X5),IF(E8=Y6,F51,),0)","v":0},{"$f":"G51","v":0},{"$f":"H58-((H54-H50)/1.8)","v":0},{"$f":"(U30/2)+(U32/2)","v":0.7142857142857143},{"$f":"J51","v":0.32653061224489793},null,{"$f":"IF(E5=X2,L47+(X28/2),L56-(W28/4))","v":0.14285714285714285},{"$f":"M59-X14-(U10/2)","v":0.32295918367346937},{"$f":"IF(E5=X4,U30/2,IF(E5=X5,N55-((N55-N59)/2),))","v":0.5},{"$f":"IF(OR(E5=X4,E5=X5),U31/2-X19,)","v":0.26367346938775504},{"$f":"IF(E5=X5,P55-((P55-P59)/2),)","v":0},{"$f":"IF(E5=X5,U31/2-AA19,)","v":0},{"$f":"IF(E5<>X2,R55-(W28/2),0)","v":0.85714285714285721},{"$f":"IF(E5<>X2,S55-AA14-(U14/2),)","v":0.32295918367346937}]
[null,null,{"$f":"C46","v":0},{"$f":"D46","v":0},{"$f":"IF(OR(E5=X4,E5=X5),IF(E8=Y6,E46,),0)","v":0},{"$f":"IF(OR(E5=X4,E5=X5),IF(E8=Y6,F46,),0)","v":0},{"$f":"G46","v":0},{"$f":"H46","v":0},{"$f":"U30","v":1},{"$f":"J55","v":0.65306122448979587},null,{"$f":"IF(E5=X2,L47+(X28/4),L57-(W28/4))","v":7.4999999999999997E-2},{"$f":"M59-Y14-(U10/4)","v":0.35795918367346941},{"$f":"IF(OR(E5=X4,E5=X5),N57-((N55-N59)/4),)","v":0.39642857142857141},{"$f":"IF(OR(E5=X4,E5=X5),U31/2-Y19,)","v":0.27938775510204078},{"$f":"IF(E5=X5,P57-((P55-P59)/4),)","v":0},{"$f":"IF(E5=X5,U31/2-AB19,)","v":0},{"$f":"IF(E5<>X2,R59+(W28/4),0)","v":0.78928571428571426},{"$f":"IF(E5<>X2,S59-AB14+(U14/4),)","v":0.31010204081632653}]
[null,null,"x","y",null,"x","y","x","y",null,null,{"$f":"L47","v":7.1428571428571426E-3},{"$f":"M47+X27","v":0.41510204081632651},{"$f":"IF(E5=X4,N55-W31,IF(E5=X5,N55-W31-U23,))","v":0.29285714285714287},{"$f":"IF(OR(E5=X4,E5=X5),O55,)","v":0.31938775510204082},{"$f":"IF(E5=X5,P55-Z31-U23,)","v":0},{"$f":"IF(E5=X5,Q55,)","v":0},{"$f":"IF(E5=X3,I54+(U32/2)+W25,IF(E5<>X2,I57+W25,))","v":0.72142857142857142},{"$f":"IF(E5<>X2,J54-W25,)","v":0.31938775510204082}]
[null,null,"mid left tri 2",null,null,"mid right tri 5",null,"b tri 6",null,null,null,{"$f":"L47+Y13","v":5.3668877551020414E-2},{"$f":"M59-(X27/4)","v":0.31311224489795919},{"$f":"IF(E5=X4,N59+Y18-(U18/9),IF(E5=X5,N59+Y18-(U18/5),))","v":0.30997165532879817},{"$f":"O54","v":0.23418367346938773},{"$f":"IF(E5=X5,P59+AB18,)","v":0},{"$f":"Q54","v":0},{"$f":"IF(E5<>X2,R59+Y12-(U22/5.5),)","v":0.72576530612244905},{"$f":"IF(E5<>X2,(W27*0.75),)","v":0.23418367346938773}]
[null,null,{"$f":"IF(AND(E7=Y6,E4<>Y8),C48-(AC31/2),)","v":0},{"$f":"IF(AND(E7=Y6,E4<>Y8),J48-W25,)","v":0},null,{"$f":"IF(OR(E5=X2,E5=X3),0,IF(AND(E8=Y6,E4<>Y8),E48-(AC31/2),))","v":0},{"$f":"IF(OR(E5=X2,E5=X3),0,IF(AND(E8=Y6,E4<>Y8),J48-W25,))","v":0},{"$f":"IF(E5=X2,0,IF(AND(E9=Y6,E4<>Y10),I48-W25,))","v":0},{"$f":"IF(E5=X2,0,IF(AND(E9=Y6,E4<>Y10),J51+(AD31/2),))","v":0},null,null,{"$f":"L47+X13","v":6.9177551020408165E-2},{"$f":"M60-(X27/4)","v":0.21112244897959184},{"$f":"IF(E5=X4,N63+X18+(U18/3.5),IF(E5=X5,N63+X18+(U18/1.6),))","v":0.30372448979591837},{"$f":"IF(OR(E5=X4,E5=X5),O53,)","v":0.16326530612244897},{"$f":"IF(E5=X5,P63+AA18,)","v":0},{"$f":"IF(E5=X5,Q53,)","v":0},{"$f":"IF(E5<>X2,R63+X12+(U22/1.6),)","v":0.70325255102040818},{"$f":"IF(E5<>X2,U31/4,)","v":0.16326530612244897}]
[null,null,{"$f":"IF(AND(E7=Y6,E4<>Y8),C48-(AC31/4),)","v":0},{"$f":"IF(AND(E7=Y6,E4<>Y8),J48-Z24,)","v":0},null,{"$f":"IF(OR(E5=X2,E5=X3),0,IF(AND(E8=Y6,E4<>Y8),E48-(AC31/4),))","v":0},{"$f":"IF(OR(E5=X2,E5=X3),0,IF(AND(E8=Y6,E4<>Y8),J48-Z24,))","v":0},{"$f":"IF(E5=X2,0,IF(AND(E9=Y6,E4<>Y10),I48-Z25,))","v":0},{"$f":"IF(E5=X2,0,IF(AND(E9=Y6,E4<>Y10),I61-(AD31/4),))","v":0},null,null,{"$f":"L60","v":5.3668877551020414E-2},{"$f":"M61-(X27/4)","v":0.10913265306122449},{"$f":"IF(E5=X4,N63+Y18+(U18/7),IF(E5=X5,N63+Y18+(U18/2.75),))","v":0.26551020408163267},{"$f":"O52","v":7.8061224489795911E-2},{"$f":"IF(E5=X5,P63+AB18,)","v":0},{"$f":"Q52","v":0},{"$f":"IF(E5<>X2,R63+Y12+(U22/2.75),)","v":0.64362244897959187},{"$f":"IF(E5<>X2,W27/4,)","v":7.8061224489795911E-2}]
[null,null,{"$f":"IF(AND(E7=Y6,E4<>Y8),C54,)","v":0},{"$f":"IF(AND(E7=Y6,E4<>Y8),J49-Y24,)","v":0},null,{"$f":"IF(OR(E5=X2,E5=X3),0,IF(AND(E8=Y6,E4<>Y8),E54,))","v":0},{"$f":"IF(OR(E5=X2,E5=X3),0,IF(AND(E8=Y6,E4<>Y8),J49-Y24,))","v":0},{"$f":"IF(E5=X2,0,IF(AND(E9=Y6,E4<>Y10),I48-Y25,))","v":0},{"$f":"IF(E5=X2,0,IF(AND(E9=Y6,E4<>Y10),I62-(AD31/4),))","v":0},null,null,{"$f":"L47","v":7.1428571428571426E-3},{"$f":"W25","v":7.1428571428571426E-3},{"$f":"IF(OR(E5=X4,E5=X5),N47,)","v":0.20250000000000001},{"$f":"IF(OR(E5=X4,E5=X5),W25,)","v":7.1428571428571426E-3},{"$f":"IF(E5=X5,P47,)","v":0},{"$f":"IF(E5=X5,W25,)","v":0},{"$f":"R47","v":0.5407142857142857},{"$f":"S47","v":7.1428571428571426E-3}]
[null,null,{"$f":"IF(AND(E7=Y6,E4<>Y8),C48+(AC31/4),)","v":0},{"$f":"IF(AND(E7=Y6,E4<>Y8),J49-Z24,)","v":0},null,{"$f":"IF(OR(E5=X2,E5=X3),0,IF(AND(E8=Y6,E4<>Y8),E48+(AC31/4),))","v":0},{"$f":"IF(OR(E5=X2,E5=X3),0,IF(AND(E8=Y6,E4<>Y8),J49-Z24,))","v":0},{"$f":"IF(E5=X2,0,IF(AND(E9=Y6,E4<>Y10),I48-Z25,))","v":0},{"$f":"IF(E5=X2,0,IF(AND(E9=Y6,E4<>Y10),I63-(AD31/4),))","v":0}]
[null,null,{"$f":"IF(AND(E7=Y6,E4<>Y8),C48+(AC31/2),)","v":0},{"$f":"IF(AND(E7=Y6,E4<>Y8),J48-D46,)","v":0},null,{"$f":"IF(OR(E5=X2,E5=X3),0,IF(AND(E8=Y6,E4<>Y8),E48+(AC31/2),))","v":0},{"$f":"IF(OR(E5=X2,E5=X3),0,IF(AND(E8=Y6,E4<>Y8),J48-F46,))","v":0},{"$f":"IF(E5=X2,0,IF(AND(E9=Y6,E4<>Y10),H61,))","v":0},{"$f":"IF(E5=X2,0,IF(AND(E9=Y6,E4<>Y10),J51-(AD31/2),))","v":0},null,null,"x","y","x","y","x","y","x","y"]
[null,null,{"$f":"IF(AND(E7=Y6,E4<>Y8),C50-((C50-C54)/1.8),)","v":0},{"$f":"IF(AND(E7=Y6,E4<>Y8),D67+(AC30/4),)","v":0},null,{"$f":"IF(OR(E5=X2,E5=X3),0,IF(AND(E8=Y6,E4<>Y8),E50-((E50-E54)/1.8),))","v":0},{"$f":"IF(OR(E5=X2,E5=X3),0,IF(AND(E8=Y6,E4<>Y8),G67+(AC30/4),))","v":0},{"$f":"IF(E5=X2,0,IF(AND(E9=Y6,E4<>Y10),H65-(AD30/4),))","v":0},{"$f":"IF(AND(E9=Y6,E4<>Y10),I65+((I69-I65)/1.8),)","v":0},null,null,"up front",null,"up mid left",null,"up mid right",null,"up left"]
[null,null,{"$f":"IF(AND(E7=Y6,E4<>Y8),C50-((C50-C54)*0.85),)","v":0},{"$f":"IF(AND(E7=Y6,E4<>Y8),J48-(U31/4),)","v":0},null,{"$f":"IF(OR(E5=X2,E5=X3),0,IF(AND(E8=Y6,E4<>Y8),E50-((E50-E54)*0.85),))","v":0},{"$f":"IF(OR(E5=X2,E5=X3),0,IF(AND(E8=Y6,E4<>Y8),J48-(U31/4),))","v":0},{"$f":"IF(E5=X2,0,IF(AND(E9=Y6,E4<>Y10),H65-(AD30/2),))","v":0},{"$f":"IF(AND(E9=Y6,E4<>Y10),I65+((I69-I65)*0.85),)","v":0},null,null,{"$f":"IF(E4=Y8,0,W25)","v":7.1428571428571426E-3},{"$f":"IF(E4=Y8,0,J48-X27-W25)","v":0.23795918367346933},{"$f":"IF(E4=Y8,0,IF(E5=X2,0,N59))","v":0.29285714285714287},{"$f":"IF(OR(E5=X4,E5=X5),M71,)","v":0.33367346938775511},{"$f":"IF(E4=Y8,0,IF(E5=X2,0,P59))","v":0},{"$f":"IF(E5=X5,M71,)","v":0},{"$f":"IF(E4=Y8,0,IF(E5=X3,I54+(U32/2)+W25,IF(E5<>X2,I57+W25,)))","v":0.72142857142857142},{"$f":"IF(E5<>X2,M71,)","v":0.33367346938775511}]
[null,null,{"$f":"IF(AND(E7=Y6,E4<>Y8),C54+((C50-C54)*0.05),)","v":0},{"$f":"IF(AND(E7=Y6,E4<>Y8),D67-(AC30/4),)","v":0},null,{"$f":"IF(OR(E5=X2,E5=X3),0,IF(AND(E8=Y6,E4<>Y8),E54+((E50-E54)*0.05),))","v":0},{"$f":"IF(OR(E5=X2,E5=X3),0,IF(AND(E8=Y6,E4<>Y8),G67-(AC30/4),))","v":0},{"$f":"IF(E5=X2,0,IF(AND(E9=Y6,E4<>Y10),H69+(AD30/4),))","v":0},{"$f":"IF(AND(E9=Y6,E4<>Y10),I69-((I69-I65)*0.05),)","v":0},null,null,{"$f":"IF(E4=Y8,0,L58)","v":7.4999999999999997E-2},{"$f":"IF(E4=Y8,0,M67+Y14+(U10/4))","v":0.29510204081632646},{"$f":"IF(E4=Y8,0,IF(E5=X2,0,N58))","v":0.39642857142857141},{"$f":"IF(E4=Y8,0,IF(OR(E5=X4,E5=X5),O67+Y19,))","v":0.38081632653061226},{"$f":"IF(E4=Y8,0,IF(E5=X2,0,P58))","v":0},{"$f":"IF(E4=Y8,0,IF(E5=X5,O67+Y19,))","v":0},{"$f":"IF(E4=Y8,0,IF(E5<>X2,R59+(W28/4),0))","v":0.78928571428571426},{"$f":"IF(E4=Y8,0,IF(E5<>X2,S67+AB14-(U14/4),))","v":0.34295918367346939}]
[null,null,{"$f":"IF(AND(E7=Y6,E4<>Y8),I51+IF(E5=X3,U32/2,),)","v":0},{"$f":"IF(AND(E7=Y6,E4<>Y8),J51+W25,)","v":0},null,{"$f":"IF(OR(E5=X2,E5=X3),0,IF(AND(E8=Y6,E4<>Y8),I51+U32,))","v":0},{"$f":"IF(OR(E5=X2,E5=X3),0,IF(AND(E8=Y6,E4<>Y8),J51+W25,))","v":0},{"$f":"IF(E5=X2,0,IF(AND(E9=Y6,E4<>Y10),I57+W25,))","v":0},{"$f":"IF(E5=X2,0,IF(AND(E9=Y6,E4<>Y10),J51,))","v":0},null,null,{"$f":"IF(E4=Y8,0,L57)","v":0.14285714285714285},{"$f":"IF(E4=Y8,0,M67+X14+(U10/2))","v":0.33010204081632649},{"$f":"IF(E4=Y8,0,IF(E5=X2,0,N57))","v":0.5},{"$f":"IF(E4=Y8,0,IF(OR(E5=X4,E5=X5),O67+X19,))","v":0.39653061224489794},{"$f":"IF(E4=Y8,0,IF(E5=X2,0,P57))","v":0},{"$f":"IF(E4=Y8,0,IF(E5=X5,O67+X19,))","v":0},{"$f":"IF(E4=Y8,0,IF(E5<>X2,R55-(W28/2),0))","v":0.85714285714285721},{"$f":"IF(E4=Y8,0,IF(E5<>X2,S71+AA14+(U14/2),))","v":0.33010204081632649}]
[null,null,{"$f":"IF(AND(E7=Y6,E4<>Y8),C54-((C50-C54)*0.05),)","v":0},{"$f":"D68","v":0},null,{"$f":"IF(OR(E5=X2,E5=X3),0,IF(AND(E8=Y6,E4<>Y8),E54-((E50-E54)*0.05),))","v":0},{"$f":"IF(OR(E5=X2,E5=X3),0,G68)","v":0},{"$f":"H68","v":0},{"$f":"IF(AND(E9=Y6,E4<>Y10),I69+((I69-I65)*0.05),)","v":0},null,null,{"$f":"IF(E4=Y8,0,L56)","v":0.21071428571428569},{"$f":"IF(E4=Y8,0,M71+Y14-(U10/4))","v":0.34295918367346939},{"$f":"N69+(N69-N68)","v":0.60357142857142865},{"$f":"IF(OR(E5=X4,E5=X5),O68,)","v":0.38081632653061226},{"$f":"P69+(P69-P68)","v":0},{"$f":"IF(E5=X5,O68,)","v":0},{"$f":"IF(E4=Y8,0,IF(E5<>X2,R55-(W28/4),))","v":0.92500000000000004},{"$f":"IF(E4=Y8,0,IF(E5<>X2,S71+AB14+(U14/4),))","v":0.29510204081632646}]
[null,null,{"$f":"IF(AND(E7=Y6,E4<>Y8),C58+((C54-C58)*0.85),)","v":0},{"$f":"D67","v":0},null,{"$f":"IF(OR(E5=X2,E5=X3),0,IF(AND(E8=Y6,E4<>Y8),E58+((E54-E58)*0.85),))","v":0},{"$f":"IF(OR(E5=X2,E5=X3),0,G67)","v":0},{"$f":"H67","v":0},{"$f":"IF(AND(E9=Y6,E4<>Y10),I73-((I69-I65)*0.85),)","v":0},null,null,{"$f":"IF(E4=Y8,0,IF(E5=X2,L47+X28,W28+L47))","v":0.27857142857142853},{"$f":"IF(E4=Y8,0,J49-W27-W25)","v":0.33367346938775511},{"$f":"IF(E4=Y8,0,IF(E5=X4,I57-W25,IF(E5=X5,U30/2+U23,)))","v":0.70714285714285718},{"$f":"IF(OR(E5=X4,E5=X5),O67,)","v":0.33367346938775511},{"$f":"IF(E4=Y8,0,IF(E5=X5,(U30/2)+Z31,))","v":0},{"$f":"IF(E5=X5,O67,)","v":0},{"$f":"IF(E4=Y8,0,IF(E5<>X2,U30-W25,0))","v":0.99285714285714288},{"$f":"IF(E4=Y8,0,IF(E5<>X2,J48-Z27-W25,))","v":0.23795918367346933}]
[null,null,{"$f":"IF(AND(E7=Y6,E4<>Y8),C58+((C54-C58)/1.8),)","v":0},{"$f":"D66","v":0},null,{"$f":"IF(OR(E5=X2,E5=X3),0,IF(AND(E8=Y6,E4<>Y8),E58+((E54-E58)/1.8),))","v":0},{"$f":"IF(OR(E5=X2,E5=X3),0,G66)","v":0},{"$f":"H66","v":0},{"$f":"IF(AND(E9=Y6,E4<>Y10),I73-((I69-I65)/1.8),)","v":0},null,null,{"$f":"IF(E4=Y8,0,L54)","v":0.27423469387755095},{"$f":"IF(E4=Y8,0,(W27/4)+U31/2)","v":0.40459183673469384},{"$f":"IF(E4=Y8,0,IF(E5=X2,0,N54))","v":0.69002834467120178},{"$f":"IF(OR(E5=X4,E5=X5),M72,)","v":0.40459183673469384},{"$f":"IF(E4=Y8,0,IF(E5=X2,0,P54))","v":0},{"$f":"IF(E5=X5,M72,)","v":0},{"$f":"IF(E4=Y8,0,IF(E5<>X2,R51-AB13,))","v":0.94633112244897966},{"$f":"IF(E4=Y8,0,IF(E5<>X2,S73-(Z27/4),))","v":0.33994897959183679}]
[null,null,{"$f":"IF(AND(E7=Y6,E4<>Y8),C46,)","v":0},{"$f":"D65","v":0},null,{"$f":"IF(OR(E5=X2,E5=X3),0,IF(AND(E8=Y6,E4<>Y8),E46,))","v":0},{"$f":"IF(OR(E5=X2,E5=X3),0,G65)","v":0},{"$f":"H65","v":0},{"$f":"IF(AND(E9=Y6,E4<>Y10),I61,)","v":0},null,null,{"$f":"IF(E4=Y8,0,L53)","v":0.29674744897959182},{"$f":"IF(E4=Y8,0,(U31/4)+U31/2)","v":0.48979591836734693},{"$f":"IF(E4=Y8,0,IF(E5=X2,0,N53))","v":0.69627551020408163},{"$f":"IF(OR(E5=X4,E5=X5),M73,)","v":0.48979591836734693},{"$f":"IF(E4=Y8,0,IF(E5=X2,0,P53))","v":0},{"$f":"IF(E5=X5,M73,)","v":0},{"$f":"IF(E4=Y8,0,IF(E5<>X2,R51-AA13,))","v":0.93082244897959188},{"$f":"IF(E4=Y8,0,IF(E5<>X2,S74-(Z27/4),))","v":0.44193877551020411}]
[null,null,null,null,null,null,null,null,null,null,null,{"$f":"IF(E4=Y8,0,L52)","v":0.35637755102040813},{"$f":"IF(E4=Y8,0,(W27*0.75)+U31/2)","v":0.56071428571428572},{"$f":"IF(E4=Y8,0,N52)","v":0.73448979591836727},{"$f":"IF(OR(E5=X4,E5=X5),M74,)","v":0.56071428571428572},{"$f":"IF(E4=Y8,0,P52)","v":0},{"$f":"IF(E5=X5,M74,)","v":0},{"$f":"IF(E4=Y8,0,IF(E5<>X2,R51-AB13,))","v":0.94633112244897966},{"$f":"IF(E4=Y8,0,IF(E5<>X2,S75-(Z27/4),))","v":0.54392857142857143}]
[null,null,null,null,null,null,null,null,null,null,null,{"$f":"IF(E4=Y8,0,L51)","v":0.45928571428571424},{"$f":"IF(E4=Y8,0,(U31)-W25)","v":0.64591836734693875},{"$f":"IF(OR(E5=X2,E4=Y8),0,N51)","v":0.79749999999999999},{"$f":"IF(OR(E5=X4,E5=X5),M79,)","v":0.64591836734693875},{"$f":"IF(OR(E5=X2,E4=Y8),0,P51)","v":0},{"$f":"IF(E5=X5,M79,)","v":0},{"$f":"IF(E4=Y8,0,IF(E5<>X2,R51,0))","v":0.99285714285714288},{"$f":"IF(E5<>X2,M79,)","v":0.64591836734693875}]
[null,null,null,null,null,null,null,null,null,null,null,{"$f":"IF(E4=Y8,0,L50)","v":0.34625},{"$f":"IF(E4=Y8,0,(U31/2-M48)+U31/2)","v":0.60222729591836721},{"$f":"IF(E4=Y8,0,IF(E5=X2,0,N50))","v":0.64874999999999994},{"$f":"IF(E4=Y8,0,IF(E5=X4,O75-Y20,IF(E5=X5,O75-Y19,)))","v":0.58702908163265299},{"$f":"IF(E4=Y8,0,IF(E5=X2,0,P50))","v":0},{"$f":"IF(E4=Y8,0,IF(E5=X5,Q75-AB19,))","v":0},{"$f":"IF(E4=Y8,0,IF(E5<>X2,R49+(Z28/4),0))","v":0.87982142857142853},{"$f":"IF(E4=Y8,0,IF(E5<>X2,J49-AB15,))","v":0.60222729591836732}]
[null,null,null,null,null,null,null,null,null,null,null,{"$f":"IF(E4=Y8,0,L49)","v":0.23321428571428571},{"$f":"IF(E4=Y8,0,(U31/2-M49)+U31/2)","v":0.58528265306122451},{"$f":"IF(E4=Y8,0,IF(E5=X2,0,N49))","v":0.5},{"$f":"IF(E4=Y8,0,IF(E5=X4,O75-X20,IF(E5=X5,O75-X19,)))","v":0.56739931972789115},{"$f":"IF(E4=Y8,0,IF(E5=X2,0,P49))","v":0},{"$f":"IF(E4=Y8,0,IF(E5=X5,Q75-AA19,))","v":0},{"$f":"IF(E4=Y8,0,IF(E5<>X2,R47+(Z28/2),0))","v":0.76678571428571429},{"$f":"IF(E4=Y8,0,IF(E5<>X2,J49-AA15,))","v":0.5852826530612244}]
[null,null,null,null,null,null,null,null,null,null,null,{"$f":"IF(E4=Y8,0,L48)","v":0.12017857142857143},{"$f":"M76","v":0.60222729591836721},{"$f":"IF(E4=Y8,0,IF(E5=X2,0,N48))","v":0.35125000000000001},{"$f":"IF(OR(E5=X4,E5=X5),O76,)","v":0.58702908163265299},{"$f":"IF(E4=Y8,0,IF(E5=X2,0,P48))","v":0},{"$f":"IF(E5=X5,Q76,)","v":0},{"$f":"IF(E4=Y8,0,IF(E5<>X2,R47+(Z28/4),0))","v":0.65374999999999994},{"$f":"S76","v":0.60222729591836732}]
[null,null,null,null,null,null,null,null,null,null,null,{"$f":"IF(E4=Y8,0,L47)","v":7.1428571428571426E-3},{"$f":"M75","v":0.64591836734693875},{"$f":"IF(E4=Y8,0,IF(E5=X2,0,N63))","v":0.20250000000000001},{"$f":"IF(OR(E5=X4,E5=X5),O75,)","v":0.64591836734693875},{"$f":"IF(E4=Y8,0,IF(E5=X2,0,P63))","v":0},{"$f":"IF(E5=X5,Q75,)","v":0},{"$f":"IF(E4=Y8,0,IF(E5<>X2,R51-Z28,))","v":0.5407142857142857},{"$f":"S75","v":0.64591836734693875}]
[null,null,null,null,null,null,null,null,null,null,null,{"$f":"IF(E4=Y8,0,L47+Y13)","v":5.3668877551020414E-2},{"$f":"IF(E4=Y8,0,M79-(X27/4))","v":0.54392857142857143},{"$f":"IF(E4=Y8,0,IF(E5=X2,0,N62))","v":0.26551020408163267},{"$f":"O74","v":0.56071428571428572},{"$f":"IF(E4=Y8,0,IF(E5=X2,0,P62))","v":0},{"$f":"Q74","v":0},{"$f":"IF(E4=Y8,0,R62)","v":0.64362244897959187},{"$f":"IF(E5<>X2,M74,)","v":0.56071428571428572}]
[null,null,null,null,null,null,null,null,null,null,null,{"$f":"IF(E4=Y8,0,L47+X13)","v":6.9177551020408165E-2},{"$f":"IF(E4=Y8,0,M80-(X27/4))","v":0.44193877551020411},{"$f":"IF(E4=Y8,0,IF(E5=X2,0,N61))","v":0.30372448979591837},{"$f":"IF(OR(E5=X4,E5=X5),O73,)","v":0.48979591836734693},{"$f":"IF(E4=Y8,0,IF(E5=X2,0,P61))","v":0},{"$f":"IF(E5=X5,O73,)","v":0},{"$f":"IF(E4=Y8,0,R61)","v":0.70325255102040818},{"$f":"IF(E5<>X2,M73,)","v":0.48979591836734693}]
[null,null,null,null,null,null,null,null,null,null,null,{"$f":"IF(E4=Y8,0,L80)","v":5.3668877551020414E-2},{"$f":"IF(E4=Y8,0,M81-(X27/4))","v":0.33994897959183679},{"$f":"IF(E4=Y8,0,IF(E5=X2,0,N60))","v":0.30997165532879817},{"$f":"O72","v":0.40459183673469384},{"$f":"IF(E4=Y8,0,IF(E5=X2,0,P60))","v":0},{"$f":"Q72","v":0},{"$f":"IF(E4=Y8,0,R60)","v":0.72576530612244905},{"$f":"IF(E5<>X2,M72,)","v":0.40459183673469384}]
[null,null,null,null,null,null,null,null,null,null,null,{"$f":"IF(E4=Y8,0,L47)","v":7.1428571428571426E-3},{"$f":"M67","v":0.23795918367346933},{"$f":"IF(E5=X2,0,N67)","v":0.29285714285714287},{"$f":"IF(OR(E5=X4,E5=X5),O67,)","v":0.33367346938775511},{"$f":"IF(E5=X2,0,P67)","v":0},{"$f":"IF(E5=X5,O67,)","v":0},{"$f":"R67","v":0.72142857142857142},{"$f":"S67","v":0.33367346938775511}]

{"sheet":"Victorian","index":7,"n_rows":90,"n_cols":37,"rows_kept":90,"cut":false,"hidden":false,"merged":[[20,7,21,10],[24,6,26,10],[22,7,23,9],[27,6,29,10],[27,3,30,4],[24,3,25,4]]}
[null,null,null,null,null,null,null,null,null,null,null,null,null,null,null,null,null,null,null,null,null,null,null,"Main material",{"$f":"IF(OR(E17=AI2,E17=AI3,E17=AI4,E17=AI5,E17=AI6,E17=AI7),5,IF(OR(E17=AI8,E17=AI9,E17=AI10,E17=AI11,E17=AI12,E17=AI13,E17=AI14,E17=AI15,E17=AI16,E17=AI17),6,IF(OR(E17=AI18,E17=AI19,E17=AI20,E17=AI21,E17=AI22,E17=AI23,E17=AI24),7.2,)))","v":5},"Material cost",11.35,"Sails","Warning 1","Warning: Sail too narrow, increase no. of sails, add additional fitting points or reduce gap size","Coverage",null,null,null,"Fabric Colour",null,"Fittings Colours"]
[null,null,null,null,null,null,null,null,null,null,null,null,null,null,null,null,null,null,null,null,null,null,null,"Tri material",{"$f":"IF(OR(E18=AI2,E18=AI3,E18=AI4,E18=AI5,E18=AI6,E18=AI7),5,IF(OR(E18=AI8,E18=AI9,E18=AI10,E18=AI11,E18=AI12,E18=AI13,E18=AI14,E18=AI15,E18=AI16,E18=AI17),6,IF(OR(E18=AI18,E18=AI19,E18=AI20,E18=AI21,E18=AI22,E18=AI23,E18=AI24),7.2,)))","v":5},"PE",2.5,1,"Warning 2","Warning: Sail too narrow, decrease no. of sails, add additional fitting points or increase gap size","Cover one side",null,null,null,"ISX Solid",5,"Stainless steel"]
[null,null,null,null,null,null,null,null,null,null,null,null,null,null,null,null,null,null,null,null,null,null,null,null,null,"PN",3.5,2,"Warning 3","Warning: Sail too wide for standard fabric, please add more sails or increase gap size","Cover both sides",null,null,null,"ISX White",null,"White"]
[null,null,null,"Select coverage","Cover both sides",null,null,null,null,null,null,null,null,null,null,null,null,null,null,null,null,null,null,null,null,"IP",2,3,"Warning 4","Warning: Conservatory too long for standard fabric, contact office for more detailed price",null,null,null,null,"ISX Solid Ivory",null,"Gold"]
[null,null,null,"Number of sails per side",2,null,null,null,null,null,null,null,null,null,null,null,null,null,null,null,null,null,null,null,null,"No. of vents",null,null,"Warning 5","Warning: Front triangular sails are too thin for this conservatory",null,null,null,null,"ISX Solid Oyster"]
[null,null,null,"Front triangle sail","Yes",null,null,null,null,null,null,null,null,null,null,null,null,null,null,null,null,null,null,"Shape",{"$f":"IF(AB9=X7,Y7,IF(AB9=X8,Y8,IF(AB9=X9,Y9)))","v":1},0,null,null,"Warning 6","Warning: Middle triangular sails are too thin for this conservatory",null,null,null,null,"ISX Solid Sand"]
[null,null,null,"Middle triangle sails","No",null,null,null,null,null,null,null,null,null,null,null,null,null,null,null,null,null,null,"Triangle",0.6,1,null,null,"Warning 7","Warning: Ridge is too short for a 3 sails per side solution, reduce no. of sails",null,null,null,null,"ISX Solid Stone"]
[null,null,null,"Back triangle sail","No",null,null,null,null,null,null,null,null,null,null,null,null,null,null,null,null,null,null,"Diamond",0.6,2,"No. of corners",4,"Warnings front","Warnings mid","Warnings right","Warnings front tri","Warnings mid tri","Warnings mid tri","ISX Duplex",6]
[null,null,null,null,null,null,null,null,null,null," ",null," ",null,null,null,null,null,null,null,null,null," ","Other",1,3,"Shape","Other",{"$f":"AA27","v":1.53},{"$f":"AB27","v":1.6434415109762803},{"$f":"AC27","v":1.6434415109762803},{"$f":"IF(E6=AD12,1,0.0001)*AD27","v":1.58},{"$f":"IF(OR(E7=AD12,E8=AD12),1,0.00001)*AE27","v":1.6434415109762806E-5},{"$f":"IF(OR(E7=AD12,E8=AD12),1,0.00001)*AF27","v":1.6434415109762806E-5},"ISX Duplex Ocean"]
[null,null,null,"Reduce front gap size","Standard",null,null,null,null,null,null,null,null,null,null,null,null,null,null,null,null,null," ","Overlap front",{"$f":"IF(E10=X11,Y11,IF(E10=X12,Y12,IF(E10=X13,Y13,)))","v":0},4,"Curve allowance",0.5,{"$f":"AA28","v":2.2050000000000005},{"$f":"AB28*IF(E5=AB2,100000,1)","v":1.8750000000000004},{"$f":"AC28*IF(E5<>AB4,100000,1)","v":187500.00000000006},{"$f":"AD28","v":1.25},{"$f":"IF(E7=AD12,AE28,AE28*AG9)","v":1.6795972242177589E-5},{"$f":"AF28+(Y32*2)","v":1.044875816993464},"ISX Duplex Forest"]
[null,null,null,"Reduce middle gap size",0.5,null,null,null,null,null," ",null,null,null,null,null,null,null,null,null,null,null,null,"Point to point",0,"Front","Mid","Quarters","Triangles","No",null,null,null,null,"ISX Duplex Stone"]
[null,null,null,"Reduce right gap size",0.5,null,null,null,null,null,null,null,null,null,null,null,null,null,null,null,null,null,null,0.5,{"$f":"IF((AA12*2+(0.035/(IF(B24>B26,B24,B26)/1000)))>(Y27/3),Y27/3,(AA12*2+(0.035/(IF(B24>B26,B24,B26)/1000)))*0.8)","v":0.10745098039215689},"Horizontal long side",{"$f":"((AA21+(0.07/(IF(B24>IF(B24>B26,B24,B26),B24,IF(B24>B26,B24,B26))/1000)))*0.1)+Y32","v":6.143790849673203E-2},{"$f":"(AA12)*0.75","v":4.6078431372549022E-2},null,"Yes",null,null,null,null,"ISX Duplex Slate"]
[null,null,null,"Total additional fittings",0,null,null,null,null,null," ",null," ",null,null,null,null,null,null,null,null,null," ",1,{"$f":"IF((AA13*2+(0.035/(IF(B24>B26,B24,B26)/1000)))>(Y27/2),Y27/2,(AA13*2+(0.035/(IF(B24>B26,B24,B26)/1000))))","v":0.16431372549019607},"Vertical long",{"$f":"IF(E5=AB2,((AA21+(0.07/(IF(B24>IF(B24>B26,B24,B26),B24,IF(B24>B26,B24,B26))/1000)))*0.13)+Y32,((AA21+(0.07/(IF(B24>IF(B24>B26,B24,B26),B24,IF(B24>B26,B24,B26))/1000)))*0.13)+Y32)","v":7.6437908496732029E-2},{"$f":"AA13*0.75","v":5.7328431372549019E-2},"Tri","Mid","Quarters",null,null,null,"ISX Duplex Graphite"]
[null,null,null,"Total tie-bar loops",0,null,null,null,null,null,null,null,null,null,null,null,null,null,null,null,null,null," ","Overlap middle",{"$f":"IF(E11=X15,Y15,IF(E11=X16,Y16,IF(E11=X17,Y17,)))","v":0.20424836601307189},"V short side",{"$f":"(((J74-J70)+(Y32*2))*0.13)+Y32","v":9.1094771241830089E-2},{"$f":"AA14*0.75","v":6.832107843137257E-2},"Vertical back",{"$f":"((AC25+(Y32*2))*0.13)+Y32","v":5.7830065359477122E-2},{"$f":"AD14*0.75","v":4.3372549019607839E-2},null,null,null,"ISXFR Solid",6]
[null,null,null,"Total straight edges",0,null,null,null,null,null,null,null," ",null,null,null,null,null,null,null,null,null,null,"Standard",0,"H short side",{"$f":"(((Y27/2)+Y10)*0.13)+Y32","v":3.7990196078431376E-2},{"$f":"AA15*0.75","v":2.8492647058823532E-2},"Vertical middle",{"$f":"((AB25+(Y32*2))*0.13)+Y32","v":5.7830065359477122E-2},{"$f":"AD15*0.75","v":4.3372549019607839E-2},null,null,null,"ISXFR White"]
[null,null,null,null,null,null,null,null,null,null,null,null,null,null,null,null,null,null,null,null,null,null,null,0.5,{"$f":"Y17/2","v":0.20424836601307189},"Mid","Mid","Quarters","Vertical Front",{"$f":"((AA25+(Y32*2))*0.13)+Y32","v":5.9316993464052295E-2},{"$f":"AD16*0.75","v":4.4487745098039225E-2},null,null,null,"ISXFR Solid Ivory"]
[null,null,null,"Colour of main sails","ISX Solid",null,null,null,null,null,null,null,null,null,null,null,null,null,null,null,null,null,null,1,{"$f":"V78-V70","v":0.40849673202614378},"Horizontal",{"$f":"((AC21+(Y32*2))*0.13)+Y32","v":7.6437908496732029E-2},{"$f":"(AA17)*0.75","v":5.7328431372549019E-2},"Back","Mid","Quarters",null,null,null,"ISXFR Solid Oyster"]
[null,null,null,"Colour of triangles","ISX Solid",null,null,null,null,null,null,null," ",null,null,null,null,null,null,null,null,null," ","Overlap back",{"$f":"IF(E5<>AB4,0,IF(E12=X15,Y19,IF(E12=X16,Y20,IF(E12=X17,Y21,))))","v":0},"Vertical ridge",{"$f":"((AE22+(Y32*2))*0.13)+Y32","v":6.4542483660130712E-2},{"$f":"AA18*0.75","v":4.8406862745098034E-2},"Horizontal",{"$f":"((AF21+(Y32*2))*0.13)+Y32","v":7.6437908496732029E-2},{"$f":"AD18*0.75","v":5.7328431372549019E-2},null,null,null,"ISXFR Duplex",7.2]
[null,null,null,"Colour of fittings","Stainless steel",null,null,null,null,null,null,null,null,null,null,null,null,null,null,null,null,null,null,"Standard",0,"Vertical fascia",{"$f":"((AVERAGE(AD22:AE22)+(Y32*2))*0.13)+Y32","v":7.7818627450980393E-2},{"$f":"AA19*0.75","v":5.8363970588235295E-2},"Vertical",{"$f":"((AF22+(Y32*2))*0.13)+Y32","v":3.7990196078431376E-2},{"$f":"AD19*0.75","v":2.8492647058823532E-2},null,null,null,"ISXFR Duplex Ocean"]
[null,null,null,"Number of window vents",0,null,null,null,null,"Plan view - looking from above",null,null,null,null,null,null,null,null,null,null,null,null,null,0.5,{"$f":"IF(E5=AB3,AA17+(0.035/(IF(B24>B26,B24,B26)/1000)),IF(E5=AB4,AA17/2+(0.035/(IF(B24>B26,B24,B26)/1000)),))","v":8.7875816993464057E-2},null,"front + overlaped",null,"mid + overlaped",null,null,"back",null,null,"ISXFR Duplex Forest"]
[null,null,null,null,null,null,null,{"$f":"IF(OR(E13>0,E14>0,E15>0),\"Mark additional features (fittings/tie-bar loops/straight edges) on sketch\",\"\")","v":""},null,null,null,null,null,null,null,null,null,null,null,null,null,null,null,1,{"$f":"IF(E5=AB3,AA17*2+(0.035/(IF(B24>B26,B24,B26)/1000)),IF(E5=AB4,AA17+(0.035/(IF(B24>B26,B24,B26)/1000)),))","v":0.16431372549019607},"Sail length",{"$f":"(Y28/2)-(0.07/(IF(B24>B26,B24,B26)/1000))","v":0.47712418300653592},{"$f":"AA21+Y10","v":0.47712418300653592},{"$f":"AA21","v":0.47712418300653592},"<-"," ->",{"$f":"AC21","v":0.47712418300653592},null,null,"ISXFR Duplex Sand"]
[null,null,null,"Max length of sail",{"$f":"(MAX(AA27:AC27))*1000","v":1643.4415109762804},null,null,null,null,null,null,null,null,null,null,null,null,null,null,null,null,null,null,null,"Dims in m","Sail width",{"$f":"J74","v":0.70915032679738577},{"$f":"AA22","v":0.70915032679738577},{"$f":"((Y29/IF(E5=AB3,1,2))-(0.07/(IF(B24>B26,B24,B26)/1000)))","v":0.3856209150326797},{"$f":"AC22+Y14","v":0.58986928104575154},{"$f":"AC22+Y18","v":0.3856209150326797},{"$f":"((Y29)/2)-(0.07/(IF(B24>B26,B24,B26)/1000))+Y18","v":0.18137254901960784},null,null,"ISXFR Duplex Stone"]
[null,"All dims in mm",null,"Max width of sail",{"$f":"(MAX(AA28:AC28))*1000","v":2205.0000000000005},null,null,"Total budget cost incl. Installation+VAT+Delivery",null,null,{"$f":"(((12.15+(E20*50*VAT!V1)+AA32+AB30+AC30+AD30+IF(E7=AD12,AE30,)+IF(AND(E5=AB4,E8=AD12),AF30,))+(25.5*E13)+IF(E19<>AK2,E13*2,0)))+(E14*75*VAT!V1)+(E15*100*VAT!V1)","v":1802.9702148092797},null,null,null,null,null,null,null,null,null,null,null,null,"h1",{"$f":"B28/IF(B24>B26,B24,B26)","v":0.65359477124183007},null,"tri front","tri mid","tri back",null,null,null,null,null,"ISXFR Duplex Slate"]
["X1",3060,null,null,null,null,null,null,null,null,{"$f":"'   '!P7","v":2073.4157470306718},null,null,null,null,null,null,null,null,null,null,null,null,"h2",{"$f":"B29/IF(B24>B26,B24,B26)","v":0.84967320261437906},"Sail length",{"$f":"V78-(0.07/(IF(B24>B26,B24,B26)/1000))","v":0.49346405228758172},{"$f":"W78-(0.07/(IF(B24>B26,B24,B26)/1000))","v":0.47712418300653592},{"$f":"AB24","v":0.47712418300653592},null,null,null,null,null,"ISXFR Duplex Graphite"]
["X2",1250,null,"Please note that sails larger than 2100mm in both directions, will require a colour matched seam.",null,null,{"$f":"'   '!A9","v":0},null,null,null,null,null,null,null,null,null,null,null,null,null,null,null,null,"y2",{"$f":"B27/IF(B24>B26,B24,B26)","v":0.81699346405228757},"Sail width",{"$f":"IF(AA24*0.7<Y27,AA24*0.7,Y27-(2*Y32))","v":0.34542483660130718},{"$f":"IF(AB24*0.7<(Y25-Y29)*2,AB24*0.7,((Y25-Y29)*2)-(2*Y32))","v":0.33398692810457514},{"$f":"IF(AC24*0.7<Y29,AC24*0.7,Y29-(Y32*2))","v":0.33398692810457514}]
["Y1",2830,null,null,null,null,null,null,null,null,null,null,null,null,null,null,null,null,null,null,null,null,null,"y1",{"$f":"B26/IF(B24>B26,B24,B26)","v":0.92483660130718959},"Costs","front","mid","right","tri front","tri mid","tri back"]
["Y2",2500,null,null,null,null,null,null,null,null,null,null,null,null,null,null,null,null,null,null,null,null,null,"x2",{"$f":"B25/IF(B24>B26,B24,B26)","v":0.40849673202614378},"length",{"$f":"((K82-K74)*(IF(B24>B26,B24,B26)/1000))+0.07","v":1.53},{"$f":"(Y31*(IF(B24>B26,B24,B26)/1000))","v":1.6434415109762803},{"$f":"Y31*(IF(B24>B26,B24,B26)/1000)","v":1.6434415109762803},{"$f":"(AA24*(IF(B24>B26,B24,B26)/1000))+0.07","v":1.58},{"$f":"(Y31*(IF(B24>B26,B24,B26)/1000))","v":1.6434415109762803},{"$f":"(Y31*(IF(B24>B26,B24,B26)/1000))","v":1.6434415109762803}]
["H1",2000,null,{"$f":"IF(((AD18*(B26/1000))*(IF(E13=AA7,0.5,2)))>(AE10*AB10),AD2,IF(((AA17*(B26/1000))*2)>(AD10*AB10),AD2,IF((((MAX(AA18,AA19,AD19)*(B26/1000))*2)>((MIN(AD9:AE9))*AB10)),AD1,IF(((AA12*(B26/1000))*(IF(E13=AA7,0.5,2)))>(AC10*AB10),AD2,IF(AND(AC10>4,AC9>4),AD3,IF(AND((Y29*(B26/1000))<1,E5=AB4),AD7,IF(AF9>(AF10*2),AD5,IF(AND(E7=AD12,AG9>(AG10*2)),AD6,\"\"))))))))","v":""},null,null,{"$f":"'   '!A12","v":0},null,null,null,null,null,null,null,null,null,null,null,null,null,null,null,null,"x1",{"$f":"B24/IF(B24>B26,B24,B26)","v":1},"width",{"$f":"((J74-J82)*(IF(B24>B26,B24,B26)/1000))+0.07","v":2.2050000000000005},{"$f":"((L74-L70)*(IF(B24>B26,B24,B26)/1000))+0.07","v":1.8750000000000004},{"$f":"IF(E5<>AB4,MIN(AA28,AB28),((R74-R70)*(IF(B24>B26,B24,B26)/1000))+0.07)","v":1.8750000000000004},{"$f":"(Y27*(IF(B24>B26,B24,B26)/1000))","v":1.25},{"$f":"(AB25*(IF(B24>B26,B24,B26)/1000))","v":1.022},{"$f":"(AC25*(IF(B24>B26,B24,B26)/1000))","v":1.022}]
["H2",2600,null,null,null,null,null,null,null,null,null,null,null,null,null,null,null,null,null,null,null,null,null,"r1",{"$f":"B30/IF(B24>B26,B24,B26)","v":0.40849673202614378},"V diagonal",{"$f":"(SQRT(((IF(B24>B26,B24,B26)-B30)^2)+((B24/2)^2))/1000)-((SQRT((((IF(B24>B26,B24,B26)-B27)/2)^2)+(((B24-B25)/4)^2)))/1000)","v":1.8378968163563369},{"$f":"(AB28+(AB27*2)+(((L78-L82)*(IF(B24>B26,B24,B26)/1000))+0.07))*1.05","v":6.7324771730501896},{"$f":"((AC27*2)+(AC28*2))*1.05","v":7.3887271730501904},{"$f":"((AD27*2)+AD28)*1.05","v":4.6305000000000005},{"$f":"((AE27*2)+AE28)*1.05","v":4.5243271730501888},{"$f":"((AF27*2)+AF28)*1.05","v":4.5243271730501888}]
["R1",1250,null,null,null,null,null,null,null,null,null,null,null,null,null,null,null,null,null,null,null,null,null,"Roof area (m^2)",{"$f":"(Y28/2)*IF(B24>B26,B24,B26)","v":1530},"H diagonal",{"$f":"SQRT((AA27^2)+(AA28^2))","v":2.6838265592247206},{"$f":"(IF(E5=AB2,0,IF(E4=AE3,2,1)*((1.05*((Y1*((Y6*AB27*AB28*AA1)+(AB29*AA2)+(AB8*AA3)+AA4))+7.2*AB8))+IF(E19<>AK2,8*VAT!V1,0))))/1.2*VAT!V1","v":772.43966717493925},{"$f":"(IF(E5<>AB4,0,IF(E4=AE3,2,1)*((1.05*((Y1*((Y6*AC27*AC28*AA1)+(AC29*AA2)+(AB8*AA3)+AA4))+7.2*AB8))+IF(E19<>AK2,8*VAT!V1,0))))/1.2*VAT!V1","v":0},{"$f":"(IF(E6=AD12,(1.05*((Y2*((Y7*AD27*AD28*AA1)+(AD29*AA2)+(3*AA3)+AA4))+7.2*3)+(+IF(E19<>AK2,6*VAT!V1,0))),))/1.2*VAT!V1","v":219.69150000000002},{"$f":"((IF(E7=AD12,1.05*((Y2*((Y7*AE27*AE28*AA1)+(AE29*AA2)+(3*AA3)+AA4))+7.2*3)+(IF(E19<>AK2,6*VAT!V1,0)),))*IF(E4=AE3,2,1))/1.2*VAT!V1","v":0},{"$f":"((IF(E8=AD12,1.05*((Y2*((Y7*AF27*AF28*AA1)+(AF29*AA2)+(3*AA3)+AA4))+7.2*3)+(IF(E19<>AK2,6*VAT!V1,0)),))*IF(E4=AE3,2,1))/1.2*VAT!V1","v":0}]
[null,null,null,null,null,null,null,null,null,null,null,null,null,null,null,null,null,null,null,null,null,null,null,"Glazing bar length",{"$f":"SQRT((Y24-Y23)^2+(Y28/2)^2)","v":0.53707238920793476},"perimeter",{"$f":"((V78+(Y28/2)+(J74-J70+(0.07/(IF(B24>B26,B24,B26)/1000)))+(K82-K86+(0.07/(IF(B24>B26,B24,B26)/1000)))+(V70*1.5))*(IF(B24>B26,B24,B26)/1000))*1.05","v":6.4470000000000001}]
[null,null,null,null,null,null,null,null,null,null,null,null,null,null,null,null,null,null,null,null,null,null,null,"50mm links",{"$f":"(0.035/(IF(B24>B26,B24,B26)/1000))","v":1.1437908496732027E-2},null,{"$f":"(IF(E4=AE3,2,1)*(((1.05*(Y1*((Y6*(AA30*0.6)*AA29*AA1)+(AA31*AA2)+(5*AA3)+AA4))+7.2*5))+IF(E19<>AK2,10*VAT!V1,0)))/1.2*VAT!V1","v":798.68904763434068}]
[null,null,null,null,null,null,null,null,null,null," "]
[]
[]
[]
[null,null,null,null,null,null,null,null,null,null," "]
[]
[]
[]
[null,null,null,null,null,null,null,null,null,null," "]
[]
[]
[]
[]
[]
[]
[]
[]
[]
[]
[null,null,null,null,null,null,null,null,null,null,null,null,null,"x","y","x","y","x","y","x","y","x","y"]
[null,null,null,null,null,null,null,null,null,null,null,null,null,"front tri 1",null,"mid tri 2",null," mid tri 3",null,"back tri 4",null,"back tri 5"]
[null,null,null,null,null,null,null,null,null,null,null,null,null,{"$f":"IF(E6=AD12,Y32,)","v":1.1437908496732027E-2},{"$f":"IF(E6=AD12,W78+(AA25/2),)","v":0.67271241830065365},{"$f":"IF(E7=AD12,P56-(AB25/2)+Y32,)","v":0},{"$f":"IF(E7=AD12,Y32,)","v":0},{"$f":"IF(AND(E7=AD12,E4<>AE2),P56-(AB25/2)+Y32,)","v":0},{"$f":"IF(AND(E7=AD12,E4<>AE2),W72-Y32,)","v":0},{"$f":"IF(AND(E5=AB4,E8=AD12),T56-(AC25/2),)","v":0},{"$f":"IF(AND(E5=AB4,E8=AD12),Y32,)","v":0},{"$f":"IF(AND(E5=AB4,E8=AD12,E4<>AE2),T56-(AC25/2),)","v":0},{"$f":"IF(AND(E5=AB4,E8=AD12,E4<>AE2),W72-Y32,)","v":0}]
[null,null,null,null,null,null,null,null,null,null,null,null,null,{"$f":"IF(E6=AD12,AE16,)","v":4.4487745098039225E-2},{"$f":"IF(E6=AD12,O54-(AA25/4),)","v":0.58635620915032682},{"$f":"IF(E7=AD12,P56-(AB25/4),)","v":0},{"$f":"IF(E7=AD12,AE15,)","v":0},{"$f":"IF(AND(E7=AD12,E4<>AE2),P56-(AB25/4),)","v":0},{"$f":"IF(AND(E7=AD12,E4<>AE2),W72-AE15,)","v":0},{"$f":"IF(AND(E5=AB4,E8=AD12),T56-(AC25/4),)","v":0},{"$f":"IF(AND(E5=AB4,E8=AD12),AE14,)","v":0},{"$f":"IF(AND(E5=AB4,E8=AD12,E4<>AE2),T56-(AC25/4),)","v":0},{"$f":"IF(AND(E5=AB4,E8=AD12,E4<>AE2),W72-AE15,)","v":0}]
[null,null,null,null,null,null,null,null,null,null,null,null,null,{"$f":"IF(E6=AD12,AD16,)","v":5.9316993464052295E-2},{"$f":"IF(E6=AD12,O55-(AA25/4),)","v":0.5},{"$f":"IF(E7=AD12,P62,)","v":0},{"$f":"IF(E7=AD12,AD15,)","v":0},{"$f":"IF(AND(E7=AD12,E4<>AE2),P62,)","v":0},{"$f":"IF(AND(E7=AD12,E4<>AE2),W73-AD15,)","v":0},{"$f":"IF(AND(E5=AB4,E8=AD12),T62,)","v":0},{"$f":"IF(AND(E5=AB4,E8=AD12),AD14,)","v":0},{"$f":"IF(AND(E5=AB4,E8=AD12,E4<>AE2),T62,)","v":0},{"$f":"IF(AND(E5=AB4,E8=AD12,E4<>AE2),W72-AD15,)","v":0}]
[null,null,null,null,null,null,null,null,null,null,null,null,null,{"$f":"IF(E6=AD12,N55,)","v":4.4487745098039225E-2},{"$f":"IF(E6=AD12,O56-(AA25/4),)","v":0.41364379084967318},{"$f":"IF(E7=AD12,P56+(AB25/4),)","v":0},{"$f":"IF(E7=AD12,AE15,)","v":0},{"$f":"IF(AND(E7=AD12,E4<>AE2),P56+(AB25/4),)","v":0},{"$f":"IF(AND(E7=AD12,E4<>AE2),W73-AE15,)","v":0},{"$f":"IF(AND(E5=AB4,E8=AD12),T56+(AC25/4),)","v":0},{"$f":"IF(AND(E5=AB4,E8=AD12),AE14,)","v":0},{"$f":"IF(AND(E5=AB4,E8=AD12,E4<>AE2),T56+(AC25/4),)","v":0},{"$f":"IF(AND(E5=AB4,E8=AD12,E4<>AE2),W72-AE15,)","v":0}]
[null,null,null,null,null,null,null,null,null,null,null,null,null,{"$f":"N54","v":1.1437908496732027E-2},{"$f":"IF(E6=AD12,W78-(AA25/2),)","v":0.32728758169934641},{"$f":"IF(E7=AD12,P56+(AB25/2),)","v":0},{"$f":"Q54","v":0},{"$f":"IF(AND(E7=AD12,E4<>AE2),P56+(AB25/2),)","v":0},{"$f":"IF(AND(E7=AD12,E4<>AE2),W72-Q54,)","v":0},{"$f":"IF(AND(E5=AB4,E8=AD12),T56+(AC25/2),)","v":0},{"$f":"U54","v":0},{"$f":"IF(AND(E5=AB4,E8=AD12,E4<>AE2),T56+(AC25/2),)","v":0},{"$f":"IF(AND(E5=AB4,E8=AD12,E4<>AE2),W72-Y32,)","v":0}]
[null,null,null,null,null,null,null,null,null,null,null,null,null,{"$f":"IF(E6=AD12,N60-(AA24/4),)","v":0.13480392156862753},{"$f":"IF(E6=AD12,O58+((O62-O58)/1.8),)","v":0.42323892519970951},{"$f":"IF(E7=AD12,P58-((P58-P62)/1.8),)","v":0},{"$f":"IF(E7=AD12,Q60-(AB24/4),)","v":0},{"$f":"IF(AND(E7=AD12,E4<>AE2),P58-((P58-P62)/1.8),)","v":0},{"$f":"IF(AND(E7=AD12,E4<>AE2),S60+(AB24/4),)","v":0},{"$f":"IF(AND(E5=AB4,E8=AD12),T58-((T58-T62)/1.8),)","v":0},{"$f":"IF(AND(E5=AB4,E8=AD12),U60-(AB24/4),)","v":0},{"$f":"IF(AND(E8=AD12,E4<>AE2),T58-((T58-T62)/1.8),)","v":0},{"$f":"IF(AND(E5=AB4,E8=AD12,E4<>AE2),W60+(AB24/4),)","v":0}]
[null,null,null,null,null,null,null,null,null,null,null,null,null,{"$f":"IF(E6=AD12,N61-(AA24/4),)","v":0.25816993464052296},{"$f":"IF(E6=AD12,O58+((O62-O58)*0.85),)","v":0.47409313725490199},{"$f":"IF(E7=AD12,P58-((P58-P62)*0.85),)","v":0},{"$f":"IF(E7=AD12,(Y28/2)-(Y28/4),)","v":0},{"$f":"IF(AND(E7=AD12,E4<>AE2),P58-((P58-P62)*0.85),)","v":0},{"$f":"IF(AND(E7=AD12,E4<>AE2),W72-(Y28/4),)","v":0},{"$f":"IF(AND(E5=AB4,E8=AD12),T58-((T58-T62)*0.85),)","v":0},{"$f":"IF(AND(E5=AB4,E8=AD12),(Y28/2)-(Y28/4),)","v":0},{"$f":"IF(AND(E8=AD12,E4<>AE2),T58-((T58-T62)*0.85),)","v":0},{"$f":"IF(AND(E5=AB4,E8=AD12,E4<>AE2),W72-(Y28/4),)","v":0}]
[null,null,null,null,null,null,null,null,null,null,null,null,null,{"$f":"IF(E6=AD12,N62-(AA24/4),)","v":0.38153594771241839},{"$f":"IF(E6=AD12,O62-((O62-O58)*0.05),)","v":0.49136437908496733},{"$f":"IF(E7=AD12,P62+((P58-P62)*0.05),)","v":0},{"$f":"IF(E7=AD12,Q60+(AB24/4),)","v":0},{"$f":"IF(AND(E7=AD12,E4<>AE2),P62+((P58-P62)*0.05),)","v":0},{"$f":"IF(AND(E7=AD12,E4<>AE2),S60-(AB24/4),)","v":0},{"$f":"IF(AND(E5=AB4,E8=AD12),T62+((T58-T62)*0.05),)","v":0},{"$f":"IF(AND(E5=AB4,E8=AD12),U60+(AB24/4),)","v":0},{"$f":"IF(AND(E8=AD12,E4<>AE2),T62+((T58-T62)*0.05),)","v":0},{"$f":"IF(AND(E5=AB4,E8=AD12,E4<>AE2),W60-(AB24/4),)","v":0}]
[null,null,null,null,null,null,null,null,null,null,null,null,null,{"$f":"IF(E6=AD12,V78-Y32,)","v":0.50490196078431382},{"$f":"IF(E6=AD12,W78,)","v":0.5},{"$f":"IF(E7=AD12,V78,)","v":0},{"$f":"IF(E7=AD12,W78-Y32,)","v":0},{"$f":"IF(AND(E7=AD12,E4<>AE2),V78,)","v":0},{"$f":"IF(AND(E7=AD12,E4<>AE2),W78+Y32,)","v":0},{"$f":"IF(AND(E5=AB4,E8=AD12),V78+(Y29/2),)","v":0},{"$f":"IF(AND(E5=AB4,E8=AD12),W78-Y32,)","v":0},{"$f":"IF(AND(E5=AB4,E8=AD12,E4<>AE2),T62,)","v":0},{"$f":"IF(AND(E5=AB4,E8=AD12,E4<>AE2),(Y28/2)+Y32,)","v":0}]
[null,null,null,null,null,null,null,null,null,null,null,null,null,{"$f":"N61","v":0.38153594771241839},{"$f":"O62+((O62-O58)*0.05)","v":0.50863562091503267},{"$f":"IF(E7=AD12,P62-((P58-P62)*0.05),)","v":0},{"$f":"Q61","v":0},{"$f":"IF(AND(E7=AD12,E4<>AE2),P62-((P58-P62)*0.05),)","v":0},{"$f":"S61","v":0},{"$f":"IF(AND(E5=AB4,E8=AD12),T62-((T58-T62)*0.05),)","v":0},{"$f":"U61","v":0},{"$f":"IF(AND(E8=AD12,E4<>AE2),T62-((T58-T62)*0.05),)","v":0},{"$f":"W61","v":0}]
[null,null,null,null,null,null,null,null,null,null,null,null,null,{"$f":"N60","v":0.25816993464052296},{"$f":"O66-((O62-O58)*0.85)","v":0.52590686274509812},{"$f":"IF(E7=AD12,P66+((P62-P66)*0.85),)","v":0},{"$f":"Q60","v":0},{"$f":"IF(AND(E7=AD12,E4<>AE2),P66+((P62-P66)*0.85),)","v":0},{"$f":"S60","v":0},{"$f":"IF(AND(E5=AB4,E8=AD12),T66+((T62-T66)*0.85),)","v":0},{"$f":"U60","v":0},{"$f":"IF(AND(E8=AD12,E4<>AE2),T66+((T62-T66)*0.85),)","v":0},{"$f":"W60","v":0}]
[null,null,null,null,null,null,null,null,null,null,null,null,null,{"$f":"N59","v":0.13480392156862753},{"$f":"O66-((O62-O58)/1.8)","v":0.57676107480029049},{"$f":"P66+((P62-P66)/1.8)","v":0},{"$f":"Q59","v":0},{"$f":"IF(AND(E7=AD12,E4<>AE2),P66+((P62-P66)/1.8),)","v":0},{"$f":"S59","v":0},{"$f":"T66+((T62-T66)/1.8)","v":0},{"$f":"U59","v":0},{"$f":"IF(AND(E8=AD12,E4<>AE2),T66+((T62-T66)/1.8),)","v":0},{"$f":"W59","v":0}]
[null,null,null,null,null,null,null,null,null,null,null,null,null,{"$f":"N54","v":1.1437908496732027E-2},{"$f":"O54","v":0.67271241830065365},{"$f":"P54","v":0},{"$f":"Q54","v":0},{"$f":"IF(AND(E7=AD12,E4<>AE2),P54,)","v":0},{"$f":"S58","v":0},{"$f":"T54","v":0},{"$f":"U54","v":0},{"$f":"IF(AND(E8=AD12,E4<>AE2),T54,)","v":0},{"$f":"W58","v":0}]
[]
[null,null,null,null,null,null,null,null,null,"x","y","x","y","x","y","x","y","x","y","x","y","Roof plan"]
[null,null,null,null,null,null,null,null,null,"Sail 1",null,"Sail 2",null,"Sail 3",null,"Sail 4",null,"Sail 5",null,"Sail 6",null,"x-axis","y-axis"]
[null,null,null,null,null,null,null,null,null,{"$f":"V70+Y32","v":0.11928104575163405},{"$f":"Y32","v":1.1437908496732027E-2},{"$f":"IF(E5<>AB2,V78+Y32-Y14,)","v":0.3235294117647059},{"$f":"IF(E5<>AB2,Y32,)","v":1.1437908496732027E-2},{"$f":"IF(E4=AE2,0,Y32)","v":1.1437908496732027E-2},{"$f":"IF(E4=AE2,0,W72-AB21-Y32)","v":0.5114379084967321},{"$f":"IF(E4=AE2,0,IF(E5=AB2,0,L82))","v":0.52777777777777779},{"$f":"IF(E5=AB2,0,O74)","v":0.5114379084967321},{"$f":"IF(E5=AB4,R74-AF22,)","v":0},{"$f":"S74","v":0},{"$f":"IF(AND(E4=AE3,E5=AB4),R74-AF22,)","v":0},{"$f":"IF(AND(E4=AE3,E5=AB4),(Y28/2)+Y32,)","v":0},{"$f":"Y26-Y25","v":0.10784313725490202},0]
[null,null,null,null,null,null,null,null,null,{"$f":"J70+((J74-J70)/4)","v":0.266748366013072},{"$f":"AB14","v":6.832107843137257E-2},{"$f":"IF(E5<>AB2,L70+(MAX(AD22:AE22)/4),)","v":0.47099673202614378},{"$f":"IF(E5<>AB2,AB19,)","v":5.8363970588235295E-2},{"$f":"IF(E4=AE2,0,J81)","v":0.12622549019607845},{"$f":"IF(E4=AE2,0,O70+AB13+(Y10/4))","v":0.56876633986928116},{"$f":"IF(E4=AE2,0,IF(E5=AB2,0,L81))","v":0.62418300653594783},{"$f":"IF(E4=AE2,0,IF(E5=AB2,0,Q70+AB18))","v":0.55984477124183019},{"$f":"IF(E5=AB4,R72-(AF22/4),)","v":0},{"$f":"IF(E5=AB4,AE19,)","v":0},{"$f":"IF(AND(E4=AE3,E5=AB4),R72-(AF22/4),)","v":0},{"$f":"IF(AND(E4=AE3,E5=AB4),AE19+(Y28/2),)","v":0},{"$f":"Y26","v":0.92483660130718959},0]
[null,null,null,null,null,null,null,null,null,{"$f":"J71+((J74-J70)/4)","v":0.41421568627450994},{"$f":"AA14","v":9.1094771241830089E-2},{"$f":"IF(E5=AB3,L74-(L74-L70)/2,IF(E5=AB4,L74-(L74-L70)/2,))","v":0.61846405228758172},{"$f":"IF(E5<>AB2,AA19)","v":7.7818627450980393E-2},{"$f":"IF(E4=AE2,0,J80)","v":0.25245098039215691},{"$f":"IF(E4=AE2,0,O70+AA13+(Y10/2))","v":0.58787581699346414},{"$f":"IF(E4=AE2,0,IF(E5=AB2,0,L80))","v":0.72058823529411775},{"$f":"IF(E4=AE2,0,IF(E5=AB2,0,Q70+AA18))","v":0.57598039215686281},{"$f":"IF(E5=AB4,R73-(AF22/4),)","v":0},{"$f":"IF(E5=AB4,AD19,)","v":0},{"$f":"IF(AND(E4=AE3,E5=AB4),R73-(AF22/4),)","v":0},{"$f":"IF(AND(E4=AE3,E5=AB4),AD19+(Y28/2),)","v":0},{"$f":"Y26","v":0.92483660130718959},{"$f":"Y28","v":1}]
[null,null,null,null,null,null,null,null,null,{"$f":"J72+((J74-J70)/4)","v":0.56168300653594794},{"$f":"AB14","v":6.832107843137257E-2},{"$f":"IF(E5<>AB2,L74-(MAX(AD22:AE22)/4),)","v":0.76593137254901977},{"$f":"IF(E5<>AB2,M71,)","v":5.8363970588235295E-2},{"$f":"IF(E4=AE2,0,J79)","v":0.37867647058823539},{"$f":"IF(E4=AE2,0,O74+AB13-(Y10/4))","v":0.56876633986928116},{"$f":"P72+(P72-P71)","v":0.81699346405228768},{"$f":"IF(E5=AB2,0,Q71)","v":0.55984477124183019},{"$f":"IF(E5=AB4,R74-(AF22/4),)","v":0},{"$f":"IF(E5=AB4,S71,)","v":0},{"$f":"IF(AND(E4=AE3,E5=AB4),R74-(AF22/4),)","v":0},{"$f":"IF(AND(E4=AE3,E5=AB4),S71+(Y28/2),)","v":0},{"$f":"V70","v":0.10784313725490202},{"$f":"Y28","v":1}]
[null,null,null,null,null,null,null,null,null,{"$f":"V83-Y32+Y14","v":0.70915032679738577},{"$f":"Y32","v":1.1437908496732027E-2},{"$f":"IF(E5<>AB2,L78,)","v":0.9133986928104576},{"$f":"IF(E5<>AB2,Y32,)","v":1.1437908496732027E-2},{"$f":"IF(E4=AE2,0,IF(E5=AB2,J78,J78))","v":0.50490196078431382},{"$f":"IF(E4=AE2,0,W73-AA21-Y32)","v":0.5114379084967321},{"$f":"IF(E4=AE2,0,IF(E5=AB2,0,P70+AC22+Y18))","v":0.91339869281045749},{"$f":"IF(E5=AB2,0,Q70)","v":0.5114379084967321},{"$f":"IF(E5=AB4,V71-Y32,)","v":0},{"$f":"IF(E5=AB4,Y32,)","v":0},{"$f":"IF(AND(E4=AE3,E5=AB4),V72-Y32,)","v":0},{"$f":"IF(AND(E4=AE3,E5=AB4),U70,)","v":0},0,{"$f":"(Y28/2)+(Y27/2)","v":0.70424836601307184}]
[null,null,null,null,null,null,null,null,null,{"$f":"J74-AB12-(Y14/2.75)","v":0.58879976232917419},{"$f":"AA21/4","v":0.11928104575163398},{"$f":"IF(E5<>AB2,L74-AB17,)","v":0.85607026143790854},{"$f":"IF(E5<>AB2,K75,)","v":0.11928104575163398},{"$f":"IF(E4=AE2,0,J77)","v":0.49595959595959604},{"$f":"IF(E4=AE2,0,(AA21/4)+(Y28/2))","v":0.61928104575163401},{"$f":"IF(E4=AE2,0,IF(E5=AB2,0,P74-AB17))","v":0.85607026143790843},{"$f":"IF(E5=AB2,0,O75)","v":0.61928104575163401},{"$f":"IF(E5=AB4,R74-AE18,)","v":0},{"$f":"IF(E5=AB4,M75,)","v":0},{"$f":"IF(AND(E4=AE3,E5=AB4),R74-AE18,)","v":0},{"$f":"IF(AND(E4=AE3,E5=AB4),Q75,)","v":0},0,{"$f":"(Y28/2)-(Y27/2)","v":0.29575163398692811}]
[null,null,null,null,null,null,null,null,null,{"$f":"J74-AA12-(Y14/1.6)","v":0.52005718954248381},{"$f":"Y28/4","v":0.25},{"$f":"IF(E5<>AB2,L74-AA17,)","v":0.83696078431372556},{"$f":"IF(E5<>AB2,K76,)","v":0.25},{"$f":"IF(E4=AE2,0,J76)","v":0.52005718954248381},{"$f":"IF(E4=AE2,0,(Y28/4)+(Y28/2))","v":0.75},{"$f":"IF(E4=AE2,0,IF(E5=AB2,0,P74-AA17))","v":0.83696078431372545},{"$f":"IF(E5=AB2,0,O76)","v":0.75},{"$f":"IF(E5=AB4,R74-AD18,)","v":0},{"$f":"IF(E5=AB4,M76,)","v":0},{"$f":"IF(AND(E4=AE3,E5=AB4),R74-AD18,)","v":0},{"$f":"IF(AND(E4=AE3,E5=AB4),Q76,)","v":0},{"$f":"V70","v":0.10784313725490202},0]
[null,null,null,null,null,null,null,null,null,{"$f":"J78-AB12+(Y14/5.5)","v":0.49595959595959604},{"$f":"(AA21*0.75)","v":0.35784313725490191},{"$f":"L75","v":0.85607026143790854},{"$f":"IF(E5<>AB2,K77,)","v":0.35784313725490191},{"$f":"IF(E4=AE2,0,J75)","v":0.58879976232917419},{"$f":"IF(E4=AE2,0,(AA21*0.75)+(Y28/2))","v":0.85784313725490191},{"$f":"P75","v":0.85607026143790843},{"$f":"IF(E5=AB2,0,O77)","v":0.85784313725490191},{"$f":"IF(E5=AB4,R75,)","v":0},{"$f":"IF(E5=AB4,M77,)","v":0},{"$f":"IF(AND(E4=AE3,E5=AB4),T75,)","v":0},{"$f":"IF(E5=AB4,Q77,)","v":0},{"$f":"V70","v":0.10784313725490202},{"$f":"W70","v":0}]
[null,null,null,null,null,null,null,null,null,{"$f":"V83-Y32","v":0.50490196078431382},{"$f":"(Y28/2)-Y32","v":0.48856209150326796},{"$f":"IF(E5=AB3,Y26-Y32,IF(E5=AB4,V78+(Y29/4)+(AE22/2)+(Y18/2),))","v":0.9133986928104576},{"$f":"IF(E5<>AB2,(Y28/2)-Y32,)","v":0.48856209150326796},{"$f":"IF(E4=AE2,0,J74)","v":0.70915032679738577},{"$f":"IF(E4=AE2,0,Y28-Y32)","v":0.98856209150326801},{"$f":"IF(E5=AB2,0,P74)","v":0.91339869281045749},{"$f":"IF(E5=AB2,0,O78)","v":0.98856209150326801},{"$f":"IF(E5=AB4,R74,)","v":0},{"$f":"IF(E5=AB4,M78,)","v":0},{"$f":"IF(AND(E4=AE3,E5=AB4),R74,)","v":0},{"$f":"IF(E5=AB4,Q78,)","v":0},{"$f":"Y26-Y29","v":0.5163398692810458},{"$f":"Y28/2","v":0.5}]
[null,null,null,null,null,null,null,null,null,{"$f":"J78*0.75","v":0.37867647058823539},{"$f":"K78-AB13+(Y10/4)","v":0.43123366013071895},{"$f":"IF(E5<>AB2,L78-(AE22/4),)","v":0.81699346405228768},{"$f":"IF(E5<>AB2,(Y28/2)-AB18,)","v":0.45159313725490197},{"$f":"IF(E4=AE2,0,J73)","v":0.56168300653594794},{"$f":"IF(E4=AE2,0,W72-K73)","v":0.93167892156862742},{"$f":"IF(E4=AE2,0,IF(E5=AB2,0,L73))","v":0.76593137254901977},{"$f":"IF(E4=AE2,0,IF(E5=AB2,0,Q78-AB19))","v":0.93019812091503273},{"$f":"IF(E5=AB4,R73,)","v":0},{"$f":"IF(E5=AB4,(Y28/2)-AE19,)","v":0},{"$f":"IF(AND(E4=AE3,E5=AB4),R73,)","v":0},{"$f":"IF(AND(E4=AE3,E5=AB4),W72-AE19,)","v":0},{"$f":"V73","v":0.10784313725490202},{"$f":"W73","v":1}]
[null,null,null,null,null,null,null,null,null,{"$f":"J78/2","v":0.25245098039215691},{"$f":"K82-AA13-(Y10/2)","v":0.41212418300653592},{"$f":"IF(E5<>AB2,L79-(AE22/4),)","v":0.72058823529411775},{"$f":"IF(E5<>AB2,(Y28/2)-AA18,)","v":0.43545751633986929},{"$f":"IF(E4=AE2,0,J72)","v":0.41421568627450994},{"$f":"IF(E4=AE2,0,W72-K72)","v":0.90890522875816993},{"$f":"IF(E4=AE2,0,IF(E5=AB2,0,L72))","v":0.61846405228758172},{"$f":"IF(E4=AE2,0,IF(E5=AB2,0,Q78-AA19))","v":0.91074346405228757},{"$f":"IF(E5=AB4,R72,)","v":0},{"$f":"IF(E5=AB4,(Y28/2)-AD19,)","v":0},{"$f":"IF(AND(E4=AE3,E5=AB4),R72,)","v":0},{"$f":"IF(AND(E4=AE3,E5=AB4),W72-AD19,)","v":0},{"$f":"V75","v":0},{"$f":"W75","v":0.29575163398692811}]
[null,null,null,null,null,null,null,null,null,{"$f":"J78/4","v":0.12622549019607845},{"$f":"K82-AB13-(Y10/4)","v":0.43123366013071895},{"$f":"IF(E5<>AB2,L80-(AE22/4),)","v":0.62418300653594783},{"$f":"IF(E5<>AB2,(Y28/2)-AB18,)","v":0.45159313725490197},{"$f":"IF(E4=AE2,0,J71)","v":0.266748366013072},{"$f":"IF(E4=AE2,0,W72-K71)","v":0.93167892156862742},{"$f":"IF(E4=AE2,0,IF(E5=AB2,0,L71))","v":0.47099673202614378},{"$f":"IF(E5=AB2,0,Q79)","v":0.93019812091503273},{"$f":"IF(E5=AB4,R71,)","v":0},{"$f":"IF(E5=AB4,S79,)","v":0},{"$f":"IF(AND(E4=AE3,E5=AB4),R71,)","v":0},{"$f":"IF(E5=AB4,U79,)","v":0},{"$f":"V78","v":0.5163398692810458},{"$f":"Y28/2","v":0.5}]
[null,null,null,null,null,null,null,null,null,{"$f":"Y32","v":1.1437908496732027E-2},{"$f":"K78+Y10","v":0.48856209150326796},{"$f":"IF(E5<>AB2,V78+Y32,)","v":0.52777777777777779},{"$f":"IF(E5<>AB2,M78,)","v":0.48856209150326796},{"$f":"IF(E4=AE2,0,J70)","v":0.11928104575163405},{"$f":"O78","v":0.98856209150326801},{"$f":"IF(E4=AE2,0,IF(E5=AB2,0,L86))","v":0.3235294117647059},{"$f":"IF(E5=AB2,0,Q78)","v":0.98856209150326801},{"$f":"IF(E5=AB4,R70,)","v":0},{"$f":"IF(E5=AB4,S78,)","v":0},{"$f":"IF(AND(E4=AE3,E5=AB4),R70,)","v":0},{"$f":"IF(E5=AB4,U78,)","v":0},{"$f":"V74","v":0},{"$f":"W74","v":0.70424836601307184}]
[null,null,null,null,null,null,null,null,null,{"$f":"AB15","v":2.8492647058823532E-2},{"$f":"K82-((K82-K86)/4)","v":0.440359477124183},{"$f":"IF(E5<>AB2,L82+AB17-(Y14/5.5),)","v":0.54797014260249555},{"$f":"M77","v":0.35784313725490191},{"$f":"IF(E4=AE2,0,J89)","v":0.10735294117647065},{"$f":"IF(E4=AE2,0,W73-K89)","v":0.91127450980392155},{"$f":"IF(E4=AE2,0,IF(E5=AB2,0,L85))","v":0.4551299762329174},{"$f":"Q77","v":0.85784313725490191},{"$f":"IF(E5=AB4,R82+AE18,)","v":0},{"$f":"IF(E5=AB4,S77,)","v":0},{"$f":"IF(AND(E4=AE3,E5=AB4),R82+AE18,)","v":0},{"$f":"IF(E5=AB4,Q83,)","v":0},{"$f":"V78","v":0.5163398692810458},{"$f":"Y28/2","v":0.5}]
[null,null,null,null,null,null,null,null,null,{"$f":"AA15","v":3.7990196078431376E-2},{"$f":"K83-((K82-K86)/4)","v":0.39215686274509803},{"$f":"IF(E5<>AB2,L86+AA17+(Y14/1.6),)","v":0.52762254901960781},{"$f":"IF(E5<>AB2,M76,)","v":0.25},{"$f":"IF(E4=AE2,0,J88)","v":7.7532679738562135E-2},{"$f":"IF(E4=AE2,0,W73-K88)","v":0.80776143790849675},{"$f":"IF(E4=AE2,0,IF(E5=AB2,0,L84))","v":0.52762254901960781},{"$f":"IF(E5=AB2,0,Q76)","v":0.75},{"$f":"IF(E5=AB4,R82+AD18,)","v":0},{"$f":"IF(E5=AB4,S76,)","v":0},{"$f":"IF(AND(E4=AE3,E5=AB4),R82+AD18,)","v":0},{"$f":"IF(E5=AB4,Q84,)","v":0},{"$f":"Y26","v":0.92483660130718959},{"$f":"W83","v":0.5}]
[null,null,null,null,null,null,null,null,null,{"$f":"AB15","v":2.8492647058823532E-2},{"$f":"K84-((K82-K86)/4)","v":0.34395424836601307},{"$f":"IF(E5<>AB2,L86+AB17+(Y14/2.75),)","v":0.4551299762329174},{"$f":"M75","v":0.11928104575163398},{"$f":"IF(E4=AE2,0,J87)","v":4.771241830065362E-2},{"$f":"IF(E4=AE2,0,W73-K87)","v":0.74861111111111112},{"$f":"IF(E4=AE2,0,IF(E5=AB2,0,L83))","v":0.54797014260249555},{"$f":"Q75","v":0.61928104575163401},{"$f":"IF(E5=AB4,R83,)","v":0},{"$f":"IF(E5=AB4,S75,)","v":0},{"$f":"IF(AND(E4=AE3,E5=AB4),T83,)","v":0},{"$f":"IF(E5=AB4,Q85,)","v":0}]
[null,null,null,null,null,null,null,null,null,{"$f":"V75+Y32","v":1.1437908496732027E-2},{"$f":"W75","v":0.29575163398692811},{"$f":"IF(E5<>AB2,L70,)","v":0.3235294117647059},{"$f":"IF(E5<>AB2,Y32,)","v":1.1437908496732027E-2},{"$f":"IF(E4=AE2,0,Y32)","v":1.1437908496732027E-2},{"$f":"IF(E4=AE2,0,W74)","v":0.70424836601307184},{"$f":"IF(E5=AB2,0,P70)","v":0.52777777777777779},{"$f":"IF(E5=AB2,0,Q70)","v":0.5114379084967321},{"$f":"IF(E5=AB4,R70,)","v":0},{"$f":"IF(E5=AB4,S74,)","v":0},{"$f":"IF(AND(E4=AE3,E5=AB4),R70,)","v":0},{"$f":"IF(E5=AB4,U70,)","v":0}]
[null,null,null,null,null,null,null,null,null,{"$f":"J90*0.4","v":4.771241830065362E-2},{"$f":"K86*0.85","v":0.25138888888888888},null,null,{"$f":"IF(E4=AE2,0,J83)","v":2.8492647058823532E-2},{"$f":"IF(E4=AE2,0,O86-((O86-O90)/4))","v":0.65604575163398693}]
[null,null,null,null,null,null,null,null,null,{"$f":"J90*0.65","v":7.7532679738562135E-2},{"$f":"K86*0.65","v":0.19223856209150328},null,null,{"$f":"IF(E4=AE2,0,J84)","v":3.7990196078431376E-2},{"$f":"IF(E4=AE2,0,O87-((O86-O90)/4))","v":0.60784313725490202}]
[null,null,null,null,null,null,null,null,null,{"$f":"J90*0.9","v":0.10735294117647065},{"$f":"K86*0.3","v":8.8725490196078435E-2},null,null,{"$f":"IF(E4=AE2,0,J85)","v":2.8492647058823532E-2},{"$f":"IF(E4=AE2,0,O88-((O86-O90)/4))","v":0.55964052287581711}]
[null,null,null,null,null,null,null,null,null,{"$f":"J70","v":0.11928104575163405},{"$f":"K70","v":1.1437908496732027E-2},null,null,{"$f":"IF(E4=AE2,0,J82)","v":1.1437908496732027E-2},{"$f":"O70","v":0.5114379084967321}]

{"sheet":" ","index":8,"n_rows":0,"n_cols":0,"rows_kept":0,"cut":false,"hidden":false,"merged":[]}

{"sheet":"  ","index":9,"n_rows":0,"n_cols":0,"rows_kept":0,"cut":false,"hidden":false,"merged":[]}

{"sheet":"   ","index":10,"n_rows":14,"n_cols":16,"rows_kept":14,"cut":false,"hidden":false,"merged":[[16,0,17,0],[16,1,17,1],[8,0,10,3],[11,0,13,3]]}
["Additional Costs",null,null,null,null,null,null,null,null,null,"Roof Lantern",{"$f":"'Roof Lantern'!K21","v":1094.3433534466558},{"$f":"IF(L1<A3,B3,0)","v":0},{"$f":"L1+M1","v":1094.3433534466558},{"$f":"L1*A6","v":164.15150301699836},{"$f":"N1+O1","v":1258.4948564636541}]
["If job value is below (incl. VAT)","Then add (incl. VAT)",null,null,null,null,null,null,null,null,"Lean To",{"$f":"'Lean To'!K21","v":1790.7971038585356},{"$f":"IF(L2<A3,B3,0)","v":0},{"$f":"L2+M2","v":1790.7971038585356},{"$f":"L2*A6","v":268.61956557878034},{"$f":"O2+N2","v":2059.4166694373162}]
[1200,0,null,null,null,null,null,null,null,null,"Lean To Hipped",{"$f":"'Lean To Hipped'!K21","v":1881.6809421110499},{"$f":"IF(L3<A3,B3,0)","v":0},{"$f":"L3+M3","v":1881.6809421110499},{"$f":"L3*A6","v":282.25214131665746},{"$f":"O3+N3","v":2163.9330834277075}]
[null,null,null,null,null,null,null,null,null,null,"Georgian Gable",{"$f":"'Georgian Gable'!K21","v":2552.1224309104755},{"$f":"IF(L4<A3,B3,0)","v":0},2552.1224309104755,{"$f":"L4*A6","v":382.81836463657129},2934.9407955470469]
["Margin",null,null,null,null,null,null,null,null,null,"Georgian Hipped",{"$f":"'Georgian Hipped'!K23","v":2689.2074803072251},{"$f":"IF(L5<A3,B3,0)","v":0},2689.2074803072251,{"$f":"L5*A6","v":403.38112204608376},3092.5886023533089]
[0.15,null,null,null,null,null,null,null,null,null,"Georgian Double Hipped",{"$f":"'Georgian Double Hipped'!$J$25","v":3071.2802111776191},{"$f":"IF(L6<A3,B3,0)","v":0},3071.2802111776191,{"$f":"L6*A6","v":460.69203167664284},3531.9722428542618]
[null,null,null,null,null,null,null,null,null,null,"Victorian",{"$f":"Victorian!K23","v":1802.9702148092797},{"$f":"IF(L7<A3,B3,0)","v":0},{"$f":"L7+M7","v":1802.9702148092797},{"$f":"L7*A6","v":270.44553222139194},{"$f":"O7+N7","v":2073.4157470306718}]
["Type in your messages below"]
[]
[]
[null,null,null,null,null,null,null,null,null,null,0]
[null,null,null,null,null,null,null,null,null,null,0.05]
[null,null,null,null,null,null,null,null,null,null,0.1]
[null,null,null,null,null,null,null,null,null,null,0.15]

{"sheet":"VAT","index":11,"n_rows":3,"n_cols":22,"rows_kept":3,"cut":false,"hidden":false,"merged":[[1,1,3,2]]}
[null,null,null,null,null,null,null,null,null,null,null,null,null,null,null,null,null,null,null,null,null,{"$f":"B2+1","v":1.2}]
[null,0.2]
["VAT ="]