{"text_format":"1","workbook":"xlsx","n_sheets":13,"sheets":["Design Brief","Obstructions","Roof Lantern","Lean To","Lean To Hipped","Georgian Gable","Georgian Hipped","Georgian Double Hipped","Victorian"," ","  ","   ","VAT"],"not_rendered":{"charts":21,"images":10,"macros":0,"external_links":0,"defined_names":21,"comments":0,"pivot_tables":0},"unopened":[],"bounds":{"document_bytes":16777216,"sheet_cells":100000,"rows_first":2000,"rows_last":500,"rows_between":2000,"halvings":0,"cell_chars":16384,"cell_head_chars":4096},"cells_cut":0,"cells_raw":0,"read":"whole","date_system":"1900"}

{"sheet":"Design Brief","index":0,"n_rows":45,"n_cols":16,"rows_kept":45,"cut":false,"hidden":false,"merged":[[41,2,41,5],[12,4,12,5],[32,2,32,8],[0,4,0,8],[23,2,23,3],[4,4,4,5],[35,2,35,8]]}
[null,null,null,null,"Design Brief"]
[]
[null,"Customer details"]
[]
[null,"Surname",null,"Oakes","House Number",null,"22 Seafield Ave","Postcode","JE23LZ"]
[]
[]
[null,"About the space:"]
[null,"Obstructions (Tick all that apply and then take photos and dimensions)",null,null,null,null,null,null,null,null,null,null,null,null,null,"Single Skin"]
[null,null,"Tie-Bars",null,null,"Knee Brace",null,"Ridge Brace",null,"Fan",null,null,null,null,null,"Twin Wall"]
[null,null,"Decorative Facia",null,null,"Box Sections",null,"Lights",null,null,null,null,null,null,null,"Unknown"]
[]
[null,null,"Box Gutter",null,null,null,"↓","see box gutter guide if you do not know how to identify"]
[]
[null,"Existing Ventilation"]
[null,null,"Automatic Roof Vents",null,null,"Manual Roof Vents",null,null,"AC Unit"]
[null,null,"Side Opening Windows",null,null,"Doors Only",null,null,"Top Opening Windows (All sides)"]
[]
[null,"Sun Exposure Problem",null,null,null,null,null,null,null,null,null,null,null,null,null,"Office"]
[null,null,"Morning",null,null,"Afternoon",null,null,"Evening",null,null,null,null,null,null,"TV Room"]
[null,null,"Summer",null,null,"Winter",null,null,null,null,null,null,null,null,null,"Dining Room"]
[null,null,null,null,null,null,null,null,null,null,null,null,null,null,null,"Main Living Room"]
[null,"Main Use",null,null,null,null,null,null,null,null,null,null,null,null,null,"Play Room"]
[null,null,"Dining Room",null,"↓","Other","Kitchen",null,null,null,null,null,null,null,null,"Garden Room"]
[]
[]
[null,"About the requirements:",null,null,null,null,null,null,null,null,null,null,null,null,null,"Heat"]
[null,"Areas to improve (Rate in order of importance if more than 1)",null,null,null,null,null,null,null,null,null,null,null,null,null,"Glare"]
[null,null,null,null,null,null,null,null,null,null,null,null,null,null,null,"Privacy"]
[null,null,1,"Heat","↓            2","Glare","↓            3",null,"↓","Other",null,null,null,null,null,"Other"]
[]
[null,"I would ideally like this room to be…",null,null,null,null,null,null,null,null,null,null,null,null,null,"I like it quite hot, but not unbearable (Shade and Ventilation)"]
[null,null,"Everyday Living Room (Full Climate Control)",null,null,null,null,null,null,"↓",null,null,null,null,null,"Casual Living Room or Transition Space (Shade and Ventilation)"]
[null,null,null,null,null,null,null,null,null,null,null,null,null,null,null,"Everyday Living Room (Full Climate Control)"]
[null,"Coverage/Design"]
[null,null,"Complete - 75% (Max coverage standard design)",null,null,null,null,null,null,"↓",null,null,null,null,null,"Ultimate - 85% (Multiple sails with small gaps)"]
[null,null,null,null,null,null,null,null,null,null,null,null,null,null,null,"Complete - 75% (Max coverage standard design)"]
[null,"Additional Features",null,null,null,null,null,null,null,null,null,null,null,null,null,"Full Open - 65% (Point to point sails)"]
[null,null,"Accent Sails",null,"Two Colour Design",null,null,null,null,null,null,null,null,null,null,"Simple - 85% (Minimum number of sails with max. coverage)"]
[null,null,null,null,null,null,null,null,null,null,null,null,null,null,null,"Partial (Specify which areas in your email)"]
[null,"Design Type Required"]
[null,null,"Use My Design Sketch (attach to email)",null,null,null,"↓","You must select one from drop down list",null,null,null,null,null,null,null,"Free Online Design"]
[null,null,null,null,null,null,null,null,null,null,null,null,null,null,null,"Design PDF"]
[null,"Information Attached/In File",null,null,null,null,null,null,null,null,null,null,null,null,null,"Use My Design Sketch (attach to email)"]
[null,null,"Photos",null,"Obstruction Surveys",null,null,"Additional Sketch"]

{"sheet":"Obstructions","index":1,"n_rows":41,"n_cols":16,"rows_kept":41,"cut":false,"hidden":false,"merged":[[9,12,9,15],[26,12,26,15],[40,12,40,15]]}
[]
[]
[null,null,null,null,null,null,null,null,null,null,null,null,"Fan Survey"]
[null,null,null,null,null,null,null,null,null,null,null,null,"dimensions in mm"]
[null,null,null,null,null,null,null,null,null,null,null,null,null,"Fan 1","Fan 2","Fan 3"]
[null,null,null,null,null,null,null,null,null,null,null,null,"X"]
[null,null,null,null,null,null,null,null,null,null,null,null,"Y"]
[null,null,null,null,null,null,null,null,null,null,null,null,"Z"]
[]
[null,null,null,null,null,null,null,null,null,null,null,null,"Add any notes here"]
[]
[]
[]
[]
[]
[]
[]
[]
[]
[null,null,null,null,null,null,null,null,null,null,null,null,"Tie bar survey"]
[null,null,null,null,null,null,null,null,null,null,null,null,"dimensions in mm"]
[null,null,null,null,null,null,null,null,null,null,null,null,null,"Tie Bar 1","Tie Bar 2","Tie Bar 3"]
[null,null,null,null,null,null,null,null,null,null,null,null,"X"]
[null,null,null,null,null,null,null,null,null,null,null,null,"Z1"]
[null,null,null,null,null,null,null,null,null,null,null,null,"Z2"]
[]
[null,null,null,null,null,null,null,null,null,null,null,null,"Add any notes here"]
[]
[]
[]
[]
[]
[]
[null,null,null,null,null,null,null,null,null,null,null,null,"Roof vent survey"]
[null,null,null,null,null,null,null,null,null,null,null,null,"dimensions in mm"]
[null,null,null,null,null,null,null,null,null,null,null,null,null,"Vent 1","Vent 2","Vent 3"]
[null,null,null,null,null,null,null,null,null,null,null,null,"X"]
[null,null,null,null,null,null,null,null,null,null,null,null,"Y"]
[null,null,null,null,null,null,null,null,null,null,null,null,"Z"]
[]
[null,null,null,null,null,null,null,null,null,null,null,null,"Add any notes here"]

{"sheet":"Roof Lantern","index":2,"n_rows":61,"n_cols":86,"rows_kept":61,"cut":false,"hidden":false,"merged":[[32,12,32,13],[17,8,18,8],[17,12,18,12],[14,0,16,2],[4,7,5,10],[17,3,18,3],[32,3,32,4],[32,8,32,9]]}
[null,null,null,null,null,null,null,null,null,null,null,null,null,null,null,null,null,null,null,null,null,null,null,null,null,null,null,null,null,null,null,null,null,null,null,null,null,null,null,null,null,null,null,null,null,null,null,null,null,null,null,null,"Main Material",{"$f":"IF(OR(E27=BG2,E27=BG3,E27=BG4,E27=BG5,E27=BG6),'  '!B6,IF(OR(E27=BG7,E27=BG8,E27=BG9,E27=BG10,E27=BG11,E27=BG12,E27=BG13,E27=BG14,E27=BG15),'  '!B7,IF(OR(E27=BG16,E27=BG17,E27=BG18,E27=BG19,E27=BG20),'  '!B8,)))","v":4.54},"Material cost",{"$f":"'  '!$B$10","v":13.25},"Sails",null,"Fabric Colour",null,"Fittings Colours",null,null,"Main Material",{"$f":"IF(OR(J27=BR2,J27=BR3,J27=BR4,J27=BR5,J27=BR6),'  '!B6,IF(OR(J27=BR8,J27=BR9,J27=BR10,J27=BR11,J27=BR12,J27=BR13,J27=BR14,J27=BR15,J27=BR7),'  '!B7,IF(OR(J27=BR18,J27=BR19,J27=BR20,J27=BR16,J27=BR17),'  '!B8,)))","v":4.54},null,null,"Sails",null,"Fabric Colour",null,"Fittings Colours",null,null,"Main Material",{"$f":"IF(OR(N27=CC2,N27=CC3,N27=CC4,N27=CC5,N27=CC6),'  '!B6,IF(OR(N27=CC8,N27=CC9,N27=CC10,N27=CC11,N27=CC12,N27=CC13,N27=CC14,N27=CC15,N27=CC7),'  '!B7,IF(OR(N27=CC18,N27=CC19,N27=CC20,N27=CC17,N27=CC16),'  '!B8,)))","v":4.54},null,null,"Sails",null,"Fabric Colour",null,"Fittings Colours"]
[null,null,null,null,null,null,null,null,null,null,null,null,null,null,null,null,null,null,null,null,null,null,null,null,null,null,null,null,null,null,null,null,null,null,null,null,null,null,null,null,null,null,null,null,null,null,null,null,null,null,null,null,"Tri Material",{"$f":"IF(OR(E28=BG2,E28=BG3,E28=BG4,E28=BG5,E28=BG6),'  '!B6,IF(OR(E28=BG7,E28=BG8,E28=BG9,E28=BG10,E28=BG11,E28=BG12,E28=BG13,E28=BG14,E28=BG15),'  '!B7,IF(OR(E28=BG16,E28=BG17,E28=BG18,E28=BG19,E28=BG20),'  '!B8,)))","v":4.54},"PE",{"$f":"'  '!$B$11","v":3},1,null,"ISX Solid",null,"Stainless steel",null,null,"Tri Material",{"$f":"IF(OR(J28=BR2,J28=BR3,J28=BR4,J28=BR5,J28=BR6),'  '!B6,IF(OR(J28=BR8,J28=BR9,J28=BR10,J28=BR11,J28=BR12,J28=BR13,J28=BR14,J28=BR15,J28=BR7),'  '!B7,IF(OR(J28=BR18,J28=BR19,J28=BR20,J28=BR16,J28=BR17),'  '!B8,)))","v":4.54},null,null,1,null,"ISX Solid",null,"Stainless steel",null,null,"Tri Material",{"$f":"IF(OR(N28=CC2,N28=CC3,N28=CC4,N28=CC5,N28=CC6,N28=CC7),'  '!B6,IF(OR(N28=CC8,N28=CC9,N28=CC10,N28=CC11,N28=CC12,N28=CC13,N28=CC14,N28=CC15,N28=CC16,N28=CC17),'  '!B7,IF(OR(N28=CC18,N28=CC19,N28=CC20,N28=CC21,N28=CC22,N28=CC23,N28=CC24),'  '!B8,)))","v":4.54},null,null,1,null,"ISX Solid",null,"Stainless steel"]
[null,null,null,null,null,null,null,null,null,null,null,null,null," ",null,null,null,null,null,null,null," ",null,null,null,null,null,null,null,null,null,null,null,null,null,null,null,null,null,null,null,null,null,null,null,null,null,null,null,null,null,null,null,null,"PN",{"$f":"IF(BE8=4,'  '!$B$19,'  '!$B$20)","v":4.75},2,null,"ISX White",null,"White",null," ",null,null,"PN",{"$f":"IF(BP8=4,'  '!$B$19,'  '!$B$20)","v":4.25},2,null,"ISX White",null,"White",null,null,null,null,"PN",{"$f":"IF(CA8=4,'  '!$B$19,'  '!$B$20)","v":4.25},2,null,"ISX White",null,"White",null,null," "]
[null,null,null,null,null,null,null,null,null,null,null,null,null," ",null,null,null,null,null,null,null," ",null,null,null,null,null,null,null,null,null,null,null,null,null,null,null,null,null,null,null,null,null,null,null,null,null,null,null,null,null,null,null,null,"IP",{"$f":"'  '!#REF!","v":{"$error":"#REF!"}},3," ","ISX Solid Ivory",null,"Gold",null," ",null,null,null,null,3," ","ISX Solid Ivory",null,"Gold",null,null,null,null,null,null,3," ","ISX Solid Ivory",null,"Gold",null,null," "]
[null,{"$f":"'  '!A46","v":"v2023.2"},null,null,null,null,null,null,null,null,null,null,null,null,null,null,null,null,null,null,null,null,null,null,null,null,null,null,null,null,null,null,null,null,null,null,null,null,null,null,null,null,null,null,null,null,null,null,null,null,null,null,null," ","No. of vents",null,4," ","ISX Solid Oyster",null,"Cost",{"$f":"IF(E29=BI2, '  '!B24, '  '!B25)","v":7},null,null," ","No. of vents",null,4," ","ISX Solid Oyster",null,"Cost",{"$f":"IF(J29=BI2, '  '!B24, '  '!B25)","v":7},null,null," ","No. of vents",null,4," ","ISX Solid Oyster",null,"Cost",{"$f":"IF(N29=BI2, '  '!B24, '  '!B25)","v":7}]
[null,null,null,null,null,null,null,null,null,null,null,null,null,null,null,null,null,null,null,null,null,null,null,null,null,null,null,null,null,null,null,null,null,null,null,null,null,null,null,null,null,null,null,null,null,null,null,null,null,null,null,null,"Standard",{"$f":"'  '!B14","v":1},0,null,null," ","ISX Solid Stone",null,null,null,null,null,null,0,null,null," ","ISX Solid Stone",null,null,null,null,null,null,0,null,null," ","ISX Solid Stone"]
[null,null,null,null,null,null,null,null,null,null,null,null,null,null,null,null,null,null,null,null,null,null,null,null,null,null,null,null,null,null,null,null,null,null,null,null,null,null,null,null,null,null,null,null,null,null,null,null,null,null,null,null,"Triangle",{"$f":"'  '!B15","v":0.75},1,null,null," ","ISX Duplex",null,null,null,null,null,null,1,null,null," ","ISX Duplex",null,null,null,null,null,null,1,null,null," ","ISX Duplex"]
[null,null,null,null,null,null,null,null,null,null,null,null,null,null,null,null,null,null,null,null,null,null,null,null,null,null,null,null,null,null,null,null,null,null,null,null,null,null,null,null,null,null,null,null,null,null,null,null,null,null,null,null,null,null,2,"No. of corners",{"$f":"IF(E24=BI36,6,4)","v":6}," ","ISX Duplex Ocean",null,null,null,null,null,null,2,"No. of corners",{"$f":"IF(J24=BI36,6,4)","v":4}," ","ISX Duplex Ocean",null,null,null,null,null,null,2,"No. of corners",{"$f":"IF(N24=BI36,6,4)","v":4}," ","ISX Duplex Ocean"]
[null,null,null,null,null,null,null,null,null,null," ",null,null,null,null,null,null,null,null,null,null," ",null,null,null,null,null,null,null,null,null,null,null,null,null,null,null,null,null,null,null,null," ",null,null,null,null,null,null,null,null,null,null,null,3,"Shape","Other",null,"ISX Duplex Stone",null,null,null," ",null,null,3,null,null,null,"ISX Duplex Stone",null,null,null,null,null,null,3,null,null,null,"ISX Duplex Stone",null,null,null,null," "]
[null,"All dims in mm",null,null,null,null,null,null,null,null,null,null,null,null,null,null,null,null,null,null,null," ",null,null,null,null,null,null,null,null,null,null,null,null,null,null,null,null,null,null,null,null,null,null,null,null,null,null,null,null,null,null,"Overlap left",{"$f":"IF(E22=BA11,BB11,IF(E22=BA12,BB12,IF(E22=BA13,BB13)))","v":{"$error":"#DIV/0!"}},4,"Curve allowance",0.5,null,"ISX Duplex Slate",null,null,null," ","Overlap left",{"$f":"IF(J22=BL11,BM11,IF(J22=BL12,BM12,IF(J22=BL13,BM13)))","v":{"$error":"#DIV/0!"}},4,"Curve allowance",0.5,null,"ISX Duplex Slate",null,null,null,null,"Overlap left",{"$f":"IF(N22=BW11,BX11,IF(N22=BW12,BX12,IF(N22=BW13,BX13)))","v":0},4,"Curve allowance",0.5,null,"ISX Duplex Slate",null,null,null,null," "]
["Length",null,null,null,null,null,null,null,null,null,null,null,null,null,null,null,null,null,null,null,null,null,null,null,null,null,null,null,null,null,null,null,null,null,null,null,null,null,null,null,null,null,null,null,null,null,null,null,null,null,null,null,0,0,"Triangles","Roof area",{"$f":"BE14*BD31","v":{"$error":"#DIV/0!"}},null,"ISX Duplex Graphite",null,null,null,null,0,0,"Triangles","Roof area",{"$f":"BP14*BO31","v":{"$error":"#DIV/0!"}},null,"ISX Duplex Graphite",null,null,null,null,0,0,"Triangles","Roof area",{"$f":"CA14*BZ31","v":{"$error":"#DIV/0!"}},null,"ISX Duplex Graphite"]
["Width",null,null,null,null,null,null,null,null,null,null,null,null,null,null,null,null,null,null,null,null,null,null,null,null,null,null,null,null,null,null,null,null,null,null,null,null,null,null,null,null,null,null,null,null,null,null,null,null,null,null,null,0.5,{"$f":"IF(E21=1,0,IF(E21=2,(BB29*0.5)+BE19,IF(E21=3,(BB29*0.75)+BE19,IF(E21=4,(BB29*0.75)+BE19))))","v":{"$error":"#DIV/0!"}},"No","Area of each sail",{"$f":"BE11/E21","v":{"$error":"#DIV/0!"}},null,"ISXFR Solid",null,null,null,null,0.5,{"$f":"IF(J21=1,0,IF(J21=2,(BM29*0.5)+BP19,IF(J21=3,(BM29*0.75)+BP19,IF(J21=4,(BM29*0.75)+BP19))))","v":{"$error":"#DIV/0!"}},"No","Area of each sail",{"$f":"BP11/J21","v":{"$error":"#DIV/0!"}},null,"ISXFR Solid",null,null,null,null,0.5,{"$f":"IF(N21=1,0,IF(N21=2,(BX29*0.5)+CA19,IF(N21=3,(BX29*0.75)+CA19,IF(N21=4,(BX29*0.75)+CA19))))","v":{"$error":"#DIV/0!"}},"No","Area of each sail",{"$f":"CA11/N21","v":{"$error":"#DIV/0!"}},null,"ISXFR Solid"]
["Depth",null,null,null,null,null,null,null,null,null,null,null,null,null,null,null,null,null,null,null,null,null,null,null,null,null,null,null,null,null,null,null,null,null,null,null,null,null,null,null,null,null,null,null,null,null,null,null,null,null,null,null,1,{"$f":"IF(E21=1,0,IF(E21=2,BB29+(BE19*2),IF(E21=3,(BB29*1.34)+BE19,IF(E21=4,(BB29*1.67)+BE19))))","v":{"$error":"#DIV/0!"}},"Yes","Sail perimeter",{"$f":"((BE15+0.07)*2)+((BE16+0.07)*2)","v":{"$error":"#DIV/0!"}},null,"ISXFR White",null,null,null,null,1,{"$f":"IF(J21=1,0,IF(J21=2,BM29+(BP19*2),IF(J21=3,(BM29*1.34)+BP19,IF(J21=4,(BM29*1.67)+BP19))))","v":{"$error":"#DIV/0!"}},"Yes","Sail perimeter",{"$f":"((BP15+0.07)*2)+((BP16+0.07)*2)","v":{"$error":"#DIV/0!"}},null,"ISXFR White",null,null,null,null,1,{"$f":"IF(N21=1,0,IF(N21=2,BX29+(CA19*2),IF(N21=3,(BX29*1.34)+CA19,IF(N21=4,(BX29*1.67)+CA19))))","v":{"$error":"#DIV/0!"}},"Yes","Sail perimeter",{"$f":"((CA15+0.07)*2)+((CA16+0.07)*2)","v":{"$error":"#DIV/0!"}},null,"ISXFR White"]
[null,null,null,null,null,null,null,null,null,null," ",null,null," ",null,null,null,null,null,null,null," ",null,null,null,null,null,null,null,null,null,null,null,null,null,null,null,null,null,null,null,null," ",null,null,null,null,null,null,null,null,null,"Overlap right",{"$f":"IF(E21=BE3,BB10,IF(E22=BA11,BB11,IF(E22=BA12,BB12,IF(E22=BA13,BB13))))","v":{"$error":"#DIV/0!"}},"Warnings","Glazing bar length",{"$f":"SQRT((BD30-BD29)^2+BD32^2)","v":{"$error":"#DIV/0!"}},null,"ISXFR Solid Ivory",null,null,null," ","Overlap right",{"$f":"IF(J21=BP3,BM10,IF(J22=BL11,BM11,IF(J22=BL12,BM12,IF(J22=BL13,BM13))))","v":{"$error":"#DIV/0!"}},"Warnings","Glazing bar length",{"$f":"SQRT((BO30-BO29)^2+BO32^2)","v":{"$error":"#DIV/0!"}},null,"ISXFR Solid Ivory",null,null,null,null,"Overlap right",{"$f":"IF(N21=CA3,BX10,IF(N22=BW11,BX11,IF(N22=BW12,BX12,IF(N22=BW13,BX13))))","v":{"$error":"#DIV/0!"}},"Warnings","Glazing bar length",{"$f":"SQRT((BZ30-BZ29)^2+BZ32^2)","v":{"$error":"#DIV/0!"}},null,"ISXFR Solid Ivory",null,null,null,null," "]
["These sails are designed to work either flat or twisted and be fitted into a box out or an orangery roof. Priced using 50% of depth.",null,null,null,null,null,null,null,null,null,null,null,null," ",null,null,null,null,null,null,null,null,null,null,null,null,null,null,null,null,null,null,null,null,null,null,null,null,null,null,null,null,null,null,null,null,null,null,null,null,null,null,"Warning 1","Warning: Sail too narrow, increase no. of sails, add additional fitting points or reduce gap size",{"$f":"MAX(BB22:BD22)","v":{"$error":"#DIV/0!"}},"Length of sail",{"$f":"BE14-(0.07/(IF(B11>B12,B11,B12)/1000))","v":{"$error":"#DIV/0!"}},null,"ISXFR Solid Oyster",null,null,null,null,"Warning 1","Warning: Sail too narrow, increase no. of sails, add additional fitting points or reduce gap size",{"$f":"MAX(BM22:BO22)","v":{"$error":"#DIV/0!"}},"Length of sail",{"$f":"BP14-(0.07/(IF(B11>B12,B11,B12)/1000))","v":{"$error":"#DIV/0!"}},null,"ISXFR Solid Oyster",null,null,null,null,"Warning 1","Warning: Sail too narrow, increase no. of sails, add additional fitting points or reduce gap size",{"$f":"MAX(BX22:BZ22)","v":{"$error":"#DIV/0!"}},"Length of sail",{"$f":"CA14-(0.07/(IF(B11>B12,B11,B12)/1000))","v":{"$error":"#DIV/0!"}},null,"ISXFR Solid Oyster"]
[null,null,null,null,"Plan view - looking from above          ",null,null,null,null,"Plan view - looking from above          ",null,null,null,"Plan view - looking from above          ",null,null,null,null,null,null,null,null,null,null,null,null,null,null,null,null,null,null,null,null,null,null,null,null,null,null,null,null,null,null,null,null,null,null,null,null,null,null,"Warning 2","Warning: Sail too narrow, decrease no. of sails, add additional fitting points or increase gap size",{"$f":"MAX(BB23:BD23)","v":{"$error":"#DIV/0!"}},"Width left",{"$f":"(BD31/E21)-(0.07/(IF(B11>B12,B11,B12)/1000))+BB10","v":{"$error":"#DIV/0!"}}," ->","ISXFR Duplex",null,null,null,null,"Warning 2","Warning: Sail too narrow, decrease no. of sails, add additional fitting points or increase gap size",{"$f":"MAX(BM23:BO23)","v":{"$error":"#DIV/0!"}},"Width left",{"$f":"(BO31/J21)-(0.07/(IF(B11>B12,B11,B12)/1000))+BM10","v":{"$error":"#DIV/0!"}}," ->","ISXFR Duplex",null,null,null,null,"Warning 2","Warning: Sail too narrow, decrease no. of sails, add additional fitting points or increase gap size",{"$f":"MAX(BX23:BZ23)","v":{"$error":"#DIV/0!"}},"Width left",{"$f":"(BZ31/N21)-(0.07/(IF(B11>B12,B11,B12)/1000))+BX10","v":{"$error":"#DIV/0!"}}," ->","ISXFR Duplex"]
[null,null,null,null,null,null,null,null,null,null,null,null,null,null,null,null,null,null,null,null,null,null,null,null,null,null,null,null,null,null,null,null,null,null,null,null,null,null,null,null,null,null,null,null,null,null,null,null,null,null,null,null,"Warning 3","Warning: Sail too wide for standard fabric, please add more sails or increase gap size"," ","Width mid",{"$f":"((BD31/E21)-(0.07/(IF(B11>B12,B11,B12)/1000))+BB10)","v":{"$error":"#DIV/0!"}},{"$f":"((BD31/E21)-(0.07/(IF(B11>B12,B11,B12)/1000))+BB14)","v":{"$error":"#DIV/0!"}},"ISXFR Duplex Ocean",null,null,null,null,"Warning 3","Warning: Sail too wide for standard fabric, please add more sails or increase gap size"," ","Width mid",{"$f":"((BO31/J21)-(0.07/(IF(B11>B12,B11,B12)/1000))+BM10)","v":{"$error":"#DIV/0!"}},{"$f":"((BO31/J21)-(0.07/(IF(B11>B12,B11,B12)/1000))+BM14)","v":{"$error":"#DIV/0!"}},"ISXFR Duplex Ocean",null,null,null,null,"Warning 3","Warning: Sail too wide for standard fabric, please add more sails or increase gap size"," ","Width mid",{"$f":"((BZ31/N21)-(0.07/(IF(B11>B12,B11,B12)/1000))+BX10)","v":{"$error":"#DIV/0!"}},{"$f":"((BZ31/N21)-(0.07/(IF(B11>B12,B11,B12)/1000))+BX14)","v":{"$error":"#DIV/0!"}},"ISXFR Duplex Ocean"]
[null,null,null,{"$f":"'  '!$A$42","v":"Starting Cost incl. Installation"},{"$f":"(((BB25+BC25+BD25+IF(AND(E23=BC13,E21<>BE2),BE25,)+('  '!B21*E25)+IF(E29<>BI2,E25*'  '!B26,0)))+(E26*'  '!B31))","v":{"$error":"#DIV/0!"}},null,null,null,{"$f":"'  '!$A$43","v":"Average Cost incl. Installation"},{"$f":"(((BM25+BN25+BO25+IF(AND(J23=BN13,J21<>BP2),BP25,)+('  '!B21*J25)+IF(J29<>BT2,J25*'  '!B26,0)))+(J26*'  '!B31))","v":{"$error":"#DIV/0!"}},null,null,{"$f":"'  '!$A$44","v":"High End Cost incl. Installation"},{"$f":"(((BX25+BY25+BZ25+IF(AND(N23=BY13,N21<>CA2),CA25,)+('  '!B21*N25)+IF(N29<>CE2,N25*'  '!B26,0)))+(N26*'  '!B31))","v":{"$error":"#DIV/0!"}},null,null,null,null,null,null,null,null,null,null,null,null,null,null,null,null,null,null,null,null,null,null,null,null,null,null,null,null,null,null,null,null,null,null,null,null,null,null,"Warning 4","Warning: Space too long for standard fabric, contact office for more details"," ","Width right",{"$f":"(BD31/E21)-(0.07/(IF(B11>B12,B11,B12)/1000))+BB14","v":{"$error":"#DIV/0!"}},null,"ISXFR Duplex Stone",null,null,null,null,"Warning 4","Warning: Space too long for standard fabric, contact office for more details"," ","Width right",{"$f":"(BO31/J21)-(0.07/(IF(B11>B12,B11,B12)/1000))+BM14","v":{"$error":"#DIV/0!"}},null,"ISXFR Duplex Stone",null,null,null,null,"Warning 4","Warning: Space too long for standard fabric, contact office for more details"," ","Width right",{"$f":"(BZ31/N21)-(0.07/(IF(B11>B12,B11,B12)/1000))+BX14","v":{"$error":"#DIV/0!"}},null,"ISXFR Duplex Stone"]
[null,null,null,null,{"$f":"'   '!U2+'  '!B33","v":{"$error":"#DIV/0!"}},null,null,null,null,{"$f":"'   '!AG2+'  '!B33","v":{"$error":"#DIV/0!"}},null,null,null,{"$f":"'   '!AS2+'  '!B33","v":{"$error":"#DIV/0!"}},null,null,null,null,null,null,null,null,null,null,null,null,null,null,null,null,null,null,null,null,null,null,null,null,null,null,null,null,null,null,null,null,null,null,null,null,null,null,null,null," ","50mm links",5.0000000000000001E-3,null,"ISXFR Duplex Slate",null,null,null,null,null,null," ","50mm links",5.0000000000000001E-3,null,"ISXFR Duplex Slate",null,null,null,null,null,null," ","50mm links",5.0000000000000001E-3,null,"ISXFR Duplex Slate"]
[null,null,null,null,null,null,null,null,null,null,null,null,null,null,null,null,null,null,null,null,null,null,null,null,null,null,null,null,null,null,null,null,null,null,null,null,null,null,null,null,null,null,null,null,null,null,null,null,null,null,null,null,null,"4 sails left",{"$f":"(BD31*0.375)+(MAX(BB14,BB10)/6)","v":{"$error":"#DIV/0!"}},"4 sails left",{"$f":"(BD31*0.625)-(MAX(BB14,BB10)/6)","v":{"$error":"#DIV/0!"}},null,"ISXFR Duplex Graphite",null,null,null,null,null,"4 sails left",{"$f":"(BO31*0.375)+(MAX(BM14,BM10)/6)","v":{"$error":"#DIV/0!"}},"4 sails left",{"$f":"(BO31*0.625)-(MAX(BM14,BM10)/6)","v":{"$error":"#DIV/0!"}},null,"ISXFR Duplex Graphite",null,null,null,null,null,"4 sails left",{"$f":"(BZ31*0.375)+(MAX(BX14,BX10)/6)","v":{"$error":"#DIV/0!"}},"4 sails left",{"$f":"(BZ31*0.625)-(MAX(BX14,BX10)/6)","v":{"$error":"#DIV/0!"}},null,"ISXFR Duplex Graphite"]
[null,null,null,"Number of sails",{"$f":"BH27","v":{"$error":"#DIV/0!"}},null,null,null,"Number of sails",{"$f":"BS27","v":{"$error":"#DIV/0!"}},null,null,"Number of sails",{"$f":"CD27","v":{"$error":"#DIV/0!"}},null,null,null,null,null,null,null,null,null,null,null,null,null,null,null,null,null,null,null,null,null,null,null,null,null,null,null,null,null,null,null,null,null,null,null,null,null,null,"Costs","left","mid","right","tri",null,null,null,null,null,null,"Costs","left","mid","right","tri",null,null,null,null,null,null,"Costs","left","mid","right","tri"]
[null,null,null,"Overlap",0.5,null,null,null,"Overlap",0.5,null,null,"Overlap",0,null,null,null,null,null,null,null,null,null,null,null,null,null,null,null,null,null,null,null,null,null,null,null,null,null,null,null,null,null,null,null,null,null,null,null,null,null,null,"Width",{"$f":"BE14*(IF(B11>B12,B11,B12)/1000)","v":{"$error":"#DIV/0!"}},{"$f":"BB22","v":{"$error":"#DIV/0!"}},{"$f":"BC22","v":{"$error":"#DIV/0!"}},{"$f":"BD22","v":{"$error":"#DIV/0!"}},null,null,null,null,null,null,"Width",{"$f":"BP14*(IF(B11>B12,B11,B12)/1000)","v":{"$error":"#DIV/0!"}},{"$f":"BM22","v":{"$error":"#DIV/0!"}},{"$f":"BN22","v":{"$error":"#DIV/0!"}},{"$f":"BO22","v":{"$error":"#DIV/0!"}},null,null,null,null,null,null,"Width",{"$f":"CA14*(IF(B11>B12,B11,B12)/1000)","v":{"$error":"#DIV/0!"}},{"$f":"BX22","v":{"$error":"#DIV/0!"}},{"$f":"BY22","v":{"$error":"#DIV/0!"}},{"$f":"BZ22","v":{"$error":"#DIV/0!"}}]
[null,null,null,"Triangles","No",null,null,null,"Triangles","No",null,null,"Triangles","Yes",null,null,null,null,null,null,null,null,null,null,null,null,null,null,null,null,null,null,null,null,null,null,null,null,null,null,null,null,null,null,null,null,null,null,null,null,null,null,"Length",{"$f":"((A49-A45)+(0.07/(IF(B11>B12,B11,B12)/1000)))*(IF(B11>B12,B11,B12)/1000)","v":{"$error":"#DIV/0!"}},{"$f":"IF(E21<>BE4,MIN(BB23,BD23),(E49-E45+(0.07/(IF(B11>B12,B11,B12)/1000)))*(IF(B11>B12,B11,B12)/1000))","v":{"$error":"#DIV/0!"}},{"$f":"IF(E21<>BE2,(C49-C45+(0.07/(IF(B11>B12,B11,B12)/1000)))*(IF(B11>B12,B11,B12)/1000),BB23)","v":{"$error":"#DIV/0!"}},{"$f":"(BA27*(IF(B11>B12,B11,B12)/1000))+0.07","v":{"$error":"#DIV/0!"}},null,null,null,null,null,null,"Length",{"$f":"((R49-R45)+(0.07/(IF(B11>B12,B11,B12)/1000)))*(IF(B11>B12,B11,B12)/1000)","v":{"$error":"#DIV/0!"}},{"$f":"IF(J21<>BP4,MIN(BM23,BO23),(V49-V45+(0.07/(IF(B11>B12,B11,B12)/1000)))*(IF(B11>B12,B11,B12)/1000))","v":{"$error":"#DIV/0!"}},{"$f":"IF(J21<>BP2,(T49-T45+(0.07/(IF(B11>B12,B11,B12)/1000)))*(IF(B11>B12,B11,B12)/1000),BM23)","v":{"$error":"#DIV/0!"}},{"$f":"(BL27*(IF(B11>B12,B11,B12)/1000))+0.07","v":{"$error":"#DIV/0!"}},null,null,null,null,null,null,"Length",{"$f":"((AI49-AI45)+(0.07/(IF(B11>B12,B11,B12)/1000)))*(IF(B11>B12,B11,B12)/1000)","v":{"$error":"#DIV/0!"}},{"$f":"IF(N21<>CA4,MIN(BX23,BZ23),(AM49-AM45+(0.07/(IF(B11>B12,B11,B12)/1000)))*(IF(B11>B12,B11,B12)/1000))","v":{"$error":"#DIV/0!"}},{"$f":"IF(N21<>CA2,(AK49-AK45+(0.07/(IF(B11>B12,B11,B12)/1000)))*(IF(B11>B12,B11,B12)/1000),BX23)","v":{"$error":"#DIV/0!"}},{"$f":"(BW27*(IF(B11>B12,B11,B12)/1000))+0.07","v":{"$error":"#DIV/0!"}}]
[null,null,null,"6 sided sails","Yes",null,null,null,"6 sided sails","No",null,null,"6 sided sails","No",null,null,null,null,null,null,null,null,null,null,null,null,null,null,null,null,null,null,null,null,null,null,null,null,null,null,null,null,null,null,null,null,null,null,null,null,null,null,"Perimeter",{"$f":"((BB22*2)+(BB23*2))*1.05","v":{"$error":"#DIV/0!"}},{"$f":"((BC22*2)+(BC23*2))*1.05","v":{"$error":"#DIV/0!"}},{"$f":"((BD22*2)+(BD23*2))*1.05","v":{"$error":"#DIV/0!"}},{"$f":"((BE22*2)+BE23)*1.05","v":{"$error":"#DIV/0!"}},null,null,null," ",null,null,"Perimeter",{"$f":"((BM22*2)+(BM23*2))*1.05","v":{"$error":"#DIV/0!"}},{"$f":"((BN22*2)+(BN23*2))*1.05","v":{"$error":"#DIV/0!"}},{"$f":"((BO22*2)+(BO23*2))*1.05","v":{"$error":"#DIV/0!"}},{"$f":"((BP22*2)+BP23)*1.05","v":{"$error":"#DIV/0!"}},null,null,null," ",null,null,"Perimeter",{"$f":"((BX22*2)+(BX23*2))*1.05","v":{"$error":"#DIV/0!"}},{"$f":"((BY22*2)+(BY23*2))*1.05","v":{"$error":"#DIV/0!"}},{"$f":"((BZ22*2)+(BZ23*2))*1.05","v":{"$error":"#DIV/0!"}},{"$f":"((CA22*2)+CA23)*1.05","v":{"$error":"#DIV/0!"}},null,null,null," "]
[null,null,null,"Total additional fittings",0,null,null,null,"Total additional fittings",0,null,null,"Total additional fittings",0,null,null,null,null,null,null,null,null,null,null,null,null,null,null,null,null,null,null,null,null,null,null,null,null,null,null,null,null,null,null,null,null,null,null,null,null,null,null,null,{"$f":"(((BB1*((BB22*BB23*BD1*BB6)+(BB24*BD2)+(BE8*BD3)))+(BE8*BJ5)+'  '!B35))*BF29","v":{"$error":"#DIV/0!"}},{"$f":"(IF(E21<3,0,((IF(E21>2,(((BB1*((BC22*BC23*BD1*BB6)+(BC24*BD2)+(BE8*BD3))+(BE8*BJ5)+'  '!B35)))*(IF(E21=4,2,1)))))))*BF29","v":{"$error":"#DIV/0!"}},{"$f":"IF(E21=BE2,0,((IF(E21<>BE2,(((BB1*((BD22*BD23*BD1*BB6)+(BD24*BD2)+(BE8*BD3))+(BE8*BJ5)+'  '!B35)))))))*BF29","v":{"$error":"#DIV/0!"}},{"$f":"(((IF(E23=BI36,(((BB2*((BE22*BE23*BD1*BB7)+(BE24*BD2)+(3*'  '!B19))+(3*BJ5)+'  '!B35)))*(E21-1),))))","v":0},null,null,null,null,null,null,null,{"$f":"(((BM1*((BM22*BM23*BD1*BB6)+(BM24*BD2)+(BP8*BO3))+(BP8*BU5)+'  '!B35)))*BQ29","v":{"$error":"#DIV/0!"}},{"$f":"(IF(J21<3,0,((IF(J21>2,(((BM1*((BN22*BN23*BD1*BB6)+(BN24*BD2)+(BP8*BO3))+(BP8*BU5)+'  '!B35)))*(IF(J21=4,2,1)))))))*BQ29","v":{"$error":"#DIV/0!"}},{"$f":"IF(J21=BP2,0,((IF(J21<>BP2,(((BM1*((BO22*BO23*BD1*BB6)+(BO24*BD2)+(BP8*BO3))+(BP8*BU5)+'  '!B35)))+IF(J29<>BT2,8*VAT!V1,0))*BQ29)/1.2*VAT!V1))","v":{"$error":"#DIV/0!"}},{"$f":"(((IF(J23=BI36,(((BM2*((BP22*BP23*BD1*BB7)+(BP24*BD2)+(3*'  '!B19))+(3*BU5)+'  '!B35)))*(J21-1),))))","v":0},null,null,null,null,null,null,null,{"$f":"(((BX1*((BX22*BX23*BD1*BB6)+(BX24*BD2)+(CA8*BZ3))+(CA8*CF5)+'  '!B35)))*CB29","v":{"$error":"#DIV/0!"}},{"$f":"(IF(N21<3,0,((IF(N21>2,(((BX1*((BY22*BY23*BD1*BB6)+(CA8*BZ3)+(BY24*BD2))+(CA8*CF5)+'  '!B35)))*(IF(N21=4,2,1)))))))*CB29","v":{"$error":"#DIV/0!"}},{"$f":"IF(N21=CA2,0,((IF(N21<>CA2,(((BX1*((BZ22*BZ23*BD1*BB6)+(CA8*BZ3)+(BZ24*BD2))+(CA8*CF5)+'  '!B35)))))))*CB29","v":{"$error":"#DIV/0!"}},{"$f":"(((IF(N23=BI36,(((BX2*((CA22*CA23*BD1*BB7)+(CA24*BD2)+(3*'  '!B19))+(3*CF5)+'  '!B35)))*(N21-1),))))*CB29","v":{"$error":"#DIV/0!"}}]
[null,null,null,"Total straight edges",0,null,null,null,"Total straight edges",0,null,null,"Total straight edges",0,null,null,null,null,null,null," ",null,null,null,null,null,null,null,null,null,null,null,null,null,null,null,null,null,null,null,null,null,null,null,null,null,null,null,null,null,null,null,"tri width","tri length","tri mid","tri quarter",null,"Shape %",null,"Low",null,null,null,"tri width","tri length","tri mid","tri quarter",null,"Shape %",null,"Mid",null,null,null,"tri width","tri length","tri mid","tri quarter",null,"Shape %",null,"Top",null,null," "]
[null,null,null,"Colour of main sails","ISX Solid",null,null,null,"Colour of main sails","ISX Solid",null,null,"Colour of main sails","ISX Solid",null,null,null,null,null,null,null,null,null,null,null,null,null,null,null,null,null,null,null,null,null,null,null,null,null,null,null,null,null,null,null,null,null,null,null,null,null,null,{"$f":"BB27*0.8","v":{"$error":"#DIV/0!"}},{"$f":"BE14-(BE19*2)","v":{"$error":"#DIV/0!"}},{"$f":"BA27*0.13","v":{"$error":"#DIV/0!"}},{"$f":"BC27*0.75","v":{"$error":"#DIV/0!"}},"W",{"$f":"(SQRT(B12^2+(B13/2)^2))/B12","v":{"$error":"#DIV/0!"}},"Number of sails",{"$f":"IF(BH31<1.25,1,IF(AND(BH31>=1.25,BH31<=2.25),1,IF(AND(BH31>2.25,BH31<3.5),2,IF(AND(BH31>=3.5),3))))","v":{"$error":"#DIV/0!"}},null,null,null,{"$f":"BM27*0.8","v":{"$error":"#DIV/0!"}},{"$f":"BP14-(BP19*2)","v":{"$error":"#DIV/0!"}},{"$f":"BL27*0.13","v":{"$error":"#DIV/0!"}},{"$f":"BN27*0.75","v":{"$error":"#DIV/0!"}},"W",{"$f":"(SQRT(B12^2+(B13/2)^2))/B12","v":{"$error":"#DIV/0!"}},"Number of sails",{"$f":"IF(BS31<1.25,1,IF(AND(BS31>=1.25,BS31<=2.25),2,IF(AND(BS31>2.25,BS31<3),3,IF(AND(BS31>=3),4))))","v":{"$error":"#DIV/0!"}},null,null,null,{"$f":"BX27*0.8","v":{"$error":"#DIV/0!"}},{"$f":"CA14-(CA19*2)","v":{"$error":"#DIV/0!"}},{"$f":"BW27*0.13","v":{"$error":"#DIV/0!"}},{"$f":"BY27*0.75","v":{"$error":"#DIV/0!"}},"W",{"$f":"(SQRT(B12^2+(B13/2)^2))/B12","v":{"$error":"#DIV/0!"}},"Number of sails",{"$f":"IF(CD31<1.25,1,IF(AND(CD31>=1.25,CD31<=2.25),2,IF(AND(CD31>2.25,CD31<3),3,IF(AND(CD31>=3),4))))","v":{"$error":"#DIV/0!"}}]
[null,null,null,"Colour of triangles","ISX Solid",null,null,null,"Colour of triangles","ISX Solid",null,null,"Colour of triangles","ISX Solid",null,null,null,null,null,null,null," ",null,null,null,null,null,null,null,null,null,null,null,null,null,null,null,null,null,null,null,null,null,null,null,null,null,null,null,null,null,null,null,"Mid","Quarters","Dims in m","L",{"$f":"(SQRT((BB23*1000)^2+(B13/2)^2))/(BB23*1000)","v":{"$error":"#DIV/0!"}},"Overlap",0.5,null,null," ",null,"Mid","Quarters","Dims in m","L",{"$f":"(SQRT((BM23*1000)^2+(B13/2)^2))/(BM23*1000)","v":{"$error":"#DIV/0!"}},"Overlap",0.5,null,null,null,null,"Mid","Quarters","Dims in m","L",{"$f":"(SQRT((BX23*1000)^2+(B13/2)^2))/(BX23*1000)","v":{"$error":"#DIV/0!"}},"Overlap",0,null,null,null," "]
[null,null,null,"Colour of fittings","Stainless steel",null,null,null,"Colour of fittings","Stainless steel",null,null,"Colour of fittings","Stainless steel",null,null,null,null,null,null,null,"  ",null,null,null,null,null,null,null,null,null,null,null,null,null,null,null,null,null,null,null,null,null,null,null,null,null,null,null,null,null,null,"Horizontal",{"$f":"(((BE15+(0.07/(B11/1000)))*0.13)+BE19)","v":{"$error":"#DIV/0!"}},{"$f":"(BB29)*0.75","v":{"$error":"#DIV/0!"}},{"$f":"B13/IF(B11>B12,B11,B12)","v":{"$error":"#DIV/0!"}},"Average",{"$f":"AVERAGE(BF27:BF28)","v":{"$error":"#DIV/0!"}},"Triangles","No",null,null,"  ","Horizontal",{"$f":"(((BP15+(0.07/(B11/1000)))*0.13)+BP19)","v":{"$error":"#DIV/0!"}},{"$f":"(BM29)*0.75","v":{"$error":"#DIV/0!"}},{"$f":"B13/IF(B11>B12,B11,B12)","v":{"$error":"#DIV/0!"}},"Average",{"$f":"AVERAGE(BQ27:BQ28)","v":{"$error":"#DIV/0!"}},"Triangles","No",null,null,null,"Horizontal",{"$f":"(((CA15+(0.07/(B11/1000)))*0.13)+CA19)","v":{"$error":"#DIV/0!"}},{"$f":"(BX29)*0.75","v":{"$error":"#DIV/0!"}},{"$f":"B13/IF(B11>B12,B11,B12)","v":{"$error":"#DIV/0!"}},"Average",{"$f":"AVERAGE(CB27:CB28)","v":{"$error":"#DIV/0!"}},"Triangles","Yes",null,null,null,"  "]
[null,null,null,null,null,null,null,null,null,null,null,null,null,null,null,null,null,null,null,null,null," ",null,null,null,null,null,null,null,null,null,null,null,null,null,null,null,null,null,null,null,null,null,null,null,null,null,null,null,null,null,null,"Vertical left",{"$f":"((BE16+(0.07/(B11/1000)))*0.13)+BE19","v":{"$error":"#DIV/0!"}},{"$f":"BB30*0.75","v":{"$error":"#DIV/0!"}},{"$f":"BD29","v":{"$error":"#DIV/0!"}},null,null,"Total additional fittings",{"$f":"IF(BH31<1.25,0,BH27*2)","v":{"$error":"#DIV/0!"}},null,null," ","Vertical left",{"$f":"((BP16+(0.07/(B11/1000)))*0.13)+BP19","v":{"$error":"#DIV/0!"}},{"$f":"BM30*0.75","v":{"$error":"#DIV/0!"}},{"$f":"BO29","v":{"$error":"#DIV/0!"}},null,null,"Total additional fittings",{"$f":"IF(BS31<1.25,2,)","v":{"$error":"#DIV/0!"}},null,null,null,"Vertical left",{"$f":"((CA16+(0.07/(B11/1000)))*0.13)+CA19","v":{"$error":"#DIV/0!"}},{"$f":"BX30*0.75","v":{"$error":"#DIV/0!"}},{"$f":"BZ29","v":{"$error":"#DIV/0!"}},null,null,"Total additional fittings",{"$f":"IF(CD31<1.25,4,)","v":{"$error":"#DIV/0!"}},null,null,null," "]
[null,null,null,"Max length of a sail",{"$f":"(MAX(BB22:BD22))*1000","v":{"$error":"#DIV/0!"}},null,null,null,"Max length of a sail",{"$f":"(MAX(BM22:BO22))*1000","v":{"$error":"#DIV/0!"}},null,null,"Max length of a sail",{"$f":"(MAX(BX22:BZ22))*1000","v":{"$error":"#DIV/0!"}},null,null,null,null,null,null,null," ",null,null,null,null,null,null,null,null,null,null,null,null,null,null,null,null,null,null,null,null," ",null,null,null,null,null,null,null,null,null,"Vertical mid",{"$f":"((AVERAGE(BE17:BF17)+(0.07/(B11/1000)))*0.13)+BE19","v":{"$error":"#DIV/0!"}},{"$f":"BB31*0.75","v":{"$error":"#DIV/0!"}},{"$f":"B11/IF(B11>B12,B11,B12)","v":{"$error":"#DIV/0!"}},null,null,"Length/Width Ratio",{"$f":"($B$11/$B$12)","v":{"$error":"#DIV/0!"}},null,null," ","Vertical mid",{"$f":"((AVERAGE(BP17:BQ17)+(0.07/(B11/1000)))*0.13)+BP19","v":{"$error":"#DIV/0!"}},{"$f":"BM31*0.75","v":{"$error":"#DIV/0!"}},{"$f":"B11/IF(B11>B12,B11,B12)","v":{"$error":"#DIV/0!"}},null,null,"Length/Width Ratio",{"$f":"($B$11/$B$12)","v":{"$error":"#DIV/0!"}},null,null,null,"Vertical mid",{"$f":"((AVERAGE(CA17:CB17)+(0.07/(B11/1000)))*0.13)+CA19","v":{"$error":"#DIV/0!"}},{"$f":"BX31*0.75","v":{"$error":"#DIV/0!"}},{"$f":"B11/IF(B11>B12,B11,B12)","v":{"$error":"#DIV/0!"}},null,null,"Length/Width Ratio",{"$f":"($B$11/$B$12)","v":{"$error":"#DIV/0!"}},null,null,null," "]
[null,null,null,"Max width of a sail",{"$f":"(MAX(BB23:BD23))*1000","v":{"$error":"#DIV/0!"}},null,null,null,"Max width of a sail",{"$f":"(MAX(BM23:BO23))*1000","v":{"$error":"#DIV/0!"}},null,null,"Max width of a sail",{"$f":"(MAX(BX23:BZ23))*1000","v":{"$error":"#DIV/0!"}},null,null,null,null,null,null,null," ",null,null,null,null,null,null,null,null,null,null,null,null,null,null,null,null,null,null,null,null," ",null,null,null,null,null,null,null,null,null,"Vertical right",{"$f":"((BE18+(0.07/(B11/1000)))*0.13)+BE19","v":{"$error":"#DIV/0!"}},{"$f":"BB32*0.75","v":{"$error":"#DIV/0!"}},{"$f":"B12/IF(B11>B12,B11,B12)","v":{"$error":"#DIV/0!"}},null,null,null,null,null,null," ","Vertical right",{"$f":"((BP18+(0.07/(B11/1000)))*0.13)+BP19","v":{"$error":"#DIV/0!"}},{"$f":"BM32*0.75","v":{"$error":"#DIV/0!"}},{"$f":"B12/IF(B11>B12,B11,B12)","v":{"$error":"#DIV/0!"}},null,null,null,null,null,null,null,"Vertical right",{"$f":"((CA18+(0.07/(B11/1000)))*0.13)+CA19","v":{"$error":"#DIV/0!"}},{"$f":"BX32*0.75","v":{"$error":"#DIV/0!"}},{"$f":"B12/IF(B11>B12,B11,B12)","v":{"$error":"#DIV/0!"}},null,null,null,null,null,null,null," "]
[null,null,null,"Sails +2100mm in both directions require seams",null,null,null,null,"Sails +2100mm in both directions require seams",null," ",null,"Sails +2100mm in both directions require seams",null,null,null,null,null,null,null,null," ",null,null,null,null,null,null,null,null,null,null,null,null,null,null,null,null,null,null,null,null,null,null,null,null,null,null,null,null,null,null,null," ",null,null,null,null,null,null,null,null,null,null,null,null,null,null,null,null,null,null,null,null,null,null,null,null,null,null,null,null,null,null,null," "]
[null,null,null,null,null,null,null,null,null,null,null,null,null,null,null,null,null,null,null,null,null,null,null,null,null,null,null,null,null,null,null,null,null,null,null,null,null,null,null,null,null,null,null,null,null,null,null,null,null,null,null,null,null,null,null,null,null,null,null,"Overlaps","Triangles"]
[null,null,null,null,null,null,null,null,null,null,null,null,null,null,null,null,null,null,null,null,null,null,null,null,null,null,null,null,null,null,null,null,null,null,null,null,null,null,null,null,null,null,null,null,null,null,null,null,null,null,null,null,null,null,null,null,null,null,null,0,"No"]
[null,null,null,null,null,null,null,null,null,null,null,null,null,null,null,null,null,null,null,null,null,null,null,null,null,null,null,null,null,null,null,null,null,null,null,null,null,null,null,null,null,null,null,null,null,null,null,null,null,null,null,null,null,null,null,null,null,null,null,0.5,"Yes"]
[null,null,null,null,null,null,null,null,null,null,null,null,null,null,null,null,null,null,null,null,null,null,null,null,null,null,null,null,null,null,null,null,null,null,null,null,null,null,null,null,null,null,null,null,null,null,null,null,null,null,null,null,null,null,null,null,null,null,null,1]
[]
[]
[]
[]
[]
["x","y","x","y","x","y","x","y","x","y","x","y","x","y","Roof plan",null,null,"x","y","x","y","x","y","x","y","x","y","x","y","x","y","Roof plan",null,null,"x","y","x","y","x","y","x","y","x","y","x","y","x","y","Roof plan"]
["Left sail",null,"Right sail",null,"Mid left sail",null,"Mid Right sail",null,"tri 1",null,"tri 2",null,"tri 3",null,"x-axis","y-axis",null,"Left sail",null,"Right sail",null,"Mid left sail",null,"Mid Right sail",null,"tri 1",null,"tri 2",null,"tri 3",null,"x-axis","y-axis",null,"Left sail",null,"Right sail",null,"Mid left sail",null,"Mid Right sail",null,"tri 1",null,"tri 2",null,"tri 3",null,"x-axis","y-axis"]
[{"$f":"BE19","v":5.0000000000000001E-3},{"$f":"BE19","v":5.0000000000000001E-3},{"$f":"IF(E21=1,0,C49-BE18)","v":{"$error":"#DIV/0!"}},{"$f":"IF(E21=1,0,BE19)","v":{"$error":"#DIV/0!"}},{"$f":"IF(E21=1,0,IF(E21=2,0,IF(E21=3,(BD31/2)-(BE17/2),IF(E21=4,BC20-(BE17/2)))))","v":{"$error":"#DIV/0!"}},{"$f":"IF(E21=1,0,IF(E21=2,0,BE19))","v":{"$error":"#DIV/0!"}},{"$f":"IF(E21=4,BE20-(BE17/2))","v":{"$error":"#DIV/0!"}},{"$f":"IF(E21=4,BE19)","v":{"$error":"#DIV/0!"}},{"$f":"IF(E23=BC13,IF(E21<>BE2,I47-(BA27/2),),)","v":0},{"$f":"IF(E23=BC13,IF(E21<>BE2,BE19,),)","v":0},{"$f":"IF(E23=BC13,IF(OR(OR(E21=BE4,E21=BE5),E21=BE5),K47-(BA27/2),),)","v":0},{"$f":"IF(E23=BC13,IF(OR(E21=BE4,E21=BE5),BE19,),)","v":0},{"$f":"IF($E$21=4,K45+0.25,)","v":{"$error":"#DIV/0!"}},{"$f":"IF($E$21=4,L45,)","v":{"$error":"#DIV/0!"}},0,0,null,{"$f":"BP19","v":5.0000000000000001E-3},{"$f":"BP19","v":5.0000000000000001E-3},{"$f":"IF(J21=1,0,T49-BP18)","v":{"$error":"#DIV/0!"}},{"$f":"IF(J21=1,0,BP19)","v":{"$error":"#DIV/0!"}},{"$f":"IF(J21=1,0,IF(J21=2,0,IF(J21=3,(BO31/2)-(BP17/2),IF(J21=4,BN20-(BP17/2)))))","v":{"$error":"#DIV/0!"}},{"$f":"IF(J21=1,0,IF(J21=2,0,BP19))","v":{"$error":"#DIV/0!"}},{"$f":"IF(J21=4,BP20-(BP17/2))","v":{"$error":"#DIV/0!"}},{"$f":"IF(J21=4,BP19)","v":{"$error":"#DIV/0!"}},{"$f":"IF(J23=BN13,IF(J21<>BP2,Z47-(BL27/2),),)","v":0},{"$f":"IF(J23=BN13,IF(J21<>BP2,BP19,),)","v":0},{"$f":"IF(J23=BN13,IF(OR(OR(J21=BP4,J21=BP5),J21=BP5),AB47-(BL27/2),),)","v":0},{"$f":"IF(J23=BN13,IF(OR(J21=BP4,J21=BP5),BP19,),)","v":0},{"$f":"IF($J$21=4,AB45+0.25,)","v":{"$error":"#DIV/0!"}},{"$f":"IF($J$21=4,AC45,)","v":{"$error":"#DIV/0!"}},0,0,null,{"$f":"CA19","v":5.0000000000000001E-3},{"$f":"CA19","v":5.0000000000000001E-3},{"$f":"IF(N21=1,0,AK49-CA18)","v":{"$error":"#DIV/0!"}},{"$f":"IF(N21=1,0,CA19)","v":{"$error":"#DIV/0!"}},{"$f":"IF(N21=1,0,IF(N21=2,0,IF(N21=3,(BZ31/2)-(CA17/2),IF(N21=4,BY20-(CA17/2)))))","v":{"$error":"#DIV/0!"}},{"$f":"IF(N21=1,0,IF(N21=2,0,CA19))","v":{"$error":"#DIV/0!"}},{"$f":"IF(N21=4,CA20-(CA17/2))","v":{"$error":"#DIV/0!"}},{"$f":"IF(N21=4,CA19)","v":{"$error":"#DIV/0!"}},{"$f":"IF(N23=BY13,IF(N21<>CA2,AQ47-(BW27/2),),)","v":{"$error":"#DIV/0!"}},{"$f":"IF(N23=BY13,IF(N21<>CA2,CA19,),)","v":{"$error":"#DIV/0!"}},{"$f":"IF(N23=BY13,IF(OR(OR(N21=CA4,N21=CA5),N21=CA5),AS47-(BW27/2),),)","v":{"$error":"#DIV/0!"}},{"$f":"IF(N23=BY13,IF(OR(N21=CA4,N21=CA5),CA19,),)","v":{"$error":"#DIV/0!"}},{"$f":"IF($N$21=4,AS45+0.25,)","v":{"$error":"#DIV/0!"}},{"$f":"IF($N$21=4,AT45,)","v":{"$error":"#DIV/0!"}},0,0]
[{"$f":"A45+(BE16/4)","v":{"$error":"#DIV/0!"}},{"$f":"IF(E24=BI36,BB30*0.5,BB30*0.75)","v":{"$error":"#DIV/0!"}},{"$f":"IF(E21=1,0,C47-(BE18/4))","v":{"$error":"#DIV/0!"}},{"$f":"IF(E21=1,0,D48)","v":{"$error":"#DIV/0!"}},{"$f":"IF(E21=1,0,IF(E21=2,0,E45+(MAX(BE17:BF17)/4)))","v":{"$error":"#DIV/0!"}},{"$f":"IF(E21=1,0,IF(E21=2,0,B46))","v":{"$error":"#DIV/0!"}},{"$f":"IF(E21=4,G45+(MAX(BE17:BF17)/4))","v":{"$error":"#DIV/0!"}},{"$f":"IF(E21=4,B46)","v":{"$error":"#DIV/0!"}},{"$f":"IF(E23=BC13,IF(E21<>BE2,I45+(BA27/4),),)","v":0},{"$f":"IF(E23=BC13,IF(E21<>BE2,BD27,),)","v":0},{"$f":"IF(E23=BC13,IF(OR(E21=BE4,E21=BE5),K47-(BA27/4),),)","v":0},{"$f":"IF(E23=BC13,IF(OR(E21=BE4,E21=BE5),BD27,),)","v":0},{"$error":"#DIV/0!"},{"$error":"#DIV/0!"},{"$f":"BD31","v":{"$error":"#DIV/0!"}},0,null,{"$f":"R45+(BP16/4)","v":{"$error":"#DIV/0!"}},{"$f":"IF(J24=BI36,BM30*0.5,BM30*0.75)","v":{"$error":"#DIV/0!"}},{"$f":"IF(J21=1,0,T47-(BP18/4))","v":{"$error":"#DIV/0!"}},{"$f":"IF(J21=1,0,U48)","v":{"$error":"#DIV/0!"}},{"$f":"IF(J21=1,0,IF(J21=2,0,V45+(MAX(BP17:BQ17)/4)))","v":{"$error":"#DIV/0!"}},{"$f":"IF(J21=1,0,IF(J21=2,0,S46))","v":{"$error":"#DIV/0!"}},{"$f":"IF(J21=4,X45+(MAX(BP17:BQ17)/4))","v":{"$error":"#DIV/0!"}},{"$f":"IF(J21=4,S46)","v":{"$error":"#DIV/0!"}},{"$f":"IF(J23=BN13,IF(J21<>BP2,Z45+(BL27/4),),)","v":0},{"$f":"IF(J23=BN13,IF(J21<>BP2,BO27,),)","v":0},{"$f":"IF(J23=BN13,IF(OR(J21=BP4,J21=BP5),AB47-(BL27/4),),)","v":0},{"$f":"IF(J23=BN13,IF(OR(J21=BP4,J21=BP5),BO27,),)","v":0},{"$error":"#DIV/0!"},{"$error":"#DIV/0!"},{"$f":"BO31","v":{"$error":"#DIV/0!"}},0,null,{"$f":"AI45+(CA16/4)","v":{"$error":"#DIV/0!"}},{"$f":"IF(N24=BI36,BX30*0.5,BX30*0.75)","v":{"$error":"#DIV/0!"}},{"$f":"IF(N21=1,0,AK47-(CA18/4))","v":{"$error":"#DIV/0!"}},{"$f":"IF(N21=1,0,AL48)","v":{"$error":"#DIV/0!"}},{"$f":"IF(N21=1,0,IF(N21=2,0,AM45+(MAX(CA17:CB17)/4)))","v":{"$error":"#DIV/0!"}},{"$f":"IF(N21=1,0,IF(N21=2,0,AJ46))","v":{"$error":"#DIV/0!"}},{"$f":"IF(N21=4,AO45+(MAX(CA17:CB17)/4))","v":{"$error":"#DIV/0!"}},{"$f":"IF(N21=4,AJ46)","v":{"$error":"#DIV/0!"}},{"$f":"IF(N23=BY13,IF(N21<>CA2,AQ45+(BW27/4),),)","v":{"$error":"#DIV/0!"}},{"$f":"IF(N23=BY13,IF(N21<>CA2,BZ27,),)","v":{"$error":"#DIV/0!"}},{"$f":"IF(N23=BY13,IF(OR(N21=CA4,N21=CA5),AS47-(BW27/4),),)","v":{"$error":"#DIV/0!"}},{"$f":"IF(N23=BY13,IF(OR(N21=CA4,N21=CA5),BZ27,),)","v":{"$error":"#DIV/0!"}},{"$error":"#DIV/0!"},{"$error":"#DIV/0!"},{"$f":"BZ31","v":{"$error":"#DIV/0!"}},0]
[{"$f":"(A49+A45)/2","v":{"$error":"#DIV/0!"}},{"$f":"IF(E24=BI36,B45,BB30)","v":5.0000000000000001E-3},{"$f":"IF(E21=1,0,C49-(BE18/2))","v":{"$error":"#DIV/0!"}},{"$f":"IF(E21=1,0,B47)","v":{"$error":"#DIV/0!"}},{"$f":"IF(E21=1,0,IF(E21=2,0,E49-((E49-E45)/2)))","v":{"$error":"#DIV/0!"}},{"$f":"IF(E21=1,0,IF(E21=2,0,B47))","v":{"$error":"#DIV/0!"}},{"$f":"IF(E21=4,G49-((G49-G45)/2))","v":{"$error":"#DIV/0!"}},{"$f":"IF(E21=4,B47)","v":{"$error":"#DIV/0!"}},{"$f":"IF(E23=BC13,IF(E21=BE3,O46/2,IF(E21=BE4,O46/3,IF(E21=BE5,O46/4))),)","v":0},{"$f":"IF(E23=BC13,IF(E21<>BE2,BC27,),)","v":0},{"$f":"IF(E23=BC13,IF(E21=BE4,O47*(2/3),IF(E21=BE5,O47/2,)),)","v":0},{"$f":"IF(E23=BC13,IF(OR(E21=BE4,E21=BE5),BC27,),)","v":0},{"$error":"#DIV/0!"},{"$error":"#DIV/0!"},{"$f":"BD31","v":{"$error":"#DIV/0!"}},{"$f":"BD32","v":{"$error":"#DIV/0!"}},null,{"$f":"(R49+R45)/2","v":{"$error":"#DIV/0!"}},{"$f":"IF(J24=BI36,S45,BM30)","v":{"$error":"#DIV/0!"}},{"$f":"IF(J21=1,0,T49-(BP18/2))","v":{"$error":"#DIV/0!"}},{"$f":"IF(J21=1,0,S47)","v":{"$error":"#DIV/0!"}},{"$f":"IF(J21=1,0,IF(J21=2,0,V49-((V49-V45)/2)))","v":{"$error":"#DIV/0!"}},{"$f":"IF(J21=1,0,IF(J21=2,0,S47))","v":{"$error":"#DIV/0!"}},{"$f":"IF(J21=4,X49-((X49-X45)/2))","v":{"$error":"#DIV/0!"}},{"$f":"IF(J21=4,S47)","v":{"$error":"#DIV/0!"}},{"$f":"IF(J23=BN13,IF(J21=BP3,AF46/2,IF(J21=BP4,AF46/3,IF(J21=BP5,AF46/4))),)","v":0},{"$f":"IF(J23=BN13,IF(J21<>BP2,BN27,),)","v":0},{"$f":"IF(J23=BN13,IF(J21=BP4,AF47*(2/3),IF(J21=BP5,AF47/2,)),)","v":0},{"$f":"IF(J23=BN13,IF(OR(J21=BP4,J21=BP5),BN27,),)","v":0},{"$error":"#DIV/0!"},{"$error":"#DIV/0!"},{"$f":"BO31","v":{"$error":"#DIV/0!"}},{"$f":"BO32","v":{"$error":"#DIV/0!"}},null,{"$f":"(AI49+AI45)/2","v":{"$error":"#DIV/0!"}},{"$f":"IF(N24=BI36,AJ45,BX30)","v":{"$error":"#DIV/0!"}},{"$f":"IF(N21=1,0,AK49-(CA18/2))","v":{"$error":"#DIV/0!"}},{"$f":"IF(N21=1,0,AJ47)","v":{"$error":"#DIV/0!"}},{"$f":"IF(N21=1,0,IF(N21=2,0,AM49-((AM49-AM45)/2)))","v":{"$error":"#DIV/0!"}},{"$f":"IF(N21=1,0,IF(N21=2,0,AJ47))","v":{"$error":"#DIV/0!"}},{"$f":"IF(N21=4,AO49-((AO49-AO45)/2))","v":{"$error":"#DIV/0!"}},{"$f":"IF(N21=4,AJ47)","v":{"$error":"#DIV/0!"}},{"$f":"IF(N23=BY13,IF(N21=CA3,AW46/2,IF(N21=CA4,AW46/3,IF(N21=CA5,AW46/4))),)","v":{"$error":"#DIV/0!"}},{"$f":"IF(N23=BY13,IF(N21<>CA2,BY27,),)","v":{"$error":"#DIV/0!"}},{"$f":"IF(N23=BY13,IF(N21=CA4,AW47*(2/3),IF(N21=CA5,AW47/2,)),)","v":{"$error":"#DIV/0!"}},{"$f":"IF(N23=BY13,IF(OR(N21=CA4,N21=CA5),BY27,),)","v":{"$error":"#DIV/0!"}},{"$error":"#DIV/0!"},{"$error":"#DIV/0!"},{"$f":"BZ31","v":{"$error":"#DIV/0!"}},{"$f":"BZ32","v":{"$error":"#DIV/0!"}}]
[{"$f":"A49-(BE16/4)","v":{"$error":"#DIV/0!"}},{"$f":"B46","v":{"$error":"#DIV/0!"}},{"$f":"C49-(BE18/4)","v":{"$error":"#DIV/0!"}},{"$f":"IF(E21=1,0,B48)","v":{"$error":"#DIV/0!"}},{"$f":"IF(E21=1,0,IF(E21=2,0,E49-(MAX(BE17:BF17)/4)))","v":{"$error":"#DIV/0!"}},{"$f":"IF(E21=BE4,B48,IF(E21=BE5,B48,))","v":{"$error":"#DIV/0!"}},{"$f":"IF(E21=4,G49-(MAX(BE17:BF17)/4))","v":{"$error":"#DIV/0!"}},{"$f":"IF(E21=4,B48,)","v":{"$error":"#DIV/0!"}},{"$f":"IF(E23=BC13,IF(E21<>BE2,I47+(BA27/4),),)","v":0},{"$f":"IF(E23=BC13,IF(E21<>BE2,BD27,),)","v":0},{"$f":"IF(E23=BC13,IF(OR(E21=BE4,E21=BE5),K47+(BA27/4),),)","v":0},{"$f":"IF(E23=BC13,IF(OR(E21=BE4,E21=BE5),L46,),)","v":0},{"$error":"#DIV/0!"},{"$error":"#DIV/0!"},0,{"$f":"BD32","v":{"$error":"#DIV/0!"}},null,{"$f":"R49-(BP16/4)","v":{"$error":"#DIV/0!"}},{"$f":"S46","v":{"$error":"#DIV/0!"}},{"$f":"T49-(BP18/4)","v":{"$error":"#DIV/0!"}},{"$f":"IF(J21=1,0,S48)","v":{"$error":"#DIV/0!"}},{"$f":"IF(J21=1,0,IF(J21=2,0,V49-(MAX(BP17:BQ17)/4)))","v":{"$error":"#DIV/0!"}},{"$f":"IF(J21=BP4,S48,IF(J21=BP5,S48,))","v":{"$error":"#DIV/0!"}},{"$f":"IF(J21=4,X49-(MAX(BP17:BQ17)/4))","v":{"$error":"#DIV/0!"}},{"$f":"IF(J21=4,S48,)","v":{"$error":"#DIV/0!"}},{"$f":"IF(J23=BN13,IF(J21<>BP2,Z47+(BL27/4),),)","v":0},{"$f":"IF(J23=BN13,IF(J21<>BP2,BO27,),)","v":0},{"$f":"IF(J23=BN13,IF(OR(J21=BP4,J21=BP5),AB47+(BL27/4),),)","v":0},{"$f":"IF(J23=BN13,IF(OR(J21=BP4,J21=BP5),AC46,),)","v":0},{"$error":"#DIV/0!"},{"$error":"#DIV/0!"},0,{"$f":"BO32","v":{"$error":"#DIV/0!"}},null,{"$f":"AI49-(CA16/4)","v":{"$error":"#DIV/0!"}},{"$f":"AJ46","v":{"$error":"#DIV/0!"}},{"$f":"AK49-(CA18/4)","v":{"$error":"#DIV/0!"}},{"$f":"IF(N21=1,0,AJ48)","v":{"$error":"#DIV/0!"}},{"$f":"IF(N21=1,0,IF(N21=2,0,AM49-(MAX(CA17:CB17)/4)))","v":{"$error":"#DIV/0!"}},{"$f":"IF(N21=CA4,AJ48,IF(N21=CA5,AJ48,))","v":{"$error":"#DIV/0!"}},{"$f":"IF(N21=4,AO49-(MAX(CA17:CB17)/4))","v":{"$error":"#DIV/0!"}},{"$f":"IF(N21=4,AJ48,)","v":{"$error":"#DIV/0!"}},{"$f":"IF(N23=BY13,IF(N21<>CA2,AQ47+(BW27/4),),)","v":{"$error":"#DIV/0!"}},{"$f":"IF(N23=BY13,IF(N21<>CA2,BZ27,),)","v":{"$error":"#DIV/0!"}},{"$f":"IF(N23=BY13,IF(OR(N21=CA4,N21=CA5),AS47+(BW27/4),),)","v":{"$error":"#DIV/0!"}},{"$f":"IF(N23=BY13,IF(OR(N21=CA4,N21=CA5),AT46,),)","v":{"$error":"#DIV/0!"}},{"$error":"#DIV/0!"},{"$error":"#DIV/0!"},0,{"$f":"BZ32","v":{"$error":"#DIV/0!"}}]
[{"$f":"A45+BE16","v":{"$error":"#DIV/0!"}},{"$f":"BE19","v":5.0000000000000001E-3},{"$f":"IF(E21=1,0,BD31-BE19)","v":{"$error":"#DIV/0!"}},{"$f":"IF(E21=1,0,BE19)","v":{"$error":"#DIV/0!"}},{"$f":"IF(E21=1,0,IF(E21=2,0,IF(E21=3,BD31/2+(BF17/2),IF(E21=4,BC20+(BF17/2)))))","v":{"$error":"#DIV/0!"}},{"$f":"IF(E21=1,0,IF(E21=2,0,BE19))","v":{"$error":"#DIV/0!"}},{"$f":"IF(E21=4,BE20+(BF17/2))","v":{"$error":"#DIV/0!"}},{"$f":"IF(E21=4,BE19)","v":{"$error":"#DIV/0!"}},{"$f":"IF(E23=BC13,IF(E21<>BE2,I47+(BA27/2),),)","v":0},{"$f":"IF(E23=BC13,IF(E21<>BE2,BE19,),)","v":0},{"$f":"IF(E23=BC13,IF(OR(E21=BE4,E21=BE5),K47+(BA27/2),),)","v":0},{"$f":"IF(E23=BC13,IF(OR(E21=BE4,E21=BE5),L45,),)","v":0},{"$error":"#DIV/0!"},{"$error":"#DIV/0!"},0,0,null,{"$f":"R45+BP16","v":{"$error":"#DIV/0!"}},{"$f":"BP19","v":5.0000000000000001E-3},{"$f":"IF(J21=1,0,BO31-BP19)","v":{"$error":"#DIV/0!"}},{"$f":"IF(J21=1,0,BP19)","v":{"$error":"#DIV/0!"}},{"$f":"IF(J21=1,0,IF(J21=2,0,IF(J21=3,BO31/2+(BQ17/2),IF(J21=4,BN20+(BQ17/2)))))","v":{"$error":"#DIV/0!"}},{"$f":"IF(J21=1,0,IF(J21=2,0,BP19))","v":{"$error":"#DIV/0!"}},{"$f":"IF(J21=4,BP20+(BQ17/2))","v":{"$error":"#DIV/0!"}},{"$f":"IF(J21=4,BP19)","v":{"$error":"#DIV/0!"}},{"$f":"IF(J23=BN13,IF(J21<>BP2,Z47+(BL27/2),),)","v":0},{"$f":"IF(J23=BN13,IF(J21<>BP2,BP19,),)","v":0},{"$f":"IF(J23=BN13,IF(OR(J21=BP4,J21=BP5),AB47+(BL27/2),),)","v":0},{"$f":"IF(J23=BN13,IF(OR(J21=BP4,J21=BP5),AC45,),)","v":0},{"$error":"#DIV/0!"},{"$error":"#DIV/0!"},0,0,null,{"$f":"AI45+CA16","v":{"$error":"#DIV/0!"}},{"$f":"CA19","v":5.0000000000000001E-3},{"$f":"IF(N21=1,0,BZ31-CA19)","v":{"$error":"#DIV/0!"}},{"$f":"IF(N21=1,0,CA19)","v":{"$error":"#DIV/0!"}},{"$f":"IF(N21=1,0,IF(N21=2,0,IF(N21=3,BZ31/2+(CB17/2),IF(N21=4,BY20+(CB17/2)))))","v":{"$error":"#DIV/0!"}},{"$f":"IF(N21=1,0,IF(N21=2,0,CA19))","v":{"$error":"#DIV/0!"}},{"$f":"IF(N21=4,CA20+(CB17/2))","v":{"$error":"#DIV/0!"}},{"$f":"IF(N21=4,CA19)","v":{"$error":"#DIV/0!"}},{"$f":"IF(N23=BY13,IF(N21<>CA2,AQ47+(BW27/2),),)","v":{"$error":"#DIV/0!"}},{"$f":"IF(N23=BY13,IF(N21<>CA2,CA19,),)","v":{"$error":"#DIV/0!"}},{"$f":"IF(N23=BY13,IF(OR(N21=CA4,N21=CA5),AS47+(BW27/2),),)","v":{"$error":"#DIV/0!"}},{"$f":"IF(N23=BY13,IF(OR(N21=CA4,N21=CA5),AT45,),)","v":{"$error":"#DIV/0!"}},{"$error":"#DIV/0!"},{"$error":"#DIV/0!"},0,0]
[{"$f":"A49-BC29","v":{"$error":"#DIV/0!"}},{"$f":"BD32/4","v":{"$error":"#DIV/0!"}},{"$f":"IF(E21=1,0,C49-BC29)","v":{"$error":"#DIV/0!"}},{"$f":"IF(E21=1,0,B60)","v":{"$error":"#DIV/0!"}},{"$f":"IF(E21=1,0,IF(E21=2,0,E49-BC29))","v":{"$error":"#DIV/0!"}},{"$f":"IF(E21=1,0,IF(E21=2,0,D50))","v":{"$error":"#DIV/0!"}},{"$f":"IF(E21=4,G49-BC29)","v":{"$error":"#DIV/0!"}},{"$f":"IF(E21=4,D50)","v":{"$error":"#DIV/0!"}},{"$f":"IF(E23=BC13,IF(E21<>BE2,I49-((I49-I53)/1.8),),)","v":0},{"$f":"IF(E23=BC13,IF(E21<>BE2,P47/4,),)","v":0},{"$f":"IF(E23=BC13,IF(OR(E21=BE4,E21=BE5),K49-((K49-K53)/1.8),),)","v":0},{"$f":"IF(E23=BC13,IF(OR(E21=BE4,E21=BE5),P47/4,),)","v":0},{"$error":"#DIV/0!"},{"$error":"#DIV/0!"},null,null,null,{"$f":"R49-BN29","v":{"$error":"#DIV/0!"}},{"$f":"BO32/4","v":{"$error":"#DIV/0!"}},{"$f":"IF(J21=1,0,T49-BN29)","v":{"$error":"#DIV/0!"}},{"$f":"IF(J21=1,0,S60)","v":{"$error":"#DIV/0!"}},{"$f":"IF(J21=1,0,IF(J21=2,0,V49-BN29))","v":{"$error":"#DIV/0!"}},{"$f":"IF(J21=1,0,IF(J21=2,0,U50))","v":{"$error":"#DIV/0!"}},{"$f":"IF(J21=4,X49-BN29)","v":{"$error":"#DIV/0!"}},{"$f":"IF(J21=4,U50)","v":{"$error":"#DIV/0!"}},{"$f":"IF(J23=BN13,IF(J21<>BP2,Z49-((Z49-Z53)/1.8),),)","v":0},{"$f":"IF(J23=BN13,IF(J21<>BP2,AG47/4,),)","v":0},{"$f":"IF(J23=BN13,IF(OR(J21=BP4,J21=BP5),AB49-((AB49-AB53)/1.8),),)","v":0},{"$f":"IF(J23=BN13,IF(OR(J21=BP4,J21=BP5),AG47/4,),)","v":0},{"$error":"#DIV/0!"},{"$error":"#DIV/0!"},null,null,null,{"$f":"AI49-BY29","v":{"$error":"#DIV/0!"}},{"$f":"BZ32/4","v":{"$error":"#DIV/0!"}},{"$f":"IF(N21=1,0,AK49-BY29)","v":{"$error":"#DIV/0!"}},{"$f":"IF(N21=1,0,AJ60)","v":{"$error":"#DIV/0!"}},{"$f":"IF(N21=1,0,IF(N21=2,0,AM49-BY29))","v":{"$error":"#DIV/0!"}},{"$f":"IF(N21=1,0,IF(N21=2,0,AL50))","v":{"$error":"#DIV/0!"}},{"$f":"IF(N21=4,AO49-BY29)","v":{"$error":"#DIV/0!"}},{"$f":"IF(N21=4,AL50)","v":{"$error":"#DIV/0!"}},{"$f":"IF(N23=BY13,IF(N21<>CA2,AQ49-((AQ49-AQ53)/1.8),),)","v":{"$error":"#DIV/0!"}},{"$f":"IF(N23=BY13,IF(N21<>CA2,AX47/4,),)","v":{"$error":"#DIV/0!"}},{"$f":"IF(N23=BY13,IF(OR(N21=CA4,N21=CA5),AS49-((AS49-AS53)/1.8),),)","v":{"$error":"#DIV/0!"}},{"$f":"IF(N23=BY13,IF(OR(N21=CA4,N21=CA5),AX47/4,),)","v":{"$error":"#DIV/0!"}},{"$error":"#DIV/0!"},{"$error":"#DIV/0!"}]
[{"$f":"A49-BB29","v":{"$error":"#DIV/0!"}},{"$f":"BD32/2","v":{"$error":"#DIV/0!"}},{"$f":"IF(E21=1,0,C49-BB29)","v":{"$error":"#DIV/0!"}},{"$f":"IF(E21=1,0,B51)","v":{"$error":"#DIV/0!"}},{"$f":"IF(E21=1,0,IF(E21=2,0,E49-BB29))","v":{"$error":"#DIV/0!"}},{"$f":"IF(E21=1,0,IF(E21=2,0,B51))","v":{"$error":"#DIV/0!"}},{"$f":"IF(E21=4,G49-BB29)","v":{"$error":"#DIV/0!"}},{"$f":"IF(E21=4,B51)","v":{"$error":"#DIV/0!"}},{"$f":"IF(E23=BC13,IF(E21<>BE2,I49-((I49-I53)*0.85),),)","v":0},{"$f":"IF(E23=BC13,IF(E21<>BE2,P47/2,),)","v":0},{"$f":"IF(E23=BC13,IF(OR(E21=BE4,E21=BE5),K49-((K49-K53)*0.85),),)","v":0},{"$f":"IF(E23=BC13,IF(OR(E21=BE4,E21=BE5),P47/2,),)","v":0},{"$error":"#DIV/0!"},{"$error":"#DIV/0!"},null,null,null,{"$f":"R49-BM29","v":{"$error":"#DIV/0!"}},{"$f":"BO32/2","v":{"$error":"#DIV/0!"}},{"$f":"IF(J21=1,0,T49-BM29)","v":{"$error":"#DIV/0!"}},{"$f":"IF(J21=1,0,S51)","v":{"$error":"#DIV/0!"}},{"$f":"IF(J21=1,0,IF(J21=2,0,V49-BM29))","v":{"$error":"#DIV/0!"}},{"$f":"IF(J21=1,0,IF(J21=2,0,S51))","v":{"$error":"#DIV/0!"}},{"$f":"IF(J21=4,X49-BM29)","v":{"$error":"#DIV/0!"}},{"$f":"IF(J21=4,S51)","v":{"$error":"#DIV/0!"}},{"$f":"IF(J23=BN13,IF(J21<>BP2,Z49-((Z49-Z53)*0.85),),)","v":0},{"$f":"IF(J23=BN13,IF(J21<>BP2,AG47/2,),)","v":0},{"$f":"IF(J23=BN13,IF(OR(J21=BP4,J21=BP5),AB49-((AB49-AB53)*0.85),),)","v":0},{"$f":"IF(J23=BN13,IF(OR(J21=BP4,J21=BP5),AG47/2,),)","v":0},{"$error":"#DIV/0!"},{"$error":"#DIV/0!"},null,null,null,{"$f":"AI49-BX29","v":{"$error":"#DIV/0!"}},{"$f":"BZ32/2","v":{"$error":"#DIV/0!"}},{"$f":"IF(N21=1,0,AK49-BX29)","v":{"$error":"#DIV/0!"}},{"$f":"IF(N21=1,0,AJ51)","v":{"$error":"#DIV/0!"}},{"$f":"IF(N21=1,0,IF(N21=2,0,AM49-BX29))","v":{"$error":"#DIV/0!"}},{"$f":"IF(N21=1,0,IF(N21=2,0,AJ51))","v":{"$error":"#DIV/0!"}},{"$f":"IF(N21=4,AO49-BX29)","v":{"$error":"#DIV/0!"}},{"$f":"IF(N21=4,AJ51)","v":{"$error":"#DIV/0!"}},{"$f":"IF(N23=BY13,IF(N21<>CA2,AQ49-((AQ49-AQ53)*0.85),),)","v":{"$error":"#DIV/0!"}},{"$f":"IF(N23=BY13,IF(N21<>CA2,AX47/2,),)","v":{"$error":"#DIV/0!"}},{"$f":"IF(N23=BY13,IF(OR(N21=CA4,N21=CA5),AS49-((AS49-AS53)*0.85),),)","v":{"$error":"#DIV/0!"}},{"$f":"IF(N23=BY13,IF(OR(N21=CA4,N21=CA5),AX47/2,),)","v":{"$error":"#DIV/0!"}},{"$error":"#DIV/0!"},{"$error":"#DIV/0!"}]
[{"$f":"A50","v":{"$error":"#DIV/0!"}},{"$f":"(BD32*0.75)","v":{"$error":"#DIV/0!"}},{"$f":"C50","v":{"$error":"#DIV/0!"}},{"$f":"IF(E21=1,0,B58)","v":{"$error":"#DIV/0!"}},{"$f":"E50","v":{"$error":"#DIV/0!"}},{"$f":"IF(E21=1,0,IF(E21=2,0,D52))","v":{"$error":"#DIV/0!"}},{"$f":"G50","v":{"$error":"#DIV/0!"}},{"$f":"IF(E21=4,D52)","v":{"$error":"#DIV/0!"}},{"$f":"IF(E23=BC13,IF(E21<>BE2,I53+((I49-I53)*0.05),),)","v":0},{"$f":"IF(E23=BC13,IF(E21<>BE2,P47*0.75,),)","v":0},{"$f":"IF(E23=BC13,IF(OR(E21=BE4,E21=BE5),K53+((K49-K53)*0.05),),)","v":0},{"$f":"IF(E23=BC13,IF(OR(E21=BE4,E21=BE5),P47*0.75,),)","v":0},{"$error":"#DIV/0!"},{"$error":"#DIV/0!"},null,null,null,{"$f":"R50","v":{"$error":"#DIV/0!"}},{"$f":"(BO32*0.75)","v":{"$error":"#DIV/0!"}},{"$f":"T50","v":{"$error":"#DIV/0!"}},{"$f":"IF(J21=1,0,S58)","v":{"$error":"#DIV/0!"}},{"$f":"V50","v":{"$error":"#DIV/0!"}},{"$f":"IF(J21=1,0,IF(J21=2,0,U52))","v":{"$error":"#DIV/0!"}},{"$f":"X50","v":{"$error":"#DIV/0!"}},{"$f":"IF(J21=4,U52)","v":{"$error":"#DIV/0!"}},{"$f":"IF(J23=BN13,IF(J21<>BP2,Z53+((Z49-Z53)*0.05),),)","v":0},{"$f":"IF(J23=BN13,IF(J21<>BP2,AG47*0.75,),)","v":0},{"$f":"IF(J23=BN13,IF(OR(J21=BP4,J21=BP5),AB53+((AB49-AB53)*0.05),),)","v":0},{"$f":"IF(J23=BN13,IF(OR(J21=BP4,J21=BP5),AG47*0.75,),)","v":0},{"$error":"#DIV/0!"},{"$error":"#DIV/0!"},null,null,null,{"$f":"AI50","v":{"$error":"#DIV/0!"}},{"$f":"(BZ32*0.75)","v":{"$error":"#DIV/0!"}},{"$f":"AK50","v":{"$error":"#DIV/0!"}},{"$f":"IF(N21=1,0,AJ58)","v":{"$error":"#DIV/0!"}},{"$f":"AM50","v":{"$error":"#DIV/0!"}},{"$f":"IF(N21=1,0,IF(N21=2,0,AL52))","v":{"$error":"#DIV/0!"}},{"$f":"AO50","v":{"$error":"#DIV/0!"}},{"$f":"IF(N21=4,AL52)","v":{"$error":"#DIV/0!"}},{"$f":"IF(N23=BY13,IF(N21<>CA2,AQ53+((AQ49-AQ53)*0.05),),)","v":{"$error":"#DIV/0!"}},{"$f":"IF(N23=BY13,IF(N21<>CA2,AX47*0.75,),)","v":{"$error":"#DIV/0!"}},{"$f":"IF(N23=BY13,IF(OR(N21=CA4,N21=CA5),AS53+((AS49-AS53)*0.05),),)","v":{"$error":"#DIV/0!"}},{"$f":"IF(N23=BY13,IF(OR(N21=CA4,N21=CA5),AX47*0.75,),)","v":{"$error":"#DIV/0!"}},{"$error":"#DIV/0!"},{"$error":"#DIV/0!"}]
[{"$f":"A49","v":{"$error":"#DIV/0!"}},{"$f":"BD32-BE19","v":{"$error":"#DIV/0!"}},{"$f":"IF(E21=1,0,C49)","v":{"$error":"#DIV/0!"}},{"$f":"IF(E21=1,0,B57)","v":{"$error":"#DIV/0!"}},{"$f":"IF(E21=1,0,IF(E21=2,0,E49))","v":{"$error":"#DIV/0!"}},{"$f":"IF(E21=1,0,IF(E21=2,0,D57))","v":{"$error":"#DIV/0!"}},{"$f":"IF(E21=4,G49)","v":{"$error":"#DIV/0!"}},{"$f":"IF(E21=4,D57)","v":{"$error":"#DIV/0!"}},{"$f":"IF(E23=BC13,IF(E21<>BE2,I47,),)","v":0},{"$f":"IF(E23=BC13,IF(E21<>BE2,P48-BE19,),)","v":0},{"$f":"IF(E23=BC13,IF(OR(E21=BE4,E21=BE5),K47,),)","v":0},{"$f":"IF(E23=BC13,IF(OR(E21=BE4,E21=BE5),P48-BE19,),)","v":0},{"$error":"#DIV/0!"},{"$error":"#DIV/0!"},null,null,null,{"$f":"R49","v":{"$error":"#DIV/0!"}},{"$f":"BO32-BP19","v":{"$error":"#DIV/0!"}},{"$f":"IF(J21=1,0,T49)","v":{"$error":"#DIV/0!"}},{"$f":"IF(J21=1,0,S57)","v":{"$error":"#DIV/0!"}},{"$f":"IF(J21=1,0,IF(J21=2,0,V49))","v":{"$error":"#DIV/0!"}},{"$f":"IF(J21=1,0,IF(J21=2,0,U57))","v":{"$error":"#DIV/0!"}},{"$f":"IF(J21=4,X49)","v":{"$error":"#DIV/0!"}},{"$f":"IF(J21=4,U57)","v":{"$error":"#DIV/0!"}},{"$f":"IF(J23=BN13,IF(J21<>BP2,Z47,),)","v":0},{"$f":"IF(J23=BN13,IF(J21<>BP2,AG48-BP19,),)","v":0},{"$f":"IF(J23=BN13,IF(OR(J21=BP4,J21=BP5),AB47,),)","v":0},{"$f":"IF(J23=BN13,IF(OR(J21=BP4,J21=BP5),AG48-BP19,),)","v":0},{"$error":"#DIV/0!"},{"$error":"#DIV/0!"},null,null,null,{"$f":"AI49","v":{"$error":"#DIV/0!"}},{"$f":"BZ32-CA19","v":{"$error":"#DIV/0!"}},{"$f":"IF(N21=1,0,AK49)","v":{"$error":"#DIV/0!"}},{"$f":"IF(N21=1,0,AJ57)","v":{"$error":"#DIV/0!"}},{"$f":"IF(N21=1,0,IF(N21=2,0,AM49))","v":{"$error":"#DIV/0!"}},{"$f":"IF(N21=1,0,IF(N21=2,0,AL57))","v":{"$error":"#DIV/0!"}},{"$f":"IF(N21=4,AO49)","v":{"$error":"#DIV/0!"}},{"$f":"IF(N21=4,AL57)","v":{"$error":"#DIV/0!"}},{"$f":"IF(N23=BY13,IF(N21<>CA2,AQ47,),)","v":{"$error":"#DIV/0!"}},{"$f":"IF(N23=BY13,IF(N21<>CA2,AX48-CA19,),)","v":{"$error":"#DIV/0!"}},{"$f":"IF(N23=BY13,IF(OR(N21=CA4,N21=CA5),AS47,),)","v":{"$error":"#DIV/0!"}},{"$f":"IF(N23=BY13,IF(OR(N21=CA4,N21=CA5),AX48-CA19,),)","v":{"$error":"#DIV/0!"}},{"$error":"#DIV/0!"},{"$error":"#DIV/0!"}]
[{"$f":"A48","v":{"$error":"#DIV/0!"}},{"$f":"BD32-B46","v":{"$error":"#DIV/0!"}},{"$f":"C48","v":{"$error":"#DIV/0!"}},{"$f":"IF(E21=1,0,B54)","v":{"$error":"#DIV/0!"}},{"$f":"E48","v":{"$error":"#DIV/0!"}},{"$f":"IF(E21=1,0,IF(E21=2,0,B54))","v":{"$error":"#DIV/0!"}},{"$f":"G48","v":{"$error":"#DIV/0!"}},{"$f":"IF(E21=4,B54)","v":{"$error":"#DIV/0!"}},{"$f":"IF(E23=BC13,IF(E21<>BE2,I53-((I53-I57)*0.05),),)","v":0},{"$f":"IF(E23=BC13,IF(E21<>BE2,J52,),)","v":0},{"$f":"IF(E23=BC13,IF(OR(E21=BE4,E21=BE5),K53-((K53-K57)*0.05),),)","v":0},{"$f":"IF(E23=BC13,IF(OR(E21=BE4,E21=BE5),L52,),)","v":0},{"$error":"#DIV/0!"},{"$error":"#DIV/0!"},null,null,null,{"$f":"R48","v":{"$error":"#DIV/0!"}},{"$f":"BO32-S46","v":{"$error":"#DIV/0!"}},{"$f":"T48","v":{"$error":"#DIV/0!"}},{"$f":"IF(J21=1,0,S54)","v":{"$error":"#DIV/0!"}},{"$f":"V48","v":{"$error":"#DIV/0!"}},{"$f":"IF(J21=1,0,IF(J21=2,0,S54))","v":{"$error":"#DIV/0!"}},{"$f":"X48","v":{"$error":"#DIV/0!"}},{"$f":"IF(J21=4,S54)","v":{"$error":"#DIV/0!"}},{"$f":"IF(J23=BN13,IF(J21<>BP2,Z53-((Z53-Z57)*0.05),),)","v":0},{"$f":"IF(J23=BN13,IF(J21<>BP2,AA52,),)","v":0},{"$f":"IF(J23=BN13,IF(OR(J21=BP4,J21=BP5),AB53-((AB53-AB57)*0.05),),)","v":0},{"$f":"IF(J23=BN13,IF(OR(J21=BP4,J21=BP5),AC52,),)","v":0},{"$error":"#DIV/0!"},{"$error":"#DIV/0!"},null,null,null,{"$f":"AI48","v":{"$error":"#DIV/0!"}},{"$f":"BZ32-AJ46","v":{"$error":"#DIV/0!"}},{"$f":"AK48","v":{"$error":"#DIV/0!"}},{"$f":"IF(N21=1,0,AJ54)","v":{"$error":"#DIV/0!"}},{"$f":"AM48","v":{"$error":"#DIV/0!"}},{"$f":"IF(N21=1,0,IF(N21=2,0,AJ54))","v":{"$error":"#DIV/0!"}},{"$f":"AO48","v":{"$error":"#DIV/0!"}},{"$f":"IF(N21=4,AJ54)","v":{"$error":"#DIV/0!"}},{"$f":"IF(N23=BY13,IF(N21<>CA2,AQ53-((AQ53-AQ57)*0.05),),)","v":{"$error":"#DIV/0!"}},{"$f":"IF(N23=BY13,IF(N21<>CA2,AR52,),)","v":{"$error":"#DIV/0!"}},{"$f":"IF(N23=BY13,IF(OR(N21=CA4,N21=CA5),AS53-((AS53-AS57)*0.05),),)","v":{"$error":"#DIV/0!"}},{"$f":"IF(N23=BY13,IF(OR(N21=CA4,N21=CA5),AT52,),)","v":{"$error":"#DIV/0!"}},{"$error":"#DIV/0!"},{"$error":"#DIV/0!"}]
[{"$f":"A47","v":{"$error":"#DIV/0!"}},{"$f":"BD32-B47","v":{"$error":"#DIV/0!"}},{"$f":"IF(E21=1,0,C47)","v":{"$error":"#DIV/0!"}},{"$f":"IF(E21=1,0,B55)","v":{"$error":"#DIV/0!"}},{"$f":"IF(E21=1,0,IF(E21=2,0,E47))","v":{"$error":"#DIV/0!"}},{"$f":"IF(E21=1,0,IF(E21=2,0,B55))","v":{"$error":"#DIV/0!"}},{"$f":"IF(E21=4,G47)","v":{"$error":"#DIV/0!"}},{"$f":"IF(E21=4,B55)","v":{"$error":"#DIV/0!"}},{"$f":"IF(E23=BC13,IF(E21<>BE2,I57+((I53-I57)*0.85),),)","v":0},{"$f":"IF(E23=BC13,IF(E21<>BE2,J51,),)","v":0},{"$f":"IF(E23=BC13,IF(OR(E21=BE4,E21=BE5),K57+((K53-K57)*0.85),),)","v":0},{"$f":"IF(E23=BC13,IF(OR(E21=BE4,E21=BE5),L51,),)","v":0},{"$error":"#DIV/0!"},{"$error":"#DIV/0!"},null,null,null,{"$f":"R47","v":{"$error":"#DIV/0!"}},{"$f":"BO32-S47","v":{"$error":"#DIV/0!"}},{"$f":"IF(J21=1,0,T47)","v":{"$error":"#DIV/0!"}},{"$f":"IF(J21=1,0,S55)","v":{"$error":"#DIV/0!"}},{"$f":"IF(J21=1,0,IF(J21=2,0,V47))","v":{"$error":"#DIV/0!"}},{"$f":"IF(J21=1,0,IF(J21=2,0,S55))","v":{"$error":"#DIV/0!"}},{"$f":"IF(J21=4,X47)","v":{"$error":"#DIV/0!"}},{"$f":"IF(J21=4,S55)","v":{"$error":"#DIV/0!"}},{"$f":"IF(J23=BN13,IF(J21<>BP2,Z57+((Z53-Z57)*0.85),),)","v":0},{"$f":"IF(J23=BN13,IF(J21<>BP2,AA51,),)","v":0},{"$f":"IF(J23=BN13,IF(OR(J21=BP4,J21=BP5),AB57+((AB53-AB57)*0.85),),)","v":0},{"$f":"IF(J23=BN13,IF(OR(J21=BP4,J21=BP5),AC51,),)","v":0},{"$error":"#DIV/0!"},{"$error":"#DIV/0!"},null,null,null,{"$f":"AI47","v":{"$error":"#DIV/0!"}},{"$f":"BZ32-AJ47","v":{"$error":"#DIV/0!"}},{"$f":"IF(N21=1,0,AK47)","v":{"$error":"#DIV/0!"}},{"$f":"IF(N21=1,0,AJ55)","v":{"$error":"#DIV/0!"}},{"$f":"IF(N21=1,0,IF(N21=2,0,AM47))","v":{"$error":"#DIV/0!"}},{"$f":"IF(N21=1,0,IF(N21=2,0,AJ55))","v":{"$error":"#DIV/0!"}},{"$f":"IF(N21=4,AO47)","v":{"$error":"#DIV/0!"}},{"$f":"IF(N21=4,AJ55)","v":{"$error":"#DIV/0!"}},{"$f":"IF(N23=BY13,IF(N21<>CA2,AQ57+((AQ53-AQ57)*0.85),),)","v":{"$error":"#DIV/0!"}},{"$f":"IF(N23=BY13,IF(N21<>CA2,AR51,),)","v":{"$error":"#DIV/0!"}},{"$f":"IF(N23=BY13,IF(OR(N21=CA4,N21=CA5),AS57+((AS53-AS57)*0.85),),)","v":{"$error":"#DIV/0!"}},{"$f":"IF(N23=BY13,IF(OR(N21=CA4,N21=CA5),AT51,),)","v":{"$error":"#DIV/0!"}},{"$error":"#DIV/0!"},{"$error":"#DIV/0!"}]
[{"$f":"A46","v":{"$error":"#DIV/0!"}},{"$f":"B54","v":{"$error":"#DIV/0!"}},{"$f":"C46","v":{"$error":"#DIV/0!"}},{"$f":"IF(E21=1,0,D54)","v":{"$error":"#DIV/0!"}},{"$f":"E46","v":{"$error":"#DIV/0!"}},{"$f":"F54","v":{"$error":"#DIV/0!"}},{"$f":"G46","v":{"$error":"#DIV/0!"}},{"$f":"H54","v":{"$error":"#DIV/0!"}},{"$f":"IF(E23=BC13,IF(E21<>BE2,I57+((I53-I57)/1.8),),)","v":0},{"$f":"IF(E23=BC13,IF(E21<>BE2,J50,),)","v":0},{"$f":"IF(E23=BC13,IF(OR(E21=BE4,E21=BE5),K57+((K53-K57)/1.8),),)","v":0},{"$f":"IF(E23=BC13,IF(OR(E21=BE4,E21=BE5),L50,),)","v":0},{"$error":"#DIV/0!"},{"$error":"#DIV/0!"},null,null,null,{"$f":"R46","v":{"$error":"#DIV/0!"}},{"$f":"S54","v":{"$error":"#DIV/0!"}},{"$f":"T46","v":{"$error":"#DIV/0!"}},{"$f":"IF(J21=1,0,U54)","v":{"$error":"#DIV/0!"}},{"$f":"V46","v":{"$error":"#DIV/0!"}},{"$f":"W54","v":{"$error":"#DIV/0!"}},{"$f":"X46","v":{"$error":"#DIV/0!"}},{"$f":"Y54","v":{"$error":"#DIV/0!"}},{"$f":"IF(J23=BN13,IF(J21<>BP2,Z57+((Z53-Z57)/1.8),),)","v":0},{"$f":"IF(J23=BN13,IF(J21<>BP2,AA50,),)","v":0},{"$f":"IF(J23=BN13,IF(OR(J21=BP4,J21=BP5),AB57+((AB53-AB57)/1.8),),)","v":0},{"$f":"IF(J23=BN13,IF(OR(J21=BP4,J21=BP5),AC50,),)","v":0},{"$error":"#DIV/0!"},{"$error":"#DIV/0!"},null,null,null,{"$f":"AI46","v":{"$error":"#DIV/0!"}},{"$f":"AJ54","v":{"$error":"#DIV/0!"}},{"$f":"AK46","v":{"$error":"#DIV/0!"}},{"$f":"IF(N21=1,0,AL54)","v":{"$error":"#DIV/0!"}},{"$f":"AM46","v":{"$error":"#DIV/0!"}},{"$f":"AN54","v":{"$error":"#DIV/0!"}},{"$f":"AO46","v":{"$error":"#DIV/0!"}},{"$f":"AP54","v":{"$error":"#DIV/0!"}},{"$f":"IF(N23=BY13,IF(N21<>CA2,AQ57+((AQ53-AQ57)/1.8),),)","v":{"$error":"#DIV/0!"}},{"$f":"IF(N23=BY13,IF(N21<>CA2,AR50,),)","v":{"$error":"#DIV/0!"}},{"$f":"IF(N23=BY13,IF(OR(N21=CA4,N21=CA5),AS57+((AS53-AS57)/1.8),),)","v":{"$error":"#DIV/0!"}},{"$f":"IF(N23=BY13,IF(OR(N21=CA4,N21=CA5),AT50,),)","v":{"$error":"#DIV/0!"}},{"$error":"#DIV/0!"},{"$error":"#DIV/0!"}]
[{"$f":"A45","v":5.0000000000000001E-3},{"$f":"B53","v":{"$error":"#DIV/0!"}},{"$f":"IF(E21=1,0,C45)","v":{"$error":"#DIV/0!"}},{"$f":"IF(E21=1,0,D53)","v":{"$error":"#DIV/0!"}},{"$f":"IF(E21=1,0,IF(E21=2,0,E45))","v":{"$error":"#DIV/0!"}},{"$f":"IF(E21=1,0,IF(E21=2,0,F53))","v":{"$error":"#DIV/0!"}},{"$f":"IF(E21=4,G45)","v":{"$error":"#DIV/0!"}},{"$f":"IF(E21=4,H53)","v":{"$error":"#DIV/0!"}},{"$f":"IF(E23=BC13,IF(E21<>BE2,I45,),)","v":0},{"$f":"IF(E23=BC13,IF(E21<>BE2,J45,),)","v":0},{"$f":"IF(E23=BC13,IF(OR(E21=BE4,E21=BE5),K45,),)","v":0},{"$f":"IF(E23=BC13,IF(OR(E21=BE4,E21=BE5),L45,),)","v":0},{"$error":"#DIV/0!"},{"$error":"#DIV/0!"},null,null,null,{"$f":"R45","v":5.0000000000000001E-3},{"$f":"S53","v":{"$error":"#DIV/0!"}},{"$f":"IF(J21=1,0,T45)","v":{"$error":"#DIV/0!"}},{"$f":"IF(J21=1,0,U53)","v":{"$error":"#DIV/0!"}},{"$f":"IF(J21=1,0,IF(J21=2,0,V45))","v":{"$error":"#DIV/0!"}},{"$f":"IF(J21=1,0,IF(J21=2,0,W53))","v":{"$error":"#DIV/0!"}},{"$f":"IF(J21=4,X45)","v":{"$error":"#DIV/0!"}},{"$f":"IF(J21=4,Y53)","v":{"$error":"#DIV/0!"}},{"$f":"IF(J23=BN13,IF(J21<>BP2,Z45,),)","v":0},{"$f":"IF(J23=BN13,IF(J21<>BP2,AA45,),)","v":0},{"$f":"IF(J23=BN13,IF(OR(J21=BP4,J21=BP5),AB45,),)","v":0},{"$f":"IF(J23=BN13,IF(OR(J21=BP4,J21=BP5),AC45,),)","v":0},{"$error":"#DIV/0!"},{"$error":"#DIV/0!"},null,null,null,{"$f":"AI45","v":5.0000000000000001E-3},{"$f":"AJ53","v":{"$error":"#DIV/0!"}},{"$f":"IF(N21=1,0,AK45)","v":{"$error":"#DIV/0!"}},{"$f":"IF(N21=1,0,AL53)","v":{"$error":"#DIV/0!"}},{"$f":"IF(N21=1,0,IF(N21=2,0,AM45))","v":{"$error":"#DIV/0!"}},{"$f":"IF(N21=1,0,IF(N21=2,0,AN53))","v":{"$error":"#DIV/0!"}},{"$f":"IF(N21=4,AO45)","v":{"$error":"#DIV/0!"}},{"$f":"IF(N21=4,AP53)","v":{"$error":"#DIV/0!"}},{"$f":"IF(N23=BY13,IF(N21<>CA2,AQ45,),)","v":{"$error":"#DIV/0!"}},{"$f":"IF(N23=BY13,IF(N21<>CA2,AR45,),)","v":{"$error":"#DIV/0!"}},{"$f":"IF(N23=BY13,IF(OR(N21=CA4,N21=CA5),AS45,),)","v":{"$error":"#DIV/0!"}},{"$f":"IF(N23=BY13,IF(OR(N21=CA4,N21=CA5),AT45,),)","v":{"$error":"#DIV/0!"}},{"$error":"#DIV/0!"},{"$error":"#DIV/0!"}]
[{"$f":"A45+BC29","v":{"$error":"#DIV/0!"}},{"$f":"B52","v":{"$error":"#DIV/0!"}},{"$f":"IF(E21=1,0,C45+BC29)","v":{"$error":"#DIV/0!"}},{"$f":"D52","v":{"$error":"#DIV/0!"}},{"$f":"IF(E21=1,0,IF(E21=2,0,E45+BC29))","v":{"$error":"#DIV/0!"}},{"$f":"F52","v":{"$error":"#DIV/0!"}},{"$f":"IF(E21=4,G45+BC29)","v":{"$error":"#DIV/0!"}},{"$f":"H52","v":{"$error":"#DIV/0!"}},null,null,null,null,null,null,null,null,null,{"$f":"R45+BN29","v":{"$error":"#DIV/0!"}},{"$f":"S52","v":{"$error":"#DIV/0!"}},{"$f":"IF(J21=1,0,T45+BN29)","v":{"$error":"#DIV/0!"}},{"$f":"U52","v":{"$error":"#DIV/0!"}},{"$f":"IF(J21=1,0,IF(J21=2,0,V45+BN29))","v":{"$error":"#DIV/0!"}},{"$f":"W52","v":{"$error":"#DIV/0!"}},{"$f":"IF(J21=4,X45+BN29)","v":{"$error":"#DIV/0!"}},{"$f":"Y52","v":{"$error":"#DIV/0!"}},null,null,null,null,null,null,null,null,null,{"$f":"AI45+BY29","v":{"$error":"#DIV/0!"}},{"$f":"AJ52","v":{"$error":"#DIV/0!"}},{"$f":"IF(N21=1,0,AK45+BY29)","v":{"$error":"#DIV/0!"}},{"$f":"AL52","v":{"$error":"#DIV/0!"}},{"$f":"IF(N21=1,0,IF(N21=2,0,AM45+BY29))","v":{"$error":"#DIV/0!"}},{"$f":"AN52","v":{"$error":"#DIV/0!"}},{"$f":"IF(N21=4,AO45+BY29)","v":{"$error":"#DIV/0!"}},{"$f":"AP52","v":{"$error":"#DIV/0!"}}]
[{"$f":"A45+BB29","v":{"$error":"#DIV/0!"}},{"$f":"B51","v":{"$error":"#DIV/0!"}},{"$f":"IF(E21=1,0,C45+BB29)","v":{"$error":"#DIV/0!"}},{"$f":"IF(E21=1,0,D51)","v":{"$error":"#DIV/0!"}},{"$f":"IF(E21=1,0,IF(E21=2,0,E45+BB29))","v":{"$error":"#DIV/0!"}},{"$f":"IF(E21=1,0,IF(E21=2,0,B51))","v":{"$error":"#DIV/0!"}},{"$f":"IF(E21=4,G45+BB29)","v":{"$error":"#DIV/0!"}},{"$f":"IF(E21=4,B51)","v":{"$error":"#DIV/0!"}},null,null,null,null,null,null,null,null,null,{"$f":"R45+BM29","v":{"$error":"#DIV/0!"}},{"$f":"S51","v":{"$error":"#DIV/0!"}},{"$f":"IF(J21=1,0,T45+BM29)","v":{"$error":"#DIV/0!"}},{"$f":"IF(J21=1,0,U51)","v":{"$error":"#DIV/0!"}},{"$f":"IF(J21=1,0,IF(J21=2,0,V45+BM29))","v":{"$error":"#DIV/0!"}},{"$f":"IF(J21=1,0,IF(J21=2,0,S51))","v":{"$error":"#DIV/0!"}},{"$f":"IF(J21=4,X45+BM29)","v":{"$error":"#DIV/0!"}},{"$f":"IF(J21=4,S51)","v":{"$error":"#DIV/0!"}},null,null,null,null,null,null,null,null,null,{"$f":"AI45+BX29","v":{"$error":"#DIV/0!"}},{"$f":"AJ51","v":{"$error":"#DIV/0!"}},{"$f":"IF(N21=1,0,AK45+BX29)","v":{"$error":"#DIV/0!"}},{"$f":"IF(N21=1,0,AL51)","v":{"$error":"#DIV/0!"}},{"$f":"IF(N21=1,0,IF(N21=2,0,AM45+BX29))","v":{"$error":"#DIV/0!"}},{"$f":"IF(N21=1,0,IF(N21=2,0,AJ51))","v":{"$error":"#DIV/0!"}},{"$f":"IF(N21=4,AO45+BX29)","v":{"$error":"#DIV/0!"}},{"$f":"IF(N21=4,AJ51)","v":{"$error":"#DIV/0!"}}]
[{"$f":"A58","v":{"$error":"#DIV/0!"}},{"$f":"B50","v":{"$error":"#DIV/0!"}},{"$f":"C58","v":{"$error":"#DIV/0!"}},{"$f":"D50","v":{"$error":"#DIV/0!"}},{"$f":"E58","v":{"$error":"#DIV/0!"}},{"$f":"F50","v":{"$error":"#DIV/0!"}},{"$f":"G58","v":{"$error":"#DIV/0!"}},{"$f":"H50","v":{"$error":"#DIV/0!"}},null,null,null,null,null,null,null,null,null,{"$f":"R58","v":{"$error":"#DIV/0!"}},{"$f":"S50","v":{"$error":"#DIV/0!"}},{"$f":"T58","v":{"$error":"#DIV/0!"}},{"$f":"U50","v":{"$error":"#DIV/0!"}},{"$f":"V58","v":{"$error":"#DIV/0!"}},{"$f":"W50","v":{"$error":"#DIV/0!"}},{"$f":"X58","v":{"$error":"#DIV/0!"}},{"$f":"Y50","v":{"$error":"#DIV/0!"}},null,null,null,null,null,null,null,null,null,{"$f":"AI58","v":{"$error":"#DIV/0!"}},{"$f":"AJ50","v":{"$error":"#DIV/0!"}},{"$f":"AK58","v":{"$error":"#DIV/0!"}},{"$f":"AL50","v":{"$error":"#DIV/0!"}},{"$f":"AM58","v":{"$error":"#DIV/0!"}},{"$f":"AN50","v":{"$error":"#DIV/0!"}},{"$f":"AO58","v":{"$error":"#DIV/0!"}},{"$f":"AP50","v":{"$error":"#DIV/0!"}}]
[{"$f":"A45","v":5.0000000000000001E-3},{"$f":"BE19","v":5.0000000000000001E-3},{"$f":"IF(E21=1,0,C57)","v":{"$error":"#DIV/0!"}},{"$f":"IF(E21=1,0,BE19)","v":{"$error":"#DIV/0!"}},{"$f":"IF(E21=1,0,IF(E21=2,0,E57))","v":{"$error":"#DIV/0!"}},{"$f":"IF(E21=1,0,IF(E21=2,0,BE19))","v":{"$error":"#DIV/0!"}},{"$f":"IF(E21=4,G57)","v":{"$error":"#DIV/0!"}},{"$f":"IF(E21=4,BE19)","v":{"$error":"#DIV/0!"}},null,null,null,null,null,null,null,null,null,{"$f":"R45","v":5.0000000000000001E-3},{"$f":"BP19","v":5.0000000000000001E-3},{"$f":"IF(J21=1,0,T57)","v":{"$error":"#DIV/0!"}},{"$f":"IF(J21=1,0,BP19)","v":{"$error":"#DIV/0!"}},{"$f":"IF(J21=1,0,IF(J21=2,0,V57))","v":{"$error":"#DIV/0!"}},{"$f":"IF(J21=1,0,IF(J21=2,0,BP19))","v":{"$error":"#DIV/0!"}},{"$f":"IF(J21=4,X57)","v":{"$error":"#DIV/0!"}},{"$f":"IF(J21=4,BP19)","v":{"$error":"#DIV/0!"}},null,null,null,null,null,null,null,null,null,{"$f":"AI45","v":5.0000000000000001E-3},{"$f":"CA19","v":5.0000000000000001E-3},{"$f":"IF(N21=1,0,AK57)","v":{"$error":"#DIV/0!"}},{"$f":"IF(N21=1,0,CA19)","v":{"$error":"#DIV/0!"}},{"$f":"IF(N21=1,0,IF(N21=2,0,AM57))","v":{"$error":"#DIV/0!"}},{"$f":"IF(N21=1,0,IF(N21=2,0,CA19))","v":{"$error":"#DIV/0!"}},{"$f":"IF(N21=4,AO57)","v":{"$error":"#DIV/0!"}},{"$f":"IF(N21=4,CA19)","v":{"$error":"#DIV/0!"}}]

{"sheet":"Lean To","index":3,"n_rows":61,"n_cols":83,"rows_kept":61,"cut":false,"hidden":false,"merged":[[18,3,19,3],[18,6,19,6],[18,10,19,10]]}
[null,null,null,null,null,null,null,null,null,null,null,null,null,null,null,null,null,null,null,null,null,null,null,null,null,null,null,null,null,null,null,null,null,null,null,null,null,null,null,null,null,null,null,null,null,null,null,null,null,null,null,"Main Material",{"$f":"IF(OR(E27=BF2,E27=BF3,E27=BF4,E27=BF5,E27=BF6),'  '!B6,IF(OR(E27=BF7,E27=BF8,E27=BF9,E27=BF10,E27=BF11,E27=BF12,E27=BF13,E27=BF14,E27=BF15),'  '!B7,IF(OR(E27=BF16,E27=BF17,E27=BF20,E27=BF18,E27=BF19),'  '!B8,)))","v":4.54},"Material cost",{"$f":"'  '!$B$10","v":13.25},"Sails",null,"Fabric Colour",null,"Fittings Colours",null,null,"Main Material",{"$f":"IF(OR(H27=BQ2,H27=BQ3,H27=BQ4,H27=BQ5,H27=BQ6),'  '!B6,IF(OR(H27=BQ7,H27=BQ8,H27=BQ9,H27=BQ10,H27=BQ11,H27=BQ12,H27=BQ13,H27=BQ14,H27=BQ15),'  '!B7,IF(OR(H27=BQ16,H27=BQ17,H27=BQ18,H27=BQ19,H27=BQ20),'  '!B8,)))","v":4.54},null,null,"Sails",null,"Fabric Colour",null,"Fittings Colours",null,null,"Main Material",{"$f":"IF(OR(L27=CB2,L27=CB3,L27=CB4,L27=CB5,L27=CB6),'  '!B6,IF(OR(L27=CB7,L27=CB8,L27=CB9,L27=CB10,L27=CB11,L27=CB12,L27=CB13,L27=CB14,L27=CB15),'  '!B7,IF(OR(L27=CB16,L27=CB17,L27=CB18,L27=CB19,L27=CB20),'  '!B8,)))","v":4.54},null,null,"Sails",null,"Fabric Colour",null,"Fittings Colours"]
[null,null,null,null,null,null,null,null,null,null,null,null,null,null,null,null,null,null,null,null,null,null,null,null,null,null,null,null,null,null,null,null,null,null,null,null,null,null,null,null,null,null,null,null,null,null,null,null,null,null,null,"Tri Material",{"$f":"IF(OR(E28=BF2,E28=BF3,E28=BF4,E28=BF5,E28=BF6),'  '!B6,IF(OR(E28=BF7,E28=BF8,E28=BF9,E28=BF10,E28=BF11,E28=BF12,E28=BF13,E28=BF14,E28=BF15),'  '!B7,IF(OR(E28=BF16,E28=BF17,E28=BF18,E28=BF19,E28=BF20),'  '!B8,)))","v":4.54},"PE",{"$f":"'  '!$B$11","v":3},1,null,"ISX Solid",null,"Stainless steel",null,null,"Tri Material",{"$f":"IF(OR(H28=BQ2,H28=BQ3,H28=BQ4,H28=BQ5,H28=BQ6),'  '!B6,IF(OR(H28=BQ7,H28=BQ8,H28=BQ9,H28=BQ10,H28=BQ11,H28=BQ12,H28=BQ13,H28=BQ14,H28=BQ15),'  '!B7,IF(OR(H28=BQ16,H28=BQ17,H28=BQ18,H28=BQ19,H28=BQ20),'  '!B8,)))","v":4.54},null,null,1,null,"ISX Solid",null,"Stainless steel",null,null,"Tri Material",{"$f":"IF(OR(L28=CB2,L28=CB3,L28=CB4,L28=CB5,L28=CB6),'  '!B6,IF(OR(L28=CB7,L28=CB8,L28=CB9,L28=CB10,L28=CB11,L28=CB12,L28=CB13,L28=CB14,L28=CB15),'  '!B7,IF(OR(L28=CB16,L28=CB17,L28=CB18,L28=CB19,L28=CB20),'  '!B8,)))","v":4.54},null,null,1,null,"ISX Solid",null,"Stainless steel"]
[null,null,null,null,null,null,null,null,null,null,null,null,null,null,null,null,null,null,null,null,null,null,null,null,null,null,null,null,null,null,null,null,null,null,null,null,null,null,null,null,null,null,null,null,null,null,null,null,null,null,null,null,null,"PN",{"$f":"IF(BD8=4,'  '!$B$19,'  '!$B$20)","v":4.75},2,null,"ISX White",null,"White",null,null,null,null,"PN",{"$f":"IF(BO8=4,'  '!$B$19,'  '!$B$20)","v":4.25},2,null,"ISX White",null,"White",null,null,null,null,"PN",{"$f":"IF(BZ8=4,'  '!$B$19,'  '!$B$20)","v":4.25},2,null,"ISX White",null,"White"]
[null,null,null,null,null,null,null,null,null,null,null,null,null,null,null,null,null,null,null,null,null,null,null,null,null,null,null,null,null,null,null,null,null,null,null,null,null,null,null,null,null,null,null,null,null,null,null,null,null,null,null,null,null,"IP",{"$f":"'  '!#REF!","v":{"$error":"#REF!"}},3," ","ISX Solid Ivory",null,"Gold",null,null,null,null,null,null,3," ","ISX Solid Ivory",null,"Gold",null,null,null,null,null,null,3," ","ISX Solid Ivory",null,"Gold"]
[null,{"$f":"'  '!A46","v":"v2023.2"},null,null,null,null,null,null,null,null,null,null,null,null,null,null,null,null,null,null,null,null,null,null,null,null,null,null,null,null,null,null,null,null,null,null,null,null,null,null,null,null,null,null,null,null,null,null,null,null,null,null," ","No. of vents",null,4," ","ISX Solid Oyster",null,"Cost",{"$f":"IF(E29=BH2, '  '!B24, '  '!B25)","v":7},null,null," ","No. of vents",null,4," ","ISX Solid Oyster",null,"Cost",{"$f":"IF(H29=BH2, '  '!B24, '  '!B25)","v":7},null,null," ","No. of vents",null,4," ","ISX Solid Oyster",null,"Cost",{"$f":"IF(L29=BH2, '  '!B24, '  '!B25)","v":7}]
[null,null,null,null,null,null,null,null,null,null,null,null,null,null,null,null,null,null,null,null,null,null,null,null,null,null,null,null,null,null,null,null,null,null,null,null,null,null,null,null,null,null,null,null,null,null,null,null,null,null,null,"Shape",{"$f":"'  '!B14","v":1},0,null,null," ","ISX Solid Stone",null,null,null,null,null,null,0,null,null," ","ISX Solid Stone",null,null,null,null,null,null,0,null,null," ","ISX Solid Stone"]
[null,null,null,null,null,null,null,null,null,null,null,null,null,null,null,null,null,null,null,null,null,null,null,null,null,null,null,null,null,null,null,null,null,null,null,null,null,null,null,null,null,null,null,null,null,null,null,null,null,null,null,"Triangle",{"$f":"'  '!B15","v":0.75},1,null,null," ","ISX Duplex",null,null,null,null,null,null,1,null,null," ","ISX Duplex",null,null,null,null,null,null,1,null,null," ","ISX Duplex"]
[null,null,null,null,null,null,null,null,null,null,null,null,null,null,null,null,null,null,null,null,null,null,null,null,null,null,null,null,null,null,null,null,null,null,null,null,null,null,null,null,null,null,null,null,null,null,null,null,null,null,null,null,null,2,"No. of corners",{"$f":"IF(E25=BF37,6,4)","v":6}," ","ISX Duplex Ocean",null,null,null,null,null,null,2,"No. of corners",{"$f":"IF(H25=BF37,6,4)","v":4}," ","ISX Duplex Ocean",null,null,null,null,null,null,2,"No. of corners",{"$f":"IF(L25=BF37,6,4)","v":4}," ","ISX Duplex Ocean"]
[null,null,null,null,null,null,null,null,null,null,null,null,null,null,null,null,null,null,null,null,null,null,null,null,null,null,null,null,null,null,null,null,null,null,null,null,null,null,null,null,null,null,null,null,null,null,null,null,null,null,null,null,null,3,null,null,null,"ISX Duplex Stone",null,null,null,null,null,null,3,null,null,null,"ISX Duplex Stone",null,null,null,null,null,null,3,null,null,null,"ISX Duplex Stone"]
[null,null,null,null,null,null,null,null,null,null,null,null,null,null,null,null,null,null,null,null,null,null,null,null,null,null,null,null,null,null,null,null,null,null,null,null,null,null,null,null,null,null,null,null,null,null,null,null,null,null,null,"Overlap left",{"$f":"IF(E23=AZ11,BA11,IF(E23=AZ12,BA12,IF(E23=AZ13,BA13)))","v":0},4,"Curve allowance",0.5,null,"ISX Duplex Slate",null,null,null,null,"Overlap left",{"$f":"IF(H23=BK11,BL11,IF(H23=BK12,BL12,IF(H23=BK13,BL13)))","v":8.8284943197611862E-2},4,"Curve allowance",0.5,null,"ISX Duplex Slate",null,null,null,null,"Overlap left",{"$f":"IF(L23=BV11,BW11,IF(L23=BV12,BW12,IF(L23=BV13,BW13)))","v":0},4,"Curve allowance",0.5,null,"ISX Duplex Slate"]
[null,null,null,null,null,null,null,null,null,null,null,null,null,null,null,null,null,null,null,null,null,null,null,null,null,null,null,null,null,null,null,null,null,null,null,null,null,null,null,null,null,null,null,null,null,null,null,null,null,null,null,0,0,"Triangles","Roof area",{"$f":"BD14*BC31","v":0.52672017263765292},null,"ISX Duplex Graphite",null,null,null,null,0,0,"Triangles","Roof area",{"$f":"BO14*BN31","v":0.52672017263765292},null,"ISX Duplex Graphite",null,null,null,null,0,0,"Triangles","Roof area",{"$f":"BZ14*BY31","v":0.52672017263765292},null,"ISX Duplex Graphite"]
[null,null,null,null,null,null,null,null,null,null,null,null,null,null,null,null,null,null,null,null,null,null,null,null,null,null,null,null,null,null,null,null,null,null,null,null,null,null,null,null,null,null,null,null,null,null,null,null,null,null,null,0.5,{"$f":"IF(E22=1,0,IF(E22=2,(BA29*0.5)+BD19,(BA29*0.75)+BD19))","v":0},"No","Area of each sail",{"$f":"BD11/E22","v":0.52672017263765292},null,"ISXFR Solid",null,null,null,null,0.5,{"$f":"IF(H22=1,0,IF(H22=2,(BL29*0.5)+BO19,(BL29*0.75)+BO19))","v":4.4142471598805931E-2},"No","Area of each sail",{"$f":"BO11/H22","v":0.26336008631882646},null,"ISXFR Solid",null,null,null,null,0.5,{"$f":"IF(L22=1,0,IF(L22=2,(BW29*0.5)+BZ19,(BW29*0.75)+BZ19))","v":4.4142471598805931E-2},"No","Area of each sail",{"$f":"BZ11/L22","v":0.26336008631882646},null,"ISXFR Solid"]
[null,null,null,null,null,null,null,null,null,null,null,null,null,null,null,null,null,null,null,null,null,null,null,null,null,null,null,null,null,null,null,null,null,null,null,null,null,null,null,null,null,null,null,null,null,null,null,null,null,null,null,1,{"$f":"IF(E22=1,0,IF(E22=2,BA29+(BD19*2),IF(E22=3,(BA29*1.34)+BD19,IF(E22=4,(BA29*1.67)+BD19))))","v":0},"Yes","Sail perimeter",{"$f":"((BD15+0.07)*2)+((BD16+0.07)*2)","v":3.2806101565960604},null,"ISXFR White",null,null,null,null,1,{"$f":"IF(H22=1,0,IF(H22=2,BL29+(BO19*2),IF(H22=3,(BL29*1.34)+BO19,IF(H22=4,(BL29*1.67)+BO19))))","v":8.8284943197611862E-2},"Yes","Sail perimeter",{"$f":"((BO15+0.07)*2)+((BO16+0.07)*2)","v":2.457180042991284},null,"ISXFR White",null,null,null,null,1,{"$f":"IF(L22=1,0,IF(L22=2,BW29+(BZ19*2),IF(L22=3,(BW29*1.34)+BZ19,IF(L22=4,(BW29*1.67)+BZ19))))","v":8.8284943197611862E-2},"Yes","Sail perimeter",{"$f":"((BZ15+0.07)*2)+((BZ16+0.07)*2)","v":2.2806101565960604},null,"ISXFR White"]
[null,null,null,null,null,null,null,null,null,null,null,null,null,null,null,null,null,null,null,null,null,null,null,null,null,null,null,null,null,null,null,null,null,null,null,null,null,null,null,null,null,null,null,null,null,null,null,null,null,null,null,"Overlap right",{"$f":"BA10","v":0},"Warnings","Glazing bar length",{"$f":"SQRT((BC30-BC29)^2+BC32^2)","v":0.52672017263765292},null,"ISXFR Solid Ivory",null,null,null,null,"Overlap right",{"$f":"BL10","v":8.8284943197611862E-2},"Warnings","Glazing bar length",{"$f":"SQRT((BN30-BN29)^2+BN32^2)","v":0.52672017263765292},null,"ISXFR Solid Ivory",null,null,null,null,"Overlap right",{"$f":"BW10","v":0},"Warnings","Glazing bar length",{"$f":"SQRT((BY30-BY29)^2+BY32^2)","v":0.52672017263765292},null,"ISXFR Solid Ivory"]
[null,null,null,null,null,null,null,null,null,null,null,null,null,null,null,null,null,null,null,null,null,null,null,null,null,null,null,null,null,null,null,null,null,null,null,null,null,null,null,null,null,null,null,null,null,null,null,null,null,null,null,"Warning 1","Warning: Sail too narrow, increase no. of sails, add additional fitting points or reduce gap size",{"$f":"MAX(BA22:BC22)","v":2.7916169149795604},"Length of sail",{"$f":"BD14-(0.07/(IF(B23>B24,B23,B24)/1000))","v":0.5135126254678416},null,"ISXFR Solid Oyster",null,null,null,null,"Warning 1","Warning: Sail too narrow, increase no. of sails, add additional fitting points or reduce gap size",{"$f":"MAX(BL22:BN22)","v":2.7916169149795604},"Length of sail",{"$f":"BO14-(0.07/(IF(B23>B24,B23,B24)/1000))","v":0.5135126254678416},null,"ISXFR Solid Oyster",null,null,null,null,"Warning 1","Warning: Sail too narrow, increase no. of sails, add additional fitting points or reduce gap size",{"$f":"MAX(BW22:BY22)","v":2.7916169149795604},"Length of sail",{"$f":"BZ14-(0.07/(IF(B23>B24,B23,B24)/1000))","v":0.5135126254678416},null,"ISXFR Solid Oyster"]
[null,null,null,null,null,null,null,null,null,null,null,null,null,null,null,null,null,null,null,null,null,null,null,null,null,null,null,null,null,null,null,null,null,null,null,null,null,null,null,null,null,null,null,null,null,null,null,null,null,null,null,"Warning 2","Warning: Sail too narrow, decrease no. of sails, add additional fitting points or increase gap size",{"$f":"MAX(BA23:BC23)","v":5.3},"Width left",{"$f":"(BC31/E22)-(0.07/(IF(B23>B24,B23,B24)/1000))+BA10","v":0.98679245283018868}," ->","ISXFR Duplex",null,null,null,null,"Warning 2","Warning: Sail too narrow, decrease no. of sails, add additional fitting points or increase gap size",{"$f":"MAX(BL23:BN23)","v":3.1179101989473423},"Width left",{"$f":"(BN31/H22)-(0.07/(IF(B23>B24,B23,B24)/1000))+BL10","v":0.5750773960278005}," ->","ISXFR Duplex",null,null,null,null,"Warning 2","Warning: Sail too narrow, decrease no. of sails, add additional fitting points or increase gap size",{"$f":"MAX(BW23:BY23)","v":2.65},"Width left",{"$f":"(BY31/L22)-(0.07/(IF(B23>B24,B23,B24)/1000))+BW10","v":0.48679245283018868}," ->","ISXFR Duplex"]
[null,null,null,null,"Plan view - looking from above",null,null,"Plan view - looking from above",null,null,null,"Plan view - looking from above",null,null,null,null,null,null,null,null,null,null,null,null,null,null,null,null,null,null,null,null,null,null,null,null,null,null,null,null,null,null,null,null,null,null,null,null,null,null,null,"Warning 3","Warning: Sail too wide for standard fabric, please add more sails or increase gap size"," ","Width middle",{"$f":"((BC31/E22)-(0.07/(IF(B23>B24,B23,B24)/1000))+BA10)","v":0.98679245283018868},{"$f":"((BC31/E22)-(0.07/(IF(B23>B24,B23,B24)/1000))+BA14)","v":0.98679245283018868},"ISXFR Duplex Ocean",null,null,null,null,"Warning 3","Warning: Sail too wide for standard fabric, please add more sails or increase gap size"," ","Width middle",{"$f":"((BN31/H22)-(0.07/(IF(B23>B24,B23,B24)/1000))+BL10)","v":0.5750773960278005},{"$f":"((BN31/H22)-(0.07/(IF(B23>B24,B23,B24)/1000))+BL14)","v":0.5750773960278005},"ISXFR Duplex Ocean",null,null,null,null,"Warning 3","Warning: Sail too wide for standard fabric, please add more sails or increase gap size"," ","Width middle",{"$f":"((BY31/L22)-(0.07/(IF(B23>B24,B23,B24)/1000))+BW10)","v":0.48679245283018868},{"$f":"((BY31/L22)-(0.07/(IF(B23>B24,B23,B24)/1000))+BW14)","v":0.48679245283018868},"ISXFR Duplex Ocean"]
[null,null,null,null,null,null,null,null,null,null,null,null,null,null,null,null,null,null,null,null,null,null,null,null,null,null,null,null,null,null,null,null,null,null,null,null,null,null,null,null,null,null,null,null,null,null,null,null,null,null,null,"Warning 4","Warning: Conservatory too long for standard fabric, contact office for more details"," ","Width right",{"$f":"(BC31/E22)-(0.07/(IF(B23>B24,B23,B24)/1000))+BA14","v":0.98679245283018868},null,"ISXFR Duplex Stone",null,null,null,null,"Warning 4","Warning: Conservatory too long for standard fabric, contact office for more details"," ","Width right",{"$f":"(BN31/H22)-(0.07/(IF(B23>B24,B23,B24)/1000))+BL14","v":0.5750773960278005},null,"ISXFR Duplex Stone",null,null,null,null,"Warning 4","Warning: Conservatory too long for standard fabric, contact office for more details"," ","Width right",{"$f":"(BY31/L22)-(0.07/(IF(B23>B24,B23,B24)/1000))+BW14","v":0.48679245283018868},null,"ISXFR Duplex Stone"]
[null,null,null,{"$f":"'  '!$A$42","v":"Starting Cost incl. Installation"},{"$f":"(((BA25+BB25+BC25+(E30*'  '!B29)+IF(AND(E24=BB13,E22<>BD2),BD25,)+('  '!B21*E26)+IF(E29<>BH2,E26*'  '!B26,0))))","v":1297.8539192614014},null,{"$f":"'  '!$A$43","v":"Average Cost incl. Installation"},{"$f":"(((BL25+BM25+BN25+(H30*'  '!B29)+IF(AND(H24=BM13,H22<>BO2),BO25,)+('  '!B21*H26)+IF(H29<>BS2,H26*'  '!B26,0))))","v":1605.5881344810555},null,null,{"$f":"'  '!$A$44","v":"High End Cost incl. Installation"},{"$f":"(((BW25+BX25+BY25+(L30*'  '!B29)+BZ25)+('  '!B21*L26)+IF(L29<>CD2,L26*'  '!B26,0)))","v":1900.5796407047565},null,null,null,null,null,null,null,null,null,null,null,null,null,null,null,null,null,null,null,null,null,null,null,null,null,null,null,null,null,null,null,null,null,null,null,null,null,null,null,null,null," ","50mm links",{"$f":"0.035/(IF(B23>B24,B23,B24)/1000)","v":6.6037735849056615E-3},null,"ISXFR Duplex Slate",null,null,null,null,null,null," ","50mm links",{"$f":"BD19","v":6.6037735849056615E-3},null,"ISXFR Duplex Slate",null,null,null,null,null,null," ","50mm links",{"$f":"0.035/(IF(B23>B24,B23,B24)/1000)","v":6.6037735849056615E-3},null,"ISXFR Duplex Slate"]
[null,null,null,null,{"$f":"'   '!U3+'  '!B33","v":1758.2831354091211},null,null,{"$f":"'   '!AG3+'  '!B33","v":2025.5881344810555},null,null,null,{"$f":"'   '!AS3+'  '!B33","v":2320.5796407047565},null,null,null,null,null,null,null,null,null,null,null,null,null,null,null,null,null,null,null,null,null,null,null,null,null,null,null,null,null,null,null,null,null,null,null,null,null,null,null,null,"4 sails left",{"$f":"(BC31*0.375)+(MAX(BA14,BA10)/6)","v":0.375},"4 sails left",{"$f":"(BC31*0.625)-(MAX(BA14,BA10)/6)","v":0.625},null,"ISXFR Duplex Graphite",null,null,null,null,null,"4 sails left",{"$f":"(BN31*0.375)+(MAX(BL14,BL10)/6)","v":0.38971415719960195},"4 sails left",{"$f":"(BN31*0.625)-(MAX(BL14,BL10)/6)","v":0.61028584280039799},null,"ISXFR Duplex Graphite",null,null,null,null,null,"4 sails left",{"$f":"(BY31*0.375)+(MAX(BW14,BW10)/6)","v":0.375},"4 sails left",{"$f":"(BY31*0.625)-(MAX(BW14,BW10)/6)","v":0.625},null,"ISXFR Duplex Graphite"]
[null,null,null,null,null,null,null,null,null,null,null,null,null,null,null,null,null,null,null,null,null,null,null,null,null,null,null,null,null,null,null,null,null,null,null,null,null,null,null,null,null,null,null,null,null,null,null,null,null,null,null,"Costs","left","mid","right","tri",null,null,null,null,null,null,"Costs","left","mid","right","tri",null,null,null,null,null,null,"Costs","left","mid","right","tri"]
[null,"All dims in mm",null,"Number of sails",{"$f":"BF28","v":1},null,"Number of sails",{"$f":"BR28","v":2},null,null,"Number of sails",{"$f":"CC28","v":2},null,null,null,null,null,null,null,null,null,null,null,null,null,null,null,null,null,null,null,null,null,null,null,null,null,null,null,null,null,null,null,null,null,null,null,null,null,null,null,"length",{"$f":"BD14*(IF(B23>B24,B23,B24)/1000)","v":2.7916169149795604},{"$f":"BA22","v":2.7916169149795604},{"$f":"BB22","v":2.7916169149795604},{"$f":"BC22","v":2.7916169149795604},null,null,null,null,null,null,"length",{"$f":"BO14*(IF(B23>B24,B23,B24)/1000)","v":2.7916169149795604},{"$f":"BL22","v":2.7916169149795604},{"$f":"BM22","v":2.7916169149795604},{"$f":"BN22","v":2.7916169149795604},null,null,null,null,null,null,"length",{"$f":"BZ14*(IF(B23>B24,B23,B24)/1000)","v":2.7916169149795604},{"$f":"BW22","v":2.7916169149795604},{"$f":"BX22","v":2.7916169149795604},{"$f":"BY22","v":2.7916169149795604}]
["X1",5300,null,"Overlap",0.5,null,"Overlap",1,null,null,"Overlap",0,null,null,null,null,null,null,null,null,null,null,null,null,null,null,null,null,null,null,null,null,null,null,null,null,null,null,null,null,null,null,null,null,null,null,null,null,null,null,null,"width",{"$f":"((A49-A45)+(0.07/(IF(B23>B24,B23,B24)/1000)))*(IF(B23>B24,B23,B24)/1000)","v":5.3},{"$f":"IF(E22<>BD4,MIN(BA23,BC23),(E49-E45+(0.07/(IF(B23>B24,B23,B24)/1000)))*(IF(B23>B24,B23,B24)/1000))","v":5.3},{"$f":"IF(E22<>BD2,(C49-C45+(0.07/(IF(B23>B24,B23,B24)/1000)))*(IF(B23>B24,B23,B24)/1000),BA23)","v":5.3},{"$f":"(AZ27*(IF(B23>B24,B23,B24)/1000))+0.07","v":2.2472935319836482},null,null,null,null,null,null,"width",{"$f":"((R49-R45)+(0.07/(IF(B23>B24,B23,B24)/1000)))*(IF(B23>B24,B23,B24)/1000)","v":3.1179101989473423},{"$f":"IF(H22<>BO4,MIN(BL23,BN23),(V49-V45+(0.07/(IF(B23>B24,B23,B24)/1000)))*(IF(B23>B24,B23,B24)/1000))","v":3.1179101989473423},{"$f":"IF(H22<>BO2,(T49-T45+(0.07/(IF(B23>B24,B23,B24)/1000)))*(IF(B23>B24,B23,B24)/1000),BL23)","v":3.1179101989473423},{"$f":"(BK27*(IF(B23>B24,B23,B24)/1000))+0.07","v":2.2472935319836482},null,null,null,null,null,null,"width",{"$f":"((AI49-AI45)+(0.07/(IF(B23>B24,B23,B24)/1000)))*(IF(B23>B24,B23,B24)/1000)","v":2.65},{"$f":"IF(L22<>BZ4,MIN(BW23,BY23),(AM49-AM45+(0.07/(IF(B23>B24,B23,B24)/1000)))*(IF(B23>B24,B23,B24)/1000))","v":2.65},{"$f":"IF(L22<>BZ2,(AK49-AK45+(0.07/(IF(B23>B24,B23,B24)/1000)))*(IF(B23>B24,B23,B24)/1000),BW23)","v":2.65},{"$f":"(BV27*(IF(B23>B24,B23,B24)/1000))+0.07","v":2.2472935319836482}]
["Y1",2670,null,"Triangles","No",null,"Triangles","No",null,null,"Triangles","Yes",null,null,null,null,null,null,null,null,null,null,null,null,null,null,null,null,null,null,null,null,null,null,null,null,null,null,null,null,null,null,null,null,null,null,null,null,null,null,null,"perimeter",{"$f":"((BA22*2)+(BA23*2))*1.05","v":16.992395521457077},{"$f":"((BB22*2)+(BB23*2))*1.05","v":16.992395521457077},{"$f":"((BC22*2)+(BC23*2))*1.05","v":16.992395521457077},{"$f":"((BD22*2)+BD23)*1.05","v":8.2220537300399084},null,null,null,null,null,null,"perimeter",{"$f":"((BL22*2)+(BL23*2))*1.05","v":12.410006939246495},{"$f":"((BM22*2)+(BM23*2))*1.05","v":12.410006939246495},{"$f":"((BN22*2)+(BN23*2))*1.05","v":12.410006939246495},{"$f":"((BO22*2)+BO23)*1.05","v":8.2220537300399084},null,null,null,null,null,null,"perimeter",{"$f":"((BW22*2)+(BW23*2))*1.05","v":11.427395521457077},{"$f":"((BX22*2)+(BX23*2))*1.05","v":11.427395521457077},{"$f":"((BY22*2)+(BY23*2))*1.05","v":11.427395521457077},{"$f":"((BZ22*2)+BZ23)*1.05","v":8.2220537300399084}]
["H1",2185,null,"6 sided sails","Yes",null,"6 sided sails","No",null,null,"6 sided sails","No",null,null,null,null,null,null,null,null,null,null,null,null,null,null,null,null,null,null,null,null,null,null,null,null,null,null,null,null,null,null,null,null,null,null,null,null,null,null,null,null,{"$f":"((BA1*((BA22*BA23*BC1*BA6)+(BA24*BC2)+(BD8*BC3)))+(BD8*BI5)+'  '!B35)","v":1297.8539192614014},{"$f":"(IF(E22<3,0,((IF(E22>2,((BA1*((BA22*BA23*BC1*BA6)+(BA24*BC2)+(BD8*BC3)))+(BD8*BI5)+'  '!B35)*(IF(E22=4,2,1)))))))","v":0},{"$f":"(IF(E22<>BD2,((BA1*((BA22*BA23*BC1*BA6)+(BA24*BC2)+(BD8*BC3)))+(BD8*BI5)+'  '!B35),))","v":0},{"$f":"((IF(E24=BB13,((BA2*((BD22*BD23*BC1*BA7)+(BD24*BC2)+(3*'  '!B19)))+(3*BI5)+'  '!B35)*(E22-1),)))","v":0}," ",null,null,null,null,null,null,{"$f":"((BL1*((BL22*BL23*BC1*BA6)+(BL24*BC2)+(BO8*BN3)))+(BO8*BT5)+'  '!B35)","v":802.79406724052774},{"$f":"(IF(H22<3,0,((IF(H22>2,((BL1*((BM22*BM23*BC1*BA6)+(BM24*BC2)+(BO8*BN3)))+(BO8*BT5)+'  '!B35)*(IF(H22=4,2,1)))))))","v":0},{"$f":"(IF(H22<>BO2,((BL1*((BN22*BN23*BC1*BA6)+(BN24*BC2)+(BO8*BN3)))+(BO8*BT5)+'  '!B35),))","v":802.79406724052774},{"$f":"((IF(H24=BM13,((BL1*((BO22*BO23*BC1*BA7)+(BO24*BC2)+(3*'  '!B19)))+(3*BT5)+'  '!B35)*(H22-1),)))","v":0}," ",null,null,null,null,null,null,{"$f":"((BW1*((BW22*BW23*BC1*BA6)+(BW24*BC2)+(BZ8*BY3)))+(BZ8*CE5)+'  '!B35)","v":710.83487313182343},{"$f":"(IF(L22<3,0,((IF(L22>2,((BW1*((BX22*BX23*BC1*BA6)+(BX24*BC2)+(BZ8*BY3)))+(BZ8*CE5)+'  '!B35)*(IF(L22=4,2,1)))))))","v":0},{"$f":"(IF(L22<>BZ2,((BW1*((BY22*BY23*BC1*BA6)+(BY24*BC2)+(BZ8*BY3)))+(BZ8*CE5)+'  '!B35),))","v":710.83487313182343},{"$f":"((IF(L24=BX13,((BW2*((BZ22*BZ23*BC1*BA7)+(BZ24*BC2)+(3*'  '!B19)))+(3*CE5)+'  '!B35)*(L22-1))))","v":478.90989444110971}," "]
["H2",3000,null,"Total additional fittings",0,null,"Total additional fittings",0,null,null,"Total additional fittings",0,null,null,null,null,null,null,null,null,null,null,null,null,null,null,null,null,null,null,null,null,null,null,null,null,null,null,null,null,null,null,null,null,null,null,null,null,null,null,null,"tri width","tri length","tri mid","tri quarter",null,null,null,null,null,null,null,"tri width","tri length","tri mid","tri quarter",null,null,null,null,null,null,null,"tri width","tri length","tri mid","tri quarter"]
[null,null,null,"Colour of main sails","ISX Solid",null,"Colour of main sails","ISX Solid",null,null,"Colour of main sails","ISX Solid",null,null,null,null,null,null,null,null,null,null,null,null,null,null,null,null,null,null,null,null,null,null,null,null,null,null,null,null,null,null,null,null,null,null,null,null,null,null,null,{"$f":"BA27*0.8","v":0.41081010037427329},{"$f":"BD14-(BD19*2)","v":0.5135126254678416},{"$f":"AZ27*0.13","v":5.3405313048655527E-2},{"$f":"BB27*0.75","v":4.0053984786491643E-2},null,null,"Low",null,null,null,null,{"$f":"BL27*0.8","v":0.41081010037427329},{"$f":"BO14-(BO19*2)","v":0.5135126254678416},{"$f":"BK27*0.13","v":5.3405313048655527E-2},{"$f":"BM27*0.75","v":4.0053984786491643E-2},null,null,null,"Mid",null,null,null,{"$f":"BW27*0.8","v":0.41081010037427329},{"$f":"BZ14-(BZ19*2)","v":0.5135126254678416},{"$f":"BV27*0.13","v":5.3405313048655527E-2},{"$f":"BX27*0.75","v":4.0053984786491643E-2},null,null,null,"Top"]
[null,null,null,"Colour of triangles","ISX Solid",null,"Colour of triangles","ISX Solid",null,null,"Colour of triangles","ISX Solid",null,null,null,null,null,null,null,null,null,null,null,null,null,null,null,null,null,null,null,null,null,null,null,null,null,null,null,null,null,null,null,null,null,null,null,null,null,null,null,null,"Mid","Quarters","Dims in m",null,"Number of sails",{"$f":"IF(BH32<1.25,1,IF(AND(BH32>=1.25,BH32<=2.25),1,IF(AND(BH32>2.25,BH32<3.5),2,IF(AND(BH32>=3.5),3))))","v":1},null,null,null,null,null,"Mid","Quarters","Dims in m",null,null,"Number of sails",{"$f":"IF(BR32<1.25,1,IF(AND(BR32>=1.25,BR32<=2.25),2,IF(AND(BR32>2.25,BR32<3.5),3,IF(AND(BR32>=3.5),4))))","v":2},null,null,null,null,"Mid","Quarters","Dims in m",null,null,"Number of sails",{"$f":"IF(CC32<1.25,1,IF(AND(CC32>=1.25,CC32<=2.25),2,IF(AND(CC32>2.25,CC32<3.5),3,IF(AND(CC32>=3.5),4))))","v":2}]
[null,null,null,"Colour of fittings","Stainless steel",null,"Colour of fittings","Stainless steel",null,null,"Colour of fittings","Stainless steel",null,null,null,null,null,null,null,null,null,null,null,null,null,null,null,null,null,null,null,null,null,null,null,null,null,null,null,null,null,null,null,null,null,null,null,null,null,null,null,"Horizontal",{"$f":"(((BD15+(0.07/(B23/1000)))*0.13)+BD19)","v":7.5077396027800544E-2},{"$f":"(BA29)*0.75","v":5.6308047020850405E-2},{"$f":"B25/IF(B23>B24,B23,B24)","v":0.41226415094339625},null,"Overlap",0.5,null,null,null,null,"Horizontal",{"$f":"(((BO15+(0.07/(B23/1000)))*0.13)+BO19)","v":7.5077396027800544E-2},{"$f":"(BL29)*0.75","v":5.6308047020850405E-2},{"$f":"B25/IF(B23>B24,B23,B24)","v":0.41226415094339625},null,null,"Overlap",0.5,null,null,null,"Horizontal",{"$f":"(((BZ15+(0.07/(B23/1000)))*0.13)+BZ19)","v":7.5077396027800544E-2},{"$f":"(BW29)*0.75","v":5.6308047020850405E-2},{"$f":"B25/IF(B23>B24,B23,B24)","v":0.41226415094339625},null,null,"Overlap",0]
[null,null,null,"Number of window vents",0,null,"Number of window vents",0,null,null,"Number of window vents",0,null,null,null,null,null,null,null,null,null,null,null,null,null,null,null,null,null,null,null,null,null,null,null,null,null,null,null,null,null,null,null,null,null,null,null,null,null,null,null,"Vertical left",{"$f":"((BD16+(0.07/(B23/1000)))*0.13)+BD19","v":0.13660377358490566},{"$f":"BA30*0.75","v":0.10245283018867925},{"$f":"B26/IF(B23>B24,B23,B24)","v":0.56603773584905659},null,"Triangles","No",null,null,null,null,"Vertical left",{"$f":"((BO16+(0.07/(B23/1000)))*0.13)+BO19","v":8.3080816200595195E-2},{"$f":"BL30*0.75","v":6.2310612150446393E-2},{"$f":"B26/IF(B23>B24,B23,B24)","v":0.56603773584905659},null,null,"Triangles","No",null,null,null,"Vertical left",{"$f":"((BZ16+(0.07/(B23/1000)))*0.13)+BZ19","v":7.1603773584905661E-2},{"$f":"BW30*0.75","v":5.3702830188679246E-2},{"$f":"B26/IF(B23>B24,B23,B24)","v":0.56603773584905659},null,null,"Triangles","Yes"]
[null,null,null,null,null,null,null,null,null,null,null,null,null,null,null,null,null,null,null,null,null,null,null,null,null,null,null,null,null,null,null,null,null,null,null,null,null,null,null,null,null,null,null,null,null,null,null,null,null,null,null,"Vertical mid",{"$f":"((AVERAGE(BD17:BE17)+(0.07/(B23/1000)))*0.13)+BD19","v":0.13660377358490566},{"$f":"BA31*0.75","v":0.10245283018867925},{"$f":"B23/IF(B23>B24,B23,B24)","v":1},null,"Total additional fittings",{"$f":"IF(BH32<1.25,0,2*E22)","v":2},null,null,null,null,"Vertical mid",{"$f":"((AVERAGE(BO17:BP17)+(0.07/(B23/1000)))*0.13)+BO19","v":8.3080816200595195E-2},{"$f":"BL31*0.75","v":6.2310612150446393E-2},{"$f":"B23/IF(B23>B24,B23,B24)","v":1},null,null,"Total additional fittings",{"$f":"IF(BR32<1.25,2,)","v":0},null,null,null,"Vertical mid",{"$f":"((AVERAGE(BZ17:CA17)+(0.07/(B23/1000)))*0.13)+BZ19","v":7.1603773584905661E-2},{"$f":"BW31*0.75","v":5.3702830188679246E-2},{"$f":"B23/IF(B23>B24,B23,B24)","v":1},null,null,"Total additional fittings",{"$f":"IF(CC32<1.25,4,)","v":0}]
[null,null,null,"Max length of a sail",{"$f":"(MAX(BA22:BC22))*1000","v":2791.6169149795605},null,"Max length of a sail",{"$f":"(MAX(BL22:BN22))*1000","v":2791.6169149795605},null,null,"Max length of a sail",{"$f":"(MAX(BW22:BY22))*1000","v":2791.6169149795605},null,null,null,null,null,null,null,null,null,null,null,null,null,null,null,null,null,null,null,null,null,null,null,null,null,null,null,null,null,null,null,null,null,null,null,null,null,null,null,"Vertical right",{"$f":"((BD18+(0.07/(B23/1000)))*0.13)+BD19","v":0.13660377358490566},{"$f":"BA32*0.75","v":0.10245283018867925},{"$f":"B24/IF(B23>B24,B23,B24)","v":0.50377358490566038},null,null,null,"Length/Width Ratio",{"$f":"(B23/B24)","v":1.9850187265917603},null,null,"Vertical right",{"$f":"((BO18+(0.07/(B23/1000)))*0.13)+BO19","v":8.3080816200595195E-2},{"$f":"BL32*0.75","v":6.2310612150446393E-2},{"$f":"B24/IF(B23>B24,B23,B24)","v":0.50377358490566038},null,null,"Length/Width Ratio",{"$f":"(B23/B24)","v":1.9850187265917603},null,null,null,"Vertical right",{"$f":"((BZ18+(0.07/(B23/1000)))*0.13)+BZ19","v":7.1603773584905661E-2},{"$f":"BW32*0.75","v":5.3702830188679246E-2},{"$f":"B24/IF(B23>B24,B23,B24)","v":0.50377358490566038},null,null,"Length/Width Ratio",{"$f":"(B23/B24)","v":1.9850187265917603}]
[null,null,null,"Max width of a sail",{"$f":"(MAX(BA23:BC23))*1000","v":5300},null,"Max width of a sail",{"$f":"(MAX(BL23:BN23))*1000","v":3117.9101989473425},null,null,"Max width of a sail",{"$f":"(MAX(BW23:BY23))*1000","v":2650}]
[null,null,null,null,"Sails +2100mm in both directions require seams",null,null,"Sails +2100mm in both directions require seams",null,null,null,"Sails +2100mm in both directions require seams"]
[null,null,null,null,null,null,null,null,null,null,null,null,null,null,null,null,null,null,null,null,null,null,null,null,null,null,null,null,null,null,null,null,null,null,null,null,null,null,null,null,null,null,null,null,null,null,null,null,null,null,null,null,null,null,null,null,"Overlaps","Triangles"]
[null,null,null,null,null,null,null,null,null,null,null,null,null,null,null,null,null,null,null,null,null,null,null,null,null,null,null,null,null,null,null,null,null,null,null,null,null,null,null,null,null,null,null,null,null,null,null,null,null,null,null,null,null,null,null,null,0,"No"]
[null,null,null,null,null,null,null,null,null,null,null,null,null,null,null,null,null,null,null,null,null,null,null,null,null,null,null,null,null,null,null,null,null,null,null,null,null,null,null,null,null,null,null,null,null,null,null,null,null,null,null,null,null,null,null,null,0.5,"Yes"]
[null,null,null,null,null,null,null,null,null,null,null,null,null,null,null,null,null,null,null,null,null,null,null,null,null,null,null,null,null,null,null,null,null,null,null,null,null,null,null,null,null,null,null,null,null,null,null,null,null,null,null,null,null,null,null,null,1]
[]
[]
[]
[]
["x","y","x","y","x","y",null,null,"x","y","x","y","x","y","Roof plan",null,null,"x","y","x","y","x","y",null,null,"x","y","x","y","x","y","Roof plan",null,null,"x","y","x","y","x","y",null,null,"x","y","x","y","x","y","Roof plan"]
["Left sail",null,"Right sail",null,"Mid sail",null,null,null,"tri 1",null,"tri 2",null,"tri 3",null,"x-axis","y-axis",null,"Left sail",null,"Right sail",null,"Mid sail",null,null,null,"tri 1",null,"tri 2",null,"tri 3",null,"x-axis","y-axis",null,"Left sail",null,"Right sail",null,"Mid sail",null,null,null,"tri 1",null,"tri 2",null,"tri 3",null,"x-axis","y-axis"]
[{"$f":"BD19","v":6.6037735849056615E-3},{"$f":"BD19","v":6.6037735849056615E-3},{"$f":"IF(E22=1,0,C49-BD18)","v":0},{"$f":"IF(E22=1,0,BD19)","v":0},{"$f":"IF(E22=1,0,IF(E22=2,0,IF(E22=3,(BC31/2)-(BD17/2),IF(E22=4,BB20-(BD17/2)))))","v":0},{"$f":"IF(E22=1,0,IF(E22=2,0,BD19))","v":0},{"$f":"IF(E22=4,BD20-(BD17/2),0)","v":0},{"$f":"IF(E22=4,BD19,0)","v":0},{"$f":"IF(E24=BB13,IF(E22<>BD2,I47-(AZ27/2),),)","v":0},{"$f":"IF(E24=BB13,IF(E22<>BD2,BD19,),)","v":0},{"$f":"IF(E24=BB13,IF(OR(OR(E22=BD4,E22=BD5),E22=BD5),K47-(AZ27/2),),)","v":0},{"$f":"IF(E24=BB13,IF(OR(E22=BD4,E22=BD5),BD19,),)","v":0},{"$f":"IF($E$22=$BD$5,K45+0.25,)","v":0},{"$f":"IF($E$22=$BD$5,L45,)","v":0},0,0,null,{"$f":"BO19","v":6.6037735849056615E-3},{"$f":"BO19","v":6.6037735849056615E-3},{"$f":"IF(H22=1,0,T49-BO18)","v":0.41831883038729378},{"$f":"IF(H22=1,0,BO19)","v":6.6037735849056615E-3},{"$f":"IF(H22=1,0,IF(H22=2,0,IF(H22=3,(BN31/2)-(BO17/2),IF(H22=4,BM20-(BO17/2)))))","v":0},{"$f":"IF(H22=1,0,IF(H22=2,0,BO19))","v":0},{"$f":"IF(H22=4,BO20-(BO17/2),0)","v":0},{"$f":"IF(H22=4,BO19,0)","v":0},{"$f":"IF(H24=BM13,IF(H22<>BO2,Z47-(BK27/2),),)","v":0},{"$f":"IF(H24=BM13,IF(H22<>BO2,BO19,),)","v":0},{"$f":"IF(H24=BM13,IF(OR(H22=BO4,H22=BO5),AB47-(BK27/2),),)","v":0},{"$f":"IF(H24=BM13,IF(OR(H22=BO4,H22=BO5),BO19,),)","v":0},{"$f":"IF($H$22=4,AB45+0.25,)","v":0},{"$f":"IF($H$22=$BO$5,AC45,)","v":0},0,0,null,{"$f":"BZ19","v":6.6037735849056615E-3},{"$f":"BZ19","v":6.6037735849056615E-3},{"$f":"IF(L22=1,0,AK49-BZ18)","v":0.5066037735849056},{"$f":"IF(L22=1,0,BZ19)","v":6.6037735849056615E-3},{"$f":"IF(L22=1,0,IF(L22=2,0,IF(L22=3,(BY31/2)-(BZ17/2),IF(L22=4,BX20-(BZ17/2)))))","v":0},{"$f":"IF(L22=1,0,IF(L22=2,0,BZ19))","v":0},{"$f":"IF(L22=4,BZ20-(BZ17/2),0)","v":0},{"$f":"IF(L22=4,BZ19,0)","v":0},{"$f":"IF(L24=BX13,IF(L22<>BZ2,AQ47-(BV27/2),),)","v":0.29459494981286338},{"$f":"IF(L24=BX13,IF(L22<>BZ2,BZ19,),)","v":6.6037735849056615E-3},{"$f":"IF(L24=BX13,IF(OR(L22=BZ4,L22=BZ5),AS47-(BV27/2),),)","v":0},{"$f":"IF(L24=BX13,IF(OR(L22=BZ4,L22=BZ5),BZ19,),)","v":0},{"$f":"IF($L$22=$BZ$5,AS45+0.25)","v":false},{"$f":"AT45","v":0},0,0]
[{"$f":"A45+(BD16/4)","v":0.25330188679245286},{"$f":"IF(E25=BF37,BA30*0.5,BA30*0.75)","v":6.8301886792452832E-2},{"$f":"IF(E22=1,0,C45+(BD18/4))","v":0},{"$f":"IF(E22=1,0,D48)","v":0},{"$f":"IF(E22=1,0,IF(E22=2,0,E45+(MAX(BD17:BE17)/4)))","v":0},{"$f":"IF(E22=1,0,IF(E22=2,0,B46))","v":0},{"$f":"IF(E22=4,G45+(MAX(BD17:BE17)/4),0)","v":0},{"$f":"IF(E22=4,B46,0)","v":0},{"$f":"IF(E24=BB13,IF(E22<>BD2,I45+(AZ27/4),),)","v":0},{"$f":"IF(E24=BB13,IF(E22<>BD2,BC27,),)","v":0},{"$f":"IF(E24=BB13,IF(OR(E22=BD4,E22=BD5),K47-(AZ27/4),),)","v":0},{"$f":"IF(E24=BB13,IF(OR(E22=BD4,E22=BD5),BC27,),)","v":0},{"$f":"IF($E$22=$BD$5,K46+0.25,)","v":0},{"$f":"IF($E$22=$BD$5,L46,)","v":0},{"$f":"BC31","v":1},0,null,{"$f":"R45+(BO16/4)","v":0.15037312259185578},{"$f":"IF(H25=BF37,BL30*0.5,BL30*0.75)","v":6.2310612150446393E-2},{"$f":"IF(H22=1,0,T45+(BO18/4))","v":0.56208817939424394},{"$f":"IF(H22=1,0,U48)","v":6.2310612150446393E-2},{"$f":"IF(H22=1,0,IF(H22=2,0,V45+(MAX(BO17:BP17)/4)))","v":0},{"$f":"IF(H22=1,0,IF(H22=2,0,S46))","v":0},{"$f":"IF(H22=4,X45+(MAX(BO17:BP17)/4),0)","v":0},{"$f":"IF(H22=4,S46,0)","v":0},{"$f":"IF(H24=BM13,IF(H22<>BO2,Z45+(BK27/4),),)","v":0},{"$f":"IF(H24=BM13,IF(H22<>BO2,BN27,),)","v":0},{"$f":"IF(H24=BM13,IF(OR(H22=BO4,H22=BO5),AB47-(BK27/4),),)","v":0},{"$f":"IF(H24=BM13,IF(OR(H22=BO4,H22=BO5),BN27,),)","v":0},{"$f":"IF($H$22=4,AB46+0.25,)","v":0},{"$f":"IF($H$22=$BO$5,AC46,)","v":0},{"$f":"BN31","v":1},0,null,{"$f":"AI45+(BZ16/4)","v":0.12830188679245283},{"$f":"IF(L25=BF37,BW30*0.5,BW30*0.75)","v":5.3702830188679246E-2},{"$f":"IF(L22=1,0,AK45+(BZ18/4))","v":0.6283018867924528},{"$f":"IF(L22=1,0,AL48)","v":5.3702830188679246E-2},{"$f":"IF(L22=1,0,IF(L22=2,0,AM45+(MAX(BZ17:CA17)/4)))","v":0},{"$f":"IF(L22=1,0,IF(L22=2,0,AJ46))","v":0},{"$f":"IF(L22=4,AO45+(MAX(BZ17:CA17)/4),0)","v":0},{"$f":"IF(L22=4,AJ46,0)","v":0},{"$f":"IF(L24=BX13,IF(L22<>BZ2,AQ45+(BV27/4),),)","v":0.39729747490643169},{"$f":"IF(L24=BX13,IF(L22<>BZ2,BY27,),)","v":4.0053984786491643E-2},{"$f":"IF(L24=BX13,IF(OR(L22=BZ4,L22=BZ5),AS47-(BV27/4),),)","v":0},{"$f":"IF(L24=BX13,IF(OR(L22=BZ4,L22=BZ5),BY27,),)","v":0},{"$f":"IF($L$22=$BZ$5,AS46+0.25)","v":false},{"$f":"AT46","v":0},{"$f":"BY31","v":1},0]
[{"$f":"A49-(BD16/2)","v":0.5},{"$f":"IF(E25=BF37,B45,BA30)","v":6.6037735849056615E-3},{"$f":"IF(E22=1,0,C49-BD19-(BD18/2))","v":0},{"$f":"IF(E22=1,0,B47)","v":0},{"$f":"IF(E22=1,0,IF(E22=2,0,E49-((E49-E45)/2)))","v":0},{"$f":"IF(E22=1,0,IF(E22=2,0,B47))","v":0},{"$f":"IF(E22=4,G49-((G49-G45)/2),0)","v":0},{"$f":"IF(E22=4,B47,0)","v":0},{"$f":"IF(E24=BB13,IF(E22=BD3,O46/2,IF(E22=BD4,O46/3,IF(E22=BD5,O46/4))),)","v":0},{"$f":"IF(E24=BB13,IF(E22<>BD2,BB27,),)","v":0},{"$f":"IF(E24=BB13,IF(E22=BD4,O47*(2/3),IF(E22=BD5,O47/2,)),)","v":0},{"$f":"IF(E24=BB13,IF(OR(E22=BD4,E22=BD5),BB27,),)","v":0},0,0,{"$f":"BC31","v":1},{"$f":"BC32","v":0.50377358490566038},null,{"$f":"R49-(BO16/2)","v":0.29414247159880597},{"$f":"IF(H25=BF37,B45,BL30)","v":8.3080816200595195E-2},{"$f":"IF(H22=1,0,T49-BO19-(BO18/2))","v":0.69925375481628826},{"$f":"IF(H22=1,0,S47)","v":8.3080816200595195E-2},{"$f":"IF(H22=1,0,IF(H22=2,0,V49-((V49-V45)/2)))","v":0},{"$f":"IF(H22=1,0,IF(H22=2,0,S47))","v":0},{"$f":"IF(H22=4,X49-((X49-X45)/2),0)","v":0},{"$f":"IF(H22=4,S47,0)","v":0},{"$f":"IF(H24=BM13,IF(H22=BO3,AF46/2,IF(H22=BO4,AF46/3,IF(H22=BO5,AF46/4))),)","v":0},{"$f":"IF(H24=BM13,IF(H22<>BO2,BM27,),)","v":0},{"$f":"IF(H24=BM13,IF(H22=BO4,AF47*(2/3),IF(H22=BO5,AF47/2,)),)","v":0},{"$f":"IF(H24=BM13,IF(OR(H22=BO4,H22=BO5),BM27,),)","v":0},0,0,{"$f":"BN31","v":1},{"$f":"BN32","v":0.50377358490566038},null,{"$f":"AI49-(BZ16/2)","v":0.25},{"$f":"IF(L25=BF37,AJ45,BW30)","v":7.1603773584905661E-2},{"$f":"IF(L22=1,0,AK49-BZ19-(BZ18/2))","v":0.74339622641509417},{"$f":"IF(L22=1,0,AJ47)","v":7.1603773584905661E-2},{"$f":"IF(L22=1,0,IF(L22=2,0,AM49-((AM49-AM45)/2)))","v":0},{"$f":"IF(L22=1,0,IF(L22=2,0,AJ47))","v":0},{"$f":"IF(L22=4,AO49-((AO49-AO45)/2),0)","v":0},{"$f":"IF(L22=4,AJ47,0)","v":0},{"$f":"IF(L24=BX13,IF(L22=BZ3,AW46/2,IF(L22=BZ4,AW46/3,IF(L22=BZ5,AW46/4))),)","v":0.5},{"$f":"IF(L24=BX13,IF(L22<>BZ2,BX27,),)","v":5.3405313048655527E-2},{"$f":"IF(L24=BX13,IF(L22=BZ4,AW47*(2/3),IF(L22=BZ5,AW47/2)),)","v":false},{"$f":"IF(L24=BX13,IF(OR(L22=BZ4,L22=BZ5),BX27,),)","v":0},false,{"$f":"AT47","v":0},{"$f":"BY31","v":1},{"$f":"BY32","v":0.50377358490566038}]
[{"$f":"A49-(BD16/4)","v":0.7466981132075472},{"$f":"B46","v":6.8301886792452832E-2},{"$f":"C49-(BD18/4)","v":-0.24669811320754717},{"$f":"IF(E22=1,0,B48)","v":0},{"$f":"IF(E22=1,0,IF(E22=2,0,E49-(MAX(BD17:BE17)/4)))","v":0},{"$f":"F46","v":0},{"$f":"IF(E22=4,G49-(MAX(BD17:BE17)/4),0)","v":0},{"$f":"IF(E22=4,B48,0)","v":0},{"$f":"IF(E24=BB13,IF(E22<>BD2,I47+(AZ27/4),),)","v":0},{"$f":"IF(E24=BB13,IF(E22<>BD2,BC27,),)","v":0},{"$f":"IF(E24=BB13,IF(OR(E22=BD4,E22=BD5),K47+(AZ27/4),),)","v":0},{"$f":"IF(E24=BB13,IF(OR(E22=BD4,E22=BD5),L46,),)","v":0},0,0,0,{"$f":"BC32","v":0.50377358490566038},null,{"$f":"R49-(BO16/4)","v":0.43791182060575606},{"$f":"S46","v":6.2310612150446393E-2},{"$f":"T49-(BO18/4)","v":0.84962687740814413},{"$f":"IF(H22=1,0,S48)","v":6.2310612150446393E-2},{"$f":"IF(H22=1,0,IF(H22=2,0,V49-(MAX(BO17:BP17)/4)))","v":0},{"$f":"IF(H22=BO4,S48,IF(H22=BO5,S48,))","v":0},{"$f":"IF(H22=4,X49-(MAX(BO17:BP17)/4),0)","v":0},{"$f":"IF(H22=4,S48,0)","v":0},{"$f":"IF(H24=BM13,IF(H22<>BO2,Z47+(BK27/4),),)","v":0},{"$f":"IF(H24=BM13,IF(H22<>BO2,BN27,),)","v":0},{"$f":"IF(H24=BM13,IF(OR(H22=BO4,H22=BO5),AB47+(BK27/4),),)","v":0},{"$f":"IF(H24=BM13,IF(OR(H22=BO4,H22=BO5),AC46,),)","v":0},0,0,0,{"$f":"BN32","v":0.50377358490566038},null,{"$f":"AI49-(BZ16/4)","v":0.3716981132075472},{"$f":"AJ46","v":5.3702830188679246E-2},{"$f":"AK49-(BZ18/4)","v":0.87169811320754709},{"$f":"IF(L22=1,0,AJ48)","v":5.3702830188679246E-2},{"$f":"IF(L22=1,0,IF(L22=2,0,AM49-(MAX(BZ17:CA17)/4)))","v":0},{"$f":"IF(L22=BZ4,AJ48,IF(L22=BZ5,AJ48,))","v":0},{"$f":"IF(L22=4,AO49-(MAX(BZ17:CA17)/4),0)","v":0},{"$f":"IF(L22=4,AJ48,0)","v":0},{"$f":"IF(L24=BX13,IF(L22<>BZ2,AQ47+(BV27/4),),)","v":0.60270252509356836},{"$f":"IF(L24=BX13,IF(L22<>BZ2,BY27,),)","v":4.0053984786491643E-2},{"$f":"IF(L24=BX13,IF(OR(L22=BZ4,L22=BZ5),AS47+(BV27/4),),)","v":0},{"$f":"IF(L24=BX13,IF(OR(L22=BZ4,L22=BZ5),AT46,),)","v":0},false,0,0,{"$f":"BY32","v":0.50377358490566038}]
[{"$f":"A45+BD16","v":0.9933962264150944},{"$f":"BD19","v":6.6037735849056615E-3},{"$f":"IF(E22=1,0,BC31-BD19)","v":0},{"$f":"IF(E22=1,0,BD19)","v":0},{"$f":"IF(E22=1,0,IF(E22=2,0,IF(E22=3,BC31/2+(BE17/2),IF(E22=4,BB20+(BE17/2)))))","v":0},{"$f":"IF(E22=1,0,IF(E22=2,0,BD19))","v":0},{"$f":"IF(E22=4,BD20+(BE17/2),0)","v":0},{"$f":"IF(E22=4,BD19,)","v":0},{"$f":"IF(E24=BB13,IF(E22<>BD2,I47+(AZ27/2),),)","v":0},{"$f":"IF(E24=BB13,IF(E22<>BD2,BD19,),)","v":0},{"$f":"IF(E24=BB13,IF(OR(E22=BD4,E22=BD5),K47+(AZ27/2),),)","v":0},{"$f":"IF(E24=BB13,IF(OR(E22=BD4,E22=BD5),L45,),)","v":0},0,0,0,0,null,{"$f":"R45+BO16","v":0.58168116961270622},{"$f":"BO19","v":6.6037735849056615E-3},{"$f":"IF(H22=1,0,BN31-BO19)","v":0.99339622641509429},{"$f":"IF(H22=1,0,BO19)","v":6.6037735849056615E-3},{"$f":"IF(H22=1,0,IF(H22=2,0,IF(H22=3,BN31/2+(BP17/2),IF(H22=4,BM20+(BP17/2)))))","v":0},{"$f":"IF(H22=1,0,IF(H22=2,0,BO19))","v":0},{"$f":"IF(H22=4,BO20+(BP17/2),0)","v":0},{"$f":"IF(H22=4,BO19,)","v":0},{"$f":"IF(H24=BM13,IF(H22<>BO2,Z47+(BK27/2),),)","v":0},{"$f":"IF(H24=BM13,IF(H22<>BO2,BO19,),)","v":0},{"$f":"IF(H24=BM13,IF(OR(H22=BO4,H22=BO5),AB47+(BK27/2),),)","v":0},{"$f":"IF(H24=BM13,IF(OR(H22=BO4,H22=BO5),AC45,),)","v":0},0,0,0,0,null,{"$f":"AI45+BZ16","v":0.49339622641509434},{"$f":"BZ19","v":6.6037735849056615E-3},{"$f":"IF(L22=1,0,BY31-BZ19)","v":0.99339622641509429},{"$f":"IF(L22=1,0,BZ19)","v":6.6037735849056615E-3},{"$f":"IF(L22=1,0,IF(L22=2,0,IF(L22=3,BY31/2+(CA17/2),IF(L22=4,BX20+(CA17/2)))))","v":0},{"$f":"IF(L22=1,0,IF(L22=2,0,BZ19))","v":0},{"$f":"IF(L22=4,BZ20+(CA17/2),0)","v":0},{"$f":"IF(L22=4,BZ19,)","v":0},{"$f":"IF(L24=BX13,IF(L22<>BZ2,AQ47+(BV27/2),),)","v":0.70540505018713662},{"$f":"IF(L24=BX13,IF(L22<>BZ2,BZ19,),)","v":6.6037735849056615E-3},{"$f":"IF(L24=BX13,IF(OR(L22=BZ4,L22=BZ5),AS47+(BV27/2),),)","v":0},{"$f":"IF(L24=BX13,IF(OR(L22=BZ4,L22=BZ5),AT45,),)","v":0},false,0,0,0]
[{"$f":"A49-BB29","v":0.93708817939424405},{"$f":"BC32/4","v":0.12594339622641509},{"$f":"IF(E22=1,0,C49-BB29)","v":0},{"$f":"IF(E22=1,0,B60)","v":0},{"$f":"IF(E22=1,0,IF(E22=2,0,E49-BB29))","v":0},{"$f":"IF(E22=1,0,IF(E22=2,0,D50))","v":0},{"$f":"IF(E22=4,G49-BB29,0)","v":0},{"$f":"IF(E22=4,D50,)","v":0},{"$f":"IF(E24=BB13,IF(E22<>BD2,I49-((I49-I53)/1.8),),)","v":0},{"$f":"IF(E24=BB13,IF(E22<>BD2,P47/4,),)","v":0},{"$f":"IF(E24=BB13,IF(OR(E22=BD4,E22=BD5),K49-((K49-K53)/1.8),),)","v":0},{"$f":"IF(E24=BB13,IF(OR(E22=BD4,E22=BD5),P47/4,),)","v":0},0,0,null," ",null,{"$f":"R49-BM29","v":0.52537312259185587},{"$f":"BN32/4","v":0.12594339622641509},{"$f":"IF(H22=1,0,T49-BM29)","v":0.93708817939424383},{"$f":"IF(H22=1,0,S60)","v":0.12594339622641509},{"$f":"IF(H22=1,0,IF(H22=2,0,V49-BM29))","v":0},{"$f":"IF(H22=1,0,IF(H22=2,0,U50))","v":0},{"$f":"IF(H22=4,X49-BM29,0)","v":0},{"$f":"IF(H22=4,U50,)","v":0},{"$f":"IF(H24=BM13,IF(H22<>BO2,Z49-((Z49-Z53)/1.8),),)","v":0},{"$f":"IF(H24=BM13,IF(H22<>BO2,AG47/4,),)","v":0},{"$f":"IF(H24=BM13,IF(OR(H22=BO4,H22=BO5),AB49-((AB49-AB53)/1.8),),)","v":0},{"$f":"IF(H24=BM13,IF(OR(H22=BO4,H22=BO5),AG47/4,),)","v":0},0,0,null," ",null,{"$f":"AI49-BX29","v":0.43708817939424394},{"$f":"BY32/4","v":0.12594339622641509},{"$f":"IF(L22=1,0,AK49-BX29)","v":0.93708817939424383},{"$f":"IF(L22=1,0,AJ60)","v":0.12594339622641509},{"$f":"IF(L22=1,0,IF(L22=2,0,AM49-BX29))","v":0},{"$f":"IF(L22=1,0,IF(L22=2,0,AL50))","v":0},{"$f":"IF(L22=4,AO49-BX29,0)","v":0},{"$f":"IF(L22=4,AL50,)","v":0},{"$f":"IF(L24=BX13,IF(L22<>BZ2,AQ49-((AQ49-AQ53)/1.8),),)","v":0.59129113341650519},{"$f":"IF(L24=BX13,IF(L22<>BZ2,AX47/4,),)","v":0.12594339622641509},{"$f":"IF(L24=BX13,IF(OR(L22=BZ4,L22=BZ5),AS49-((AS49-AS53)/1.8),),)","v":0},{"$f":"IF(L24=BX13,IF(OR(L22=BZ4,L22=BZ5),AX47/4,),)","v":0},false,0,null," "]
[{"$f":"A49-BA29","v":0.91831883038729389},{"$f":"BC32/2","v":0.25188679245283019},{"$f":"IF(E22=1,0,C49-BA29)","v":0},{"$f":"IF(E22=1,0,B51)","v":0},{"$f":"IF(E22=1,0,IF(E22=2,0,E49-BA29))","v":0},{"$f":"IF(E22=1,0,IF(E22=2,0,B51))","v":0},{"$f":"IF(E22=4,G49-BA29,0)","v":0},{"$f":"IF(E22=4,B51,)","v":0},{"$f":"IF(E24=BB13,IF(E22<>BD2,I49-((I49-I53)*0.85),),)","v":0},{"$f":"IF(E24=BB13,IF(E22<>BD2,P47/2,),)","v":0},{"$f":"IF(E24=BB13,IF(OR(E22=BD4,E22=BD5),K49-((K49-K53)*0.85),),)","v":0},{"$f":"IF(E24=BB13,IF(OR(E22=BD4,E22=BD5),P47/2,),)","v":0},0,0,null," ",null,{"$f":"R49-BL29","v":0.50660377358490571},{"$f":"BN32/2","v":0.25188679245283019},{"$f":"IF(H22=1,0,T49-BL29)","v":0.91831883038729378},{"$f":"IF(H22=1,0,S51)","v":0.25188679245283019},{"$f":"IF(H22=1,0,IF(H22=2,0,V49-BL29))","v":0},{"$f":"IF(H22=1,0,IF(H22=2,0,S51))","v":0},{"$f":"IF(H22=4,X49-BL29,0)","v":0},{"$f":"IF(H22=4,S51,)","v":0},{"$f":"IF(H24=BM13,IF(H22<>BO2,Z49-((Z49-Z53)*0.85),),)","v":0},{"$f":"IF(H24=BM13,IF(H22<>BO2,AG47/2,),)","v":0},{"$f":"IF(H24=BM13,IF(OR(H22=BO4,H22=BO5),AB49-((AB49-AB53)*0.85),),)","v":0},{"$f":"IF(H24=BM13,IF(OR(H22=BO4,H22=BO5),AG47/2,),)","v":0},0,0,null," ",null,{"$f":"AI49-BW29","v":0.41831883038729378},{"$f":"BY32/2","v":0.25188679245283019},{"$f":"IF(L22=1,0,AK49-BW29)","v":0.91831883038729378},{"$f":"IF(L22=1,0,AJ51)","v":0.25188679245283019},{"$f":"IF(L22=1,0,IF(L22=2,0,AM49-BW29))","v":0},{"$f":"IF(L22=1,0,IF(L22=2,0,AJ51))","v":0},{"$f":"IF(L22=4,AO49-BW29,0)","v":0},{"$f":"IF(L22=4,AJ51,)","v":0},{"$f":"IF(L24=BX13,IF(L22<>BZ2,AQ49-((AQ49-AQ53)*0.85),),)","v":0.5308107575280705},{"$f":"IF(L24=BX13,IF(L22<>BZ2,AX47/2,),)","v":0.25188679245283019},{"$f":"IF(L24=BX13,IF(OR(L22=BZ4,L22=BZ5),AS49-((AS49-AS53)*0.85),),)","v":0},{"$f":"IF(L24=BX13,IF(OR(L22=BZ4,L22=BZ5),AX47/2,),)","v":0},false,0,null," "]
[{"$f":"A50","v":0.93708817939424405},{"$f":"(BC32*0.75)","v":0.37783018867924528},{"$f":"C50","v":0},{"$f":"IF(E22=1,0,B58)","v":0},{"$f":"E50","v":0},{"$f":"IF(E22=1,0,IF(E22=2,0,D52))","v":0},{"$f":"G50","v":0},{"$f":"IF(E22=4,D52,)","v":0},{"$f":"IF(E24=BB13,IF(E22<>BD2,I53+((I49-I53)*0.05),),)","v":0},{"$f":"IF(E24=BB13,IF(E22<>BD2,P47*0.75,),)","v":0},{"$f":"IF(E24=BB13,IF(OR(E22=BD4,E22=BD5),K53+((K49-K53)*0.05),),)","v":0},{"$f":"IF(E24=BB13,IF(OR(E22=BD4,E22=BD5),P47*0.75,),)","v":0},0,0,null," ",null,{"$f":"R50","v":0.52537312259185587},{"$f":"(BN32*0.75)","v":0.37783018867924528},{"$f":"T50","v":0.93708817939424383},{"$f":"IF(H22=1,0,S58)","v":0.37783018867924528},{"$f":"V50","v":0},{"$f":"IF(H22=1,0,IF(H22=2,0,U52))","v":0},{"$f":"X50","v":0},{"$f":"IF(H22=4,U52,)","v":0},{"$f":"IF(H24=BM13,IF(H22<>BO2,Z53+((Z49-Z53)*0.05),),)","v":0},{"$f":"IF(H24=BM13,IF(H22<>BO2,AG47*0.75,),)","v":0},{"$f":"IF(H24=BM13,IF(OR(H22=BO4,H22=BO5),AB53+((AB49-AB53)*0.05),),)","v":0},{"$f":"IF(H24=BM13,IF(OR(H22=BO4,H22=BO5),AG47*0.75,),)","v":0},0,0,null," ",null,{"$f":"AI50","v":0.43708817939424394},{"$f":"(BY32*0.75)","v":0.37783018867924528},{"$f":"AK50","v":0.93708817939424383},{"$f":"IF(L22=1,0,AJ58)","v":0.37783018867924528},{"$f":"AM50","v":0},{"$f":"IF(L22=1,0,IF(L22=2,0,AL52))","v":0},{"$f":"AO50","v":0},{"$f":"IF(L22=4,AL52,)","v":0},{"$f":"IF(L24=BX13,IF(L22<>BZ2,AQ53+((AQ49-AQ53)*0.05),),)","v":0.51027025250935687},{"$f":"IF(L24=BX13,IF(L22<>BZ2,AX47*0.75,),)","v":0.37783018867924528},{"$f":"IF(L24=BX13,IF(OR(L22=BZ4,L22=BZ5),AS53+((AS49-AS53)*0.05),),)","v":0},{"$f":"IF(L24=BX13,IF(OR(L22=BZ4,L22=BZ5),AX47*0.75,),)","v":0},false,0,null," "]
[{"$f":"A49","v":0.9933962264150944},{"$f":"BC32-BD19","v":0.49716981132075472},{"$f":"IF(E22=1,0,C49)","v":0},{"$f":"IF(E22=1,0,BC32-BD19)","v":0},{"$f":"IF(E22=1,0,IF(E22=2,0,E49))","v":0},{"$f":"IF(E22=1,0,IF(E22=2,0,D57))","v":0},{"$f":"IF(E22=4,G49,0)","v":0},{"$f":"IF(E22=4,D57,)","v":0},{"$f":"IF(E24=BB13,IF(E22<>BD2,I47,),)","v":0},{"$f":"IF(E24=BB13,IF(E22<>BD2,P48-BD19,),)","v":0},{"$f":"IF(E24=BB13,IF(OR(E22=BD4,E22=BD5),K47,),)","v":0},{"$f":"IF(E24=BB13,IF(OR(E22=BD4,E22=BD5),P48-BD19,),)","v":0},0,0,null,null,null,{"$f":"R49","v":0.58168116961270622},{"$f":"BN32-BO19","v":0.49716981132075472},{"$f":"IF(H22=1,0,T49)","v":0.99339622641509429},{"$f":"IF(H22=1,0,BN32-BO19)","v":0.49716981132075472},{"$f":"IF(H22=1,0,IF(H22=2,0,V49))","v":0},{"$f":"IF(H22=1,0,IF(H22=2,0,U57))","v":0},{"$f":"IF(H22=4,X49,0)","v":0},{"$f":"IF(H22=4,U57,)","v":0},{"$f":"IF(H24=BM13,IF(H22<>BO2,Z47,),)","v":0},{"$f":"IF(H24=BM13,IF(H22<>BO2,AG48-BO19,),)","v":0},{"$f":"IF(H24=BM13,IF(OR(H22=BO4,H22=BO5),AB47,),)","v":0},{"$f":"IF(H24=BM13,IF(OR(H22=BO4,H22=BO5),AG48-BO19,),)","v":0},0,0,null,null,null,{"$f":"AI49","v":0.49339622641509434},{"$f":"BY32-BZ19","v":0.49716981132075472},{"$f":"IF(L22=1,0,AK49)","v":0.99339622641509429},{"$f":"IF(L22=1,0,BY32-BZ19)","v":0.49716981132075472},{"$f":"IF(L22=1,0,IF(L22=2,0,AM49))","v":0},{"$f":"IF(L22=1,0,IF(L22=2,0,AL57))","v":0},{"$f":"IF(L22=4,AO49,0)","v":0},{"$f":"IF(L22=4,AL57,)","v":0},{"$f":"IF(L24=BX13,IF(L22<>BZ2,AQ47,),)","v":0.5},{"$f":"IF(L24=BX13,IF(L22<>BZ2,AX48-BZ19,),)","v":0.49716981132075472},{"$f":"IF(L24=BX13,IF(OR(L22=BZ4,L22=BZ5),AS47,),)","v":0},{"$f":"IF(L24=BX13,IF(OR(L22=BZ4,L22=BZ5),AX48-BZ19,),)","v":0},false,0]
[{"$f":"A48","v":0.7466981132075472},{"$f":"BC32-B46","v":0.43547169811320752},{"$f":"C48","v":-0.24669811320754717},{"$f":"IF(E22=1,0,BC32-D46)","v":0},{"$f":"E48","v":0},{"$f":"IF(E22=1,0,IF(E22=2,0,B54))","v":0},{"$f":"G48","v":0},{"$f":"IF(E22=4,B54,)","v":0},{"$f":"IF(E24=BB13,IF(E22<>BD2,I53-((I53-I57)*0.05),),)","v":0},{"$f":"IF(E24=BB13,IF(E22<>BD2,J52,),)","v":0},{"$f":"IF(E24=BB13,IF(OR(E22=BD4,E22=BD5),K53-((K53-K57)*0.05),),)","v":0},{"$f":"IF(E24=BB13,IF(OR(E22=BD4,E22=BD5),L52,),)","v":0},0,0,null,null,null,{"$f":"R48","v":0.43791182060575606},{"$f":"BN32-S46","v":0.44146297275521396},{"$f":"T48","v":0.84962687740814413},{"$f":"IF(H22=1,0,S54)","v":0.44146297275521396},{"$f":"V48","v":0},{"$f":"IF(H22=1,0,IF(H22=2,0,S54))","v":0},{"$f":"X48","v":0},{"$f":"IF(H22=4,S54,)","v":0},{"$f":"IF(H24=BM13,IF(H22<>BO2,Z53-((Z53-Z57)*0.05),),)","v":0},{"$f":"IF(H24=BM13,IF(H22<>BO2,AA52,),)","v":0},{"$f":"IF(H24=BM13,IF(OR(H22=BO4,H22=BO5),AB53-((AB53-AB57)*0.05),),)","v":0},{"$f":"IF(H24=BM13,IF(OR(H22=BO4,H22=BO5),AC52,),)","v":0},0,0,null,null,null,{"$f":"AI48","v":0.3716981132075472},{"$f":"BY32-AJ46","v":0.4500707547169811},{"$f":"AK48","v":0.87169811320754709},{"$f":"IF(L22=1,0,AJ54)","v":0.4500707547169811},{"$f":"AM48","v":0},{"$f":"IF(L22=1,0,IF(L22=2,0,AJ54))","v":0},{"$f":"AO48","v":0},{"$f":"IF(L22=4,AJ54,)","v":0},{"$f":"IF(L24=BX13,IF(L22<>BZ2,AQ53-((AQ53-AQ57)*0.05),),)","v":0.48972974749064319},{"$f":"IF(L24=BX13,IF(L22<>BZ2,AR52,),)","v":0.37783018867924528},{"$f":"IF(L24=BX13,IF(OR(L22=BZ4,L22=BZ5),AS53-((AS53-AS57)*0.05),),)","v":0},{"$f":"IF(L24=BX13,IF(OR(L22=BZ4,L22=BZ5),AT52,),)","v":0},false,0]
[{"$f":"A47","v":0.5},{"$f":"BC32-B47","v":0.49716981132075472},{"$f":"IF(E22=1,0,C47)","v":0},{"$f":"IF(E22=1,0,BC32-D47)","v":0},{"$f":"IF(E22=1,0,IF(E22=2,0,E47))","v":0},{"$f":"IF(E22=1,0,IF(E22=2,0,D55))","v":0},{"$f":"IF(E22=4,G47,0)","v":0},{"$f":"IF(E22=4,B55,)","v":0},{"$f":"IF(E24=BB13,IF(E22<>BD2,I57+((I53-I57)*0.85),),)","v":0},{"$f":"IF(E24=BB13,IF(E22<>BD2,J51,),)","v":0},{"$f":"IF(E24=BB13,IF(OR(E22=BD4,E22=BD5),K57+((K53-K57)*0.85),),)","v":0},{"$f":"IF(E24=BB13,IF(OR(E22=BD4,E22=BD5),L51,),)","v":0},0,0,null,null,null,{"$f":"R47","v":0.29414247159880597},{"$f":"BN32-S47","v":0.42069276870506517},{"$f":"IF(H22=1,0,T47)","v":0.69925375481628826},{"$f":"IF(H22=1,0,S55)","v":0.42069276870506517},{"$f":"IF(H22=1,0,IF(H22=2,0,V47))","v":0},{"$f":"IF(H22=1,0,IF(H22=2,0,S55))","v":0},{"$f":"IF(H22=4,X47,0)","v":0},{"$f":"IF(H22=4,S55,)","v":0},{"$f":"IF(H24=BM13,IF(H22<>BO2,Z57+((Z53-Z57)*0.85),),)","v":0},{"$f":"IF(H24=BM13,IF(H22<>BO2,AA51,),)","v":0},{"$f":"IF(H24=BM13,IF(OR(H22=BO4,H22=BO5),AB57+((AB53-AB57)*0.85),),)","v":0},{"$f":"IF(H24=BM13,IF(OR(H22=BO4,H22=BO5),AC51,),)","v":0},0,0,null,null,null,{"$f":"AI47","v":0.25},{"$f":"BY32-AJ47","v":0.43216981132075472},{"$f":"IF(L22=1,0,AK47)","v":0.74339622641509417},{"$f":"IF(L22=1,0,AJ55)","v":0.43216981132075472},{"$f":"IF(L22=1,0,IF(L22=2,0,AM47))","v":0},{"$f":"IF(L22=1,0,IF(L22=2,0,AJ55))","v":0},{"$f":"IF(L22=4,AO47,0)","v":0},{"$f":"IF(L22=4,AJ55,)","v":0},{"$f":"IF(L24=BX13,IF(L22<>BZ2,AQ57+((AQ53-AQ57)*0.85),),)","v":0.4691892424719295},{"$f":"IF(L24=BX13,IF(L22<>BZ2,AR51,),)","v":0.25188679245283019},{"$f":"IF(L24=BX13,IF(OR(L22=BZ4,L22=BZ5),AS57+((AS53-AS57)*0.85),),)","v":0},{"$f":"IF(L24=BX13,IF(OR(L22=BZ4,L22=BZ5),AT51,),)","v":0},false,0]
[{"$f":"A46","v":0.25330188679245286},{"$f":"B54","v":0.43547169811320752},{"$f":"C46","v":0},{"$f":"IF(E22=1,0,D54)","v":0},{"$f":"E46","v":0},{"$f":"F54","v":0},{"$f":"G46","v":0},{"$f":"H54","v":0},{"$f":"IF(E24=BB13,IF(E22<>BD2,I57+((I53-I57)/1.8),),)","v":0},{"$f":"IF(E24=BB13,IF(E22<>BD2,J50,),)","v":0},{"$f":"IF(E24=BB13,IF(OR(E22=BD4,E22=BD5),K57+((K53-K57)/1.8),),)","v":0},{"$f":"IF(E24=BB13,IF(OR(E22=BD4,E22=BD5),L50,),)","v":0},0,0,null,null,null,{"$f":"R46","v":0.15037312259185578},{"$f":"S54","v":0.44146297275521396},{"$f":"T46","v":0.56208817939424394},{"$f":"IF(H22=1,0,U54)","v":0.44146297275521396},{"$f":"V46","v":0},{"$f":"W54","v":0},{"$f":"X46","v":0},{"$f":"Y54","v":0},{"$f":"IF(H24=BM13,IF(H22<>BO2,Z57+((Z53-Z57)/1.8),),)","v":0},{"$f":"IF(H24=BM13,IF(H22<>BO2,AA50,),)","v":0},{"$f":"IF(H24=BM13,IF(OR(H22=BO4,H22=BO5),AB57+((AB53-AB57)/1.8),),)","v":0},{"$f":"IF(H24=BM13,IF(OR(H22=BO4,H22=BO5),AC50,),)","v":0},0,0,null,null,null,{"$f":"AI46","v":0.12830188679245283},{"$f":"AJ54","v":0.4500707547169811},{"$f":"AK46","v":0.6283018867924528},{"$f":"IF(L22=1,0,AL54)","v":0.4500707547169811},{"$f":"AM46","v":0},{"$f":"AN54","v":0},{"$f":"AO46","v":0},{"$f":"AP54","v":0},{"$f":"IF(L24=BX13,IF(L22<>BZ2,AQ57+((AQ53-AQ57)/1.8),),)","v":0.40870886658349481},{"$f":"IF(L24=BX13,IF(L22<>BZ2,AR50,),)","v":0.12594339622641509},{"$f":"IF(L24=BX13,IF(OR(L22=BZ4,L22=BZ5),AS57+((AS53-AS57)/1.8),),)","v":0},{"$f":"IF(L24=BX13,IF(OR(L22=BZ4,L22=BZ5),AT50,),)","v":0},false,0]
[{"$f":"A45","v":6.6037735849056615E-3},{"$f":"B53","v":0.49716981132075472},{"$f":"IF(E22=1,0,C45)","v":0},{"$f":"IF(E22=1,0,D53)","v":0},{"$f":"IF(E22=1,0,IF(E22=2,0,E45))","v":0},{"$f":"IF(E22=1,0,IF(E22=2,0,F53))","v":0},{"$f":"IF(E22=4,G45,0)","v":0},{"$f":"IF(E22=4,H53,)","v":0},{"$f":"IF(E24=BB13,IF(E22<>BD2,I45,),)","v":0},{"$f":"IF(E24=BB13,IF(E22<>BD2,J45,),)","v":0},{"$f":"IF(E24=BB13,IF(OR(E22=BD4,E22=BD5),K45,),)","v":0},{"$f":"IF(E24=BB13,IF(OR(E22=BD4,E22=BD5),L45,),)","v":0},0,0,null,null,null,{"$f":"R45","v":6.6037735849056615E-3},{"$f":"S53","v":0.49716981132075472},{"$f":"IF(H22=1,0,T45)","v":0.41831883038729378},{"$f":"IF(H22=1,0,U53)","v":0.49716981132075472},{"$f":"IF(H22=1,0,IF(H22=2,0,V45))","v":0},{"$f":"IF(H22=1,0,IF(H22=2,0,W53))","v":0},{"$f":"IF(H22=4,X45,0)","v":0},{"$f":"IF(H22=4,Y53,)","v":0},{"$f":"IF(H24=BM13,IF(H22<>BO2,Z45,),)","v":0},{"$f":"IF(H24=BM13,IF(H22<>BO2,AA45,),)","v":0},{"$f":"IF(H24=BM13,IF(OR(H22=BO4,H22=BO5),AB45,),)","v":0},{"$f":"IF(H24=BM13,IF(OR(H22=BO4,H22=BO5),AC45,),)","v":0},0,0,null,null,null,{"$f":"AI45","v":6.6037735849056615E-3},{"$f":"AJ53","v":0.49716981132075472},{"$f":"IF(L22=1,0,AK45)","v":0.5066037735849056},{"$f":"IF(L22=1,0,AL53)","v":0.49716981132075472},{"$f":"IF(L22=1,0,IF(L22=2,0,AM45))","v":0},{"$f":"IF(L22=1,0,IF(L22=2,0,AN53))","v":0},{"$f":"IF(L22=4,AO45,0)","v":0},{"$f":"IF(L22=4,AP53,)","v":0},{"$f":"IF(L24=BX13,IF(L22<>BZ2,AQ45,),)","v":0.29459494981286338},{"$f":"IF(L24=BX13,IF(L22<>BZ2,AR45,),)","v":6.6037735849056615E-3},{"$f":"IF(L24=BX13,IF(OR(L22=BZ4,L22=BZ5),AS45,),)","v":0},{"$f":"IF(L24=BX13,IF(OR(L22=BZ4,L22=BZ5),AT45,),)","v":0},false,0]
[{"$f":"A45+BB29","v":6.2911820605756064E-2},{"$f":"B52","v":0.37783018867924528},{"$f":"IF(E22=1,0,C45+BB29)","v":0},{"$f":"D52","v":0},{"$f":"IF(E22=1,0,IF(E22=2,0,E45+BB29))","v":0},{"$f":"F52","v":0},{"$f":"IF(E22=4,G45+BB29,0)","v":0},{"$f":"H52","v":0},null,null,null,null,null,null,null,null,null,{"$f":"R45+BM29","v":6.2911820605756064E-2},{"$f":"S52","v":0.37783018867924528},{"$f":"IF(H22=1,0,T45+BM29)","v":0.47462687740814419},{"$f":"U52","v":0.37783018867924528},{"$f":"IF(H22=1,0,IF(H22=2,0,V45+BM29))","v":0},{"$f":"W52","v":0},{"$f":"IF(H22=4,X45+BM29,0)","v":0},{"$f":"Y52","v":0},null,null,null,null,null,null,null,null,null,{"$f":"AI45+BX29","v":6.2911820605756064E-2},{"$f":"AJ52","v":0.37783018867924528},{"$f":"IF(L22=1,0,AK45+BX29)","v":0.56291182060575595},{"$f":"AL52","v":0.37783018867924528},{"$f":"IF(L22=1,0,IF(L22=2,0,AM45+BX29))","v":0},{"$f":"AN52","v":0},{"$f":"IF(L22=4,AO45+BX29,0)","v":0},{"$f":"AP52","v":0}]
[{"$f":"A45+BA29","v":8.1681169612706203E-2},{"$f":"B51","v":0.25188679245283019},{"$f":"IF(E22=1,0,C45+BA29)","v":0},{"$f":"IF(E22=1,0,D51)","v":0},{"$f":"IF(E22=1,0,IF(E22=2,0,E45+BA29))","v":0},{"$f":"IF(E22=1,0,IF(E22=2,0,B51))","v":0},{"$f":"IF(E22=4,G45+BA29,0)","v":0},{"$f":"IF(E22=4,B51,)","v":0},null,null,null,null,null,null,null,null,null,{"$f":"R45+BL29","v":8.1681169612706203E-2},{"$f":"S51","v":0.25188679245283019},{"$f":"IF(H22=1,0,T45+BL29)","v":0.49339622641509434},{"$f":"IF(H22=1,0,U51)","v":0.25188679245283019},{"$f":"IF(H22=1,0,IF(H22=2,0,V45+BL29))","v":0},{"$f":"IF(H22=1,0,IF(H22=2,0,S51))","v":0},{"$f":"IF(H22=4,X45+BL29,0)","v":0},{"$f":"IF(H22=4,S51,)","v":0},null,null,null,null,null,null,null,null,null,{"$f":"AI45+BW29","v":8.1681169612706203E-2},{"$f":"AJ51","v":0.25188679245283019},{"$f":"IF(L22=1,0,AK45+BW29)","v":0.58168116961270611},{"$f":"IF(L22=1,0,AL51)","v":0.25188679245283019},{"$f":"IF(L22=1,0,IF(L22=2,0,AM45+BW29))","v":0},{"$f":"IF(L22=1,0,IF(L22=2,0,AJ51))","v":0},{"$f":"IF(L22=4,AO45+BW29,0)","v":0},{"$f":"IF(L22=4,AJ51,)","v":0}]
[{"$f":"A58","v":6.2911820605756064E-2},{"$f":"B50","v":0.12594339622641509},{"$f":"C58","v":0},{"$f":"D50","v":0},{"$f":"E58","v":0},{"$f":"F50","v":0},{"$f":"G58","v":0},{"$f":"H50","v":0},null,null,null,null,null,null,null,null,null,{"$f":"R58","v":6.2911820605756064E-2},{"$f":"S50","v":0.12594339622641509},{"$f":"T58","v":0.47462687740814419},{"$f":"U50","v":0.12594339622641509},{"$f":"V58","v":0},{"$f":"W50","v":0},{"$f":"X58","v":0},{"$f":"Y50","v":0},null,null,null,null,null,null,null,null,null,{"$f":"AI58","v":6.2911820605756064E-2},{"$f":"AJ50","v":0.12594339622641509},{"$f":"AK58","v":0.56291182060575595},{"$f":"AL50","v":0.12594339622641509},{"$f":"AM58","v":0},{"$f":"AN50","v":0},{"$f":"AO58","v":0},{"$f":"AP50","v":0}]
[{"$f":"A45","v":6.6037735849056615E-3},{"$f":"BD19","v":6.6037735849056615E-3},{"$f":"IF(E22=1,0,C57)","v":0},{"$f":"IF(E22=1,0,BD19)","v":0},{"$f":"IF(E22=1,0,IF(E22=2,0,E57))","v":0},{"$f":"IF(E22=1,0,IF(E22=2,0,BD19))","v":0},{"$f":"IF(E22=4,G57,0)","v":0},{"$f":"IF(E22=4,BD19,)","v":0},null,null,null,null,null,null,null,null,null,{"$f":"R45","v":6.6037735849056615E-3},{"$f":"BO19","v":6.6037735849056615E-3},{"$f":"IF(H22=1,0,T57)","v":0.41831883038729378},{"$f":"IF(H22=1,0,BO19)","v":6.6037735849056615E-3},{"$f":"IF(H22=1,0,IF(H22=2,0,V57))","v":0},{"$f":"IF(H22=1,0,IF(H22=2,0,BO19))","v":0},{"$f":"IF(H22=4,X57,0)","v":0},{"$f":"IF(H22=4,BO19,)","v":0},null,null,null,null,null,null,null,null,null,{"$f":"AI45","v":6.6037735849056615E-3},{"$f":"BZ19","v":6.6037735849056615E-3},{"$f":"IF(L22=1,0,AK57)","v":0.5066037735849056},{"$f":"IF(L22=1,0,BZ19)","v":6.6037735849056615E-3},{"$f":"IF(L22=1,0,IF(L22=2,0,AM57))","v":0},{"$f":"IF(L22=1,0,IF(L22=2,0,BZ19))","v":0},{"$f":"IF(L22=4,AO57,0)","v":0},{"$f":"IF(L22=4,BZ19,)","v":0}]

{"sheet":"Lean To Hipped","index":4,"n_rows":61,"n_cols":91,"rows_kept":61,"cut":false,"hidden":false,"merged":[[17,10,18,10],[17,7,18,7],[17,3,18,3]]}
[null,null,null,null,null,null,null,null,null,null,null,null,null,null,null,null,null,null,null,null,null,null,null,null,null,null,null,null,null,null,null,null,null,null,null,null,null,null,null,null,null,null,null,null,null,null,null,null,null,null,null,null,null,null,null,null,null,null,null,"Main Material",{"$f":"IF(OR(E28=BN2,E28=BN3,E28=BN4,E28=BN5,E28=BN6),'  '!B6,IF(OR(E28=BN7,E28=BN8,E28=BN9,E28=BN10,E28=BN11,E28=BN12,E28=BN13,E28=BN14,E28=BN15),'  '!B7,IF(OR(E28=BN16,E28=BN17,E28=BN18,E28=BN19,E28=BN20),'  '!B8,)))","v":4.54},"Material cost",{"$f":"'  '!$B$10","v":13.25},"Sails",null,"Fabric Colour",null,"Fittings Colours",null,null,"Main Material",{"$f":"IF(OR(I28=BY2,I28=BY3,I28=BY4,I28=BY5,I28=BY6),'  '!B6,IF(OR(I28=BY7,I28=BY8,I28=BY9,I28=BY10,I28=BY11,I28=BY12,I28=BY13,I28=BY14,I28=BY15),'  '!B7,IF(OR(I28=BY16,I28=BY17,I28=BY18,I28=BY19,I28=BY20),'  '!B8,)))","v":4.54},"Material cost",{"$f":"'  '!$B$10","v":13.25},"Sails",null,"Fabric Colour",null,"Fittings Colours",null,null,"Main Material",{"$f":"IF(OR(L28=CJ2,L28=CJ3,L28=CJ4,L28=CJ5,L28=CJ6),'  '!B6,IF(OR(L28=CJ7,L28=CJ8,L28=CJ9,L28=CJ10,L28=CJ11,L28=CJ12,L28=CJ13,L28=CJ14,L28=CJ15),'  '!B7,IF(OR(L28=CJ16,L28=CJ17,L28=CJ18,L28=CJ19,L28=CJ20),'  '!B8,)))","v":4.54},"Material cost",{"$f":"'  '!$B$10","v":13.25},"Sails",null,"Fabric Colour",null,"Fittings Colours"]
[null,null,null,null,null,null,null,null,null,null,null,null,null,null,null,null,null,null,null,null,null,null,null,null,null,null,null,null,null,null,null,null,null,null,null,null,null,null,null,null,null,null,null,null,null,null,null,null,null,null,null,null,null,null,null,null,null,null,null,"Tri Material",{"$f":"IF(OR(E29=BN2,E29=BN3,E29=BN4,E29=BN5,E29=BN6),'  '!B6,IF(OR(E29=BN7,E29=BN8,E29=BN9,E29=BN10,E29=BN11,E29=BN12,E29=BN13,E29=BN14,E29=BN15),'  '!B7,IF(OR(E29=BN16,E29=BN17,E29=BN18,E29=BN19,E29=BN20),'  '!B8,)))","v":4.54},"PE",{"$f":"'  '!$B$11","v":3},1,null,"ISX Solid",null,"Stainless steel",null,null,"Tri Material",{"$f":"IF(OR(I29=BY2,I29=BY3,I29=BY4,I29=BY5,I29=BY6),'  '!B6,IF(OR(I29=BY7,I29=BY8,I29=BY9,I29=BY10,I29=BY11,I29=BY12,I29=BY13,I29=BY14,I29=BY15),'  '!B7,IF(OR(I29=BY16,I29=BY17,I29=BY18,I29=BY19,I29=BY20),'  '!B8,)))","v":4.54},"PE",{"$f":"'  '!$B$11","v":3},1,null,"ISX Solid",null,"Stainless steel",null,null,"Tri Material",{"$f":"IF(OR(L29=CJ2,L29=CJ3,L29=CJ4,L29=CJ5,L29=CJ6),'  '!B6,IF(OR(L29=CJ7,L29=CJ8,L29=CJ9,L29=CJ10,L29=CJ11,L29=CJ12,L29=CJ13,L29=CJ14,L29=CJ15),'  '!B7,IF(OR(L29=CJ16,L29=CJ17,L29=CJ18,L29=CJ19,L29=CJ20),'  '!B8,)))","v":4.54},"PE",{"$f":"'  '!$B$11","v":3},1,null,"ISX Solid",null,"Stainless steel"]
[null,null,null,null,null,null,null,null,null,null," ",null,null," ",null,null,null,null,null,null,null," ",null,null,null,null,null,null,null,null,null,null,null,null,null,null,null,null,null,null,null," ",null,null,null,null,null,null,null,null,null,null,null,null,null,null,null,null,null,null,null,"PN",{"$f":"IF(BL8=4,'  '!$B$19,'  '!$B$20)","v":4.75},2,null,"ISX White",null,"White",null,null,null,null,"PN",{"$f":"IF(BW8=4,'  '!$B$19,'  '!$B$20)","v":4.25},2,null,"ISX White",null,"White",null,null,null,null,"PN",{"$f":"IF(CH8=4,'  '!$B$19,'  '!$B$20)","v":4.25},2,null,"ISX White",null,"White"]
[null,null,null,null,null,null,null,null,null,null," ",null,null," ",null,null,null,null,null,null,null," ",null,null,null,null,null,null,null,null,null,null,null,null,null,null,null,null,null,null,null," ",null,null,null,null,null,null,null,null,null,null,null,null,null,null,null,null,null,null,null,null,null,3," ","ISX Solid Ivory",null,"Gold",null,null,null,null,null,null,3," ","ISX Solid Ivory",null,"Gold",null,null,null,null,null,null,3," ","ISX Solid Ivory",null,"Gold"]
[null,{"$f":"'  '!A46","v":"v2023.2"},null,null,null,null,null,null,null,null,null,null,null,null,null,null,null,null,null,null,null,null,null,null,null,null,null,null,null,null,null,null,null,null,null,null,null,null,null,null,null,null,null,null,null,null,null,null,null,null,null,null,null,null,null,null,null,null,null,null," ","No. of vents",null,4," ","ISX Solid Oyster",null,"Cost",{"$f":"IF(E30=BP2, '  '!B24, '  '!B25)","v":7},null,null," ","No. of vents",null,4," ","ISX Solid Oyster",null,"Cost",{"$f":"IF(I30=BP2, '  '!B24, '  '!B25)","v":7},null,null," ","No. of vents",null,4," ","ISX Solid Oyster",null,"Cost",{"$f":"IF(L30=BP2, '  '!B24, '  '!B25)","v":7}]
[null,null,null,null,null,null,null,null,null,null,null,null,null,null,null,null,null,null,null,null,null,null,null,null,null,null,null,null,null,null,null,null,null,null,null,null,null,null,null,null,null,null,null,null,null,null,null,null,null,null,null,null,null,null,null,null,null,null,null,"Shape",{"$f":"'  '!B14","v":1},0,null,null," ","ISX Solid Stone",null,null,null,null,null,null,0,null,null," ","ISX Solid Stone",null,null,null,null,null,null,0,null,null," ","ISX Solid Stone"]
[null,null,null,null,null,null,null,null,null,null,null,null,null,null,null,null,null,null,null,null,null,null,null,null,null,null,null,null,null,null,null,null,null,null,null,null,null,null,null,null,null,null,null,null,null,null,null,null,null,null,null,null,null,null,null,null,null,null,null,"Triangle",{"$f":"'  '!B15","v":0.75},1,null,null," ","ISX Duplex",null,null,null,null,null,null,1,null,null," ","ISX Duplex",null,null,null,null,null,null,1,null,null," ","ISX Duplex"]
[null,null,null,null,null,null,null,null,null,null,null,null,null,null,null,null,null,null,null,null,null,null,null,null,null,null,null,null,null,null,null,null,null,null,null,null,null,null,null,null,null,null,null,null,null,null,null,null,null,null,null,null,null,null,null,null,null,null,null,null,null,2,"No. of corners",{"$f":"IF(E24=BO37,6,4)","v":6}," ","ISX Duplex Ocean",null,null,null,null,null,null,2,"No. of corners",{"$f":"IF(I24=BO37,6,4)","v":4}," ","ISX Duplex Ocean",null,null,null,null,null,null,2,"No. of corners",{"$f":"IF(L24=BO37,6,4)","v":4}," ","ISX Duplex Ocean"]
[null,null,null,null,null,null,null,null,null,null," ",null,null,null,null,null,null,null,null,null,null," ",null,null,null,null,null,null,null,null,null,null,null,null,null,null,null,null,null,null,null," ",null,null,null,null,null,null,null,null,null,null,null,null,null,null,null,null,null,null,null,3,null,null,null,"ISX Duplex Stone",null,null,null,null,null,null,3,null,null,null,"ISX Duplex Stone",null,null,null,null,null,null,3,null,null,null,"ISX Duplex Stone"]
[null,null,null,null,null,null,null,null,null,null,null,null,null,null,null,null,null,null,null,null,null," ",null,null,null,null,null,null,null,null,null,null,null,null,null,null,null,null,null,null,null,null,null,null,null,null,null,null,null,null,null,null,null,null,null,null,null,null,null,"Overlap left",{"$f":"IF(E22=BH11,BI11,IF(E22=BH12,BI12,IF(E22=BH13,BI13)))","v":{"$error":"#DIV/0!"}},4,"Curve allowance",0.5,null,"ISX Duplex Slate",null,null,null,null,"Overlap left",{"$f":"IF(I22=BS11,BT11,IF(I22=BS12,BT12,IF(I22=BS13,BT13)))","v":{"$error":"#DIV/0!"}},4,"Curve allowance",0.5,null,"ISX Duplex Slate",null,null,null,null,"Overlap left",{"$f":"IF(L22=CD11,CE11,IF(L22=CD12,CE12,IF(L22=CD13,CE13)))","v":0},4,"Curve allowance",0.5,null,"ISX Duplex Slate"]
[null,null,null,null,null,null,null,null,null,null,null,null,null,null,null,null,null,null,null,null,null,null,null,null,null,null,null,null,null,null,null,null,null,null,null,null,null,null,null,null,null,null,null,null,null,null,null,null,null,null,null,null,null,null,null,null,null,null,null,0,0,"Triangles","Roof area",{"$f":"BL14*BK31","v":{"$error":"#DIV/0!"}},null,"ISX Duplex Graphite",null,null,null,null,0,0,"Triangles","Roof area",{"$f":"BW14*BV31","v":{"$error":"#DIV/0!"}},null,"ISX Duplex Graphite",null,null,null,null,0,0,"Triangles","Roof area",{"$f":"CH14*CG31","v":{"$error":"#DIV/0!"}},null,"ISX Duplex Graphite"]
[null,null,null,null,null,null,null,null,null,null,null,null,null,null,null,null,null,null,null,null,null,null,null,null,null,null,null,null,null,null,null,null,null,null,null,null,null,null,null,null,null,null,null,null,null,null,null,null,null,null,null,null,null,null,null,null,null,null,null,0.5,{"$f":"IF(E21=1,0,IF(E21=2,(BI29*0.5)+BL19,IF(E21=3,(BI29*0.75)+BL19,IF(E21=4,(BI29*0.75)+BL19))))","v":{"$error":"#DIV/0!"}},"No","Area of each sail",{"$f":"BL11/E21","v":{"$error":"#DIV/0!"}},null,"ISXFR Solid",null,null,null,null,0.5,{"$f":"IF(I21=1,0,IF(I21=2,(BT29*0.5)+BW19,IF(I21=3,(BT29*0.75)+BW19,IF(I21=4,(BT29*0.75)+BW19))))","v":{"$error":"#DIV/0!"}},"No","Area of each sail",{"$f":"BW11/I21","v":{"$error":"#DIV/0!"}},null,"ISXFR Solid",null,null,null,null,0.5,{"$f":"IF(L21=1,0,IF(L21=2,(CE29*0.5)+CH19,IF(L21=3,(CE29*0.75)+CH19,IF(L21=4,(CE29*0.75)+CH19))))","v":{"$error":"#DIV/0!"}},"No","Area of each sail",{"$f":"CH11/L21","v":{"$error":"#DIV/0!"}},null,"ISXFR Solid"]
[null,null,null,null,null,null,null,null,null,null,null,null,null,null,null,null,null,null,null,null,null,null,null,null,null,null,null,null,null,null,null,null,null,null,null,null,null,null,null,null,null,null,null,null,null,null,null,null,null,null,null,null,null,null,null,null,null,null,null,1,{"$f":"IF(E21=1,0,IF(E21=2,BI29+(BL19*2),IF(E21=3,(BI29*1.34)+BL19,IF(E21=4,(BI29*1.67)+BL19))))","v":{"$error":"#DIV/0!"}},"Yes","Sail perimeter",{"$f":"((BL15+0.07)*2)+((BL16+0.07)*2)","v":{"$error":"#DIV/0!"}},null,"ISXFR White",null,null,null,null,1,{"$f":"IF(I21=1,0,IF(I21=2,BT29+(BW19*2),IF(I21=3,(BT29*1.34)+BW19,IF(I21=4,(BT29*1.67)+BW19))))","v":{"$error":"#DIV/0!"}},"Yes","Sail perimeter",{"$f":"((BW15+0.07)*2)+((BW16+0.07)*2)","v":{"$error":"#DIV/0!"}},null,"ISXFR White",null,null,null,null,1,{"$f":"IF(L21=1,0,IF(L21=2,CE29+(CH19*2),IF(L21=3,(CE29*1.34)+CH19,IF(L21=4,(CE29*1.67)+CH19))))","v":{"$error":"#DIV/0!"}},"Yes","Sail perimeter",{"$f":"((CH15+0.07)*2)+((CH16+0.07)*2)","v":{"$error":"#DIV/0!"}},null,"ISXFR White"]
[null,null,null,null,null,null,null,null,null,null," ",null,null," ",null,null,null,null,null,null,null," ",null,null,null,null,null,null,null,null,null,null,null,null,null,null,null,null,null,null,null," ",null,null,null,null,null,null,null,null,null,null,null,null,null,null,null,null,null,"Overlap right",{"$f":"BI10","v":{"$error":"#DIV/0!"}},"Warnings","Glazing bar length",{"$f":"SQRT((BK30-BK29)^2+BK32^2)","v":{"$error":"#DIV/0!"}},null,"ISXFR Solid Ivory",null,null,null,null,"Overlap right",{"$f":"BT10","v":{"$error":"#DIV/0!"}},"Warnings","Glazing bar length",{"$f":"SQRT((BV30-BV29)^2+BV32^2)","v":{"$error":"#DIV/0!"}},null,"ISXFR Solid Ivory",null,null,null,null,"Overlap right",{"$f":"CE10","v":0},"Warnings","Glazing bar length",{"$f":"SQRT((CG30-CG29)^2+CG32^2)","v":{"$error":"#DIV/0!"}},null,"ISXFR Solid Ivory"]
[null,null,null,null,null,null,null,null,null,null,null,null,null," ",null,null,null,null,null,null,null,null,null,null,null,null,null,null,null,null,null,null,null,null,null,null,null,null,null,null,null,null,null,null,null,null,null,null,null,null,null,null,null,null,null,null,null,null,null,"Warning 1","Warning: Sail too narrow, increase no. of sails, add additional fitting points or reduce gap size",{"$f":"MAX(BI22:BK22)","v":{"$error":"#DIV/0!"}},"Length of sail",{"$f":"BL14-(0.07/(IF(B23>B24,B23,B24)/1000))","v":{"$error":"#DIV/0!"}},null,"ISXFR Solid Oyster",null,null,null,null,"Warning 1","Warning: Sail too narrow, increase no. of sails, add additional fitting points or reduce gap size",{"$f":"MAX(BT22:BV22)","v":{"$error":"#DIV/0!"}},"Length of sail",{"$f":"BW14-(0.07/(IF(B23>B24,B23,B24)/1000))","v":{"$error":"#DIV/0!"}},null,"ISXFR Solid Oyster",null,null,null,null,"Warning 1","Warning: Sail too narrow, increase no. of sails, add additional fitting points or reduce gap size",{"$f":"MAX(CE22:CG22)","v":{"$error":"#DIV/0!"}},"Length of sail",{"$f":"CH14-(0.07/(IF(B23>B24,B23,B24)/1000))","v":{"$error":"#DIV/0!"}},null,"ISXFR Solid Oyster"]
[null,null,null,null,"Plan view - looking from above",null,null,null,"Plan view - looking from above",null,null,"Plan view - looking from above",null," ",null,null,null,null,null,null,null,null,null,null,null,null,null,null,null,null,null,null,null,null,null,null,null,null,null,null,null,null,null,null,null,null,null,null,null,null,null,null,null,null,null,null,null,null,null,"Warning 2","Warning: Sail too narrow, decrease no. of sails, add additional fitting points or increase gap size",{"$f":"MAX(BI23:BK23)","v":{"$error":"#DIV/0!"}},"Width left",{"$f":"(BK31/E21)-(0.07/(IF(B23>B24,B23,B24)/1000))+BI10","v":{"$error":"#DIV/0!"}}," ->","ISXFR Duplex",null,null,null,null,"Warning 2","Warning: Sail too narrow, decrease no. of sails, add additional fitting points or increase gap size",{"$f":"MAX(BT23:BV23)","v":{"$error":"#DIV/0!"}},"Width left",{"$f":"(BV31/I21)-(0.07/(IF(B23>B24,B23,B24)/1000))+BT10","v":{"$error":"#DIV/0!"}}," ->","ISXFR Duplex",null,null,null,null,"Warning 2","Warning: Sail too narrow, decrease no. of sails, add additional fitting points or increase gap size",{"$f":"MAX(CE23:CG23)","v":{"$error":"#DIV/0!"}},"Width left",{"$f":"(CG31/L21)-(0.07/(IF(B23>B24,B23,B24)/1000))+CE10","v":{"$error":"#DIV/0!"}}," ->","ISXFR Duplex"]
[null,null,null,null,null,null,null,null,null,null,null,null,null," ",null,null,null,null,null,null,null,null,null,null,null,null,null,null,null,null,null,null,null,null,null,null,null,null,null,null,null,null,null,null,null,null,null,null,null,null,null,null,null,null,null,null,null,null,null,"Warning 3","Warning: Sail too wide for standard fabric, please add more sails or increase gap size"," ","Width middle",{"$f":"((BK31/E21)-(0.07/(IF(B23>B24,B23,B24)/1000))+BI10)","v":{"$error":"#DIV/0!"}},{"$f":"((BK31/E21)-(0.07/(IF(B23>B24,B23,B24)/1000))+BI14)","v":{"$error":"#DIV/0!"}},"ISXFR Duplex Ocean",null,null,null,null,"Warning 3","Warning: Sail too wide for standard fabric, please add more sails or increase gap size"," ","Width middle",{"$f":"((BV31/I21)-(0.07/(IF(B23>B24,B23,B24)/1000))+BT10)","v":{"$error":"#DIV/0!"}},{"$f":"((BV31/I21)-(0.07/(IF(B23>B24,B23,B24)/1000))+BT14)","v":{"$error":"#DIV/0!"}},"ISXFR Duplex Ocean",null,null,null,null,"Warning 3","Warning: Sail too wide for standard fabric, please add more sails or increase gap size"," ","Width middle",{"$f":"((CG31/L21)-(0.07/(IF(B23>B24,B23,B24)/1000))+CE10)","v":{"$error":"#DIV/0!"}},{"$f":"((CG31/L21)-(0.07/(IF(B23>B24,B23,B24)/1000))+CE14)","v":{"$error":"#DIV/0!"}},"ISXFR Duplex Ocean"]
[null,null,null,{"$f":"'  '!$A$42","v":"Starting Cost incl. Installation"},{"$f":"((((BI25+BJ25+BK25+BL25+(E31*'  '!B29)+('  '!B21*E25)+IF(E30<>BP2,E25*'  '!B26,0)))+(E26*'  '!B30)+(E27*'  '!B31)))","v":{"$error":"#DIV/0!"}},null,null,{"$f":"'  '!$A$43","v":"Average Cost incl. Installation"},{"$f":"((((BT25+BU25+BV25+BW25+(I31*'  '!B29)+('  '!B21*I25)+IF(I30<>CA2,I25*'  '!B26,0)))+(I26*'  '!B30)+(I27*'  '!B31)))","v":{"$error":"#DIV/0!"}},null,{"$f":"'  '!$A$44","v":"High End Cost incl. Installation"},{"$f":"((((CE25+CF25+CG25+CH25+(L31*'  '!B29)+('  '!B21*L25)+IF(L30<>CL2,L25*'  '!B26,0)))+(L26*'  '!B30)+(L27*'  '!B31)))","v":{"$error":"#DIV/0!"}},null," ",null,null,null,null,null,null,null,null,null,null,null,null,null,null,null,null,null,null,null,null,null,null,null,null,null,null,null,null,null,null,null,null,null,null,null,null,null,null,null,null,null,null,null,null,null,"Warning 4","Warning: Conservatory too long for standard fabric, contact office for more details"," ","Width right",{"$f":"(BK31/E21)-(0.07/(IF(B23>B24,B23,B24)/1000))+BI14","v":{"$error":"#DIV/0!"}},null,"ISXFR Duplex Stone",null,null,null,null,"Warning 4","Warning: Conservatory too long for standard fabric, contact office for more details"," ","Width right",{"$f":"(BV31/I21)-(0.07/(IF(B23>B24,B23,B24)/1000))+BT14","v":{"$error":"#DIV/0!"}},null,"ISXFR Duplex Stone",null,null,null,null,"Warning 4","Warning: Conservatory too long for standard fabric, contact office for more details"," ","Width right",{"$f":"(CG31/L21)-(0.07/(IF(B23>B24,B23,B24)/1000))+CE14","v":{"$error":"#DIV/0!"}},null,"ISXFR Duplex Stone"]
[null,null,null,null,{"$f":"('   '!U4+'  '!B33)*1.015","v":{"$error":"#DIV/0!"}},null,null,null,{"$f":"('   '!AG4+'  '!B33)*1.015","v":{"$error":"#DIV/0!"}},null,null,{"$f":"('   '!AS4+'  '!B33)*1.015","v":{"$error":"#DIV/0!"}},null," ",null,null,null,null,null,null,null,null,null,null,null,null,null,null,null,null,null,null,null,null,null,null,null,null,null,null,null,null,null,null,null,null,null,null,null,null,null,null,null,null,null,null,null,null,null,null,null," ","50mm links",{"$f":"0.035/(IF(B23>B24,B23,B24)/1000)","v":{"$error":"#DIV/0!"}},null,"ISXFR Duplex Slate",null,null,null,null,null,null," ","50mm links",{"$f":"0.035/(IF(B23>B24,B23,B24)/1000)","v":{"$error":"#DIV/0!"}},null,"ISXFR Duplex Slate",null,null,null,null,null,null," ","50mm links",{"$f":"0.035/(IF(B23>B24,B23,B24)/1000)","v":{"$error":"#DIV/0!"}},null,"ISXFR Duplex Slate"]
[null,null,null,null,null,null,null,null,null,null,null,null,null,null,null,null,null,null,null,null,null,null,null,null,null,null,null,null,null,null,null,null,null,null,null,null,null,null,null,null,null,null,null,null,null,null,null,null,null,null,null,null,null,null,null,null,null,null,null,null,"4 sails left",{"$f":"(BK31*0.375)+(MAX(BI14,BI10)/6)","v":{"$error":"#DIV/0!"}},"4 sails left",{"$f":"(BK31*0.625)-(MAX(BI14,BI10)/6)","v":{"$error":"#DIV/0!"}},null,"ISXFR Duplex Graphite",null,null,null,null,null,"4 sails left",{"$f":"(BV31*0.375)+(MAX(BT14,BT10)/6)","v":{"$error":"#DIV/0!"}},"4 sails left",{"$f":"(BV31*0.625)-(MAX(BT14,BT10)/6)","v":{"$error":"#DIV/0!"}},null,"ISXFR Duplex Graphite",null,null,null,null,null,"4 sails left",{"$f":"(CG31*0.375)+(MAX(CE14,CE10)/6)","v":{"$error":"#DIV/0!"}},"4 sails left",{"$f":"(CG31*0.625)-(MAX(CE14,CE10)/6)","v":{"$error":"#DIV/0!"}},null,"ISXFR Duplex Graphite"]
[null,null,null,"Number of sails",{"$f":"BO27","v":{"$error":"#DIV/0!"}},null,null,"Number of sails",{"$f":"BZ27","v":{"$error":"#DIV/0!"}},null,"Number of sails",{"$f":"CK27","v":{"$error":"#DIV/0!"}},null,null,null,null,null,null,null,null,null,null,null,null,null,null,null,null,null,null,null,null,null,null,null,null,null,null,null,null,null,null,null,null,null,null,null,null,null,null,null,null,null,null,null,null,null,null,null,"Costs","left","mid","right","tri",null,null,null,null,null,null,"Costs","left","mid","right","tri",null,null,null,null,null,null,"Costs","left","mid","right","tri"]
[null,"All dims in mm",null,"Overlap",0.5,null,null,"Overlap",0.5,null,"Overlap",0,null,null,null,null,null,null,null,null,null,null,null,null,null,null,null,null,null,null,null,null,null,null,null,null,null,null,null,null,null,null,null,null,null,null,null,null,null,null,null,null,null,null,null,null,null,null,null,"length",{"$f":"BL14*(IF(B23>B24,B23,B24)/1000)","v":{"$error":"#DIV/0!"}},{"$f":"BI22","v":{"$error":"#DIV/0!"}},{"$f":"BJ22","v":{"$error":"#DIV/0!"}},{"$f":"BK22","v":{"$error":"#DIV/0!"}},null,null,null,null,null,null,"length",{"$f":"BW14*(IF(B23>B24,B23,B24)/1000)","v":{"$error":"#DIV/0!"}},{"$f":"BT22","v":{"$error":"#DIV/0!"}},{"$f":"BU22","v":{"$error":"#DIV/0!"}},{"$f":"BV22","v":{"$error":"#DIV/0!"}},null,null,null,null,null,null,"length",{"$f":"CH14*(IF(B23>B24,B23,B24)/1000)","v":{"$error":"#DIV/0!"}},{"$f":"CE22","v":{"$error":"#DIV/0!"}},{"$f":"CF22","v":{"$error":"#DIV/0!"}},{"$f":"CG22","v":{"$error":"#DIV/0!"}}]
["X1",null,null,"Triangles","No",null,null,"Triangles","No",null,"Triangles","Yes",null,null,null,null,null,null,null,null,null,null,null,null,null,null,null,null,null,null,null,null,null,null,null,null,null,null,null,null,null,null,null,null,null,null,null,null,null,null,null,null,null,null,null,null,null,null,null,"width",{"$f":"((A49-A45)+(0.07/(IF(B23>B24,B23,B24)/1000)))*(IF(B23>B24,B23,B24)/1000)","v":{"$error":"#DIV/0!"}},{"$f":"IF(E21<>BL4,MIN(BI23,BK23),(E49-E45+(0.07/(IF(B23>B24,B23,B24)/1000)))*(IF(B23>B24,B23,B24)/1000))","v":{"$error":"#DIV/0!"}},{"$f":"IF(E21<>BL2,(C49-C45+(0.07/(IF(B23>B24,B23,B24)/1000)))*(IF(B23>B24,B23,B24)/1000),BI23)","v":{"$error":"#DIV/0!"}},{"$f":"(BH27*(IF(B23>B24,B23,B24)/1000))+0.07","v":{"$error":"#DIV/0!"}},null,null,null,null,null,null,"width",{"$f":"((U49-U45)+(0.07/(IF(B23>B24,B23,B24)/1000)))*(IF(B23>B24,B23,B24)/1000)","v":{"$error":"#DIV/0!"}},{"$f":"IF(I21<>BW4,MIN(BT23,BV23),(Y49-Y45+(0.07/(IF(B23>B24,B23,B24)/1000)))*(IF(B23>B24,B23,B24)/1000))","v":{"$error":"#DIV/0!"}},{"$f":"IF(I21<>BW2,(W49-W45+(0.07/(IF(B23>B24,B23,B24)/1000)))*(IF(B23>B24,B23,B24)/1000),BT23)","v":{"$error":"#DIV/0!"}},{"$f":"(BS27*(IF(B23>B24,B23,B24)/1000))+0.07","v":{"$error":"#DIV/0!"}},null,null,null,null,null,null,"width",{"$f":"((AO49-AO45)+(0.07/(IF(B23>B24,B23,B24)/1000)))*(IF(B23>B24,B23,B24)/1000)","v":{"$error":"#DIV/0!"}},{"$f":"IF(L21<>CH4,MIN(CE23,CG23),(AS49-AS45+(0.07/(IF(B23>B24,B23,B24)/1000)))*(IF(B23>B24,B23,B24)/1000))","v":{"$error":"#DIV/0!"}},{"$f":"IF(L21<>CH2,(AQ49-AQ45+(0.07/(IF(B23>B24,B23,B24)/1000)))*(IF(B23>B24,B23,B24)/1000),CE23)","v":{"$error":"#DIV/0!"}},{"$f":"(CD27*(IF(B23>B24,B23,B24)/1000))+0.07","v":{"$error":"#DIV/0!"}}]
["Y1",null,null,"6 sided sails","Yes",null,null,"6 sided sails","No",null,"6 sided sails","No",null,null,null,null,null,null,null,null,null,null,null,null,null,null,null,null,null,null,null,null,null,null,null,null,null,null,null,null,null,null,null,null,null,null,null,null,null,null,null,null,null,null,null,null,null,null,null,"perimeter",{"$f":"((BI22*2)+(BI23*2))*1.05","v":{"$error":"#DIV/0!"}},{"$f":"((BJ22*2)+(BJ23*2))*1.05","v":{"$error":"#DIV/0!"}},{"$f":"((BK22*2)+(BK23*2))*1.05","v":{"$error":"#DIV/0!"}},{"$f":"((BL22*2)+BL23)*1.05","v":{"$error":"#DIV/0!"}},null,null,null,null,null,null,"perimeter",{"$f":"((BT22*2)+(BT23*2))*1.05","v":{"$error":"#DIV/0!"}},{"$f":"((BU22*2)+(BU23*2))*1.05","v":{"$error":"#DIV/0!"}},{"$f":"((BV22*2)+(BV23*2))*1.05","v":{"$error":"#DIV/0!"}},{"$f":"((BW22*2)+BW23)*1.05","v":{"$error":"#DIV/0!"}},null,null,null,null,null,null,"perimeter",{"$f":"((CE22*2)+(CE23*2))*1.05","v":{"$error":"#DIV/0!"}},{"$f":"((CF22*2)+(CF23*2))*1.05","v":{"$error":"#DIV/0!"}},{"$f":"((CG22*2)+(CG23*2))*1.05","v":{"$error":"#DIV/0!"}},{"$f":"((CH22*2)+CH23)*1.05","v":{"$error":"#DIV/0!"}}]
["H1",null,null,"Total additional fittings",0,null,null,"Total additional fittings",0,null,"Total additional fittings",0,null,null,null,null,null,null,null,null,null,null,null,null,null,null,null,null,null,null,null,null,null,null,null,null,null,null,null,null,null,null,null,null,null,null,null,null,null,null,null,null,null,null,null,null,null,null,null,null,{"$f":"((BI1*((BI22*BI23*BK1*BI6)+(BI24*BK2)+(BL8*BK3)))+(BL8*BQ5)+'  '!B35)","v":{"$error":"#DIV/0!"}},{"$f":"(IF(E21<3,0,((IF(E21>2,((BI1*((BJ22*BJ23*BK1*BI6)+(BJ24*BK2)+(BL8*BK3)))+(BL8*BQ5)+'  '!B35)*(IF(E21=4,2,1)),)))))","v":{"$error":"#DIV/0!"}},{"$f":"(IF(E21<>BL2,((BI1*((BK22*BK23*BK1*BI6)+(BK24*BK2)+(BL8*BK3)))+(BL8*BQ5)+'  '!B35),))","v":{"$error":"#DIV/0!"}},{"$f":"((IF(E23=BJ13,((BI2*((BL22*BL23*BK1*BI7)+(BL24*BK2)+(3*'  '!B19)))+(3*BQ5)+'  '!B35)*(E21-1),)))","v":0}," ",null,null,null,null,null,null,{"$f":"((BT1*((BT22*BT23*BK1*BI6)+(BT24*BK2)+(BW8*BV3)))+(BW8*CB5)+'  '!B35)","v":{"$error":"#DIV/0!"}},{"$f":"(IF(I21<3,0,((IF(I21>2,((BT1*((BU22*BU23*BK1*BI6)+(BU24*BK2)+(BW8*BV3)))+(BW8*CB5)+'  '!B35)*(IF(I21=4,2,1)))))))","v":{"$error":"#DIV/0!"}},{"$f":"(IF(I21<>BW2,((BT1*((BV22*BV23*BK1*BI6)+(BV24*BK2)+(BW8*BV3)))+(BW8*CB5)+'  '!B35),))","v":{"$error":"#DIV/0!"}},{"$f":"((IF(I23=BU13,((BT2*((BW22*BW23*BK1*BI7)+(BW24*BK2)+(3*'  '!B19)))+(3*CB5)+'  '!B35)*(I21-1),)))","v":0}," ",null,null,null,null,null,null,{"$f":"((CE1*((CE22*CE23*BK1*BI6)+(CE24*BK2)+(CH8*CG3)))+(CH8*CM5)+'  '!B35)","v":{"$error":"#DIV/0!"}},{"$f":"(IF(L21<3,0,((IF(L21>2,((CE1*((CF22*CF23*BK1*BI6)+(CF24*BK2)+(CH8*CG3)))+(CH8*CM5)+'  '!B35)*(IF(L21=4,2,1)),)))))","v":{"$error":"#DIV/0!"}},{"$f":"(IF(L21<>CH2,((CE1*((CG22*CG23*BK1*BI6)+(CG24*BK2)+(CH8*CG3)))+(CH8*CM5)+'  '!B35),))","v":{"$error":"#DIV/0!"}},{"$f":"((IF(L23=CF13,((CE2*((CH22*CH23*BK1*BI7)+(CH24*BK2)+(3*'  '!B19)))+(3*CM5)+'  '!B35)*(L21-1),)))","v":{"$error":"#DIV/0!"}}," "]
["H2",null,null,"Total tie-bar loops",0,null,null,"Total tie-bar loops",0,null,"Total tie-bar loops",0,null,null,null,null,null,null,null,null," ",null,null,null,null,null,null,null,null,null,null,null,null,null,null,null,null,{"$f":"'   '!AQ12","v":0},null,null,null,null,null,null,null,null,null,null,null,null,null,null,null,null,null,null,null,null,null,"tri width","tri length","tri mid","tri quarter",null,null,null,"Low",null,{"$f":"'   '!BV12","v":0},null,"tri width","tri length","tri mid","tri quarter",null,null,null,"Mid",null,null,null,"tri width","tri length","tri mid","tri quarter",null,null,null,"Top"]
["R1",null,null,"Total straight edges",0,null,null,"Total straight edges",0,null,"Total straight edges",0,null,null,null,null,null,null,null,null,null,null,null,null,null,null,null,null,null,null,null,null,null,null,null,null,null,null,null,null,null,null,null,null,null,null,null,null,null,null,null,null,null,null,null,null,null,null,null,{"$f":"BI27*0.8","v":{"$error":"#DIV/0!"}},{"$f":"BL14-(BL19*2)","v":{"$error":"#DIV/0!"}},{"$f":"BH27*0.13","v":{"$error":"#DIV/0!"}},{"$f":"BJ27*0.75","v":{"$error":"#DIV/0!"}},null,null,"Number of sails",{"$f":"IF(BO31<1.25,1,IF(AND(BO31>=1.25,BO31<=2.25),1,IF(AND(BO31>2.25,BO31<3.5),2,IF(AND(BO31>=3.5),3))))","v":{"$error":"#DIV/0!"}},null,null,null,{"$f":"BT27*0.8","v":{"$error":"#DIV/0!"}},{"$f":"BW14-(BW19*2)","v":{"$error":"#DIV/0!"}},{"$f":"BS27*0.13","v":{"$error":"#DIV/0!"}},{"$f":"BU27*0.75","v":{"$error":"#DIV/0!"}},null,null,"Number of sails",{"$f":"IF(BZ31<1.25,1,IF(AND(BZ31>=1.25,BZ31<=2.25),2,IF(AND(BZ31>2.25,BZ31<3.5),3,IF(AND(BZ31>=3.5),4))))","v":{"$error":"#DIV/0!"}},null,null,null,{"$f":"CE27*0.8","v":{"$error":"#DIV/0!"}},{"$f":"CH14-(CH19*2)","v":{"$error":"#DIV/0!"}},{"$f":"CD27*0.13","v":{"$error":"#DIV/0!"}},{"$f":"CF27*0.75","v":{"$error":"#DIV/0!"}},null,null,"Number of sails",{"$f":"IF(CK31<1.25,1,IF(AND(CK31>=1.25,CK31<=2.25),2,IF(AND(CK31>2.25,CK31<3.5),3,IF(AND(CK31>=3.5),4))))","v":{"$error":"#DIV/0!"}}]
[null,null,null,"Colour of main sails","ISX Solid",null,{"$f":"'   '!A12","v":0},"Colour of main sails","ISX Solid",null,"Colour of main sails","ISX Solid",null,null,null,null,null,null,null,null,null," ",null,null,null,null,null,null,null,null,null,null,null,null,null,null,null,null,null,null,null,null,null,null,null,null,null,null,null,null,null,null,null,null,null,null,null,null,null,null,"Mid","Quarters","Dims in m",null,null,"Overlap",0.5,null,null,null,null,"Mid","Quarters","Dims in m",null,null,"Overlap",0.5,null,null,null,null,"Mid","Quarters","Dims in m",null,null,"Overlap",0]
[null,null,null,"Colour of triangles","ISX Solid",null,null,"Colour of triangles","ISX Solid",null,"Colour of triangles","ISX Solid",null," ",null,null,null,null,null,null,null,"  ",null,null,null,null,null,null,null,null,null,null,null,null,null,null,null,null,null,null,null,null,null,null,null,null,null,null,null,null,null,null,null,null,null,null,null,null,null,"Horizontal",{"$f":"(((BL15+(0.07/(B23/1000)))*0.13)+BL19)","v":{"$error":"#DIV/0!"}},{"$f":"(BI29)*0.75","v":{"$error":"#DIV/0!"}},{"$f":"B25/IF(B23>B24,B23,B24)","v":{"$error":"#DIV/0!"}},null,null,"Triangles","No",null,null,null,"Horizontal",{"$f":"(((BW15+(0.07/(B23/1000)))*0.13)+BW19)","v":{"$error":"#DIV/0!"}},{"$f":"(BT29)*0.75","v":{"$error":"#DIV/0!"}},{"$f":"B25/IF(B23>B24,B23,B24)","v":{"$error":"#DIV/0!"}},null,null,"Triangles","No",null,null,null,"Horizontal",{"$f":"(((CH15+(0.07/(B23/1000)))*0.13)+CH19)","v":{"$error":"#DIV/0!"}},{"$f":"(CE29)*0.75","v":{"$error":"#DIV/0!"}},{"$f":"B25/IF(B23>B24,B23,B24)","v":{"$error":"#DIV/0!"}},null,null,"Triangles","Yes"]
[null,null,null,"Colour of fittings","Stainless steel",null,null,"Colour of fittings","Stainless steel",null,"Colour of fittings","Stainless steel",null," ",null,null,null,null,null,null,null," ",null,null,null,null,null,null,null,null,null,null,null,null,null,null,null,null,null,null,null,null,null,null,null,null,null,null,null,null,null,null,null,null,null,null,null,null,null,"Vertical left",{"$f":"((BL16+(0.07/(B23/1000)))*0.13)+BL19","v":{"$error":"#DIV/0!"}},{"$f":"BI30*0.75","v":{"$error":"#DIV/0!"}},{"$f":"B26/IF(B23>B24,B23,B24)","v":{"$error":"#DIV/0!"}},null,null,"Total additional fittings",{"$f":"IF(BO31<1.25,0,BO27*2)","v":{"$error":"#DIV/0!"}},null,null,null,"Vertical left",{"$f":"((BW16+(0.07/(B23/1000)))*0.13)+BW19","v":{"$error":"#DIV/0!"}},{"$f":"BT30*0.75","v":{"$error":"#DIV/0!"}},{"$f":"B26/IF(B23>B24,B23,B24)","v":{"$error":"#DIV/0!"}},null,null,"Total additional fittings",{"$f":"IF(BZ31<1.25,2,)","v":{"$error":"#DIV/0!"}},null,null,null,"Vertical left",{"$f":"((CH16+(0.07/(B23/1000)))*0.13)+CH19","v":{"$error":"#DIV/0!"}},{"$f":"CE30*0.75","v":{"$error":"#DIV/0!"}},{"$f":"B26/IF(B23>B24,B23,B24)","v":{"$error":"#DIV/0!"}},null,null,"Total additional fittings",{"$f":"IF(CK31<1.25,4,)","v":{"$error":"#DIV/0!"}}]
[null,null,null,"Number of window vents",0,null,null,"Number of window vents",0,null,"Number of window vents",0,null," ",null,null,null,null,null,null,null," ",null,null,null,null,null,null,null,null,null,null,null,null,null,null,null,null,null,null,null," ",null,null,null,null,null,null,null,null,null,null,null,null,null,null,null,null,null,"Vertical mid",{"$f":"((AVERAGE(BL17:BM17)+(0.07/(B23/1000)))*0.13)+BL19","v":{"$error":"#DIV/0!"}},{"$f":"BI31*0.75","v":{"$error":"#DIV/0!"}},{"$f":"B23/IF(B23>B24,B23,B24)","v":{"$error":"#DIV/0!"}},null,null,"Length/Width Ratio",{"$f":"(B23/B24)","v":{"$error":"#DIV/0!"}},null,null,null,"Vertical mid",{"$f":"((AVERAGE(BW17:BX17)+(0.07/(B23/1000)))*0.13)+BW19","v":{"$error":"#DIV/0!"}},{"$f":"BT31*0.75","v":{"$error":"#DIV/0!"}},{"$f":"B23/IF(B23>B24,B23,B24)","v":{"$error":"#DIV/0!"}},null,null,"Length/Width Ratio",{"$f":"(B23/B24)","v":{"$error":"#DIV/0!"}},null,null,null,"Vertical mid",{"$f":"((AVERAGE(CH17:CI17)+(0.07/(B23/1000)))*0.13)+CH19","v":{"$error":"#DIV/0!"}},{"$f":"CE31*0.75","v":{"$error":"#DIV/0!"}},{"$f":"B23/IF(B23>B24,B23,B24)","v":{"$error":"#DIV/0!"}},null,null,"Length/Width Ratio",{"$f":"(B23/B24)","v":{"$error":"#DIV/0!"}}]
[null,null,null,null,null,null,null,null,null,null,null,null,null," ",null,null,null,null,null,null,null," ",null,null,null,null,null,null,null,null,null,null,null,null,null,null,null,null,null,null,null," ",null,null,null,null,null,null,null,null,null,null,null,null,null,null,null,null,null,"Vertical right",{"$f":"((BL18+(0.07/(B23/1000)))*0.13)+BL19","v":{"$error":"#DIV/0!"}},{"$f":"BI32*0.75","v":{"$error":"#DIV/0!"}},{"$f":"B24/IF(B23>B24,B23,B24)","v":{"$error":"#DIV/0!"}},null,null,null,null,null,null,null,"Vertical right",{"$f":"((BW18+(0.07/(B23/1000)))*0.13)+BW19","v":{"$error":"#DIV/0!"}},{"$f":"BT32*0.75","v":{"$error":"#DIV/0!"}},{"$f":"B24/IF(B23>B24,B23,B24)","v":{"$error":"#DIV/0!"}},null,null,null,null,null,null,null,"Vertical right",{"$f":"((CH18+(0.07/(B23/1000)))*0.13)+CH19","v":{"$error":"#DIV/0!"}},{"$f":"CE32*0.75","v":{"$error":"#DIV/0!"}},{"$f":"B24/IF(B23>B24,B23,B24)","v":{"$error":"#DIV/0!"}}]
[null,null,null,"Max length of a sail",{"$f":"(MAX(BI22:BK22))*1000","v":{"$error":"#DIV/0!"}},null,null,"Max length of a sail",{"$f":"(MAX(BT22:BV22))*1000","v":{"$error":"#DIV/0!"}},null,"Max length of a sail",{"$f":"(MAX(CE22:CG22))*1000","v":{"$error":"#DIV/0!"}},null,null,null,null,null,null,null,null,null," ",null,null,null,null,null,null,null,null,null,null,null,null,null,null,null,null,null,null,null,null,null,null,null,null,null,null,null,null,null,null,null,null,null,null,null,null,null,null,null,null,{"$f":"B27/IF(B23>B24,B23,B24)","v":{"$error":"#DIV/0!"}},null,null,null,null,null,null,null,null,null,null,{"$f":"B27/IF(B23>B24,B23,B24)","v":{"$error":"#DIV/0!"}},null,null,null,null,null,null,null,null,null,null,{"$f":"B27/IF(B23>B24,B23,B24)","v":{"$error":"#DIV/0!"}}]
[null,null,null,"Max width of a sail",{"$f":"(MAX(BI23:BK23))*1000","v":{"$error":"#DIV/0!"}},null,null,"Max width of a sail",{"$f":"(MAX(BT23:BV23))*1000","v":{"$error":"#DIV/0!"}},null,"Max width of a sail",{"$f":"(MAX(CE23:CG23))*1000","v":{"$error":"#DIV/0!"}}]
[null,null,null,null,"Sails +2100mm in both directions require seams",null,null,null,"Sails +2100mm in both directions require seams",null,null,"Sails +2100mm in both directions require seams",null,null,null,null,null,null,null,null,null,null,null,null,null,null,null,null,null,null,null,null,null,null,null,null,null,null,null,null,null,null,null,null,null,null,null,null,null,null,null,null,null,null,null,null,null,null,null,null,null,null,null,null,null,"Overlaps","Triangles"]
[null,null,null,null,null,null,null,null,null,null,null,null,null,null,null,null,null,null,null,null,null,null,null,null,null,null,null,null,null,null,null,null,null,null,null,null,null,null,null,null,null,null,null,null,null,null,null,null,null,null,null,null,null,null,null,null,null,null,null,null,null,null,null,null,null,0,"No"]
[null,null,null,null,null,null,null,null,null,null,null,null,null,null,null,null,null,null,null,null,null,null,null,null,null,null,null,null,null,null,null,null,null,null,null,null,null,null,null,null,null,null,null,null,null,null,null,null,null,null,null,null,null,null,null,null,null,null,null,null,null,null,null,null,null,0.5,"Yes"]
[null,null,null,null,null,null,null,null,null,null,null,null,null,null,null,null,null,null,null,null,null,null,null,null,null,null,null,null,null,null,null,null,null,null,null,null,null,null,null,null,null,null,null,null,null,null,null,null,null,null,null,null,null,null,null,null,null,null,null,null,null,null,null,null,null,1]
[]
[]
[]
[]
["x","y","x","y","x","y",null,null,"x","y","x","y","x","y","Roof plan"," ",null,null,null,null,"x","y","x","y","x","y",null,null,"x","y","x","y","x","y","Roof plan"," ",null,null,null,null,"x","y","x","y","x","y",null,null,"x","y","x","y","x","y","Roof plan"," "]
["Left sail",null,"Right sail",null,"Mid sail",null,null,null,"tri 1",null,"tri 2",null,"tri 3",null,"x-axis","y-axis",null,null,null,null,"Left sail",null,"Right sail",null,"Mid sail",null,null,null,"tri 1",null,"tri 2",null,"tri 3",null,"x-axis","y-axis",null,null,null,null,"Left sail",null,"Right sail",null,"Mid sail",null,null,null,"tri 1",null,"tri 2",null,"tri 3",null,"x-axis","y-axis"]
[{"$f":"BL19","v":{"$error":"#DIV/0!"}},{"$f":"BL19","v":{"$error":"#DIV/0!"}},{"$f":"IF(E21=1,0,C49-BL18)","v":{"$error":"#DIV/0!"}},{"$f":"IF(E21=1,0,BL19)","v":{"$error":"#DIV/0!"}},{"$f":"IF(E21=1,0,IF(E21=2,0,IF(E21=3,(BK31/2)-(BL17/2),IF(E21=4,BJ20-(BL17/2)))))","v":{"$error":"#DIV/0!"}},{"$f":"IF(E21=1,0,IF(E21=2,0,BL19))","v":{"$error":"#DIV/0!"}},{"$f":"IF(E21=4,BL20-(BL17/2),0)","v":{"$error":"#DIV/0!"}},{"$f":"IF(E21=4,BL19,0)","v":{"$error":"#DIV/0!"}},{"$f":"IF(E23=BJ13,IF(E21<>BL2,I47-(BH27/2),),)","v":0},{"$f":"IF(E23=BJ13,IF(E21<>BL2,BL19,),)","v":0},{"$f":"IF(E23=BJ13,IF(OR(E21=BL4,E21=BL5),K47-(BH27/2),),)","v":0},{"$f":"IF(E23=BJ13,IF(OR(E21=BL4,E21=BL5),BL19,),)","v":0},{"$f":"IF($E$21=$BL$5,K45+0.25,)","v":{"$error":"#DIV/0!"}},{"$f":"L45","v":0},0,0,0,0,null,null,{"$f":"BW19","v":{"$error":"#DIV/0!"}},{"$f":"BW19","v":{"$error":"#DIV/0!"}},{"$f":"IF(I21=1,0,W49-BW18)","v":{"$error":"#DIV/0!"}},{"$f":"IF(I21=1,0,BW19)","v":{"$error":"#DIV/0!"}},{"$f":"IF(I21=1,0,IF(I21=2,0,IF(I21=3,(BV31/2)-(BW17/2),IF(I21=4,BU20-(BW17/2)))))","v":{"$error":"#DIV/0!"}},{"$f":"IF(I21=1,0,IF(I21=2,0,BW19))","v":{"$error":"#DIV/0!"}},{"$f":"IF(I21=4,BW20-(BW17/2),0)","v":{"$error":"#DIV/0!"}},{"$f":"IF(I21=4,BW19,0)","v":{"$error":"#DIV/0!"}},{"$f":"IF(I23=BU13,IF(I21<>BW2,AC47-(BS27/2),),)","v":0},{"$f":"IF(I23=BU13,IF(I21<>BW2,BW19,),)","v":0},{"$f":"IF(I23=BU13,IF(OR(I21=BW4,I21=BW5),AE47-(BS27/2),),)","v":0},{"$f":"IF(I23=BU13,IF(OR(I21=BW4,I21=BW5),BW19,),)","v":0},{"$f":"IF($I$21=4,AE45+0.25,)","v":{"$error":"#DIV/0!"}},{"$f":"AF45","v":0},0,0,0,0,null,null,{"$f":"CH19","v":{"$error":"#DIV/0!"}},{"$f":"CH19","v":{"$error":"#DIV/0!"}},{"$f":"IF(L21=1,0,AQ49-CH18)","v":{"$error":"#DIV/0!"}},{"$f":"IF(L21=1,0,CH19)","v":{"$error":"#DIV/0!"}},{"$f":"IF(L21=1,0,IF(L21=2,0,IF(L21=3,(CG31/2)-(CH17/2),IF(L21=4,CF20-(CH17/2)))))","v":{"$error":"#DIV/0!"}},{"$f":"IF(L21=1,0,IF(L21=2,0,CH19))","v":{"$error":"#DIV/0!"}},{"$f":"IF(L21=4,CH20-(CH17/2),0)","v":{"$error":"#DIV/0!"}},{"$f":"IF(L21=4,CH19,0)","v":{"$error":"#DIV/0!"}},{"$f":"IF(L23=CF13,IF(L21<>CH2,AW47-(CD27/2),),)","v":{"$error":"#DIV/0!"}},{"$f":"IF(L23=CF13,IF(L21<>CH2,CH19,),)","v":{"$error":"#DIV/0!"}},{"$f":"IF(L23=CF13,IF(OR(L21=CH4,L21=CH5),AY47-(CD27/2),),)","v":{"$error":"#DIV/0!"}},{"$f":"IF(L23=CF13,IF(OR(L21=CH4,L21=CH5),CH19,),)","v":{"$error":"#DIV/0!"}},{"$f":"IF($L$21=4,AY45+0.25,)","v":{"$error":"#DIV/0!"}},{"$f":"AZ45","v":{"$error":"#DIV/0!"}},0,0,0,0]
[{"$f":"A45+(BL16/4)","v":{"$error":"#DIV/0!"}},{"$f":"IF(E24=BO37,BI30*0.5,BI30*0.75)","v":{"$error":"#DIV/0!"}},{"$f":"IF(E21=1,0,C45+(BL18/4))","v":{"$error":"#DIV/0!"}},{"$f":"IF(E21=1,0,D48)","v":{"$error":"#DIV/0!"}},{"$f":"IF(E21=1,0,IF(E21=2,0,E45+(MAX(BL17:BM17)/4)))","v":{"$error":"#DIV/0!"}},{"$f":"IF(E21=1,0,IF(E21=2,0,B46))","v":{"$error":"#DIV/0!"}},{"$f":"IF(E21=4,G45+(MAX(BL17:BM17)/4),0)","v":{"$error":"#DIV/0!"}},{"$f":"IF(E21=4,B46,0)","v":{"$error":"#DIV/0!"}},{"$f":"IF(E23=BJ13,IF(E21<>BL2,I45+(BH27/4),),)","v":0},{"$f":"IF(E23=BJ13,IF(E21<>BL2,BK27,),)","v":0},{"$f":"IF(E23=BJ13,IF(OR(E21=BL4,E21=BL5),K47-(BH27/4),),)","v":0},{"$f":"IF(E23=BJ13,IF(OR(E21=BL4,E21=BL5),BK27,),)","v":0},{"$error":"#DIV/0!"},{"$f":"L46","v":0},{"$f":"BK31","v":{"$error":"#DIV/0!"}},0,1,0,null,null,{"$f":"U45+(BW16/4)","v":{"$error":"#DIV/0!"}},{"$f":"IF(I24=BO37,BT30*0.5,BT30*0.75)","v":{"$error":"#DIV/0!"}},{"$f":"IF(I21=1,0,W45+(BW18/4))","v":{"$error":"#DIV/0!"}},{"$f":"IF(I21=1,0,X48)","v":{"$error":"#DIV/0!"}},{"$f":"IF(I21=1,0,IF(I21=2,0,Y45+(MAX(BW17:BX17)/4)))","v":{"$error":"#DIV/0!"}},{"$f":"IF(I21=1,0,IF(I21=2,0,V46))","v":{"$error":"#DIV/0!"}},{"$f":"IF(I21=4,AA45+(MAX(BW17:BX17)/4),0)","v":{"$error":"#DIV/0!"}},{"$f":"IF(I21=4,V46,0)","v":{"$error":"#DIV/0!"}},{"$f":"IF(I23=BU13,IF(I21<>BW2,AC45+(BS27/4),),)","v":0},{"$f":"IF(I23=BU13,IF(I21<>BW2,BV27,),)","v":0},{"$f":"IF(I23=BU13,IF(OR(I21=BW4,I21=BW5),AE47-(BS27/4),),)","v":0},{"$f":"IF(I23=BU13,IF(OR(I21=BW4,I21=BW5),BV27,),)","v":0},{"$error":"#DIV/0!"},{"$f":"AF46","v":0},{"$f":"BV31","v":{"$error":"#DIV/0!"}},0,1,0,null,null,{"$f":"AO45+(CH16/4)","v":{"$error":"#DIV/0!"}},{"$f":"IF(L24=BO37,CE30*0.5,CE30*0.75)","v":{"$error":"#DIV/0!"}},{"$f":"IF(L21=1,0,AQ45+(CH18/4))","v":{"$error":"#DIV/0!"}},{"$f":"IF(L21=1,0,AR48)","v":{"$error":"#DIV/0!"}},{"$f":"IF(L21=1,0,IF(L21=2,0,AS45+(MAX(CH17:CI17)/4)))","v":{"$error":"#DIV/0!"}},{"$f":"IF(L21=1,0,IF(L21=2,0,AP46))","v":{"$error":"#DIV/0!"}},{"$f":"IF(L21=4,AU45+(MAX(CH17:CI17)/4),0)","v":{"$error":"#DIV/0!"}},{"$f":"IF(L21=4,AP46,0)","v":{"$error":"#DIV/0!"}},{"$f":"IF(L23=CF13,IF(L21<>CH2,AW45+(CD27/4),),)","v":{"$error":"#DIV/0!"}},{"$f":"IF(L23=CF13,IF(L21<>CH2,CG27,),)","v":{"$error":"#DIV/0!"}},{"$f":"IF(L23=CF13,IF(OR(L21=CH4,L21=CH5),AY47-(CD27/4),),)","v":{"$error":"#DIV/0!"}},{"$f":"IF(L23=CF13,IF(OR(L21=CH4,L21=CH5),CG27,),)","v":{"$error":"#DIV/0!"}},{"$error":"#DIV/0!"},{"$f":"AZ46","v":{"$error":"#DIV/0!"}},{"$f":"CG31","v":{"$error":"#DIV/0!"}},0,1,0]
[{"$f":"A49-(BL16/2)","v":{"$error":"#DIV/0!"}},{"$f":"IF(E24=BO37,B45,BI30)","v":{"$error":"#DIV/0!"}},{"$f":"IF(E21=1,0,C49-BL19-(BL18/2))","v":{"$error":"#DIV/0!"}},{"$f":"IF(E21=1,0,B47)","v":{"$error":"#DIV/0!"}},{"$f":"IF(E21=1,0,IF(E21=2,0,E49-((E49-E45)/2)))","v":{"$error":"#DIV/0!"}},{"$f":"IF(E21=1,0,IF(E21=2,0,B47))","v":{"$error":"#DIV/0!"}},{"$f":"IF(E21=4,G49-((G49-G45)/2),0)","v":{"$error":"#DIV/0!"}},{"$f":"IF(E21=4,B47,0)","v":{"$error":"#DIV/0!"}},{"$f":"IF(E23=BJ13,IF(E21=BL3,O46/2,IF(E21=BL4,O46/3,IF(E21=BL5,O46/4))),)","v":0},{"$f":"IF(E23=BJ13,IF(E21<>BL2,BJ27,),)","v":0},{"$f":"IF(E23=BJ13,IF(E21=BL4,O47*(2/3),IF(E21=BL5,O46/2)),)","v":0},{"$f":"IF(E23=BJ13,IF(OR(E21=BL4,E21=BL5),BJ27,),)","v":0},{"$error":"#DIV/0!"},0,{"$f":"BK31","v":{"$error":"#DIV/0!"}},{"$f":"BK32","v":{"$error":"#DIV/0!"}},1,0.59375,null,null,{"$f":"U49-(BW16/2)","v":{"$error":"#DIV/0!"}},{"$f":"IF(I24=BO37,V45,BT30)","v":{"$error":"#DIV/0!"}},{"$f":"IF(I21=1,0,W49-BW19-(BW18/2))","v":{"$error":"#DIV/0!"}},{"$f":"IF(I21=1,0,V47)","v":{"$error":"#DIV/0!"}},{"$f":"IF(I21=1,0,IF(I21=2,0,Y49-((Y49-Y45)/2)))","v":{"$error":"#DIV/0!"}},{"$f":"IF(I21=1,0,IF(I21=2,0,V47))","v":{"$error":"#DIV/0!"}},{"$f":"IF(I21=4,AA49-((AA49-AA45)/2),0)","v":{"$error":"#DIV/0!"}},{"$f":"IF(I21=4,V47,0)","v":{"$error":"#DIV/0!"}},{"$f":"IF(I23=BU13,IF(I21=BW3,AI46/2,IF(I21=BW4,AI46/3,IF(I21=BW5,AI46/4))),)","v":0},{"$f":"IF(I23=BU13,IF(I21<>BW2,BU27,),)","v":0},{"$f":"IF(I23=BU13,IF(I21=BW4,AI47*(2/3),IF(I21=BW5,AI46/2)),)","v":0},{"$f":"IF(I23=BU13,IF(OR(I21=BW4,I21=BW5),BU27,),)","v":0},{"$error":"#DIV/0!"},0,{"$f":"BV31","v":{"$error":"#DIV/0!"}},{"$f":"BV32","v":{"$error":"#DIV/0!"}},1,0.59375,null,null,{"$f":"AO49-(CH16/2)","v":{"$error":"#DIV/0!"}},{"$f":"IF(L24=BO37,AP45,CE30)","v":{"$error":"#DIV/0!"}},{"$f":"IF(L21=1,0,AQ49-CH19-(CH18/2))","v":{"$error":"#DIV/0!"}},{"$f":"IF(L21=1,0,AP47)","v":{"$error":"#DIV/0!"}},{"$f":"IF(L21=1,0,IF(L21=2,0,AS49-((AS49-AS45)/2)))","v":{"$error":"#DIV/0!"}},{"$f":"IF(L21=1,0,IF(L21=2,0,AP47))","v":{"$error":"#DIV/0!"}},{"$f":"IF(L21=4,AU49-((AU49-AU45)/2),0)","v":{"$error":"#DIV/0!"}},{"$f":"IF(L21=4,AP47,0)","v":{"$error":"#DIV/0!"}},{"$f":"IF(L23=CF13,IF(L21=CH3,BC46/2,IF(L21=CH4,BC46/3,IF(L21=CH5,BC46/4))),)","v":{"$error":"#DIV/0!"}},{"$f":"IF(L23=CF13,IF(L21<>CH2,CF27,),)","v":{"$error":"#DIV/0!"}},{"$f":"IF(L23=CF13,IF(L21=CH4,BC47*(2/3),IF(L21=CH5,BC46/2)),)","v":{"$error":"#DIV/0!"}},{"$f":"IF(L23=CF13,IF(OR(L21=CH4,L21=CH5),CF27,),)","v":{"$error":"#DIV/0!"}},{"$error":"#DIV/0!"},{"$error":"#DIV/0!"},{"$f":"CG31","v":{"$error":"#DIV/0!"}},{"$f":"CG32","v":{"$error":"#DIV/0!"}},1,0.59375]
[{"$f":"A49-(BL16/4)","v":{"$error":"#DIV/0!"}},{"$f":"B46","v":{"$error":"#DIV/0!"}},{"$f":"C49-(BL18/4)","v":{"$error":"#DIV/0!"}},{"$f":"IF(E21=1,0,B48)","v":{"$error":"#DIV/0!"}},{"$f":"IF(E21=1,0,IF(E21=2,0,E49-(MAX(BL17:BM17)/4)))","v":{"$error":"#DIV/0!"}},{"$f":"IF(E21=BL4,B48,IF(E21=BL5,B48,))","v":{"$error":"#DIV/0!"}},{"$f":"IF(E21=4,G49-(MAX(BL17:BM17)/4),0)","v":{"$error":"#DIV/0!"}},{"$f":"IF(E21=4,B48,)","v":{"$error":"#DIV/0!"}},{"$f":"IF(E23=BJ13,IF(E21<>BL2,I47+(BH27/4),),)","v":0},{"$f":"IF(E23=BJ13,IF(E21<>BL2,BK27,),)","v":0},{"$f":"IF(E23=BJ13,IF(OR(E21=BL4,E21=BL5),K47+(BH27/4),),)","v":0},{"$f":"IF(E23=BJ13,IF(OR(E21=BL4,E21=BL5),L46,),)","v":0},{"$error":"#DIV/0!"},0,0,{"$f":"BK32","v":{"$error":"#DIV/0!"}},0,0.59375,null,null,{"$f":"U49-(BW16/4)","v":{"$error":"#DIV/0!"}},{"$f":"V46","v":{"$error":"#DIV/0!"}},{"$f":"W49-(BW18/4)","v":{"$error":"#DIV/0!"}},{"$f":"IF(I21=1,0,V48)","v":{"$error":"#DIV/0!"}},{"$f":"IF(I21=1,0,IF(I21=2,0,Y49-(MAX(BW17:BX17)/4)))","v":{"$error":"#DIV/0!"}},{"$f":"IF(I21=BW4,V48,IF(I21=BW5,V48,))","v":{"$error":"#DIV/0!"}},{"$f":"IF(I21=4,AA49-(MAX(BW17:BX17)/4),0)","v":{"$error":"#DIV/0!"}},{"$f":"IF(I21=4,V48,)","v":{"$error":"#DIV/0!"}},{"$f":"IF(I23=BU13,IF(I21<>BW2,AC47+(BS27/4),),)","v":0},{"$f":"IF(I23=BU13,IF(I21<>BW2,BV27,),)","v":0},{"$f":"IF(I23=BU13,IF(OR(I21=BW4,I21=BW5),AE47+(BS27/4),),)","v":0},{"$f":"IF(I23=BU13,IF(OR(I21=BW4,I21=BW5),AF46,),)","v":0},{"$error":"#DIV/0!"},0,0,{"$f":"BV32","v":{"$error":"#DIV/0!"}},0,0.59375,null,null,{"$f":"AO49-(CH16/4)","v":{"$error":"#DIV/0!"}},{"$f":"AP46","v":{"$error":"#DIV/0!"}},{"$f":"AQ49-(CH18/4)","v":{"$error":"#DIV/0!"}},{"$f":"IF(L21=1,0,AP48)","v":{"$error":"#DIV/0!"}},{"$f":"IF(L21=1,0,IF(L21=2,0,AS49-(MAX(CH17:CI17)/4)))","v":{"$error":"#DIV/0!"}},{"$f":"IF(L21=CH4,AP48,IF(L21=CH5,AP48,))","v":{"$error":"#DIV/0!"}},{"$f":"IF(L21=4,AU49-(MAX(CH17:CI17)/4),0)","v":{"$error":"#DIV/0!"}},{"$f":"IF(L21=4,AP48,)","v":{"$error":"#DIV/0!"}},{"$f":"IF(L23=CF13,IF(L21<>CH2,AW47+(CD27/4),),)","v":{"$error":"#DIV/0!"}},{"$f":"IF(L23=CF13,IF(L21<>CH2,CG27,),)","v":{"$error":"#DIV/0!"}},{"$f":"IF(L23=CF13,IF(OR(L21=CH4,L21=CH5),AY47+(CD27/4),),)","v":{"$error":"#DIV/0!"}},{"$f":"IF(L23=CF13,IF(OR(L21=CH4,L21=CH5),AZ46,),)","v":{"$error":"#DIV/0!"}},{"$error":"#DIV/0!"},{"$error":"#DIV/0!"},0,{"$f":"CG32","v":{"$error":"#DIV/0!"}},0,0.59375]
[{"$f":"A45+BL16","v":{"$error":"#DIV/0!"}},{"$f":"BL19","v":{"$error":"#DIV/0!"}},{"$f":"IF(E21=1,0,BK31-BL19)","v":{"$error":"#DIV/0!"}},{"$f":"IF(E21=1,0,BL19)","v":{"$error":"#DIV/0!"}},{"$f":"IF(E21=1,0,IF(E21=2,0,IF(E21=3,BK31/2+(BM17/2),IF(E21=4,BJ20+(BM17/2)))))","v":{"$error":"#DIV/0!"}},{"$f":"IF(E21=1,0,IF(E21=2,0,BL19))","v":{"$error":"#DIV/0!"}},{"$f":"IF(E21=4,BL20+(BM17/2),0)","v":{"$error":"#DIV/0!"}},{"$f":"IF(E21=4,BL19,0)","v":{"$error":"#DIV/0!"}},{"$f":"IF(E23=BJ13,IF(E21<>BL2,I47+(BH27/2),),)","v":0},{"$f":"IF(E23=BJ13,IF(E21<>BL2,BL19,),)","v":0},{"$f":"IF(E23=BJ13,IF(OR(E21=BL4,E21=BL5),K47+(BH27/2),),)","v":0},{"$f":"IF(E23=BJ13,IF(OR(E21=BL4,E21=BL5),L45,),)","v":0},{"$error":"#DIV/0!"},0,0,0,0,0,null,null,{"$f":"U45+BW16","v":{"$error":"#DIV/0!"}},{"$f":"BW19","v":{"$error":"#DIV/0!"}},{"$f":"IF(I21=1,0,BV31-BW19)","v":{"$error":"#DIV/0!"}},{"$f":"IF(I21=1,0,BW19)","v":{"$error":"#DIV/0!"}},{"$f":"IF(I21=1,0,IF(I21=2,0,IF(I21=3,BV31/2+(BX17/2),IF(I21=4,BU20+(BX17/2)))))","v":{"$error":"#DIV/0!"}},{"$f":"IF(I21=1,0,IF(I21=2,0,BW19))","v":{"$error":"#DIV/0!"}},{"$f":"IF(I21=4,BW20+(BX17/2),0)","v":{"$error":"#DIV/0!"}},{"$f":"IF(I21=4,BW19,0)","v":{"$error":"#DIV/0!"}},{"$f":"IF(I23=BU13,IF(I21<>BW2,AC47+(BS27/2),),)","v":0},{"$f":"IF(I23=BU13,IF(I21<>BW2,BW19,),)","v":0},{"$f":"IF(I23=BU13,IF(OR(I21=BW4,I21=BW5),AE47+(BS27/2),),)","v":0},{"$f":"IF(I23=BU13,IF(OR(I21=BW4,I21=BW5),AF45,),)","v":0},{"$error":"#DIV/0!"},0,0,0,0,0,null,null,{"$f":"AO45+CH16","v":{"$error":"#DIV/0!"}},{"$f":"CH19","v":{"$error":"#DIV/0!"}},{"$f":"IF(L21=1,0,CG31-CH19)","v":{"$error":"#DIV/0!"}},{"$f":"IF(L21=1,0,CH19)","v":{"$error":"#DIV/0!"}},{"$f":"IF(L21=1,0,IF(L21=2,0,IF(L21=3,CG31/2+(CI17/2),IF(L21=4,CF20+(CI17/2)))))","v":{"$error":"#DIV/0!"}},{"$f":"IF(L21=1,0,IF(L21=2,0,CH19))","v":{"$error":"#DIV/0!"}},{"$f":"IF(L21=4,CH20+(CI17/2),0)","v":{"$error":"#DIV/0!"}},{"$f":"IF(L21=4,CH19,0)","v":{"$error":"#DIV/0!"}},{"$f":"IF(L23=CF13,IF(L21<>CH2,AW47+(CD27/2),),)","v":{"$error":"#DIV/0!"}},{"$f":"IF(L23=CF13,IF(L21<>CH2,CH19,),)","v":{"$error":"#DIV/0!"}},{"$f":"IF(L23=CF13,IF(OR(L21=CH4,L21=CH5),AY47+(CD27/2),),)","v":{"$error":"#DIV/0!"}},{"$f":"IF(L23=CF13,IF(OR(L21=CH4,L21=CH5),AZ45,),)","v":{"$error":"#DIV/0!"}},{"$error":"#DIV/0!"},{"$error":"#DIV/0!"},0,0,0,0]
[{"$f":"A49-BJ29","v":{"$error":"#DIV/0!"}},{"$f":"BK32/4","v":{"$error":"#DIV/0!"}},{"$f":"IF(E21=1,0,C49-BJ29)","v":{"$error":"#DIV/0!"}},{"$f":"IF(E21=1,0,B60)","v":{"$error":"#DIV/0!"}},{"$f":"IF(E21=1,0,IF(E21=2,0,E49-BJ29))","v":{"$error":"#DIV/0!"}},{"$f":"IF(E21=1,0,IF(E21=2,0,D50))","v":{"$error":"#DIV/0!"}},{"$f":"IF(E21=4,G49-BJ29,0)","v":{"$error":"#DIV/0!"}},{"$f":"IF(E21=4,D50,0)","v":{"$error":"#DIV/0!"}},{"$f":"IF(E23=BJ13,IF(E21<>BL2,I49-((I49-I53)/1.8),),)","v":0},{"$f":"IF(E23=BJ13,IF(E21<>BL2,P47/4,),)","v":0},{"$f":"IF(E23=BJ13,IF(OR(E21=BL4,E21=BL5),K49-((K49-K53)/1.8),),)","v":0},{"$f":"IF(E23=BJ13,IF(OR(E21=BL4,E21=BL5),P47/4,),)","v":0},{"$error":"#DIV/0!"},0,{"$f":"(BK31/2)-(BK33/2)","v":{"$error":"#DIV/0!"}},{"$f":"BK32","v":{"$error":"#DIV/0!"}},0.25,0.59375,null,null,{"$f":"U49-BU29","v":{"$error":"#DIV/0!"}},{"$f":"BV32/4","v":{"$error":"#DIV/0!"}},{"$f":"IF(I21=1,0,W49-BU29)","v":{"$error":"#DIV/0!"}},{"$f":"IF(I21=1,0,V60)","v":{"$error":"#DIV/0!"}},{"$f":"IF(I21=1,0,IF(I21=2,0,Y49-BU29))","v":{"$error":"#DIV/0!"}},{"$f":"IF(I21=1,0,IF(I21=2,0,X50))","v":{"$error":"#DIV/0!"}},{"$f":"IF(I21=4,AA49-BU29,0)","v":{"$error":"#DIV/0!"}},{"$f":"IF(I21=4,X50,0)","v":{"$error":"#DIV/0!"}},{"$f":"IF(I23=BU13,IF(I21<>BW2,AC49-((AC49-AC53)/1.8),),)","v":0},{"$f":"IF(I23=BU13,IF(I21<>BW2,AJ47/4,),)","v":0},{"$f":"IF(I23=BU13,IF(OR(I21=BW4,I21=BW5),AE49-((AE49-AE53)/1.8),),)","v":0},{"$f":"IF(I23=BU13,IF(OR(I21=BW4,I21=BW5),AJ47/4,),)","v":0},{"$error":"#DIV/0!"},0,{"$f":"(BV31/2)-(BV33/2)","v":{"$error":"#DIV/0!"}},{"$f":"BV32","v":{"$error":"#DIV/0!"}},0.25,0.59375,null,null,{"$f":"AO49-CF29","v":{"$error":"#DIV/0!"}},{"$f":"CG32/4","v":{"$error":"#DIV/0!"}},{"$f":"IF(L21=1,0,AQ49-CF29)","v":{"$error":"#DIV/0!"}},{"$f":"IF(L21=1,0,AP60)","v":{"$error":"#DIV/0!"}},{"$f":"IF(L21=1,0,IF(L21=2,0,AS49-CF29))","v":{"$error":"#DIV/0!"}},{"$f":"IF(L21=1,0,IF(L21=2,0,AR50))","v":{"$error":"#DIV/0!"}},{"$f":"IF(L21=4,AU49-CF29,0)","v":{"$error":"#DIV/0!"}},{"$f":"IF(L21=4,AR50,0)","v":{"$error":"#DIV/0!"}},{"$f":"IF(L23=CF13,IF(L21<>CH2,AW49-((AW49-AW53)/1.8),),)","v":{"$error":"#DIV/0!"}},{"$f":"IF(L23=CF13,IF(L21<>CH2,BD47/4,),)","v":{"$error":"#DIV/0!"}},{"$f":"IF(L23=CF13,IF(OR(L21=CH4,L21=CH5),AY49-((AY49-AY53)/1.8),),)","v":{"$error":"#DIV/0!"}},{"$f":"IF(L23=CF13,IF(OR(L21=CH4,L21=CH5),BD47/4,),)","v":{"$error":"#DIV/0!"}},{"$error":"#DIV/0!"},{"$error":"#DIV/0!"},{"$f":"(CG31/2)-(CG33/2)","v":{"$error":"#DIV/0!"}},{"$f":"CG32","v":{"$error":"#DIV/0!"}},0.25,0.59375]
[{"$f":"A49-BI29","v":{"$error":"#DIV/0!"}},{"$f":"BK32/2","v":{"$error":"#DIV/0!"}},{"$f":"IF(E21=1,0,C49-BI29)","v":{"$error":"#DIV/0!"}},{"$f":"IF(E21=1,0,B51)","v":{"$error":"#DIV/0!"}},{"$f":"IF(E21=1,0,IF(E21=2,0,E49-BI29))","v":{"$error":"#DIV/0!"}},{"$f":"IF(E21=1,0,IF(E21=2,0,B51))","v":{"$error":"#DIV/0!"}},{"$f":"IF(E21=4,G49-BI29,0)","v":{"$error":"#DIV/0!"}},{"$f":"IF(E21=4,B51,0)","v":{"$error":"#DIV/0!"}},{"$f":"IF(E23=BJ13,IF(E21<>BL2,I49-((I49-I53)*0.85),),)","v":0},{"$f":"IF(E23=BJ13,IF(E21<>BL2,P47/2,),)","v":0},{"$f":"IF(E23=BJ13,IF(OR(E21=BL4,E21=BL5),K49-((K49-K53)*0.85),),)","v":0},{"$f":"IF(E23=BJ13,IF(OR(E21=BL4,E21=BL5),P47/2,),)","v":0},{"$error":"#DIV/0!"},0,{"$f":"(BK31/2)+(BK33/2)","v":{"$error":"#DIV/0!"}},{"$f":"P50","v":{"$error":"#DIV/0!"}},0.75,0.59375,null,null,{"$f":"U49-BT29","v":{"$error":"#DIV/0!"}},{"$f":"BV32/2","v":{"$error":"#DIV/0!"}},{"$f":"IF(I21=1,0,W49-BT29)","v":{"$error":"#DIV/0!"}},{"$f":"IF(I21=1,0,V51)","v":{"$error":"#DIV/0!"}},{"$f":"IF(I21=1,0,IF(I21=2,0,Y49-BT29))","v":{"$error":"#DIV/0!"}},{"$f":"IF(I21=1,0,IF(I21=2,0,V51))","v":{"$error":"#DIV/0!"}},{"$f":"IF(I21=4,AA49-BT29,0)","v":{"$error":"#DIV/0!"}},{"$f":"IF(I21=4,V51,0)","v":{"$error":"#DIV/0!"}},{"$f":"IF(I23=BU13,IF(I21<>BW2,AC49-((AC49-AC53)*0.85),),)","v":0},{"$f":"IF(I23=BU13,IF(I21<>BW2,AJ47/2,),)","v":0},{"$f":"IF(I23=BU13,IF(OR(I21=BW4,I21=BW5),AE49-((AE49-AE53)*0.85),),)","v":0},{"$f":"IF(I23=BU13,IF(OR(I21=BW4,I21=BW5),AJ47/2,),)","v":0},{"$error":"#DIV/0!"},0,{"$f":"(BV31/2)+(BV33/2)","v":{"$error":"#DIV/0!"}},{"$f":"AJ50","v":{"$error":"#DIV/0!"}},0.75,0.59375,null,null,{"$f":"AO49-CE29","v":{"$error":"#DIV/0!"}},{"$f":"CG32/2","v":{"$error":"#DIV/0!"}},{"$f":"IF(L21=1,0,AQ49-CE29)","v":{"$error":"#DIV/0!"}},{"$f":"IF(L21=1,0,AP51)","v":{"$error":"#DIV/0!"}},{"$f":"IF(L21=1,0,IF(L21=2,0,AS49-CE29))","v":{"$error":"#DIV/0!"}},{"$f":"IF(L21=1,0,IF(L21=2,0,AP51))","v":{"$error":"#DIV/0!"}},{"$f":"IF(L21=4,AU49-CE29,0)","v":{"$error":"#DIV/0!"}},{"$f":"IF(L21=4,AP51,0)","v":{"$error":"#DIV/0!"}},{"$f":"IF(L23=CF13,IF(L21<>CH2,AW49-((AW49-AW53)*0.85),),)","v":{"$error":"#DIV/0!"}},{"$f":"IF(L23=CF13,IF(L21<>CH2,BD47/2,),)","v":{"$error":"#DIV/0!"}},{"$f":"IF(L23=CF13,IF(OR(L21=CH4,L21=CH5),AY49-((AY49-AY53)*0.85),),)","v":{"$error":"#DIV/0!"}},{"$f":"IF(L23=CF13,IF(OR(L21=CH4,L21=CH5),BD47/2,),)","v":{"$error":"#DIV/0!"}},{"$error":"#DIV/0!"},{"$error":"#DIV/0!"},{"$f":"(CG31/2)+(CG33/2)","v":{"$error":"#DIV/0!"}},{"$f":"BD50","v":{"$error":"#DIV/0!"}},0.75,0.59375]
[{"$f":"A50","v":{"$error":"#DIV/0!"}},{"$f":"(BK32*0.75)","v":{"$error":"#DIV/0!"}},{"$f":"C50","v":{"$error":"#DIV/0!"}},{"$f":"IF(E21=1,0,B58)","v":{"$error":"#DIV/0!"}},{"$f":"E50","v":{"$error":"#DIV/0!"}},{"$f":"IF(E21=1,0,IF(E21=2,0,D52))","v":{"$error":"#DIV/0!"}},{"$f":"G50","v":{"$error":"#DIV/0!"}},{"$f":"IF(E21=4,D52,0)","v":{"$error":"#DIV/0!"}},{"$f":"IF(E23=BJ13,IF(E21<>BL2,I53+((I49-I53)*0.05),),)","v":0},{"$f":"IF(E23=BJ13,IF(E21<>BL2,P47*0.75,),)","v":0},{"$f":"IF(E23=BJ13,IF(OR(E21=BL4,E21=BL5),K53+((K49-K53)*0.05),),)","v":0},{"$f":"IF(E23=BJ13,IF(OR(E21=BL4,E21=BL5),P47*0.75,),)","v":0},{"$error":"#DIV/0!"},0,{"$f":"BK31","v":{"$error":"#DIV/0!"}},0,1,0,null,null,{"$f":"U50","v":{"$error":"#DIV/0!"}},{"$f":"(BV32*0.75)","v":{"$error":"#DIV/0!"}},{"$f":"W50","v":{"$error":"#DIV/0!"}},{"$f":"IF(I21=1,0,V58)","v":{"$error":"#DIV/0!"}},{"$f":"Y50","v":{"$error":"#DIV/0!"}},{"$f":"IF(I21=1,0,IF(I21=2,0,X52))","v":{"$error":"#DIV/0!"}},{"$f":"AA50","v":{"$error":"#DIV/0!"}},{"$f":"IF(I21=4,X52,0)","v":{"$error":"#DIV/0!"}},{"$f":"IF(I23=BU13,IF(I21<>BW2,AC53+((AC49-AC53)*0.05),),)","v":0},{"$f":"IF(I23=BU13,IF(I21<>BW2,AJ47*0.75,),)","v":0},{"$f":"IF(I23=BU13,IF(OR(I21=BW4,I21=BW5),AE53+((AE49-AE53)*0.05),),)","v":0},{"$f":"IF(I23=BU13,IF(OR(I21=BW4,I21=BW5),AJ47*0.75,),)","v":0},{"$error":"#DIV/0!"},0,{"$f":"BV31","v":{"$error":"#DIV/0!"}},0,1,0,null,null,{"$f":"AO50","v":{"$error":"#DIV/0!"}},{"$f":"(CG32*0.75)","v":{"$error":"#DIV/0!"}},{"$f":"AQ50","v":{"$error":"#DIV/0!"}},{"$f":"IF(L21=1,0,AP58)","v":{"$error":"#DIV/0!"}},{"$f":"AS50","v":{"$error":"#DIV/0!"}},{"$f":"IF(L21=1,0,IF(L21=2,0,AR52))","v":{"$error":"#DIV/0!"}},{"$f":"AU50","v":{"$error":"#DIV/0!"}},{"$f":"IF(L21=4,AR52,0)","v":{"$error":"#DIV/0!"}},{"$f":"IF(L23=CF13,IF(L21<>CH2,AW53+((AW49-AW53)*0.05),),)","v":{"$error":"#DIV/0!"}},{"$f":"IF(L23=CF13,IF(L21<>CH2,BD47*0.75,),)","v":{"$error":"#DIV/0!"}},{"$f":"IF(L23=CF13,IF(OR(L21=CH4,L21=CH5),AY53+((AY49-AY53)*0.05),),)","v":{"$error":"#DIV/0!"}},{"$f":"IF(L23=CF13,IF(OR(L21=CH4,L21=CH5),BD47*0.75,),)","v":{"$error":"#DIV/0!"}},{"$error":"#DIV/0!"},{"$error":"#DIV/0!"},{"$f":"CG31","v":{"$error":"#DIV/0!"}},0,1,0]
[{"$f":"A49","v":{"$error":"#DIV/0!"}},{"$f":"BK32-BL19","v":{"$error":"#DIV/0!"}},{"$f":"IF(E21=1,0,C49)","v":{"$error":"#DIV/0!"}},{"$f":"IF(E21=1,0,BK32-BL19)","v":{"$error":"#DIV/0!"}},{"$f":"IF(E21=1,0,IF(E21=2,0,E49))","v":{"$error":"#DIV/0!"}},{"$f":"IF(E21=1,0,IF(E21=2,0,D57))","v":{"$error":"#DIV/0!"}},{"$f":"IF(E21=4,G49,0)","v":{"$error":"#DIV/0!"}},{"$f":"IF(E21=4,D57,0)","v":{"$error":"#DIV/0!"}},{"$f":"IF(E23=BJ13,IF(E21<>BL2,I47,),)","v":0},{"$f":"IF(E23=BJ13,IF(E21<>BL2,P48-BL19,),)","v":0},{"$f":"IF(E23=BJ13,IF(OR(E21=BL4,E21=BL5),K47,),)","v":0},{"$f":"IF(E23=BJ13,IF(OR(E21=BL4,E21=BL5),P48-BL19,),)","v":0},{"$error":"#DIV/0!"},0,null,null,null,null,null,null,{"$f":"U49","v":{"$error":"#DIV/0!"}},{"$f":"BV32-BW19","v":{"$error":"#DIV/0!"}},{"$f":"IF(I21=1,0,W49)","v":{"$error":"#DIV/0!"}},{"$f":"IF(I21=1,0,BV32-BW19)","v":{"$error":"#DIV/0!"}},{"$f":"IF(I21=1,0,IF(I21=2,0,Y49))","v":{"$error":"#DIV/0!"}},{"$f":"IF(I21=1,0,IF(I21=2,0,X57))","v":{"$error":"#DIV/0!"}},{"$f":"IF(I21=4,AA49,0)","v":{"$error":"#DIV/0!"}},{"$f":"IF(I21=4,X57,0)","v":{"$error":"#DIV/0!"}},{"$f":"IF(I23=BU13,IF(I21<>BW2,AC47,),)","v":0},{"$f":"IF(I23=BU13,IF(I21<>BW2,AJ48-BW19,),)","v":0},{"$f":"IF(I23=BU13,IF(OR(I21=BW4,I21=BW5),AE47,),)","v":0},{"$f":"IF(I23=BU13,IF(OR(I21=BW4,I21=BW5),AJ48-BW19,),)","v":0},{"$error":"#DIV/0!"},0,null,null,null,null,null,null,{"$f":"AO49","v":{"$error":"#DIV/0!"}},{"$f":"CG32-CH19","v":{"$error":"#DIV/0!"}},{"$f":"IF(L21=1,0,AQ49)","v":{"$error":"#DIV/0!"}},{"$f":"IF(L21=1,0,CG32-CH19)","v":{"$error":"#DIV/0!"}},{"$f":"IF(L21=1,0,IF(L21=2,0,AS49))","v":{"$error":"#DIV/0!"}},{"$f":"IF(L21=1,0,IF(L21=2,0,AR57))","v":{"$error":"#DIV/0!"}},{"$f":"IF(L21=4,AU49,0)","v":{"$error":"#DIV/0!"}},{"$f":"IF(L21=4,AR57,0)","v":{"$error":"#DIV/0!"}},{"$f":"IF(L23=CF13,IF(L21<>CH2,AW47,),)","v":{"$error":"#DIV/0!"}},{"$f":"IF(L23=CF13,IF(L21<>CH2,BD48-CH19,),)","v":{"$error":"#DIV/0!"}},{"$f":"IF(L23=CF13,IF(OR(L21=CH4,L21=CH5),AY47,),)","v":{"$error":"#DIV/0!"}},{"$f":"IF(L23=CF13,IF(OR(L21=CH4,L21=CH5),BD48-CH19,),)","v":{"$error":"#DIV/0!"}},{"$error":"#DIV/0!"},{"$error":"#DIV/0!"}]
[{"$f":"A48","v":{"$error":"#DIV/0!"}},{"$f":"BK32-B46","v":{"$error":"#DIV/0!"}},{"$f":"C48","v":{"$error":"#DIV/0!"}},{"$f":"IF(E21=1,0,B54)","v":{"$error":"#DIV/0!"}},{"$f":"E48","v":{"$error":"#DIV/0!"}},{"$f":"IF(E21=1,0,IF(E21=2,0,B54))","v":{"$error":"#DIV/0!"}},{"$f":"G48","v":{"$error":"#DIV/0!"}},{"$f":"IF(E21=4,B54,0)","v":{"$error":"#DIV/0!"}},{"$f":"IF(E23=BJ13,IF(E21<>BL2,I53-((I53-I57)*0.05),),)","v":0},{"$f":"IF(E23=BJ13,IF(E21<>BL2,J52,),)","v":0},{"$f":"IF(E23=BJ13,IF(OR(E21=BL4,E21=BL5),K53-((K53-K57)*0.05),),)","v":0},{"$f":"IF(E23=BJ13,IF(OR(E21=BL4,E21=BL5),L52,),)","v":0},{"$error":"#DIV/0!"},0,null,null,null,null,null,null,{"$f":"U48","v":{"$error":"#DIV/0!"}},{"$f":"BV32-V46","v":{"$error":"#DIV/0!"}},{"$f":"W48","v":{"$error":"#DIV/0!"}},{"$f":"IF(I21=1,0,V54)","v":{"$error":"#DIV/0!"}},{"$f":"Y48","v":{"$error":"#DIV/0!"}},{"$f":"IF(I21=1,0,IF(I21=2,0,V54))","v":{"$error":"#DIV/0!"}},{"$f":"AA48","v":{"$error":"#DIV/0!"}},{"$f":"IF(I21=4,V54,0)","v":{"$error":"#DIV/0!"}},{"$f":"IF(I23=BU13,IF(I21<>BW2,AC53-((AC53-AC57)*0.05),),)","v":0},{"$f":"IF(I23=BU13,IF(I21<>BW2,AD52,),)","v":0},{"$f":"IF(I23=BU13,IF(OR(I21=BW4,I21=BW5),AE53-((AE53-AE57)*0.05),),)","v":0},{"$f":"IF(I23=BU13,IF(OR(I21=BW4,I21=BW5),AF52,),)","v":0},{"$error":"#DIV/0!"},0,null,null,null,null,null,null,{"$f":"AO48","v":{"$error":"#DIV/0!"}},{"$f":"CG32-AP46","v":{"$error":"#DIV/0!"}},{"$f":"AQ48","v":{"$error":"#DIV/0!"}},{"$f":"IF(L21=1,0,AP54)","v":{"$error":"#DIV/0!"}},{"$f":"AS48","v":{"$error":"#DIV/0!"}},{"$f":"IF(L21=1,0,IF(L21=2,0,AP54))","v":{"$error":"#DIV/0!"}},{"$f":"AU48","v":{"$error":"#DIV/0!"}},{"$f":"IF(L21=4,AP54,0)","v":{"$error":"#DIV/0!"}},{"$f":"IF(L23=CF13,IF(L21<>CH2,AW53-((AW53-AW57)*0.05),),)","v":{"$error":"#DIV/0!"}},{"$f":"IF(L23=CF13,IF(L21<>CH2,AX52,),)","v":{"$error":"#DIV/0!"}},{"$f":"IF(L23=CF13,IF(OR(L21=CH4,L21=CH5),AY53-((AY53-AY57)*0.05),),)","v":{"$error":"#DIV/0!"}},{"$f":"IF(L23=CF13,IF(OR(L21=CH4,L21=CH5),AZ52,),)","v":{"$error":"#DIV/0!"}},{"$error":"#DIV/0!"},{"$error":"#DIV/0!"}]
[{"$f":"A47","v":{"$error":"#DIV/0!"}},{"$f":"BK32-B47","v":{"$error":"#DIV/0!"}},{"$f":"IF(E21=1,0,C47)","v":{"$error":"#DIV/0!"}},{"$f":"IF(E21=1,0,B55)","v":{"$error":"#DIV/0!"}},{"$f":"IF(E21=1,0,IF(E21=2,0,E47))","v":{"$error":"#DIV/0!"}},{"$f":"IF(E21=1,0,IF(E21=2,0,B55))","v":{"$error":"#DIV/0!"}},{"$f":"IF(E21=4,G47,0)","v":{"$error":"#DIV/0!"}},{"$f":"IF(E21=4,B55,0)","v":{"$error":"#DIV/0!"}},{"$f":"IF(E23=BJ13,IF(E21<>BL2,I57+((I53-I57)*0.85),),)","v":0},{"$f":"IF(E23=BJ13,IF(E21<>BL2,J51,),)","v":0},{"$f":"IF(E23=BJ13,IF(OR(E21=BL4,E21=BL5),K57+((K53-K57)*0.85),),)","v":0},{"$f":"IF(E23=BJ13,IF(OR(E21=BL4,E21=BL5),L51,),)","v":0},{"$error":"#DIV/0!"},0,null,null,null,null,null,null,{"$f":"U47","v":{"$error":"#DIV/0!"}},{"$f":"BV32-V47","v":{"$error":"#DIV/0!"}},{"$f":"IF(I21=1,0,W47)","v":{"$error":"#DIV/0!"}},{"$f":"IF(I21=1,0,V55)","v":{"$error":"#DIV/0!"}},{"$f":"IF(I21=1,0,IF(I21=2,0,Y47))","v":{"$error":"#DIV/0!"}},{"$f":"IF(I21=1,0,IF(I21=2,0,V55))","v":{"$error":"#DIV/0!"}},{"$f":"IF(I21=4,AA47,0)","v":{"$error":"#DIV/0!"}},{"$f":"IF(I21=4,V55,0)","v":{"$error":"#DIV/0!"}},{"$f":"IF(I23=BU13,IF(I21<>BW2,AC57+((AC53-AC57)*0.85),),)","v":0},{"$f":"IF(I23=BU13,IF(I21<>BW2,AD51,),)","v":0},{"$f":"IF(I23=BU13,IF(OR(I21=BW4,I21=BW5),AE57+((AE53-AE57)*0.85),),)","v":0},{"$f":"IF(I23=BU13,IF(OR(I21=BW4,I21=BW5),AF51,),)","v":0},{"$error":"#DIV/0!"},0,null,null,null,null,null,null,{"$f":"AO47","v":{"$error":"#DIV/0!"}},{"$f":"CG32-AP47","v":{"$error":"#DIV/0!"}},{"$f":"IF(L21=1,0,AQ47)","v":{"$error":"#DIV/0!"}},{"$f":"IF(L21=1,0,AP55)","v":{"$error":"#DIV/0!"}},{"$f":"IF(L21=1,0,IF(L21=2,0,AS47))","v":{"$error":"#DIV/0!"}},{"$f":"IF(L21=1,0,IF(L21=2,0,AP55))","v":{"$error":"#DIV/0!"}},{"$f":"IF(L21=4,AU47,0)","v":{"$error":"#DIV/0!"}},{"$f":"IF(L21=4,AP55,0)","v":{"$error":"#DIV/0!"}},{"$f":"IF(L23=CF13,IF(L21<>CH2,AW57+((AW53-AW57)*0.85),),)","v":{"$error":"#DIV/0!"}},{"$f":"IF(L23=CF13,IF(L21<>CH2,AX51,),)","v":{"$error":"#DIV/0!"}},{"$f":"IF(L23=CF13,IF(OR(L21=CH4,L21=CH5),AY57+((AY53-AY57)*0.85),),)","v":{"$error":"#DIV/0!"}},{"$f":"IF(L23=CF13,IF(OR(L21=CH4,L21=CH5),AZ51,),)","v":{"$error":"#DIV/0!"}},{"$error":"#DIV/0!"},{"$error":"#DIV/0!"}]
[{"$f":"A46","v":{"$error":"#DIV/0!"}},{"$f":"B54","v":{"$error":"#DIV/0!"}},{"$f":"C46","v":{"$error":"#DIV/0!"}},{"$f":"IF(E21=1,0,D54)","v":{"$error":"#DIV/0!"}},{"$f":"E46","v":{"$error":"#DIV/0!"}},{"$f":"F54","v":{"$error":"#DIV/0!"}},{"$f":"G46","v":{"$error":"#DIV/0!"}},{"$f":"H54","v":{"$error":"#DIV/0!"}},{"$f":"IF(E23=BJ13,IF(E21<>BL2,I57+((I53-I57)/1.8),),)","v":0},{"$f":"IF(E23=BJ13,IF(E21<>BL2,J50,),)","v":0},{"$f":"IF(E23=BJ13,IF(OR(E21=BL4,E21=BL5),K57+((K53-K57)/1.8),),)","v":0},{"$f":"IF(E23=BJ13,IF(OR(E21=BL4,E21=BL5),L50,),)","v":0},{"$error":"#DIV/0!"},0,null,null,null,null,null,null,{"$f":"U46","v":{"$error":"#DIV/0!"}},{"$f":"V54","v":{"$error":"#DIV/0!"}},{"$f":"W46","v":{"$error":"#DIV/0!"}},{"$f":"IF(I21=1,0,X54)","v":{"$error":"#DIV/0!"}},{"$f":"Y46","v":{"$error":"#DIV/0!"}},{"$f":"Z54","v":{"$error":"#DIV/0!"}},{"$f":"AA46","v":{"$error":"#DIV/0!"}},{"$f":"AB54","v":{"$error":"#DIV/0!"}},{"$f":"IF(I23=BU13,IF(I21<>BW2,AC57+((AC53-AC57)/1.8),),)","v":0},{"$f":"IF(I23=BU13,IF(I21<>BW2,AD50,),)","v":0},{"$f":"IF(I23=BU13,IF(OR(I21=BW4,I21=BW5),AE57+((AE53-AE57)/1.8),),)","v":0},{"$f":"IF(I23=BU13,IF(OR(I21=BW4,I21=BW5),AF50,),)","v":0},{"$error":"#DIV/0!"},0,null,null,null,null,null,null,{"$f":"AO46","v":{"$error":"#DIV/0!"}},{"$f":"AP54","v":{"$error":"#DIV/0!"}},{"$f":"AQ46","v":{"$error":"#DIV/0!"}},{"$f":"IF(L21=1,0,AR54)","v":{"$error":"#DIV/0!"}},{"$f":"AS46","v":{"$error":"#DIV/0!"}},{"$f":"AT54","v":{"$error":"#DIV/0!"}},{"$f":"AU46","v":{"$error":"#DIV/0!"}},{"$f":"AV54","v":{"$error":"#DIV/0!"}},{"$f":"IF(L23=CF13,IF(L21<>CH2,AW57+((AW53-AW57)/1.8),),)","v":{"$error":"#DIV/0!"}},{"$f":"IF(L23=CF13,IF(L21<>CH2,AX50,),)","v":{"$error":"#DIV/0!"}},{"$f":"IF(L23=CF13,IF(OR(L21=CH4,L21=CH5),AY57+((AY53-AY57)/1.8),),)","v":{"$error":"#DIV/0!"}},{"$f":"IF(L23=CF13,IF(OR(L21=CH4,L21=CH5),AZ50,),)","v":{"$error":"#DIV/0!"}},{"$error":"#DIV/0!"},{"$error":"#DIV/0!"}]
[{"$f":"A45","v":{"$error":"#DIV/0!"}},{"$f":"B53","v":{"$error":"#DIV/0!"}},{"$f":"IF(E21=1,0,C45)","v":{"$error":"#DIV/0!"}},{"$f":"IF(E21=1,0,D53)","v":{"$error":"#DIV/0!"}},{"$f":"IF(E21=1,0,IF(E21=2,0,E45))","v":{"$error":"#DIV/0!"}},{"$f":"IF(E21=1,0,IF(E21=2,0,F53))","v":{"$error":"#DIV/0!"}},{"$f":"IF(E21=4,G45,0)","v":{"$error":"#DIV/0!"}},{"$f":"IF(E21=4,H53,0)","v":{"$error":"#DIV/0!"}},{"$f":"IF(E23=BJ13,IF(E21<>BL2,I45,),)","v":0},{"$f":"IF(E23=BJ13,IF(E21<>BL2,J45,),)","v":0},{"$f":"IF(E23=BJ13,IF(OR(E21=BL4,E21=BL5),K45,),)","v":0},{"$f":"IF(E23=BJ13,IF(OR(E21=BL4,E21=BL5),L45,),)","v":0},{"$error":"#DIV/0!"},0,null,null,null,null,null,null,{"$f":"U45","v":{"$error":"#DIV/0!"}},{"$f":"V53","v":{"$error":"#DIV/0!"}},{"$f":"IF(I21=1,0,W45)","v":{"$error":"#DIV/0!"}},{"$f":"IF(I21=1,0,X53)","v":{"$error":"#DIV/0!"}},{"$f":"IF(I21=1,0,IF(I21=2,0,Y45))","v":{"$error":"#DIV/0!"}},{"$f":"IF(I21=1,0,IF(I21=2,0,Z53))","v":{"$error":"#DIV/0!"}},{"$f":"IF(I21=4,AA45,0)","v":{"$error":"#DIV/0!"}},{"$f":"IF(I21=4,AB53,0)","v":{"$error":"#DIV/0!"}},{"$f":"IF(I23=BU13,IF(I21<>BW2,AC45,),)","v":0},{"$f":"IF(I23=BU13,IF(I21<>BW2,AD45,),)","v":0},{"$f":"IF(I23=BU13,IF(OR(I21=BW4,I21=BW5),AE45,),)","v":0},{"$f":"IF(I23=BU13,IF(OR(I21=BW4,I21=BW5),AF45,),)","v":0},{"$error":"#DIV/0!"},0,null,null,null,null,null,null,{"$f":"AO45","v":{"$error":"#DIV/0!"}},{"$f":"AP53","v":{"$error":"#DIV/0!"}},{"$f":"IF(L21=1,0,AQ45)","v":{"$error":"#DIV/0!"}},{"$f":"IF(L21=1,0,AR53)","v":{"$error":"#DIV/0!"}},{"$f":"IF(L21=1,0,IF(L21=2,0,AS45))","v":{"$error":"#DIV/0!"}},{"$f":"IF(L21=1,0,IF(L21=2,0,AT53))","v":{"$error":"#DIV/0!"}},{"$f":"IF(L21=4,AU45,0)","v":{"$error":"#DIV/0!"}},{"$f":"IF(L21=4,AV53,0)","v":{"$error":"#DIV/0!"}},{"$f":"IF(L23=CF13,IF(L21<>CH2,AW45,),)","v":{"$error":"#DIV/0!"}},{"$f":"IF(L23=CF13,IF(L21<>CH2,AX45,),)","v":{"$error":"#DIV/0!"}},{"$f":"IF(L23=CF13,IF(OR(L21=CH4,L21=CH5),AY45,),)","v":{"$error":"#DIV/0!"}},{"$f":"IF(L23=CF13,IF(OR(L21=CH4,L21=CH5),AZ45,),)","v":{"$error":"#DIV/0!"}},{"$error":"#DIV/0!"},{"$error":"#DIV/0!"}]
[{"$f":"A45+BJ29","v":{"$error":"#DIV/0!"}},{"$f":"B52","v":{"$error":"#DIV/0!"}},{"$f":"IF(E21=1,0,C45+BJ29)","v":{"$error":"#DIV/0!"}},{"$f":"D52","v":{"$error":"#DIV/0!"}},{"$f":"IF(E21=1,0,IF(E21=2,0,E45+BJ29))","v":{"$error":"#DIV/0!"}},{"$f":"F52","v":{"$error":"#DIV/0!"}},{"$f":"IF(E21=4,G45+BJ29,0)","v":{"$error":"#DIV/0!"}},{"$f":"H52","v":{"$error":"#DIV/0!"}},null,null,null,null,null,null,null,null,null,null,null,null,{"$f":"U45+BU29","v":{"$error":"#DIV/0!"}},{"$f":"V52","v":{"$error":"#DIV/0!"}},{"$f":"IF(I21=1,0,W45+BU29)","v":{"$error":"#DIV/0!"}},{"$f":"X52","v":{"$error":"#DIV/0!"}},{"$f":"IF(I21=1,0,IF(I21=2,0,Y45+BU29))","v":{"$error":"#DIV/0!"}},{"$f":"Z52","v":{"$error":"#DIV/0!"}},{"$f":"IF(I21=4,AA45+BU29,0)","v":{"$error":"#DIV/0!"}},{"$f":"AB52","v":{"$error":"#DIV/0!"}},null,null,null,null,null,null,null,null,null,null,null,null,{"$f":"AO45+CF29","v":{"$error":"#DIV/0!"}},{"$f":"AP52","v":{"$error":"#DIV/0!"}},{"$f":"IF(L21=1,0,AQ45+CF29)","v":{"$error":"#DIV/0!"}},{"$f":"AR52","v":{"$error":"#DIV/0!"}},{"$f":"IF(L21=1,0,IF(L21=2,0,AS45+CF29))","v":{"$error":"#DIV/0!"}},{"$f":"AT52","v":{"$error":"#DIV/0!"}},{"$f":"IF(L21=4,AU45+CF29,0)","v":{"$error":"#DIV/0!"}},{"$f":"AV52","v":{"$error":"#DIV/0!"}}]
[{"$f":"A45+BI29","v":{"$error":"#DIV/0!"}},{"$f":"B51","v":{"$error":"#DIV/0!"}},{"$f":"IF(E21=1,0,C45+BI29)","v":{"$error":"#DIV/0!"}},{"$f":"IF(E21=1,0,D51)","v":{"$error":"#DIV/0!"}},{"$f":"IF(E21=1,0,IF(E21=2,0,E45+BI29))","v":{"$error":"#DIV/0!"}},{"$f":"IF(E21=1,0,IF(E21=2,0,B51))","v":{"$error":"#DIV/0!"}},{"$f":"IF(E21=4,G45+BI29,0)","v":{"$error":"#DIV/0!"}},{"$f":"IF(E21=4,B51,0)","v":{"$error":"#DIV/0!"}},null,null,null,null,null,null,null,null,null,null,null,null,{"$f":"U45+BT29","v":{"$error":"#DIV/0!"}},{"$f":"V51","v":{"$error":"#DIV/0!"}},{"$f":"IF(I21=1,0,W45+BT29)","v":{"$error":"#DIV/0!"}},{"$f":"IF(I21=1,0,X51)","v":{"$error":"#DIV/0!"}},{"$f":"IF(I21=1,0,IF(I21=2,0,Y45+BT29))","v":{"$error":"#DIV/0!"}},{"$f":"IF(I21=1,0,IF(I21=2,0,V51))","v":{"$error":"#DIV/0!"}},{"$f":"IF(I21=4,AA45+BT29,0)","v":{"$error":"#DIV/0!"}},{"$f":"IF(I21=4,V51,0)","v":{"$error":"#DIV/0!"}},null,null,null,null,null,null,null,null,null,null,null,null,{"$f":"AO45+CE29","v":{"$error":"#DIV/0!"}},{"$f":"AP51","v":{"$error":"#DIV/0!"}},{"$f":"IF(L21=1,0,AQ45+CE29)","v":{"$error":"#DIV/0!"}},{"$f":"IF(L21=1,0,AR51)","v":{"$error":"#DIV/0!"}},{"$f":"IF(L21=1,0,IF(L21=2,0,AS45+CE29))","v":{"$error":"#DIV/0!"}},{"$f":"IF(L21=1,0,IF(L21=2,0,AP51))","v":{"$error":"#DIV/0!"}},{"$f":"IF(L21=4,AU45+CE29,0)","v":{"$error":"#DIV/0!"}},{"$f":"IF(L21=4,AP51,0)","v":{"$error":"#DIV/0!"}}]
[{"$f":"A58","v":{"$error":"#DIV/0!"}},{"$f":"B50","v":{"$error":"#DIV/0!"}},{"$f":"C58","v":{"$error":"#DIV/0!"}},{"$f":"D50","v":{"$error":"#DIV/0!"}},{"$f":"E58","v":{"$error":"#DIV/0!"}},{"$f":"F50","v":{"$error":"#DIV/0!"}},{"$f":"G58","v":{"$error":"#DIV/0!"}},{"$f":"H50","v":{"$error":"#DIV/0!"}},null,null,null,null,null,null,null,null,null,null,null,null,{"$f":"U58","v":{"$error":"#DIV/0!"}},{"$f":"V50","v":{"$error":"#DIV/0!"}},{"$f":"W58","v":{"$error":"#DIV/0!"}},{"$f":"X50","v":{"$error":"#DIV/0!"}},{"$f":"Y58","v":{"$error":"#DIV/0!"}},{"$f":"Z50","v":{"$error":"#DIV/0!"}},{"$f":"AA58","v":{"$error":"#DIV/0!"}},{"$f":"AB50","v":{"$error":"#DIV/0!"}},null,null,null,null,null,null,null,null,null,null,null,null,{"$f":"AO58","v":{"$error":"#DIV/0!"}},{"$f":"AP50","v":{"$error":"#DIV/0!"}},{"$f":"AQ58","v":{"$error":"#DIV/0!"}},{"$f":"AR50","v":{"$error":"#DIV/0!"}},{"$f":"AS58","v":{"$error":"#DIV/0!"}},{"$f":"AT50","v":{"$error":"#DIV/0!"}},{"$f":"AU58","v":{"$error":"#DIV/0!"}},{"$f":"AV50","v":{"$error":"#DIV/0!"}}]
[{"$f":"A45","v":{"$error":"#DIV/0!"}},{"$f":"BL19","v":{"$error":"#DIV/0!"}},{"$f":"IF(E21=1,0,C57)","v":{"$error":"#DIV/0!"}},{"$f":"IF(E21=1,0,BL19)","v":{"$error":"#DIV/0!"}},{"$f":"IF(E21=1,0,IF(E21=2,0,E57))","v":{"$error":"#DIV/0!"}},{"$f":"IF(E21=1,0,IF(E21=2,0,BL19))","v":{"$error":"#DIV/0!"}},{"$f":"IF(E21=4,G57,0)","v":{"$error":"#DIV/0!"}},{"$f":"IF(E21=4,BL19,0)","v":{"$error":"#DIV/0!"}},null,null,null,null,null,null,null,null,null,null,null,null,{"$f":"U45","v":{"$error":"#DIV/0!"}},{"$f":"BW19","v":{"$error":"#DIV/0!"}},{"$f":"IF(I21=1,0,W57)","v":{"$error":"#DIV/0!"}},{"$f":"IF(I21=1,0,BW19)","v":{"$error":"#DIV/0!"}},{"$f":"IF(I21=1,0,IF(I21=2,0,Y57))","v":{"$error":"#DIV/0!"}},{"$f":"IF(I21=1,0,IF(I21=2,0,BW19))","v":{"$error":"#DIV/0!"}},{"$f":"IF(I21=4,AA57,0)","v":{"$error":"#DIV/0!"}},{"$f":"IF(I21=4,BW19,0)","v":{"$error":"#DIV/0!"}},null,null,null,null,null,null,null,null,null,null,null,null,{"$f":"AO45","v":{"$error":"#DIV/0!"}},{"$f":"CH19","v":{"$error":"#DIV/0!"}},{"$f":"IF(L21=1,0,AQ57)","v":{"$error":"#DIV/0!"}},{"$f":"IF(L21=1,0,CH19)","v":{"$error":"#DIV/0!"}},{"$f":"IF(L21=1,0,IF(L21=2,0,AS57))","v":{"$error":"#DIV/0!"}},{"$f":"IF(L21=1,0,IF(L21=2,0,CH19))","v":{"$error":"#DIV/0!"}},{"$f":"IF(L21=4,AU57,0)","v":{"$error":"#DIV/0!"}},{"$f":"IF(L21=4,CH19,0)","v":{"$error":"#DIV/0!"}}]

{"sheet":"Georgian Gable","index":5,"n_rows":80,"n_cols":101,"rows_kept":80,"cut":false,"hidden":false,"merged":[[17,10,18,10],[17,7,18,7],[17,3,18,3]]}
[null,null,null,null,null,null,null,null,null,null,null,null,null,null,null,null,null,null,null,null,null,null,null,null,null,null,null,null,null,null,null,null,null,null,null,null,null,null,null,null,null,null,null,null,null,null,null,null,null,null,null,null,null,null,null,null,null,null,null,null,null,null,null,"Main material",{"$f":"IF(OR(E29=BT2,E29=BT3,E29=BT4,E29=BT5,E29=BT6),'  '!B6,IF(OR(E29=BT7,E29=BT8,E29=BT9,E29=BT10,E29=BT11,E29=BT12,E29=BT13,E29=BT14,E29=BT15),'  '!B7,IF(OR(E29=BT16,E29=BT17,E29=BT18,E29=BT19,E29=BT20),'  '!B8,)))","v":4.54},"Material cost",{"$f":"'  '!$B$10","v":13.25},"Sails","Warning 1","Warning: Sail too narrow, increase no. of sails, add additional fitting points or reduce gap size","Sails","Fabric Colour",null,"Fittings Colours",null,null,"Main material",{"$f":"IF(OR(I29=CG2,I29=CG3,I29=CG4,I29=CG5,I29=CG6),'  '!B6,IF(OR(I29=CG7,I29=CG8,I29=CG9,I29=CG10,I29=CG11,I29=CG12,I29=CG13,I29=CG14,I29=CG15),'  '!B7,IF(OR(I29=CG16,I29=CG17,I29=CG18,I29=CG19,I29=CG20),'  '!B8,)))","v":4.54},null,null,"Sails","Warning 1","Warning: Sail too narrow, increase no. of sails, add additional fitting points or reduce gap size","Sails","Fabric Colour",null,"Fittings Colours",null,null,"Main material",{"$f":"IF(OR(L29=CT2,L29=CT3,L29=CT4,L29=CT5,L29=CT6),'  '!B6,IF(OR(L29=CT7,L29=CT8,L29=CT9,L29=CT10,L29=CT11,L29=CT12,L29=CT13,L29=CT14,L29=CT15),'  '!B7,IF(OR(L29=CT16,L29=CT17,L29=CT18,L29=CT19,L29=CT20),'  '!B8,)))","v":4.54},null,null,"Sails","Warning 1","Warning: Sail too narrow, increase no. of sails, add additional fitting points or reduce gap size","Sails","Fabric Colour",null,"Fittings Colours"]
[null,null,null,null,null,null,null,null,null,null,null,null,null,null,null,null,null,null,null,null,null,null,null,null,null,null,null,null,null,null,null,null,null,null,null,null,null,null,null,null,null,null,null,null,null,null,null,null,null,null,null,null,null,null,null,null,null,null,null,null,null,null,null,"Tri material",{"$f":"IF(OR(E30=BT2,E30=BT3,E30=BT4,E30=BT5,E30=BT6),'  '!B6,IF(OR(E30=BT7,E30=BT8,E30=BT9,E30=BT10,E30=BT11,E30=BT12,E30=BT13,E30=BT14,E30=BT15),'  '!B7,IF(OR(E30=BT16,E30=BT17,E30=BT18,E30=BT19,E30=BT20),'  '!B8,)))","v":4.54},"PE",{"$f":"'  '!$B$11","v":3},"1 - Front","Warning 2","Warning: Sail too narrow, decrease no. of sails, add additional fitting points gap size",{"$f":"IF(E22=BP2,2,IF(E22=BP3,1,E22))","v":{"$error":"#DIV/0!"}},"ISX Solid",null,"Stainless steel",null,null,"Tri material",{"$f":"IF(OR(I30=CG2,I30=CG3,I30=CG4,I30=CG5,I30=CG6),'  '!B6,IF(OR(I30=CG7,I30=CG8,I30=CG9,I30=CG10,I30=CG11,I30=CG12,I30=CG13,I30=CG14,I30=CG15),'  '!B7,IF(OR(I30=CG16,I30=CG17,I30=CG18,I30=CG19,I30=CG20),'  '!B8,)))","v":4.54},null,null,"1 - Front","Warning 2","Warning: Sail too narrow, decrease no. of sails, add additional fitting points gap size",{"$f":"IF(I22=CC2,2,IF(I22=CC3,1,I22))","v":{"$error":"#DIV/0!"}},"ISX Solid",null,"Stainless steel",null,null,"Tri material",{"$f":"IF(OR(L30=CT2,L30=CT3,L30=CT4,L30=CT5,L30=CT6),'  '!B6,IF(OR(L30=CT7,L30=CT8,L30=CT9,L30=CT10,L30=CT11,L30=CT12,L30=CT13,L30=CT14,L30=CT15),'  '!B7,IF(OR(L30=CT16,L30=CT17,L30=CT18,L30=CT19,L30=CT20),'  '!B8,)))","v":4.54},null,null,"1 - Front","Warning 2","Warning: Sail too narrow, decrease no. of sails, add additional fitting points gap size",{"$f":"IF(L22=CP2,2,IF(L22=CP3,1,L22))","v":{"$error":"#DIV/0!"}},"ISX Solid",null,"Stainless steel"]
[null,null,null,null,null,null,null,null,null,null,null,null,null,null,null,null,null," ",null,null,null,null,null,null,null,null,null,null,null,null,null,null,null,null,null,null,null,null,null,null,null,null,null,null,null,null," ",null,null,null,null,null,null,null,null,null,null,null,null,null,null,null,null,null,null,"PN",{"$f":"IF(BP9=4,'  '!$B$19,'  '!$B$20)","v":4.75},1,"Warning 3","Warning: Sail too wide for standard fabric, please add more sails or increase gap size",null,"ISX White",null,"White",null," ",null,null,"PN",{"$f":"IF(CC9=4,'  '!$B$19,'  '!$B$20)","v":4.25},1,"Warning 3","Warning: Sail too wide for standard fabric, please add more sails or increase gap size",null,"ISX White",null,"White",null,null,null,null,"PN",{"$f":"IF(CP9=4,'  '!$B$19,'  '!$B$20)","v":4.25},1,"Warning 3","Warning: Sail too wide for standard fabric, please add more sails or increase gap size",null,"ISX White",null,"White"]
[null,null,null,null,null,null,null,null,null,null,null,null,null,null,null,null,null," ",null,null,null,null,null,null,null,null,null,null,null,null,null,null,null,null,null,null,null,null,null,null,null,null,null,null,null,null," ",null,null,null,null,null,null,null,null,null,null,null,null,null,null,null,null,null,null,null,null,2,"Warning 4","Warning: Conservatory too long for standard fabric, contact office for more detailed price",null,"ISX Solid Ivory",null,"Gold",null," ",null,null,null,null,2,"Warning 4","Warning: Conservatory too long for standard fabric, contact office for more detailed price",null,"ISX Solid Ivory",null,"Gold",null,null,null,null,null,null,2,"Warning 4","Warning: Conservatory too long for standard fabric, contact office for more detailed price",null,"ISX Solid Ivory",null,"Gold"]
[null,{"$f":"'  '!A46","v":"v2023.2"},null,null,null,null,null,null,null,null,null,null,null,null,null,null,null," ",null,null,null,null,null,null,null,null,null,null,null,null,null,null,null,null,null,null,null,null,null,null,null,null,null,null,null,null," ",null,null,null,null,null,null,null,null,null,null,null,null,null,null,null,null,null,null,"No. of vents",null,3,null,null,null,"ISX Solid Oyster",null,"Cost",{"$f":"IF(E31=BV2, '  '!B24, '  '!B25)","v":7}," ",null,null,"No. of vents",null,3,null,null,null,"ISX Solid Oyster",null,"Cost",{"$f":"IF(I31=BV2, '  '!B24, '  '!B25)","v":7},null,null,null,"No. of vents",null,3,null,null,null,"ISX Solid Oyster",null,"Cost",{"$f":"IF(L31=BV2, '  '!B24, '  '!B25)","v":7}]
[null,null,null,null,null,null,null,null,null,null,null,null,null,null,null,null,null,null,null,null,null,null,null,null,null,null,null,null,null,null,null,null,null,null,null,null,null,null,null,null,null,null,null,null,null,null,null,null,null,null,null,null,null,null,null,null,null,null,null,null,null,null,null,"Standard",{"$f":"'  '!B14","v":1},0,null,4," ",null,null,"ISX Solid Stone",null,null,null,null,null,null,0,null,4," ",null,null,"ISX Solid Stone",null,null,null,null,null,null,0,null,4," ",null,null,"ISX Solid Stone"]
[null,null,null,null,null,null,null,null,null,null,null,null,null,null,null,null,null,null,null,null,null,null,null,null,null,null,null,null,null,null,null,null,null,null,null,null,null,null,null,null,null,null,null,null,null,null,null,null,null,null,null,null,null,null,null,null,null,null,null,null,null,null,null,"Triangle",{"$f":"'  '!B15","v":0.75},1,null,null,null,"Dims in m",null,"ISX Duplex",null,null,null,null,null,null,1,null,null,null,"Dims in m",null,"ISX Duplex",null,null,null,null,null,null,1,null,null,null,"Dims in m",null,"ISX Duplex"]
[null,null,null,null,null,null,null,null,null,null,null,null,null,null,null,null,null,null,null,null,null,null,null,null,null,null,null,null,null,null,null,null,null,null,null,null,null,null,null,null,null,null,null,null,null,null,null,null,null,null,null,null,null,null,null,null,null,null,null,null,null,null,null,null,null,2,null,null,"h1",{"$f":"B26/IF(B24>B25,B24,B25)","v":{"$error":"#DIV/0!"}},null,"ISX Duplex Ocean",null,null,null,null,null,null,2,null,null,"h1",{"$f":"B26/IF(B24>B25,B24,B25)","v":{"$error":"#DIV/0!"}},null,"ISX Duplex Ocean",null,null,null,null,null,null,2,null,null,"h1",{"$f":"B26/IF(B24>B25,B24,B25)","v":{"$error":"#DIV/0!"}},null,"ISX Duplex Ocean"]
[null,null,null,null,null,null,null,null,null,null,null,null,null,null,null,null,null,null,null,null,null,null,null,null,null,null,null,null,null,null,null,null,null,null,null,null,null,null,null,null,null,null,null,null,null,null,null,null,null,null,null,null,null,null,null,null,null,null,null,null,null,null,null,null,null,3,"No. of corners",{"$f":"IF(E25=BY33,6,4)","v":6},"h2",{"$f":"B27/IF(B24>B25,B24,B25)","v":{"$error":"#DIV/0!"}},null,"ISX Duplex Stone",null,null,null,null,null,null,3,"No. of corners",{"$f":"IF(I25=BY33,6,4)","v":4},"h2",{"$f":"B27/IF(B24>B25,B24,B25)","v":{"$error":"#DIV/0!"}},null,"ISX Duplex Stone",null,null,null,null,null,null,3,"No. of corners",{"$f":"IF(L25=BY33,6,4)","v":4},"h2",{"$f":"B27/IF(B24>B25,B24,B25)","v":{"$error":"#DIV/0!"}},null,"ISX Duplex Stone"]
[null,null,null,null,null,null,null,null,null,null,null,null,null,null,null,null,null,null,null,null,null,null,null,null,null,null,null,null,null,null,null,null,null,null,null,null,null,null,null,null,null,null,null,null,null,null,null,null,null,null,null,null,null,null,null,null,null,null,null,null,null,null,null,"Overlap left",{"$f":"IF(E23=BL11,BM11,IF(E23=BL12,BM12,IF(E23=BL13,BM13,)))","v":{"$error":"#DIV/0!"}},4,null,null,"y1",{"$f":"B25/IF(B24>B25,B24,B25)","v":{"$error":"#DIV/0!"}},null,"ISX Duplex Slate",null,null,null,null,"Overlap left",{"$f":"IF(I23=BY11,BZ11,IF(I23=BY12,BZ12,IF(I23=BY13,BZ13,)))","v":{"$error":"#DIV/0!"}},4,null,null,"y1",{"$f":"B25/IF(B24>B25,B24,B25)","v":{"$error":"#DIV/0!"}},null,"ISX Duplex Slate",null,null,null,null,"Overlap left",{"$f":"IF(L23=CL11,CM11,IF(L23=CL12,CM12,IF(L23=CL13,CM13,)))","v":0},4,null,null,"y1",{"$f":"B25/IF(B24>B25,B24,B25)","v":{"$error":"#DIV/0!"}},null,"ISX Duplex Slate"]
[null,null,null,null,null,null,null,null,null,null,null,null,null,null,null,null,null,null,null,null,null,null,null,null,null,null,null,null,null,null,null,null,null,null,null,null,null,null,null,null,null,null,null,null,null,null,null,null,null,null,null,null,null,null,null,null,null,null,null,null,null,null,null,0,0,null,"Curve allowance",0.5,"x1",{"$f":"B24/IF(B24>B25,B24,B25)","v":{"$error":"#DIV/0!"}},null,"ISX Duplex Graphite",null,null,null,null,0,0,null,"Curve allowance",0.5,"x1",{"$f":"B24/IF(B24>B25,B24,B25)","v":{"$error":"#DIV/0!"}},null,"ISX Duplex Graphite",null,null,null,null,0,0,null,"Curve allowance",0.5,"x1",{"$f":"B24/IF(B24>B25,B24,B25)","v":{"$error":"#DIV/0!"}},null,"ISX Duplex Graphite"]
[null,null,null,null,null,null,null,null,null,null,null,null,null,null,null,null,null,null,null,null,null,null,null,null,null,null,null,null,null,null,null,null,null,null,null,null,null,null,null,null,null,null,null,null,null,null,null,null,null,null,null,null,null,null,null,null,null,null,null,null,null,null,null,0.5,{"$f":"IF(E22=BP3,0,IF(OR(E22=BP4,E22=BP2),(BN16/2)+BR23,(BN16*0.75)+BR23))","v":{"$error":"#DIV/0!"}},null,null,null,null,null,null,"ISXFR Solid",null,null,null,null,0.5,{"$f":"IF(I22=CC3,0,IF(OR(I22=CC4,I22=CC2),(CA16/2)+CE23,(CA16*0.75)+CE23))","v":{"$error":"#DIV/0!"}},null,null,null,null,null,null,"ISXFR Solid",null,null,null,null,0.5,{"$f":"IF(L22=CP3,0,IF(OR(L22=CP4,L22=CP2),(CN16/2)+CR23,(CN16*0.75)+CR23))","v":{"$error":"#DIV/0!"}},null,null,null,null,null,null,"ISXFR Solid"]
[null,null,null,null,null,null,null,null,null,null,null,null,null,null,null,null,null,null,null,null,null,null,null,null,null,null,null,null,null,null,null,null,null,null,null,null,null,null,null,null,null,null,null,null,null,null,null,null,null,null,null,null,null,null,null,null,null,null,null,null,null,null,null,1,{"$f":"IF(E22=BP3,0,IF(OR(E22=BP4,E22=BP2),BN16+BR23,IF(E22=BP5,(BN16*1.34)+BR23,(BN16*1.67)+BR23)))","v":{"$error":"#DIV/0!"}},"tri width","tri length","tri mid","tri quarter","tri perimeter",null,"ISXFR White",null,null,null,null,1,{"$f":"IF(I22=CC3,0,IF(OR(I22=CC4,I22=CC2),CA16+CE23,IF(I22=CC5,(CA16*1.34)+CE23,(CA16*1.67)+CE23)))","v":{"$error":"#DIV/0!"}},"tri width","tri length","tri mid","tri quarter","tri perimeter",null,"ISXFR White",null,null,null,null,1,{"$f":"IF(L22=CP3,0,IF(OR(L22=CP4,L22=CP2),CN16+CR23,IF(L22=CP5,(CN16*1.34)+CR23,(CN16*1.67)+CR23)))","v":{"$error":"#DIV/0!"}},"tri width","tri length","tri mid","tri quarter","tri perimeter",null,"ISXFR White"]
[null,null,null,null,null,null,null,null,null,null,null,null,null,null,null,null,null,null,null,null,null,null,null,null,null,null,null,null,null,null,null,null,null,null,null,null,null,null,null,null,null,null,null,null,null,null,null,null,null,null,null,null,null,null,null,null,null,null,null,null,null,null,null,"Overlap right",{"$f":"BM10","v":{"$error":"#DIV/0!"}},{"$f":"BO14*0.8","v":{"$error":"#DIV/0!"}},{"$f":"P65-(0.07/(IF(B24>B25,B24,B25)/1000))","v":{"$error":"#DIV/0!"}},{"$f":"BN14*0.13","v":{"$error":"#DIV/0!"}},{"$f":"BP14*0.75","v":{"$error":"#DIV/0!"}},{"$f":"(BN14+(0.07/(IF(B24>B25,B24,B25)/1000)))+((BO14+(0.07/(IF(B24>B25,B24,B25)/1000)))*2)","v":{"$error":"#DIV/0!"}},null,"ISXFR Solid Ivory",null,null,null,null,"Overlap right",{"$f":"BZ10","v":{"$error":"#DIV/0!"}},{"$f":"BO14*0.8","v":{"$error":"#DIV/0!"}},{"$f":"AK65-(0.07/(IF(B24>B25,B24,B25)/1000))","v":{"$error":"#DIV/0!"}},{"$f":"CA14*0.13","v":{"$error":"#DIV/0!"}},{"$f":"CC14*0.75","v":{"$error":"#DIV/0!"}},{"$f":"(CA14+(0.07/(IF(B24>B25,B24,B25)/1000)))+((BO14+(0.07/(IF(B24>B25,B24,B25)/1000)))*2)","v":{"$error":"#DIV/0!"}},null,"ISXFR Solid Ivory",null,null,null,null,"Overlap right",{"$f":"CM10","v":0},{"$f":"BO14*0.8","v":{"$error":"#DIV/0!"}},{"$f":"BF65-(0.07/(IF(B24>B25,B24,B25)/1000))","v":{"$error":"#DIV/0!"}},{"$f":"CN14*0.13","v":{"$error":"#DIV/0!"}},{"$f":"CP14*0.75","v":{"$error":"#DIV/0!"}},{"$f":"(CN14+(0.07/(IF(B24>B25,B24,B25)/1000)))+((BO14+(0.07/(IF(B24>B25,B24,B25)/1000)))*2)","v":{"$error":"#DIV/0!"}},null,"ISXFR Solid Ivory"]
[null,null,null,null,null,null,null,null,null,null,null,null,null,null,null,null,null,null,null,null,null,null,null,null,null,null,null,null,null,null,null,null,null,null,null,null,null,null,null,null,null,null,null,null,null,null,null,null,null,null,null,null,null,null,null,null,null,null,null,null,null,null,null,null,"Warnings","Mid","Quarters","Coverage","Roof area (m^2)",{"$f":"BR18*BR10","v":{"$error":"#DIV/0!"}},null,"ISXFR Solid Oyster",null,null,null,null,null,"Warnings","Mid","Quarters","Coverage","Roof area (m^2)",{"$f":"CE18*CE10","v":{"$error":"#DIV/0!"}},null,"ISXFR Solid Oyster",null,null,null,null,null,"Warnings","Mid","Quarters","Coverage","Roof area (m^2)",{"$f":"CR18*CR10","v":{"$error":"#DIV/0!"}},null,"ISXFR Solid Oyster"]
[null,null,null,null,"Plan view - looking from above        ",null,null,null,"Plan view - looking from above        ",null,null,"Plan view - looking from above        ",null,null,null,null,null,null,null,null,null,null,null,null,null,null,null,null,null,null,null,null,null,null,null,null,null,null,null,null,null,null,null,null,null,null,null,null,null,null,null,null,null,null,null,null,null,null,null,null,null,null,null,"Width",{"$f":"(IF(OR(E22=BP2,E22=BP3),BM23,IF(OR(E22=BP4,E22=BP5,E22=BP6),MIN(BM23:BO23),)))","v":{"$error":"#DIV/0!"}},{"$f":"((BR19+(0.07/(IF(B24>B25,B24,B25)/1000)))*0.13)+BR23","v":{"$error":"#DIV/0!"}},{"$f":"(BN16)*0.75","v":{"$error":"#DIV/0!"}},"One Side","Area of each sail",{"$f":"BR15/BS2","v":{"$error":"#DIV/0!"}},null,"ISXFR Duplex",null,null,null,null,"Width",{"$f":"(IF(OR(I22=CC2,I22=CC3),BZ23,IF(OR(I22=CC4,I22=CC5,I22=CC6),MIN(BZ23:CB23),)))","v":{"$error":"#DIV/0!"}},{"$f":"((CE19+(0.07/(IF(B24>B25,B24,B25)/1000)))*0.13)+CE23","v":{"$error":"#DIV/0!"}},{"$f":"(CA16)*0.75","v":{"$error":"#DIV/0!"}},"One Side","Area of each sail",{"$f":"CE15/CF2","v":{"$error":"#DIV/0!"}},null,"ISXFR Duplex",null,null,null,null,"Width",{"$f":"(IF(OR(L22=CP2,L22=CP3),CM23,IF(OR(L22=CP4,L22=CP5,L22=CP6),MIN(CM23:CO23),)))","v":{"$error":"#DIV/0!"}},{"$f":"((CR19+(0.07/(IF(B24>B25,B24,B25)/1000)))*0.13)+CR23","v":{"$error":"#DIV/0!"}},{"$f":"(CN16)*0.75","v":{"$error":"#DIV/0!"}},"One Side","Area of each sail",{"$f":"CR15/CS2","v":{"$error":"#DIV/0!"}},null,"ISXFR Duplex"]
[null,null,null,null,null,null,null,null,null,null,null,null,null,null,null,null,null,null,null,null,null,null,null,null,null,null,null,null,null,null,null,null,null,null,null,null,null,null,null,null,null,null,null,null,null,null,null,null,null,null,null,null,null,null,null,null,null,null,null,null,null,null,null,"Length",{"$f":"(BR19*(IF(B24>B25,B24,B25)/1000))+0.07","v":{"$error":"#DIV/0!"}},"-","-","Both Sides","Sail perimeter",{"$f":"((BR19+0.07)*2)+((BR20+0.07)*2)","v":{"$error":"#DIV/0!"}},null,"ISXFR Duplex Ocean",null,null,null,null,"Length",{"$f":"(CE19*(IF(B24>B25,B24,B25)/1000))+0.07","v":{"$error":"#DIV/0!"}},"-","-","Both Sides","Sail perimeter",{"$f":"((CE19+0.07)*2)+((CE20+0.07)*2)","v":{"$error":"#DIV/0!"}},null,"ISXFR Duplex Ocean",null,null,null,null,"Length",{"$f":"(CR19*(IF(B24>B25,B24,B25)/1000))+0.07","v":{"$error":"#DIV/0!"}},"-","-","Both Sides","Sail perimeter",{"$f":"((CR19+0.07)*2)+((CR20+0.07)*2)","v":{"$error":"#DIV/0!"}},null,"ISXFR Duplex Ocean"]
[null,null,null,{"$f":"'  '!$A$42","v":"Starting Cost incl. Installation"},{"$f":"((((BM25+BN25+BO25+(E32*'  '!B29)+BP25+('  '!B21*E26)+IF(E31<>BV2,E26*'  '!B26,0)))+(E27*'  '!B30)+(E28*'  '!B31)+(IF(E22=BP6,BN25,0))))","v":{"$error":"#DIV/0!"}},null,null,{"$f":"'  '!$A$43","v":"Average Cost incl. Installation"},{"$f":"((((BZ25+CA25+CB25+(I32*'  '!B29)+CC25+('  '!B21*I26)+IF(I31<>CI2,I26*'  '!B26,0)))+(I27*'  '!B30)+(I28*'  '!B31)+(IF(I22=CC6,CA25,0))))","v":{"$error":"#DIV/0!"}},null,{"$f":"'  '!$A$44","v":"High End Cost incl. Installation"},{"$f":"(((CM25+CN25+CO25+(L32*'  '!B29)+CP25+('  '!B21*L26)+IF(L31<>CV2,L26*'  '!B26,0)))+(L27*'  '!B30)+(L28*'  '!B31)+(IF(L22=CP6,CN25,0)))","v":{"$error":"#DIV/0!"}},null,null,null,null,null,null,null,null,null,null,null,null,null,null,null,null,null,null,null,null,null,null,null,null,null,null,null,null,null,null,null,null,null,null,null,null,null,null,null,null,null,null,null,null,null,null,null,null,null,null,null,"Vertical left",{"$f":"((BR20+(0.07/(IF(B24>B25,B24,B25)/1000)))*0.13)+BR23","v":{"$error":"#DIV/0!"}},{"$f":"BM18*0.75","v":{"$error":"#DIV/0!"}},null,"triangles","Glazing bar length",{"$f":"SQRT((BR9-BR8)^2+(BR11/2)^2)","v":{"$error":"#DIV/0!"}},null,"ISXFR Duplex Stone",null,null,null,null,"Vertical left",{"$f":"((CE20+(0.07/(IF(B24>B25,B24,B25)/1000)))*0.13)+CE23","v":{"$error":"#DIV/0!"}},{"$f":"BZ18*0.75","v":{"$error":"#DIV/0!"}},null,"triangles","Glazing bar length",{"$f":"SQRT((CE9-CE8)^2+(CE11/2)^2)","v":{"$error":"#DIV/0!"}},null,"ISXFR Duplex Stone",null,null,null,null,"Vertical left",{"$f":"((CR20+(0.07/(IF(B24>B25,B24,B25)/1000)))*0.13)+CR23","v":{"$error":"#DIV/0!"}},{"$f":"CM18*0.75","v":{"$error":"#DIV/0!"}},null,"triangles","Glazing bar length",{"$f":"SQRT((CR9-CR8)^2+(CR11/2)^2)","v":{"$error":"#DIV/0!"}},null,"ISXFR Duplex Stone"]
[null,null,null,null,{"$f":"'   '!U5+'  '!B33","v":{"$error":"#DIV/0!"}},null,null,null,{"$f":"'   '!AG5+'  '!B33","v":{"$error":"#DIV/0!"}},null,null,{"$f":"'   '!AS5+'  '!B33","v":{"$error":"#DIV/0!"}},null,null,null,null,null,null,null,null,null,null,null,null,null,null,null,null,null,null,null,null,null,null,null,null,null,null,null,null,null,null,null,null,null,null,null,null,null,null,null,null,null,null,null,null,null,null,null,null,null,null,null,"Vertical mid",{"$f":"((AVERAGE(BR21:BS21)+(0.07/(IF(B24>B25,B24,B25)/1000)))*0.13)+BR23","v":{"$error":"#DIV/0!"}},{"$f":"BM19*0.75","v":{"$error":"#DIV/0!"}},null,"No","Length of sail",{"$f":"(BR11/2)-(0.07/(IF(B24>B25,B24,B25)/1000))","v":{"$error":"#DIV/0!"}},null,"ISXFR Duplex Slate",null,null,null,null,"Vertical mid",{"$f":"((AVERAGE(CE21:CF21)+(0.07/(IF(B24>B25,B24,B25)/1000)))*0.13)+CE23","v":{"$error":"#DIV/0!"}},{"$f":"BZ19*0.75","v":{"$error":"#DIV/0!"}},null,"No","Length of sail",{"$f":"(CE11/2)-(0.07/(IF(B24>B25,B24,B25)/1000))","v":{"$error":"#DIV/0!"}},null,"ISXFR Duplex Slate",null,null,null,null,"Vertical mid",{"$f":"((AVERAGE(CR21:CS21)+(0.07/(IF(B24>B25,B24,B25)/1000)))*0.13)+CR23","v":{"$error":"#DIV/0!"}},{"$f":"CM19*0.75","v":{"$error":"#DIV/0!"}},null,"No","Length of sail",{"$f":"(CR11/2)-(0.07/(IF(B24>B25,B24,B25)/1000))","v":{"$error":"#DIV/0!"}},null,"ISXFR Duplex Slate"]
[null,null,null,null,null,null,null,null,null,null,null,null,null,null,null,null,null,null,null,null,null,null,null,null,null,null,null,null,null,null,null,null,null,null,null,null,null,null,null,null,null,null,null,null,null,null,null,null,null,null,null,null,null,null,null,null,null,null,null,null,null,null,null,"Vertical right",{"$f":"((BR22+(0.07/(IF(B24>B25,B24,B25)/1000)))*0.13)+BR23","v":{"$error":"#DIV/0!"}},{"$f":"BM20*0.75","v":{"$error":"#DIV/0!"}},null,"Yes","Width left",{"$f":"(BR10/BS2)-(0.07/(IF(B24>B25,B24,B25)/1000))+BM10","v":{"$error":"#DIV/0!"}}," ->","ISXFR Duplex Graphite",null,null,null,null,"Vertical right",{"$f":"((CE22+(0.07/(IF(B24>B25,B24,B25)/1000)))*0.13)+CE23","v":{"$error":"#DIV/0!"}},{"$f":"BZ20*0.75","v":{"$error":"#DIV/0!"}},null,"Yes","Width left",{"$f":"(CE10/CF2)-(0.07/(IF(B24>B25,B24,B25)/1000))+BZ10","v":{"$error":"#DIV/0!"}}," ->","ISXFR Duplex Graphite",null,null,null,null,"Vertical right",{"$f":"((CR22+(0.07/(IF(B24>B25,B24,B25)/1000)))*0.13)+CR23","v":{"$error":"#DIV/0!"}},{"$f":"CM20*0.75","v":{"$error":"#DIV/0!"}},null,"Yes","Width left",{"$f":"(CR10/CS2)-(0.07/(IF(B24>B25,B24,B25)/1000))+CM10","v":{"$error":"#DIV/0!"}}," ->","ISXFR Duplex Graphite"]
[null,null,null,"Select coverage","Both Sides",null,null,"Select coverage","Both Sides",null,"Select coverage","Both Sides",null,null,null,null,null,null,null,null,null,null,null,null,null,null,null,null,null,null,null,null,null,null,null,null,null,null,null,null,null,null,null,null,null,null,null,null,null,null,null,null,null,null,null,null,null,null,null,null,null,null,null,"Costs","left","mid","right","tri","Width middle",{"$f":"(BR10/BS2)-(0.07/(IF(B24>B25,B24,B25)/1000))+BM10","v":{"$error":"#DIV/0!"}},{"$f":"(BR10/BS2)-(0.07/(IF(B24>B25,B24,B25)/1000))+BM14","v":{"$error":"#DIV/0!"}},null,null,null,null,null,"Costs","left","mid","right","tri","Width middle",{"$f":"(CE10/CF2)-(0.07/(IF(B24>B25,B24,B25)/1000))+BZ10","v":{"$error":"#DIV/0!"}},{"$f":"(CE10/CF2)-(0.07/(IF(B24>B25,B24,B25)/1000))+BZ14","v":{"$error":"#DIV/0!"}},null,null,null,null,null,"Costs","left","mid","right","tri","Width middle",{"$f":"(CR10/CS2)-(0.07/(IF(B24>B25,B24,B25)/1000))+CM10","v":{"$error":"#DIV/0!"}},{"$f":"(CR10/CS2)-(0.07/(IF(B24>B25,B24,B25)/1000))+CM14","v":{"$error":"#DIV/0!"}}]
[null,null,null,"Number of sails per side",{"$f":"BU27","v":{"$error":"#DIV/0!"}},null,null,"Number of sails per side",{"$f":"CH27","v":{"$error":"#DIV/0!"}},null,"Number of sails per side",{"$f":"CU27","v":{"$error":"#DIV/0!"}},null,null,null,null,null,null,null,null,null,null,null,null,null,null,null,null,null,null,null,null,null,null,null,null,null,null,null,null,null,null,null,null,null,null,null,null,null,null,null,null,null,null,null,null,null,null,null,null,null,null,null,"length",{"$f":"(BR18*(IF(B24>B25,B24,B25)/1000))","v":{"$error":"#DIV/0!"}},{"$f":"BM22","v":{"$error":"#DIV/0!"}},{"$f":"BN22","v":{"$error":"#DIV/0!"}},{"$f":"BO22","v":{"$error":"#DIV/0!"}},"Width right",{"$f":"(BR10/BS2)-(0.07/(IF(B24>B25,B24,B25)/1000))+BM14","v":{"$error":"#DIV/0!"}},null,null,null,null,null,null,"length",{"$f":"(CE18*(IF(B24>B25,B24,B25)/1000))","v":{"$error":"#DIV/0!"}},{"$f":"BZ22","v":{"$error":"#DIV/0!"}},{"$f":"CA22","v":{"$error":"#DIV/0!"}},{"$f":"CB22","v":{"$error":"#DIV/0!"}},"Width right",{"$f":"(CE10/CF2)-(0.07/(IF(B24>B25,B24,B25)/1000))+BZ14","v":{"$error":"#DIV/0!"}},null,null,null,null,null,null,"length",{"$f":"(CR18*(IF(B24>B25,B24,B25)/1000))","v":{"$error":"#DIV/0!"}},{"$f":"CM22","v":{"$error":"#DIV/0!"}},{"$f":"CN22","v":{"$error":"#DIV/0!"}},{"$f":"CO22","v":{"$error":"#DIV/0!"}},"Width right",{"$f":"(CR10/CS2)-(0.07/(IF(B24>B25,B24,B25)/1000))+CM14","v":{"$error":"#DIV/0!"}}]
[null,"All dims in mm",null,"Overlaps",0.5,null,null,"Overlaps",0.5,null,"Overlaps",0,null,null,null,null,null,null,null,null,null,null,null,null,null,null,null,null,null,null,null,null,null,null,null,{"$f":"'   '!AO9","v":0},null,null,null,null,null,null,null,null,null,null,null,null,null,null,null,null,null,null,null,null,null,null,null,null,null,null,null,"width",{"$f":"((A68-A64)*(IF(B24>B25,B24,B25)/1000))+0.07","v":{"$error":"#DIV/0!"}},{"$f":"IF(E22<>BP5,MIN(BM23,BO23),((E68-E64)*(IF(B24>B25,B24,B25)/1000))+0.07)","v":{"$error":"#DIV/0!"}},{"$f":"((C68-C64)*(IF(B24>B25,B24,B25)/1000))+0.07*IF(E22<>BP3,1,1000)","v":{"$error":"#DIV/0!"}},{"$f":"(BN14*(IF(B24>B25,B24,B25)/1000))+0.07","v":{"$error":"#DIV/0!"}},"50mm links",{"$f":"0.035/(IF(B24>B25,B24,B25)/1000)","v":{"$error":"#DIV/0!"}},null,null,null,null,null,null,"width",{"$f":"((V68-V64)*(IF(B24>B25,B24,B25)/1000))+0.07","v":{"$error":"#DIV/0!"}},{"$f":"IF(I22<>CC5,MIN(BZ23,CB23),((Z68-Z64)*(IF(B24>B25,B24,B25)/1000))+0.07)","v":{"$error":"#DIV/0!"}},{"$f":"((X68-X64)*(IF(B24>B25,B24,B25)/1000))+0.07*IF(I22<>CC3,1,1000)","v":{"$error":"#DIV/0!"}},{"$f":"(CA14*(IF(B24>B25,B24,B25)/1000))+0.07","v":{"$error":"#DIV/0!"}},"50mm links",{"$f":"0.035/(IF(B24>B25,B24,B25)/1000)","v":{"$error":"#DIV/0!"}},null,null,null,null,null,null,"width",{"$f":"((AQ68-AQ64)*(IF(B24>B25,B24,B25)/1000))+0.07","v":{"$error":"#DIV/0!"}},{"$f":"IF(L22<>CP5,MIN(CM23,CO23),((AU68-AU64)*(IF(B24>B25,B24,B25)/1000))+0.07)","v":{"$error":"#DIV/0!"}},{"$f":"((AS68-AS64)*(IF(B24>B25,B24,B25)/1000))+0.07*IF(L22<>CP3,1,1000)","v":{"$error":"#DIV/0!"}},{"$f":"(CN14*(IF(B24>B25,B24,B25)/1000))+0.07","v":{"$error":"#DIV/0!"}},"50mm links",{"$f":"0.035/(IF(B24>B25,B24,B25)/1000)","v":{"$error":"#DIV/0!"}}]
["X1",null,null,"Triangles","No",null,null,"Triangles","No",null,"Triangles","Yes",null,null,null,null,null,null,null,null,null,null,null,null,null,null,null,null,null,null,null,null,null,null,null,null,null,null,null,null,null,null,null,null,null,null,null,null,null,null,null,null,null,null,null,null,null,null,null,null,null,null,null,"perimeter",{"$f":"((BM22*2)+(BM23*2))*1.05","v":{"$error":"#DIV/0!"}},{"$f":"((BN22*2)+(BN23*2))*1.05","v":{"$error":"#DIV/0!"}},{"$f":"((BO22*2)+(BO23*2))*1.05","v":{"$error":"#DIV/0!"}},{"$f":"((BP22*2)+BP23)*1.05","v":{"$error":"#DIV/0!"}},"4 sails left",{"$f":"(BR10*0.375)+(MAX(BM14,BM10)/6)","v":{"$error":"#DIV/0!"}},"4 sails left",{"$f":"(BR10*0.625)-(MAX(BM14,BM10)/6)","v":{"$error":"#DIV/0!"}},null,null,null,null,"perimeter",{"$f":"((BZ22*2)+(BZ23*2))*1.05","v":{"$error":"#DIV/0!"}},{"$f":"((CA22*2)+(CA23*2))*1.05","v":{"$error":"#DIV/0!"}},{"$f":"((CB22*2)+(CB23*2))*1.05","v":{"$error":"#DIV/0!"}},{"$f":"((CC22*2)+CC23)*1.05","v":{"$error":"#DIV/0!"}},"4 sails left",{"$f":"(CE10*0.375)+(MAX(BZ14,BZ10)/6)","v":{"$error":"#DIV/0!"}},"4 sails left",{"$f":"(CE10*0.625)-(MAX(BZ14,BZ10)/6)","v":{"$error":"#DIV/0!"}},null,null,null,null,"perimeter",{"$f":"((CM22*2)+(CM23*2))*1.05","v":{"$error":"#DIV/0!"}},{"$f":"((CN22*2)+(CN23*2))*1.05","v":{"$error":"#DIV/0!"}},{"$f":"((CO22*2)+(CO23*2))*1.05","v":{"$error":"#DIV/0!"}},{"$f":"((CP22*2)+CP23)*1.05","v":{"$error":"#DIV/0!"}},"4 sails left",{"$f":"(CR10*0.375)+(MAX(CM14,CM10)/6)","v":{"$error":"#DIV/0!"}},"4 sails left",{"$f":"(CR10*0.625)-(MAX(CM14,CM10)/6)","v":{"$error":"#DIV/0!"}}]
["Y1",null,null,"6 sided sails","Yes",null,null,"6 sided sails","No",null,"6 sided sails","No",null,null,null,null,null,null,null,null,null,null,null,null,null,null,null,null,null,null,null,null,null,null,null,null,null,null,null,null,null,null,null,null,null,null,null,null,null,null,null,null,null,null,null,null,null,null,null,null,null,null,null,null,{"$f":"(IF(E21=BP17,2,1)*((BM1*((BM22*BM23*BO1*BM6)+(BM24*BO2)+(BP9*BO3)))+(BP9*BW5)+'  '!B35))","v":{"$error":"#DIV/0!"}},{"$f":"(IF(OR(E22=BP2,E22=BP3,E22=BP4),0,(IF(E21=BP17,2,1)*(IF(OR(E22=BP5,E22=BP6),((BM1*((BN22*BN23*BO1*BM6)+(BN24*BO2)+(BP9*BO3)))+(BP9*BW5)+'  '!B35),)))))","v":{"$error":"#DIV/0!"}},{"$f":"IF(OR(E22=BP2,E22=BP3),0,(IF(E21=BP17,2,1)*(IF(OR(E22=BP4,E22=BP5,E22=BP6),((BM1*((BO22*BO23*BO1*BM6)+(BO24*BO2)+(BP9*BO3)))+(BP9*BW5)+'  '!B35),))))","v":{"$error":"#DIV/0!"}},{"$f":"IF(E24=BP20,E22-1,0)*((BM2*((BP22*BP23*BO1*BM7)+(BP24*BO2)+(3*'  '!B19)))+(3*BW5)+'  '!B35)*IF(E21=BP17,2,1)","v":{"$error":"#DIV/0!"}},null,null,null,null,null,null,null,null,null,{"$f":"(IF(I21=CC17,2,1)*((BZ1*((BZ22*BZ23*BO1*BM6)+(BZ24*BO2)+(CC9*CB3)))+(CC9*CJ5)+'  '!B35))","v":{"$error":"#DIV/0!"}},{"$f":"(IF(OR(I22=CC2,I22=CC3,I22=CC4),0,(IF(I21=CC17,2,1)*(IF(OR(I22=CC5,I22=CC6),((BZ1*((CA22*CA23*BO1*BM6)+(CA24*BO2)+(CC9*CB3)))+(CC9*CJ5)+'  '!B35),)))))","v":{"$error":"#DIV/0!"}},{"$f":"IF(OR(I22=CC2,I22=CC3),0,(IF(I21=CC17,2,1)*(IF(OR(I22=CC4,I22=CC5,I22=CC6),((BZ1*((CB22*CB23*BO1*BM6)+(CB24*BO2)+(CC9*CB3)))+(CC9*CJ5)+'  '!B35),))))","v":{"$error":"#DIV/0!"}},{"$f":"IF(I24=CC20,I22-1,0)*((BZ2*((CC22*CC23*BO1*BM7)+(CC24*BO2)+(3*'  '!B19)))+(3*CJ5)+'  '!B35)*IF(I21=CC17,2,1)","v":{"$error":"#DIV/0!"}},null,null,null,null,null,null,null,null,null,{"$f":"(IF(L21=CP17,2,1)*((CM1*((CM22*CM23*BO1*BM6)+(CM24*BO2)+(CP9*CO3)))+(CP9*CW5)+'  '!B35))","v":{"$error":"#DIV/0!"}},{"$f":"(IF(OR(L22=CP2,L22=CP3,L22=CP4),0,(IF(L21=CP17,2,1)*(IF(OR(L22=CP5,L22=CP6),((CM1*((CN22*CN23*BO1*BM6)+(CN24*BO2)+(CP9*CO3)))+(CP9*CW5)+'  '!B35),)))))","v":{"$error":"#DIV/0!"}},{"$f":"IF(OR(L22=CP2,L22=CP3),0,(IF(L21=CP17,2,1)*(IF(OR(L22=CP4,L22=CP5,L22=CP6),((CM1*((CO22*CO23*BO1*BM6)+(CO24*BO2)+(CP9*CO3)))+(CP9*CW5)+'  '!B35),))))","v":{"$error":"#DIV/0!"}},{"$f":"IF(L24=CP20,L22-1,0)*((CM2*((CP22*CP23*BO1*BM7)+(CP24*BO2)+(3*'  '!B19)))+(3*CW5)+'  '!B35)*IF(L21=CP17,2,1)","v":{"$error":"#DIV/0!"}}]
["H1",null,null,"Total additional fittings",0,null,null,"Total additional fittings",0,null,"Total additional fittings",0,null,null,null,null,null,null,null,null,null,null,null,null,null,null,null,null,null,null,null,null,null,null,null,{"$f":"'   '!AO12","v":0},null,null,null,null,null,null,null,null,null,null,null,null,null,null,null,null,null,null,null,null,null,null,null,null,null,null,null,null,null,null,null,null,null,null,null,null,"Low",null,null,null,null,null,null,null,null,null,null,null,null,"Mid",null,null,null,null,null,null,null,null,null,null,null,null,"Top"]
["H2",null,null,"Total tie-bar loops",0,null,null,"Total tie-bar loops",0,null,"Total tie-bar loops",0,null,null,null,null,null,null,null,null,null,null,null,null,null,null,null,null,null,null,null,null,null,null,null,null,null,null,null,null,null,null,null,null,null,null,null,null,null,null,null,null,null,null,null,null,null,null,null,null,null,null,null,null,null,null,null,null,null,null,null,"Number of sails per side",{"$f":"IF(BU31<1.25,1,IF(AND(BU31>=1.25,BU31<=2.25),1,IF(AND(BU31>2.25,BU31<3),2,IF(AND(BU31>=3),3))))","v":{"$error":"#DIV/0!"}},null,null,null,null,null,null,null,null,null,null,null,"Number of sails per side",{"$f":"IF(CH31<1.25,1,IF(AND(CH31>=1.25,CH31<=2.25),2,IF(AND(CH31>2.25,CH31<3),3,IF(AND(CH31>=3),4))))","v":{"$error":"#DIV/0!"}},null,null,null,null,null,null,null,null,null,null,null,"Number of sails per side",{"$f":"IF(CU31<1.25,1,IF(AND(CU31>=1.25,CU31<=2.25),2,IF(AND(CU31>2.25,CU31<3),3,IF(AND(CU31>=3),4))))","v":{"$error":"#DIV/0!"}}]
[null,null,null,"Total straight edges",0,null,{"$f":"'   '!A12","v":0},"Total straight edges",0,null,"Total straight edges",0,null,null,null,null,null,null,null,null,null,null,null,null,null,null,null,null,null,null,null,null,null,null,null,null,null,null,null,null,null,null,null,null,null,null,null,null,null,null,null,null,null,null,null,null,null,null,null,null,null,null,null,null,null,null,null,null,null,null,null,"Overlaps",0.5,null,null,null,null,null,null,null,null,null,null,null,"Overlaps",0.5,null,null,null,null,null,null,null,null,null,null,null,"Overlaps",0]
[null,null,null,"Colour of main sails","ISX Solid",null,null,"Colour of main sails","ISX Solid",null,"Colour of main sails","ISX Solid",null,null,null,null,null,null,null,null,null,null,null,null,null,null,null,null,null,null,null,null,null,null,null,null,null,null,null,null,null,null,null,null,null,null,null,null,null,null,null,null,null,null,null,null,null,null,null,null,null,null,null,null,null,null,null,null,null,null,null,"Triangles","No",null,null,null,null,null,null,null,null,null,null,null,"Triangles","No",null,null,null,null,null,null,null,null,null,null,null,"Triangles","Yes"]
[null,null,null,"Colour of triangles","ISX Solid",null,null,"Colour of triangles","ISX Solid",null,"Colour of triangles","ISX Solid",null,null,null,null,null,null,null,null,null,null,null,null,null,null,null,null,null,null,null,null,null,null,null,null,null,null,null,null,null,null,null,null,null,null,null,null,null,null,null,null,null,null,null,null,null,null,null,null,null,null,null,null,null,null,null,null,null,null,null,"Total additional fittings",{"$f":"BU27*2*IF(E21=BP17,2,1)","v":{"$error":"#DIV/0!"}},null,null,null,null,null,null,null,null,null,null,null,"Total additional fittings",{"$f":"IF(CH31<1.25,2,)*IF(I21=CC17,2,1)","v":{"$error":"#DIV/0!"}},null,null,null,null,null,null,null,null,null,null,null,"Total additional fittings",{"$f":"IF(CU31<1.25,4,)*IF(L21=CP17,2,1)","v":{"$error":"#DIV/0!"}}]
[null,null,null,"Colour of fittings","Stainless steel",null,null,"Colour of fittings","Stainless steel",null,"Colour of fittings","Stainless steel",null,null,null,null,null,null,null,null,null,null,null,null,null,null,null,null,null,null,null,null,null,null,null,null,null,null,null,null,null,null,null,null,null,null,null,null,null,null,null,null,null,null,null,null,null,null,null,null,null,null,null,null,null,null,null,null,null,null,null,"Length/Width Ratio",{"$f":"B25/(B24/2)","v":{"$error":"#DIV/0!"}},null,null,"Overlaps","Triangles",null,null,null,null,null,null,null,"Length/Width Ratio",{"$f":"B25/(B24/2)","v":{"$error":"#DIV/0!"}},null,null,null,null,null,null,null,null,null,null,null,"Length/Width Ratio",{"$f":"B25/(B24/2)","v":{"$error":"#DIV/0!"}}]
[null,null,null,"Number of window vents",0,null,null,"Number of window vents",0,null,"Number of window vents",0,null,null,null,null,null,null,null,null,null,null,null,null,null,null,null,null,null,null,null,null,null,null,null,null,null,null,null,null,null,null,null,null,null,null,null,null,null,null,null,null,null,null,null,null,null,null,null,null,null,null,null,null,null,null,null,null,null,null,null,null,null,null,null,0,"No"]
[null,null,null,null,null,null,null,null,null,null,null,null,null,null,null,null,null,null,null,null,null,null,null,null,null,null,null,null,null,null,null,null,null,null,null,null,null,null,null,null,null,null,null,null,null,null,null,null,null,null,null,null,null,null,null,null,null,null,null,null,null,null,null,null,null,null,null,null,null,null,null,null,null,null,null,0.5,"Yes"]
[null,null,null,"Max length of sail",{"$f":"(MAX(BM22:BO22))*1000","v":{"$error":"#DIV/0!"}},null,null,"Max length of sail",{"$f":"(MAX(BZ22:CB22))*1000","v":{"$error":"#DIV/0!"}},null,"Max length of sail",{"$f":"(MAX(CM22:CO22))*1000","v":{"$error":"#DIV/0!"}},null,null,null,null,null,null,null,null,null,null,null,null,null,null,null,null,null,null,null,null,null,null,null,null,null,null,null,null,null,null,null,null,null,null,null,null,null,null,null,null,null,null,null,null,null,null,null,null,null,null,null,null,null,null,null,null,null,null,null,null,null,null,null,1]
[null,null,null,"Max width of sail",{"$f":"BM16*1000","v":{"$error":"#DIV/0!"}},null,null,"Max width of sail",{"$f":"BZ16*1000","v":{"$error":"#DIV/0!"}},null,"Max width of sail",{"$f":"CM16*1000","v":{"$error":"#DIV/0!"}}]
[null,null,null,null,"Sails +2100mm in both directions require seams",null,null,null,"Sails +2100mm in both directions require seams",null,null,"Sails +2100mm in both directions require seams"]
[]
[]
[]
[]
[]
["x","y","x","y","x","y","x","y","triangles",null,null,null,null,null,null,null,null,null,null,null,null,"x","y","x","y","x","y","x","y","triangles",null,null,null,null,null,null,null,null,null,null,null,null,"x","y","x","y","x","y","x","y","triangles"]
["Left up",null,"Right up",null,"Mid left up",null,"Mid right up",null,"x","y","x","y","x","y","x","y","x","y","x","y",null,"Left up",null,"Right up",null,"Mid left up",null,"Mid right up",null,"x","y","x","y","x","y","x","y","x","y","x","y",null,"Left up",null,"Right up",null,"Mid left up",null,"Mid right up",null,"x","y","x","y","x","y","x","y","x","y","x","y"]
[{"$f":"IF(E21=BP16,0,BR23)","v":{"$error":"#DIV/0!"}},{"$f":"IF(E21=BP16,0,BR23+(BR11/2))","v":{"$error":"#DIV/0!"}},{"$f":"IF(E21=BP16,0,IF(E22=BP3,0,C48-BR22))","v":{"$error":"#DIV/0!"}},{"$f":"IF(E22=BP3,0,B44)","v":{"$error":"#DIV/0!"}},{"$f":"IF($E$21=$BP$16,0,E64)","v":{"$error":"#DIV/0!"}},{"$f":"IF(OR(E22=BP2,E22=BP3,E22=BP4),0,B44)","v":{"$error":"#DIV/0!"}},{"$f":"IF($E$21=$BP$16,0,G64)","v":{"$error":"#DIV/0!"}},{"$f":"F44","v":{"$error":"#DIV/0!"}},"down left",null,"down right",null,"down 3rd",null,"up left",null,"up right",null,"up 3rd",null,null,{"$f":"IF(I21=CC16,0,CE23)","v":{"$error":"#DIV/0!"}},{"$f":"IF(I21=CC16,0,CE23+(CE11/2))","v":{"$error":"#DIV/0!"}},{"$f":"IF(I21=CC16,0,IF(I22=CC3,0,X48-CE22))","v":{"$error":"#DIV/0!"}},{"$f":"IF(I22=CC3,0,W44)","v":{"$error":"#DIV/0!"}},{"$f":"IF($I$21=$BP$16,0,Z64)","v":{"$error":"#DIV/0!"}},{"$f":"IF(OR(I22=CC2,I22=CC3,I22=CC4),0,W44)","v":{"$error":"#DIV/0!"}},{"$f":"IF($I$21=$BP$16,0,AB64)","v":{"$error":"#DIV/0!"}},{"$f":"AA44","v":{"$error":"#DIV/0!"}},"down left",null,"down right",null,"down 3rd",null,"up left",null,"up right",null,"up 3rd",null,null,{"$f":"IF(L21=CP16,0,CR23)","v":{"$error":"#DIV/0!"}},{"$f":"IF(L21=CP16,0,CR23+(CR11/2))","v":{"$error":"#DIV/0!"}},{"$f":"IF(L21=CP16,0,IF(L22=CP3,0,AS48-CR22))","v":{"$error":"#DIV/0!"}},{"$f":"IF(L22=CP3,0,AR44)","v":{"$error":"#DIV/0!"}},{"$f":"IF($L$21=$BP$16,0,AU64)","v":{"$error":"#DIV/0!"}},{"$f":"IF(OR(L22=CP2,L22=CP3,L22=CP4),0,AR44)","v":{"$error":"#DIV/0!"}},{"$f":"IF($L$21=$BP$16,0,AW64)","v":{"$error":"#DIV/0!"}},{"$f":"AV44","v":{"$error":"#DIV/0!"}},"down left",null,"down right",null,"down 3rd",null,"up left",null,"up right",null,"up 3rd"]
[{"$f":"IF(E21=BP16,0,A64+(BR20/4))","v":{"$error":"#DIV/0!"}},{"$f":"IF(E21=BP16,0,B65+(BR11/2))","v":{"$error":"#DIV/0!"}},{"$f":"IF(E21=BP16,0,IF(E22=BP3,0,C46-(BR22/4)))","v":{"$error":"#DIV/0!"}},{"$f":"IF(E21=BP16,0,IF(E22=BP3,0,B45))","v":{"$error":"#DIV/0!"}},{"$error":"#DIV/0!"},{"$f":"IF(E21=BP16,0,IF(OR(E22=BP2,E22=BP3,E22=BP4),0,B45))","v":{"$error":"#DIV/0!"}},{"$error":"#DIV/0!"},{"$f":"F45","v":{"$error":"#DIV/0!"}},{"$f":"IF(E24=BP20,IF(E22<>BP3,I47-(BN14/2),),)","v":0},{"$f":"IF(E24=BP20,IF(E22<>BP3,BR23,),)","v":0},{"$f":"IF(E24=BP20,IF(OR(E22=BP5,E22=BP6),K47-(BN14/2),),)","v":0},{"$f":"IF(E24=BP20,IF(OR(E22=BP5,E22=BP6),BR23,),)","v":0},{"$f":"IF($E$22=4,K45+$I$47,)","v":{"$error":"#DIV/0!"}},{"$f":"IF($E$22=4,L45,)","v":{"$error":"#DIV/0!"}},{"$f":"IF(E21=BP16,0,IF(E24=BP20,IF(E22<>BP3,I47-(BN14/2),),))","v":0},{"$f":"IF(E21=BP16,0,IF(E24=BP20,IF(E22<>BP3,P63-BR23,),))","v":0},{"$f":"IF(E21=BP16,0,IF(E24=BP20,IF(OR(E22=BP5,E22=BP6),K47-(BN14/2),),))","v":0},{"$f":"IF(E24=BP20,IF(OR(E22=BP5,E22=BP6),P63-BR23,),)","v":0},{"$f":"IF(AND($E$22=4,$E$21=$BP$17),Q45+$O$47,)","v":{"$error":"#DIV/0!"}},{"$f":"IF(AND($E$22=4,$E$21=$BP$17),R45,)","v":{"$error":"#DIV/0!"}},null,{"$f":"IF(I21=CC16,0,V64+(CE20/4))","v":{"$error":"#DIV/0!"}},{"$f":"IF(I21=CC16,0,W65+(CE11/2))","v":{"$error":"#DIV/0!"}},{"$f":"IF(I21=CC16,0,IF(I22=CC3,0,X46-(CE22/4)))","v":{"$error":"#DIV/0!"}},{"$f":"IF(I21=CC16,0,IF(I22=CC3,0,W45))","v":{"$error":"#DIV/0!"}},{"$error":"#DIV/0!"},{"$f":"IF(I21=CC16,0,IF(OR(I22=CC2,I22=CC3,I22=CC4),0,W45))","v":{"$error":"#DIV/0!"}},{"$error":"#DIV/0!"},{"$error":"#DIV/0!"},{"$f":"IF(I24=CC20,IF(I22<>CC3,AD47-(CA14/2),),)","v":0},{"$f":"IF(I24=CC20,IF(I22<>CC3,CE23,),)","v":0},{"$f":"IF(I24=CC20,IF(OR(I22=CC5,I22=CC6),AF47-(CA14/2),),)","v":0},{"$f":"IF(I24=CC20,IF(OR(I22=CC5,I22=CC6),CE23,),)","v":0},{"$f":"IF($I$22=4,AF45+$AD$47,)","v":{"$error":"#DIV/0!"}},{"$f":"IF($I$22=4,AG45,)","v":{"$error":"#DIV/0!"}},{"$f":"IF(I21=CC16,0,IF(I24=CC20,IF(I22<>CC3,AD47-(CA14/2),),))","v":0},{"$f":"IF(I21=CC16,0,IF(I24=CC20,IF(I22<>CC3,AK63-CE23,),))","v":0},{"$f":"IF(I21=CC16,0,IF(I24=CC20,IF(OR(I22=CC5,I22=CC6),AF47-(CA14/2),),))","v":0},{"$f":"IF(I24=CC20,IF(OR(I22=CC5,I22=CC6),AK63-CE23,),)","v":0},{"$f":"IF(AND($I$22=4,$I$21=$CC$17),AL45+$AJ$47,)","v":{"$error":"#DIV/0!"}},{"$f":"IF(AND($I$22=4,$I$21=$CC$17),AM45,)","v":{"$error":"#DIV/0!"}},null,{"$f":"IF(L21=CP16,0,AQ64+(CR20/4))","v":{"$error":"#DIV/0!"}},{"$f":"IF(L21=CP16,0,AR65+(CR11/2))","v":{"$error":"#DIV/0!"}},{"$f":"IF(L21=CP16,0,IF(L22=CP3,0,AS46-(CR22/4)))","v":{"$error":"#DIV/0!"}},{"$f":"IF(L21=CP16,0,IF(L22=CP3,0,AR45))","v":{"$error":"#DIV/0!"}},{"$error":"#DIV/0!"},{"$f":"IF(L21=CP16,0,IF(OR(L22=CP2,L22=CP3,L22=CP4),0,AR45))","v":{"$error":"#DIV/0!"}},{"$error":"#DIV/0!"},{"$f":"AV45","v":{"$error":"#DIV/0!"}},{"$f":"IF(L24=CP20,IF(L22<>CP3,AY47-(CN14/2),),)","v":{"$error":"#DIV/0!"}},{"$f":"IF(L24=CP20,IF(L22<>CP3,CR23,),)","v":{"$error":"#DIV/0!"}},{"$f":"IF(L24=CP20,IF(OR(L22=CP5,L22=CP6),BA47-(CN14/2),),)","v":{"$error":"#DIV/0!"}},{"$f":"IF(L24=CP20,IF(OR(L22=CP5,L22=CP6),CR23,),)","v":{"$error":"#DIV/0!"}},{"$f":"IF($L$22=4,BA45+$AY$47,)","v":{"$error":"#DIV/0!"}},{"$f":"IF($L$22=4,BB45,)","v":{"$error":"#DIV/0!"}},{"$f":"IF(L21=CP16,0,IF(L24=CP20,IF(L22<>CP3,AY47-(CN14/2),),))","v":{"$error":"#DIV/0!"}},{"$f":"IF(L21=CP16,0,IF(L24=CP20,IF(L22<>CP3,BF63-CR23,),))","v":{"$error":"#DIV/0!"}},{"$f":"IF(L21=CP16,0,IF(L24=CP20,IF(OR(L22=CP5,L22=CP6),BA47-(CN14/2),),))","v":{"$error":"#DIV/0!"}},{"$f":"IF(L24=CP20,IF(OR(L22=CP5,L22=CP6),BF63-CR23,),)","v":{"$error":"#DIV/0!"}},{"$f":"IF(AND($L$22=4,$L$21=$CP$17),BG45+$BE$47,)","v":{"$error":"#DIV/0!"}},{"$f":"IF(AND($L$22=4,$L$21=$CP$17),BH45,)","v":{"$error":"#DIV/0!"}}]
[{"$f":"IF(E21=BP16,0,IF(E22=BP3,(BR10/2),A68-(BR20/2)))","v":{"$error":"#DIV/0!"}},{"$f":"IF(E21=BP16,0,B66+(BR11/2))","v":{"$error":"#DIV/0!"}},{"$f":"IF(E21=BP16,0,IF(E22=BP3,0,C48-BR23-(BR22/2)))","v":{"$error":"#DIV/0!"}},{"$f":"IF(E21=BP16,0,IF(E22=BP3,0,B46))","v":{"$error":"#DIV/0!"}},{"$error":"#DIV/0!"},{"$f":"IF(E21=BP16,0,IF(OR(E22=BP2,E22=BP3,E22=BP4),0,B46))","v":{"$error":"#DIV/0!"}},{"$error":"#DIV/0!"},{"$f":"F46","v":{"$error":"#DIV/0!"}},{"$f":"IF(E24=BP20,IF(E22<>BP3,I45+(BN14/4),),)","v":0},{"$f":"IF(E24=BP20,IF(E22<>BP3,BQ14,),)","v":0},{"$f":"IF(E24=BP20,IF(OR(OR(E22=BP5,E22=BP6),E22=BP6),K47-(BN14/4),),)","v":0},{"$f":"IF(E24=BP20,IF(OR(E22=BP5,E22=BP6),BQ14,),)","v":0},{"$error":"#DIV/0!"},{"$error":"#DIV/0!"},{"$f":"IF(E21=BP16,0,IF(E24=BP20,IF(E22<>BP3,I45+(BN14/4),),))","v":0},{"$f":"IF(E21=BP16,0,IF(E24=BP20,IF(E22<>BP3,P63-BQ14,),))","v":0},{"$f":"IF(E21=BP16,0,IF(E24=BP20,IF(OR(E22=BP5,E22=BP6),K47-(BN14/4),),))","v":0},{"$f":"IF(E24=BP20,IF(OR(E22=BP5,E22=BP6),P63-BQ14,),)","v":0},{"$error":"#DIV/0!"},{"$error":"#DIV/0!"},null,{"$f":"IF(I21=CC16,0,IF(I22=CC3,(CE10/2),V68-(CE20/2)))","v":{"$error":"#DIV/0!"}},{"$f":"IF(I21=CC16,0,W66+(CE11/2))","v":{"$error":"#DIV/0!"}},{"$f":"IF(I21=CC16,0,IF(I22=CC3,0,X48-CE23-(CE22/2)))","v":{"$error":"#DIV/0!"}},{"$f":"IF(I21=CC16,0,IF(I22=CC3,0,W46))","v":{"$error":"#DIV/0!"}},{"$error":"#DIV/0!"},{"$f":"IF(I21=CC16,0,IF(OR(I22=CC2,I22=CC3,I22=CC4),0,W46))","v":{"$error":"#DIV/0!"}},{"$error":"#DIV/0!"},{"$error":"#DIV/0!"},{"$f":"IF(I24=CC20,IF(I22<>CC3,AD45+(CA14/4),),)","v":0},{"$f":"IF(I24=CC20,IF(I22<>CC3,CD14,),)","v":0},{"$f":"IF(I24=CC20,IF(OR(OR(I22=CC5,I22=CC6),I22=CC6),AF47-(CA14/4),),)","v":0},{"$f":"IF(I24=CC20,IF(OR(I22=CC5,I22=CC6),CD14,),)","v":0},{"$error":"#DIV/0!"},{"$error":"#DIV/0!"},{"$f":"IF(I21=CC16,0,IF(I24=CC20,IF(I22<>CC3,AD45+(CA14/4),),))","v":0},{"$f":"IF(I21=CC16,0,IF(I24=CC20,IF(I22<>CC3,AK63-CD14,),))","v":0},{"$f":"IF(I21=CC16,0,IF(I24=CC20,IF(OR(I22=CC5,I22=CC6),AF47-(CA14/4),),))","v":0},{"$f":"IF(I24=CC20,IF(OR(I22=CC5,I22=CC6),AK63-CD14,),)","v":0},{"$error":"#DIV/0!"},{"$error":"#DIV/0!"},null,{"$f":"IF(L21=CP16,0,IF(L22=CP3,(CR10/2),AQ68-(CR20/2)))","v":{"$error":"#DIV/0!"}},{"$f":"IF(L21=CP16,0,AR66+(CR11/2))","v":{"$error":"#DIV/0!"}},{"$f":"IF(L21=CP16,0,IF(L22=CP3,0,AS48-CR23-(CR22/2)))","v":{"$error":"#DIV/0!"}},{"$f":"IF(L21=CP16,0,IF(L22=CP3,0,AR46))","v":{"$error":"#DIV/0!"}},{"$error":"#DIV/0!"},{"$f":"IF(L21=CP16,0,IF(OR(L22=CP2,L22=CP3,L22=CP4),0,AR46))","v":{"$error":"#DIV/0!"}},{"$error":"#DIV/0!"},{"$f":"AV46","v":{"$error":"#DIV/0!"}},{"$f":"IF(L24=CP20,IF(L22<>CP3,AY45+(CN14/4),),)","v":{"$error":"#DIV/0!"}},{"$f":"IF(L24=CP20,IF(L22<>CP3,CQ14,),)","v":{"$error":"#DIV/0!"}},{"$f":"IF(L24=CP20,IF(OR(OR(L22=CP5,L22=CP6),L22=CP6),BA47-(CN14/4),),)","v":{"$error":"#DIV/0!"}},{"$f":"IF(L24=CP20,IF(OR(L22=CP5,L22=CP6),CQ14,),)","v":{"$error":"#DIV/0!"}},{"$error":"#DIV/0!"},{"$error":"#DIV/0!"},{"$f":"IF(L21=CP16,0,IF(L24=CP20,IF(L22<>CP3,AY45+(CN14/4),),))","v":{"$error":"#DIV/0!"}},{"$f":"IF(L21=CP16,0,IF(L24=CP20,IF(L22<>CP3,BF63-CQ14,),))","v":{"$error":"#DIV/0!"}},{"$f":"IF(L21=CP16,0,IF(L24=CP20,IF(OR(L22=CP5,L22=CP6),BA47-(CN14/4),),))","v":{"$error":"#DIV/0!"}},{"$f":"IF(L24=CP20,IF(OR(L22=CP5,L22=CP6),BF63-CQ14,),)","v":{"$error":"#DIV/0!"}},{"$error":"#DIV/0!"},{"$error":"#DIV/0!"}]
[{"$f":"IF(E21=BP16,0,A68-(BR20/4))","v":{"$error":"#DIV/0!"}},{"$f":"IF(E21=BP16,0,B65+(BR11/2))","v":{"$error":"#DIV/0!"}},{"$f":"C46+(BR22/4)","v":{"$error":"#DIV/0!"}},{"$f":"IF(E22=BP3,0,D45)","v":{"$error":"#DIV/0!"}},{"$error":"#DIV/0!"},{"$f":"F45","v":{"$error":"#DIV/0!"}},{"$error":"#DIV/0!"},{"$error":"#DIV/0!"},{"$f":"IF(E24=BP20,IF(OR(E22=BP2,E22=BP4),BR10/2,IF(E22=BP5,BR10/3,IF(E22=BP6,BR10/4,))))","v":false},{"$f":"IF(E24=BP20,IF(E22<>BP3,BP14,),)","v":0},{"$f":"IF(E24=BP20,IF(E22=BP5,BR10*(2/3),IF(E22=BP6,BR10/2,)))","v":false},{"$f":"IF(E24=BP20,IF(OR(E22=BP5,E22=BP6),BP14,),)","v":0},{"$error":"#DIV/0!"},{"$error":"#DIV/0!"},{"$f":"IF(E21=BP16,0,IF(E24=BP20,IF(OR(E22=BP2,E22=BP4),BR10/2,IF(E22=BP5,BR10/3,IF(E22=BP6,BR10/4,)))))","v":false},{"$f":"IF(E21=BP16,0,IF(E24=BP20,IF(E22<>BP3,P63-BP14,),))","v":0},{"$f":"IF(E21=BP16,0,IF(E24=BP20,IF(E22=BP5,BR10*(2/3),IF(E22=BP6,BR10/2,))))","v":false},{"$f":"IF(E24=BP20,IF(OR(E22=BP5,E22=BP6),P63-BP14,),)","v":0},{"$error":"#DIV/0!"},{"$error":"#DIV/0!"},null,{"$f":"IF(I21=CC16,0,V68-(CE20/4))","v":{"$error":"#DIV/0!"}},{"$f":"IF(I21=CC16,0,W65+(CE11/2))","v":{"$error":"#DIV/0!"}},{"$f":"X46+(CE22/4)","v":{"$error":"#DIV/0!"}},{"$f":"IF(I22=CC3,0,Y45)","v":{"$error":"#DIV/0!"}},{"$error":"#DIV/0!"},{"$f":"AA45","v":{"$error":"#DIV/0!"}},{"$error":"#DIV/0!"},{"$error":"#DIV/0!"},{"$f":"IF(I24=CC20,IF(OR(I22=CC2,I22=CC4),CE10/2,IF(I22=CC5,CE10/3,IF(I22=CC6,CE10/4,))))","v":false},{"$f":"IF(I24=CC20,IF(I22<>CC3,CC14,),)","v":0},{"$f":"IF(I24=CC20,IF(I22=CC5,CE10*(2/3),IF(I22=CC6,CE10/2,)))","v":false},{"$f":"IF(I24=CC20,IF(OR(I22=CC5,I22=CC6),CC14,),)","v":0},{"$error":"#DIV/0!"},{"$error":"#DIV/0!"},{"$f":"IF(I21=CC16,0,IF(I24=CC20,IF(OR(I22=CC2,I22=CC4),CE10/2,IF(I22=CC5,CE10/3,IF(I22=CC6,CE10/4,)))))","v":false},{"$f":"IF(I21=CC16,0,IF(I24=CC20,IF(I22<>CC3,AK63-CC14,),))","v":0},{"$f":"IF(I21=CC16,0,IF(I24=CC20,IF(I22=CC5,CE10*(2/3),IF(I22=CC6,CE10/2,))))","v":false},{"$f":"IF(I24=CC20,IF(OR(I22=CC5,I22=CC6),AK63-CC14,),)","v":0},{"$error":"#DIV/0!"},{"$error":"#DIV/0!"},null,{"$f":"IF(L21=CP16,0,AQ68-(CR20/4))","v":{"$error":"#DIV/0!"}},{"$f":"IF(L21=CP16,0,AR65+(CR11/2))","v":{"$error":"#DIV/0!"}},{"$f":"AS46+(CR22/4)","v":{"$error":"#DIV/0!"}},{"$f":"IF(L22=CP3,0,AT45)","v":{"$error":"#DIV/0!"}},{"$error":"#DIV/0!"},{"$f":"AV45","v":{"$error":"#DIV/0!"}},{"$error":"#DIV/0!"},{"$f":"AV47","v":{"$error":"#DIV/0!"}},{"$f":"IF(L24=CP20,IF(OR(L22=CP2,L22=CP4),CR10/2,IF(L22=CP5,CR10/3,IF(L22=CP6,CR10/4,))))","v":{"$error":"#DIV/0!"}},{"$f":"IF(L24=CP20,IF(L22<>CP3,CP14,),)","v":{"$error":"#DIV/0!"}},{"$f":"IF(L24=CP20,IF(L22=CP5,CR10*(2/3),IF(L22=CP6,CR10/2,)))","v":{"$error":"#DIV/0!"}},{"$f":"IF(L24=CP20,IF(OR(L22=CP5,L22=CP6),CP14,),)","v":{"$error":"#DIV/0!"}},{"$error":"#DIV/0!"},{"$error":"#DIV/0!"},{"$f":"IF(L21=CP16,0,IF(L24=CP20,IF(OR(L22=CP2,L22=CP4),CR10/2,IF(L22=CP5,CR10/3,IF(L22=CP6,CR10/4,)))))","v":{"$error":"#DIV/0!"}},{"$f":"IF(L21=CP16,0,IF(L24=CP20,IF(L22<>CP3,BF63-CP14,),))","v":{"$error":"#DIV/0!"}},{"$f":"IF(L21=CP16,0,IF(L24=CP20,IF(L22=CP5,CR10*(2/3),IF(L22=CP6,CR10/2,))))","v":{"$error":"#DIV/0!"}},{"$f":"IF(L24=CP20,IF(OR(L22=CP5,L22=CP6),BF63-CP14,),)","v":{"$error":"#DIV/0!"}},{"$error":"#DIV/0!"},{"$error":"#DIV/0!"}]
[{"$f":"IF(E21=BP16,0,A64+BR20)","v":{"$error":"#DIV/0!"}},{"$f":"IF(E21=BP16,0,B44)","v":{"$error":"#DIV/0!"}},{"$f":"IF(E21=BP16,0,IF(E22=BP3,0,BR10-BR23))","v":{"$error":"#DIV/0!"}},{"$f":"IF(E22=BP3,0,B44)","v":{"$error":"#DIV/0!"}},{"$error":"#DIV/0!"},{"$f":"IF(OR(E22=BP2,E22=BP3,E22=BP4),0,B44)","v":{"$error":"#DIV/0!"}},{"$error":"#DIV/0!"},{"$error":"#DIV/0!"},{"$f":"IF(E24=BP20,IF(E22<>BP3,I47+(BN14/4),),)","v":0},{"$f":"IF(E24=BP20,IF(E22<>BP3,BQ14,),)","v":0},{"$f":"IF(E24=BP20,IF(OR(E22=BP5,E22=BP6),K47+(BN14/4),),)","v":0},{"$f":"IF(E24=BP20,IF(OR(E22=BP5,E22=BP6),BQ14,),)","v":0},{"$error":"#DIV/0!"},{"$error":"#DIV/0!"},{"$f":"IF(E21=BP16,0,IF(E24=BP20,IF(E22<>BP3,I47+(BN14/4),),))","v":0},{"$f":"IF(E21=BP16,0,IF(E24=BP20,IF(E22<>BP3,P63-BQ14,),))","v":0},{"$f":"IF(E21=BP16,0,IF(E24=BP20,IF(OR(E22=BP5,E22=BP6),K47+(BN14/4),),))","v":0},{"$f":"IF(E24=BP20,IF(OR(E22=BP5,E22=BP6),R46,),)","v":0},{"$error":"#DIV/0!"},{"$error":"#DIV/0!"},null,{"$f":"IF(I21=CC16,0,V64+CE20)","v":{"$error":"#DIV/0!"}},{"$f":"IF(I21=CC16,0,W44)","v":{"$error":"#DIV/0!"}},{"$f":"IF(I21=CC16,0,IF(I22=CC3,0,CE10-CE23))","v":{"$error":"#DIV/0!"}},{"$f":"IF(I22=CC3,0,W44)","v":{"$error":"#DIV/0!"}},{"$error":"#DIV/0!"},{"$f":"IF(OR(I22=CC2,I22=CC3,I22=CC4),0,W44)","v":{"$error":"#DIV/0!"}},{"$error":"#DIV/0!"},{"$error":"#DIV/0!"},{"$f":"IF(I24=CC20,IF(I22<>CC3,AD47+(CA14/4),),)","v":0},{"$f":"IF(I24=CC20,IF(I22<>CC3,CD14,),)","v":0},{"$f":"IF(I24=CC20,IF(OR(I22=CC5,I22=CC6),AF47+(CA14/4),),)","v":0},{"$f":"IF(I24=CC20,IF(OR(I22=CC5,I22=CC6),CD14,),)","v":0},{"$error":"#DIV/0!"},{"$error":"#DIV/0!"},{"$f":"IF(I21=CC16,0,IF(I24=CC20,IF(I22<>CC3,AD47+(CA14/4),),))","v":0},{"$f":"IF(I21=CC16,0,IF(I24=CC20,IF(I22<>CC3,AK63-CD14,),))","v":0},{"$f":"IF(I21=CC16,0,IF(I24=CC20,IF(OR(I22=CC5,I22=CC6),AF47+(CA14/4),),))","v":0},{"$f":"IF(I24=CC20,IF(OR(I22=CC5,I22=CC6),AM46,),)","v":0},{"$error":"#DIV/0!"},{"$error":"#DIV/0!"},null,{"$f":"IF(L21=CP16,0,AQ64+CR20)","v":{"$error":"#DIV/0!"}},{"$f":"IF(L21=CP16,0,AR44)","v":{"$error":"#DIV/0!"}},{"$f":"IF(L21=CP16,0,IF(L22=CP3,0,CR10-CR23))","v":{"$error":"#DIV/0!"}},{"$f":"IF(L22=CP3,0,AR44)","v":{"$error":"#DIV/0!"}},{"$error":"#DIV/0!"},{"$f":"IF(OR(L22=CP2,L22=CP3,L22=CP4),0,AR44)","v":{"$error":"#DIV/0!"}},{"$error":"#DIV/0!"},{"$error":"#DIV/0!"},{"$f":"IF(L24=CP20,IF(L22<>CP3,AY47+(CN14/4),),)","v":{"$error":"#DIV/0!"}},{"$f":"IF(L24=CP20,IF(L22<>CP3,CQ14,),)","v":{"$error":"#DIV/0!"}},{"$f":"IF(L24=CP20,IF(OR(L22=CP5,L22=CP6),BA47+(CN14/4),),)","v":{"$error":"#DIV/0!"}},{"$f":"IF(L24=CP20,IF(OR(L22=CP5,L22=CP6),CQ14,),)","v":{"$error":"#DIV/0!"}},{"$error":"#DIV/0!"},{"$error":"#DIV/0!"},{"$f":"IF(L21=CP16,0,IF(L24=CP20,IF(L22<>CP3,AY47+(CN14/4),),))","v":{"$error":"#DIV/0!"}},{"$f":"IF(L21=CP16,0,IF(L24=CP20,IF(L22<>CP3,BF63-CQ14,),))","v":{"$error":"#DIV/0!"}},{"$f":"IF(L21=CP16,0,IF(L24=CP20,IF(OR(L22=CP5,L22=CP6),BA47+(CN14/4),),))","v":{"$error":"#DIV/0!"}},{"$f":"IF(L24=CP20,IF(OR(L22=CP5,L22=CP6),BH46,),)","v":{"$error":"#DIV/0!"}},{"$error":"#DIV/0!"},{"$error":"#DIV/0!"}]
[{"$f":"IF(E21=BP16,0,A68-BO16)","v":{"$error":"#DIV/0!"}},{"$f":"IF(E21=BP16,0,(BR19/4)+(BR11/2))","v":{"$error":"#DIV/0!"}},{"$f":"IF(E21=BP16,0,IF(E22=BP3,0,C48-BO16))","v":{"$error":"#DIV/0!"}},{"$f":"IF(E22=BP3,0,B59)","v":{"$error":"#DIV/0!"}},{"$error":"#DIV/0!"},{"$f":"IF(OR(E22=BP2,E22=BP3,E22=BP4),0,D49)","v":{"$error":"#DIV/0!"}},{"$error":"#DIV/0!"},{"$error":"#DIV/0!"},{"$f":"IF(E24=BP20,IF(E22<>BP3,I47+(BN14/2),),)","v":0},{"$f":"IF(E24=BP20,IF(E22<>BP3,BR23,),)","v":0},{"$f":"IF(E24=BP20,IF(OR(E22=BP5,E22=BP6),K47+(BN14/2),),)","v":0},{"$f":"IF(E24=BP20,IF(OR(E22=BP5,E22=BP6),L45,),)","v":0},{"$error":"#DIV/0!"},{"$error":"#DIV/0!"},{"$f":"IF(E21=BP16,0,IF(E24=BP20,IF(E22<>BP3,I47+(BN14/2),),))","v":0},{"$f":"IF(E21=BP16,0,IF(E24=BP20,IF(E22<>BP3,P63-BR23,),))","v":0},{"$f":"IF(E21=BP16,0,IF(E24=BP20,IF(OR(E22=BP5,E22=BP6),K47+(BN14/2),),))","v":0},{"$f":"IF(E24=BP20,IF(OR(E22=BP5,E22=BP6),R45,),)","v":0},{"$error":"#DIV/0!"},{"$error":"#DIV/0!"},null,{"$f":"IF(I21=CC16,0,V68-BO16)","v":{"$error":"#DIV/0!"}},{"$f":"IF(I21=CC16,0,(CE19/4)+(CE11/2))","v":{"$error":"#DIV/0!"}},{"$f":"IF(I21=CC16,0,IF(I22=CC3,0,X48-BO16))","v":{"$error":"#DIV/0!"}},{"$f":"IF(I22=CC3,0,W59)","v":{"$error":"#DIV/0!"}},{"$error":"#DIV/0!"},{"$f":"IF(OR(I22=CC2,I22=CC3,I22=CC4),0,Y49)","v":{"$error":"#DIV/0!"}},{"$error":"#DIV/0!"},{"$error":"#DIV/0!"},{"$f":"IF(I24=CC20,IF(I22<>CC3,AD47+(CA14/2),),)","v":0},{"$f":"IF(I24=CC20,IF(I22<>CC3,CE23,),)","v":0},{"$f":"IF(I24=CC20,IF(OR(I22=CC5,I22=CC6),AF47+(CA14/2),),)","v":0},{"$f":"IF(I24=CC20,IF(OR(I22=CC5,I22=CC6),AG45,),)","v":0},{"$error":"#DIV/0!"},{"$error":"#DIV/0!"},{"$f":"IF(I21=CC16,0,IF(I24=CC20,IF(I22<>CC3,AD47+(CA14/2),),))","v":0},{"$f":"IF(I21=CC16,0,IF(I24=CC20,IF(I22<>CC3,AK63-CE23,),))","v":0},{"$f":"IF(I21=CC16,0,IF(I24=CC20,IF(OR(I22=CC5,I22=CC6),AF47+(CA14/2),),))","v":0},{"$f":"IF(I24=CC20,IF(OR(I22=CC5,I22=CC6),AM45,),)","v":0},{"$error":"#DIV/0!"},{"$error":"#DIV/0!"},null,{"$f":"IF(L21=CP16,0,AQ68-BO16)","v":{"$error":"#DIV/0!"}},{"$f":"IF(L21=CP16,0,(CR19/4)+(CR11/2))","v":{"$error":"#DIV/0!"}},{"$f":"IF(L21=CP16,0,IF(L22=CP3,0,AS48-BO16))","v":{"$error":"#DIV/0!"}},{"$f":"IF(L22=CP3,0,AR59)","v":{"$error":"#DIV/0!"}},{"$error":"#DIV/0!"},{"$f":"IF(OR(L22=CP2,L22=CP3,L22=CP4),0,AT49)","v":{"$error":"#DIV/0!"}},{"$error":"#DIV/0!"},{"$error":"#DIV/0!"},{"$f":"IF(L24=CP20,IF(L22<>CP3,AY47+(CN14/2),),)","v":{"$error":"#DIV/0!"}},{"$f":"IF(L24=CP20,IF(L22<>CP3,CR23,),)","v":{"$error":"#DIV/0!"}},{"$f":"IF(L24=CP20,IF(OR(L22=CP5,L22=CP6),BA47+(CN14/2),),)","v":{"$error":"#DIV/0!"}},{"$f":"IF(L24=CP20,IF(OR(L22=CP5,L22=CP6),BB45,),)","v":{"$error":"#DIV/0!"}},{"$error":"#DIV/0!"},{"$error":"#DIV/0!"},{"$f":"IF(L21=CP16,0,IF(L24=CP20,IF(L22<>CP3,AY47+(CN14/2),),))","v":{"$error":"#DIV/0!"}},{"$f":"IF(L21=CP16,0,IF(L24=CP20,IF(L22<>CP3,BF63-CR23,),))","v":{"$error":"#DIV/0!"}},{"$f":"IF(L21=CP16,0,IF(L24=CP20,IF(OR(L22=CP5,L22=CP6),BA47+(CN14/2),),))","v":{"$error":"#DIV/0!"}},{"$f":"IF(L24=CP20,IF(OR(L22=CP5,L22=CP6),BH45,),)","v":{"$error":"#DIV/0!"}},{"$error":"#DIV/0!"},{"$error":"#DIV/0!"}]
[{"$f":"IF(E21=BP16,0,A68-BN16)","v":{"$error":"#DIV/0!"}},{"$f":"IF(E21=BP16,0,((BR11/2)/2)+(BR11/2))","v":{"$error":"#DIV/0!"}},{"$f":"IF(E21=BP16,0,IF(E22=BP3,0,C48-BN16))","v":{"$error":"#DIV/0!"}},{"$f":"IF(E22=BP3,0,B50)","v":{"$error":"#DIV/0!"}},{"$error":"#DIV/0!"},{"$f":"IF(OR(E22=BP2,E22=BP3,E22=BP4),0,B50)","v":{"$error":"#DIV/0!"}},{"$error":"#DIV/0!"},{"$error":"#DIV/0!"},{"$f":"IF(E24=BP20,IF(E22<>BP3,I49-((I49-I53)/1.8),),)","v":0},{"$f":"IF(E24=BP20,IF(E22<>BP3,P65/4,),)","v":0},{"$f":"IF(E24=BP20,IF(OR(E22=BP5,E22=BP6),K49-((K49-K53)/1.8),),)","v":0},{"$f":"IF(E24=BP20,IF(OR(E22=BP5,E22=BP6),P65/4,),)","v":0},{"$error":"#DIV/0!"},{"$error":"#DIV/0!"},{"$f":"IF(E21=BP16,0,IF(E24=BP20,IF(E22<>BP3,I49-((I49-I53)/1.8),),))","v":0},{"$f":"IF(E21=BP16,0,IF(E24=BP20,IF(E22<>BP3,P65+P65*0.75,),))","v":0},{"$f":"IF(E21=BP16,0,IF(E24=BP20,IF(OR(E22=BP5,E22=BP6),K49-((K49-K53)/1.8),),))","v":0},{"$f":"IF(E24=BP20,IF(OR(E22=BP5,E22=BP6),P65+P65*0.75,),)","v":0},{"$error":"#DIV/0!"},{"$error":"#DIV/0!"},null,{"$f":"IF(I21=CC16,0,V68-CA16)","v":{"$error":"#DIV/0!"}},{"$f":"IF(I21=CC16,0,((CE11/2)/2)+(CE11/2))","v":{"$error":"#DIV/0!"}},{"$f":"IF(I21=CC16,0,IF(I22=CC3,0,X48-CA16))","v":{"$error":"#DIV/0!"}},{"$f":"IF(I22=CC3,0,W50)","v":{"$error":"#DIV/0!"}},{"$error":"#DIV/0!"},{"$f":"IF(OR(I22=CC2,I22=CC3,I22=CC4),0,W50)","v":{"$error":"#DIV/0!"}},{"$error":"#DIV/0!"},{"$error":"#DIV/0!"},{"$f":"IF(I24=CC20,IF(I22<>CC3,AD49-((AD49-AD53)/1.8),),)","v":0},{"$f":"IF(I24=CC20,IF(I22<>CC3,AK65/4,),)","v":0},{"$f":"IF(I24=CC20,IF(OR(I22=CC5,I22=CC6),AF49-((AF49-AF53)/1.8),),)","v":0},{"$f":"IF(I24=CC20,IF(OR(I22=CC5,I22=CC6),AK65/4,),)","v":0},{"$error":"#DIV/0!"},{"$error":"#DIV/0!"},{"$f":"IF(I21=CC16,0,IF(I24=CC20,IF(I22<>CC3,AD49-((AD49-AD53)/1.8),),))","v":0},{"$f":"IF(I21=CC16,0,IF(I24=CC20,IF(I22<>CC3,AK65+AK65*0.75,),))","v":0},{"$f":"IF(I21=CC16,0,IF(I24=CC20,IF(OR(I22=CC5,I22=CC6),AF49-((AF49-AF53)/1.8),),))","v":0},{"$f":"IF(I24=CC20,IF(OR(I22=CC5,I22=CC6),AK65+AK65*0.75,),)","v":0},{"$error":"#DIV/0!"},{"$error":"#DIV/0!"},null,{"$f":"IF(L21=CP16,0,AQ68-CN16)","v":{"$error":"#DIV/0!"}},{"$f":"IF(L21=CP16,0,((CR11/2)/2)+(CR11/2))","v":{"$error":"#DIV/0!"}},{"$f":"IF(L21=CP16,0,IF(L22=CP3,0,AS48-CN16))","v":{"$error":"#DIV/0!"}},{"$f":"IF(L22=CP3,0,AR50)","v":{"$error":"#DIV/0!"}},{"$error":"#DIV/0!"},{"$f":"IF(OR(L22=CP2,L22=CP3,L22=CP4),0,AR50)","v":{"$error":"#DIV/0!"}},{"$error":"#DIV/0!"},{"$error":"#DIV/0!"},{"$f":"IF(L24=CP20,IF(L22<>CP3,AY49-((AY49-AY53)/1.8),),)","v":{"$error":"#DIV/0!"}},{"$f":"IF(L24=CP20,IF(L22<>CP3,BF65/4,),)","v":{"$error":"#DIV/0!"}},{"$f":"IF(L24=CP20,IF(OR(L22=CP5,L22=CP6),BA49-((BA49-BA53)/1.8),),)","v":{"$error":"#DIV/0!"}},{"$f":"IF(L24=CP20,IF(OR(L22=CP5,L22=CP6),BF65/4,),)","v":{"$error":"#DIV/0!"}},{"$error":"#DIV/0!"},{"$error":"#DIV/0!"},{"$f":"IF(L21=CP16,0,IF(L24=CP20,IF(L22<>CP3,AY49-((AY49-AY53)/1.8),),))","v":{"$error":"#DIV/0!"}},{"$f":"IF(L21=CP16,0,IF(L24=CP20,IF(L22<>CP3,BF65+BF65*0.75,),))","v":{"$error":"#DIV/0!"}},{"$f":"IF(L21=CP16,0,IF(L24=CP20,IF(OR(L22=CP5,L22=CP6),BA49-((BA49-BA53)/1.8),),))","v":{"$error":"#DIV/0!"}},{"$f":"IF(L24=CP20,IF(OR(L22=CP5,L22=CP6),BF65+BF65*0.75,),)","v":{"$error":"#DIV/0!"}},{"$error":"#DIV/0!"},{"$error":"#DIV/0!"}]
[{"$f":"IF(E21=BP16,0,A69)","v":{"$error":"#DIV/0!"}},{"$f":"IF(E21=BP16,0,(BR19*0.75)+(BR11/2))","v":{"$error":"#DIV/0!"}},{"$f":"C49","v":{"$error":"#DIV/0!"}},{"$f":"IF(E22=BP3,0,B57)","v":{"$error":"#DIV/0!"}},{"$error":"#DIV/0!"},{"$f":"IF(OR(E22=BP2,E22=BP3,E22=BP4),0,D51)","v":{"$error":"#DIV/0!"}},{"$error":"#DIV/0!"},{"$error":"#DIV/0!"},{"$f":"IF(E24=BP20,IF(E22<>BP3,I49-((I49-I53)*0.85),),)","v":0},{"$f":"IF(E24=BP20,IF(E22<>BP3,P65/2,),)","v":0},{"$f":"IF(E24=BP20,IF(OR(E22=BP5,E22=BP6),K49-((K49-K53)*0.85),),)","v":0},{"$f":"IF(E24=BP20,IF(OR(E22=BP5,E22=BP6),P65/2,),)","v":0},{"$error":"#DIV/0!"},{"$error":"#DIV/0!"},{"$f":"IF(E21=BP16,0,IF(E24=BP20,IF(E22<>BP3,I49-((I49-I53)*0.85),),))","v":0},{"$f":"IF(E21=BP16,0,IF(E24=BP20,IF(E22<>BP3,P65+P65/2,),))","v":0},{"$f":"IF(E21=BP16,0,IF(E24=BP20,IF(OR(E22=BP5,E22=BP6),K49-((K49-K53)*0.85),),))","v":0},{"$f":"IF(E24=BP20,IF(OR(E22=BP5,E22=BP6),P65+P65/2,),)","v":0},{"$error":"#DIV/0!"},{"$error":"#DIV/0!"},null,{"$f":"IF(I21=CC16,0,V69)","v":{"$error":"#DIV/0!"}},{"$f":"IF(I21=CC16,0,(CE19*0.75)+(CE11/2))","v":{"$error":"#DIV/0!"}},{"$f":"X49","v":{"$error":"#DIV/0!"}},{"$f":"IF(I22=CC3,0,W57)","v":{"$error":"#DIV/0!"}},{"$error":"#DIV/0!"},{"$f":"IF(OR(I22=CC2,I22=CC3,I22=CC4),0,Y51)","v":{"$error":"#DIV/0!"}},{"$error":"#DIV/0!"},{"$error":"#DIV/0!"},{"$f":"IF(I24=CC20,IF(I22<>CC3,AD49-((AD49-AD53)*0.85),),)","v":0},{"$f":"IF(I24=CC20,IF(I22<>CC3,AK65/2,),)","v":0},{"$f":"IF(I24=CC20,IF(OR(I22=CC5,I22=CC6),AF49-((AF49-AF53)*0.85),),)","v":0},{"$f":"IF(I24=CC20,IF(OR(I22=CC5,I22=CC6),AK65/2,),)","v":0},{"$error":"#DIV/0!"},{"$error":"#DIV/0!"},{"$f":"IF(I21=CC16,0,IF(I24=CC20,IF(I22<>CC3,AD49-((AD49-AD53)*0.85),),))","v":0},{"$f":"IF(I21=CC16,0,IF(I24=CC20,IF(I22<>CC3,AK65+AK65/2,),))","v":0},{"$f":"IF(I21=CC16,0,IF(I24=CC20,IF(OR(I22=CC5,I22=CC6),AF49-((AF49-AF53)*0.85),),))","v":0},{"$f":"IF(I24=CC20,IF(OR(I22=CC5,I22=CC6),AK65+AK65/2,),)","v":0},{"$error":"#DIV/0!"},{"$error":"#DIV/0!"},null,{"$f":"IF(L21=CP16,0,AQ69)","v":{"$error":"#DIV/0!"}},{"$f":"IF(L21=CP16,0,(CR19*0.75)+(CR11/2))","v":{"$error":"#DIV/0!"}},{"$f":"AS49","v":{"$error":"#DIV/0!"}},{"$f":"IF(L22=CP3,0,AR57)","v":{"$error":"#DIV/0!"}},{"$error":"#DIV/0!"},{"$f":"IF(OR(L22=CP2,L22=CP3,L22=CP4),0,AT51)","v":{"$error":"#DIV/0!"}},{"$error":"#DIV/0!"},{"$error":"#DIV/0!"},{"$f":"IF(L24=CP20,IF(L22<>CP3,AY49-((AY49-AY53)*0.85),),)","v":{"$error":"#DIV/0!"}},{"$f":"IF(L24=CP20,IF(L22<>CP3,BF65/2,),)","v":{"$error":"#DIV/0!"}},{"$f":"IF(L24=CP20,IF(OR(L22=CP5,L22=CP6),BA49-((BA49-BA53)*0.85),),)","v":{"$error":"#DIV/0!"}},{"$f":"IF(L24=CP20,IF(OR(L22=CP5,L22=CP6),BF65/2,),)","v":{"$error":"#DIV/0!"}},{"$error":"#DIV/0!"},{"$error":"#DIV/0!"},{"$f":"IF(L21=CP16,0,IF(L24=CP20,IF(L22<>CP3,AY49-((AY49-AY53)*0.85),),))","v":{"$error":"#DIV/0!"}},{"$f":"IF(L21=CP16,0,IF(L24=CP20,IF(L22<>CP3,BF65+BF65/2,),))","v":{"$error":"#DIV/0!"}},{"$f":"IF(L21=CP16,0,IF(L24=CP20,IF(OR(L22=CP5,L22=CP6),BA49-((BA49-BA53)*0.85),),))","v":{"$error":"#DIV/0!"}},{"$f":"IF(L24=CP20,IF(OR(L22=CP5,L22=CP6),BF65+BF65/2,),)","v":{"$error":"#DIV/0!"}},{"$error":"#DIV/0!"},{"$error":"#DIV/0!"}]
[{"$f":"IF(E21=BP16,0,A68)","v":{"$error":"#DIV/0!"}},{"$f":"IF(E21=BP16,0,((BR11/2)*2)-BR23)","v":{"$error":"#DIV/0!"}},{"$f":"IF(E22=BP3,0,C48)","v":{"$error":"#DIV/0!"}},{"$f":"IF(E22=BP3,0,B52)","v":{"$error":"#DIV/0!"}},{"$error":"#DIV/0!"},{"$f":"IF(OR(E22=BP2,E22=BP3,E22=BP4),0,D56)","v":{"$error":"#DIV/0!"}},{"$error":"#DIV/0!"},{"$error":"#DIV/0!"},{"$f":"IF(E24=BP20,IF(E22<>BP3,I53+((I49-I53)*0.05),),)","v":0},{"$f":"IF(E24=BP20,IF(E22<>BP3,P65*0.75,),)","v":0},{"$f":"IF(E24=BP20,IF(OR(E22=BP5,E22=BP6),K53+((K49-K53)*0.05),),)","v":0},{"$f":"IF(E24=BP20,IF(OR(E22=BP5,E22=BP6),P65*0.75,),)","v":0},{"$error":"#DIV/0!"},{"$error":"#DIV/0!"},{"$f":"IF(E21=BP16,0,IF(E24=BP20,IF(E22<>BP3,I53+((I49-I53)*0.05),),))","v":0},{"$f":"IF(E21=BP16,0,IF(E24=BP20,IF(E22<>BP3,P65+P65/4,),))","v":0},{"$f":"IF(E21=BP16,0,IF(E24=BP20,IF(OR(E22=BP5,E22=BP6),K53+((K49-K53)*0.05),),))","v":0},{"$f":"IF(E24=BP20,IF(OR(E22=BP5,E22=BP6),P65+P65/4,),)","v":0},{"$error":"#DIV/0!"},{"$error":"#DIV/0!"},null,{"$f":"IF(I21=CC16,0,V68)","v":{"$error":"#DIV/0!"}},{"$f":"IF(I21=CC16,0,((CE11/2)*2)-CE23)","v":{"$error":"#DIV/0!"}},{"$f":"IF(I22=CC3,0,X48)","v":{"$error":"#DIV/0!"}},{"$f":"IF(I22=CC3,0,W52)","v":{"$error":"#DIV/0!"}},{"$error":"#DIV/0!"},{"$f":"IF(OR(I22=CC2,I22=CC3,I22=CC4),0,Y56)","v":{"$error":"#DIV/0!"}},{"$error":"#DIV/0!"},{"$error":"#DIV/0!"},{"$f":"IF(I24=CC20,IF(I22<>CC3,AD53+((AD49-AD53)*0.05),),)","v":0},{"$f":"IF(I24=CC20,IF(I22<>CC3,AK65*0.75,),)","v":0},{"$f":"IF(I24=CC20,IF(OR(I22=CC5,I22=CC6),AF53+((AF49-AF53)*0.05),),)","v":0},{"$f":"IF(I24=CC20,IF(OR(I22=CC5,I22=CC6),AK65*0.75,),)","v":0},{"$error":"#DIV/0!"},{"$error":"#DIV/0!"},{"$f":"IF(I21=CC16,0,IF(I24=CC20,IF(I22<>CC3,AD53+((AD49-AD53)*0.05),),))","v":0},{"$f":"IF(I21=CC16,0,IF(I24=CC20,IF(I22<>CC3,AK65+AK65/4,),))","v":0},{"$f":"IF(I21=CC16,0,IF(I24=CC20,IF(OR(I22=CC5,I22=CC6),AF53+((AF49-AF53)*0.05),),))","v":0},{"$f":"IF(I24=CC20,IF(OR(I22=CC5,I22=CC6),AK65+AK65/4,),)","v":0},{"$error":"#DIV/0!"},{"$error":"#DIV/0!"},null,{"$f":"IF(L21=CP16,0,AQ68)","v":{"$error":"#DIV/0!"}},{"$f":"IF(L21=CP16,0,((CR11/2)*2)-CR23)","v":{"$error":"#DIV/0!"}},{"$f":"IF(L22=CP3,0,AS48)","v":{"$error":"#DIV/0!"}},{"$f":"IF(L22=CP3,0,AR52)","v":{"$error":"#DIV/0!"}},{"$error":"#DIV/0!"},{"$f":"IF(OR(L22=CP2,L22=CP3,L22=CP4),0,AT56)","v":{"$error":"#DIV/0!"}},{"$error":"#DIV/0!"},{"$error":"#DIV/0!"},{"$f":"IF(L24=CP20,IF(L22<>CP3,AY53+((AY49-AY53)*0.05),),)","v":{"$error":"#DIV/0!"}},{"$f":"IF(L24=CP20,IF(L22<>CP3,BF65*0.75,),)","v":{"$error":"#DIV/0!"}},{"$f":"IF(L24=CP20,IF(OR(L22=CP5,L22=CP6),BA53+((BA49-BA53)*0.05),),)","v":{"$error":"#DIV/0!"}},{"$f":"IF(L24=CP20,IF(OR(L22=CP5,L22=CP6),BF65*0.75,),)","v":{"$error":"#DIV/0!"}},{"$error":"#DIV/0!"},{"$error":"#DIV/0!"},{"$f":"IF(L21=CP16,0,IF(L24=CP20,IF(L22<>CP3,AY53+((AY49-AY53)*0.05),),))","v":{"$error":"#DIV/0!"}},{"$f":"IF(L21=CP16,0,IF(L24=CP20,IF(L22<>CP3,BF65+BF65/4,),))","v":{"$error":"#DIV/0!"}},{"$f":"IF(L21=CP16,0,IF(L24=CP20,IF(OR(L22=CP5,L22=CP6),BA53+((BA49-BA53)*0.05),),))","v":{"$error":"#DIV/0!"}},{"$f":"IF(L24=CP20,IF(OR(L22=CP5,L22=CP6),BF65+BF65/4,),)","v":{"$error":"#DIV/0!"}},{"$error":"#DIV/0!"},{"$error":"#DIV/0!"}]
[{"$f":"IF(E21=BP16,0,A67)","v":{"$error":"#DIV/0!"}},{"$f":"IF(E21=BP16,0,((BR11/2)-B65)+(BR11/2))","v":{"$error":"#DIV/0!"}},{"$f":"C47","v":{"$error":"#DIV/0!"}},{"$f":"IF(E21=BP16,0,IF(E22=BP3,0,B53))","v":{"$error":"#DIV/0!"}},{"$error":"#DIV/0!"},{"$f":"IF(E21=BP16,0,IF(OR(E22=BP2,E22=BP3,E22=BP4),0,B53))","v":{"$error":"#DIV/0!"}},{"$error":"#DIV/0!"},{"$error":"#DIV/0!"},{"$f":"IF(E24=BP20,IF(E22<>BP3,I47,),)","v":0},{"$f":"IF(E24=BP20,IF(E22<>BP3,P65-BR23,),)","v":0},{"$f":"IF(E24=BP20,IF(OR(E22=BP5,E22=BP6),K47,),)","v":0},{"$f":"IF(E24=BP20,IF(OR(E22=BP5,E22=BP6),P65-BR23,),)","v":0},{"$error":"#DIV/0!"},{"$error":"#DIV/0!"},{"$f":"IF(E21=BP16,0,IF(E24=BP20,IF(E22<>BP3,I47,),))","v":0},{"$f":"IF(E21=BP16,0,IF(E24=BP20,IF(E22<>BP3,P65+BR23,),))","v":0},{"$f":"IF(E21=BP16,0,IF(E24=BP20,IF(OR(E22=BP5,E22=BP6),K47,),))","v":0},{"$f":"IF(E24=BP20,IF(OR(E22=BP5,E22=BP6),P65+BR23,),)","v":0},{"$error":"#DIV/0!"},{"$error":"#DIV/0!"},null,{"$f":"IF(I21=CC16,0,V67)","v":{"$error":"#DIV/0!"}},{"$f":"IF(I21=CC16,0,((CE11/2)-W65)+(CE11/2))","v":{"$error":"#DIV/0!"}},{"$f":"X47","v":{"$error":"#DIV/0!"}},{"$f":"IF(I21=CC16,0,IF(I22=CC3,0,W53))","v":{"$error":"#DIV/0!"}},{"$error":"#DIV/0!"},{"$f":"IF(I21=CC16,0,IF(OR(I22=CC2,I22=CC3,I22=CC4),0,W53))","v":{"$error":"#DIV/0!"}},{"$error":"#DIV/0!"},{"$error":"#DIV/0!"},{"$f":"IF(I24=CC20,IF(I22<>CC3,AD47,),)","v":0},{"$f":"IF(I24=CC20,IF(I22<>CC3,AK65-CE23,),)","v":0},{"$f":"IF(I24=CC20,IF(OR(I22=CC5,I22=CC6),AF47,),)","v":0},{"$f":"IF(I24=CC20,IF(OR(I22=CC5,I22=CC6),AK65-CE23,),)","v":0},{"$error":"#DIV/0!"},{"$error":"#DIV/0!"},{"$f":"IF(I21=CC16,0,IF(I24=CC20,IF(I22<>CC3,AD47,),))","v":0},{"$f":"IF(I21=CC16,0,IF(I24=CC20,IF(I22<>CC3,AK65+CE23,),))","v":0},{"$f":"IF(I21=CC16,0,IF(I24=CC20,IF(OR(I22=CC5,I22=CC6),AF47,),))","v":0},{"$f":"IF(I24=CC20,IF(OR(I22=CC5,I22=CC6),AK65+CE23,),)","v":0},{"$error":"#DIV/0!"},{"$error":"#DIV/0!"},null,{"$f":"IF(L21=CP16,0,AQ67)","v":{"$error":"#DIV/0!"}},{"$f":"IF(L21=CP16,0,((CR11/2)-AR65)+(CR11/2))","v":{"$error":"#DIV/0!"}},{"$f":"AS47","v":{"$error":"#DIV/0!"}},{"$f":"IF(L21=CP16,0,IF(L22=CP3,0,AR53))","v":{"$error":"#DIV/0!"}},{"$error":"#DIV/0!"},{"$f":"IF(L21=CP16,0,IF(OR(L22=CP2,L22=CP3,L22=CP4),0,AR53))","v":{"$error":"#DIV/0!"}},{"$error":"#DIV/0!"},{"$error":"#DIV/0!"},{"$f":"IF(L24=CP20,IF(L22<>CP3,AY47,),)","v":{"$error":"#DIV/0!"}},{"$f":"IF(L24=CP20,IF(L22<>CP3,BF65-CR23,),)","v":{"$error":"#DIV/0!"}},{"$f":"IF(L24=CP20,IF(OR(L22=CP5,L22=CP6),BA47,),)","v":{"$error":"#DIV/0!"}},{"$f":"IF(L24=CP20,IF(OR(L22=CP5,L22=CP6),BF65-CR23,),)","v":{"$error":"#DIV/0!"}},{"$error":"#DIV/0!"},{"$error":"#DIV/0!"},{"$f":"IF(L21=CP16,0,IF(L24=CP20,IF(L22<>CP3,AY47,),))","v":{"$error":"#DIV/0!"}},{"$f":"IF(L21=CP16,0,IF(L24=CP20,IF(L22<>CP3,BF65+CR23,),))","v":{"$error":"#DIV/0!"}},{"$f":"IF(L21=CP16,0,IF(L24=CP20,IF(OR(L22=CP5,L22=CP6),BA47,),))","v":{"$error":"#DIV/0!"}},{"$f":"IF(L24=CP20,IF(OR(L22=CP5,L22=CP6),BF65+CR23,),)","v":{"$error":"#DIV/0!"}},{"$error":"#DIV/0!"},{"$error":"#DIV/0!"}]
[{"$f":"IF(E21=BP16,0,A66)","v":{"$error":"#DIV/0!"}},{"$f":"IF(E21=BP16,0,((BR11/2)-B66)+(BR11/2))","v":{"$error":"#DIV/0!"}},{"$f":"IF(E22=BP3,0,C46)","v":{"$error":"#DIV/0!"}},{"$f":"IF(E21=BP16,0,IF(E22=BP3,0,B54))","v":{"$error":"#DIV/0!"}},{"$error":"#DIV/0!"},{"$f":"IF(E21=BP16,0,IF(OR(E22=BP2,E22=BP3,E22=BP4),0,B54))","v":{"$error":"#DIV/0!"}},{"$error":"#DIV/0!"},{"$f":"F54","v":{"$error":"#DIV/0!"}},{"$f":"IF(E24=BP20,IF(E22<>BP3,I53-((I53-I57)*0.05),),)","v":0},{"$f":"IF(E24=BP20,IF(E22<>BP3,J52,),)","v":0},{"$f":"IF(E24=BP20,IF(OR(E22=BP5,E22=BP6),K53-((K53-K57)*0.05),),)","v":0},{"$f":"IF(E24=BP20,IF(OR(E22=BP5,E22=BP6),L52,),)","v":0},{"$error":"#DIV/0!"},{"$error":"#DIV/0!"},{"$f":"IF(E21=BP16,0,IF(E24=BP20,IF(E22<>BP3,I53-((I53-I57)*0.05),),))","v":0},{"$f":"IF(E21=BP16,0,IF(E24=BP20,IF(E22<>BP3,P52,),))","v":0},{"$f":"IF(E21=BP16,0,IF(E24=BP20,IF(OR(E22=BP5,E22=BP6),K53-((K53-K57)*0.05),),))","v":0},{"$f":"IF(E24=BP20,IF(OR(E22=BP5,E22=BP6),R52,),)","v":0},{"$error":"#DIV/0!"},{"$error":"#DIV/0!"},null,{"$f":"IF(I21=CC16,0,V66)","v":{"$error":"#DIV/0!"}},{"$f":"IF(I21=CC16,0,((CE11/2)-W66)+(CE11/2))","v":{"$error":"#DIV/0!"}},{"$f":"IF(I22=CC3,0,X46)","v":{"$error":"#DIV/0!"}},{"$f":"IF(I21=CC16,0,IF(I22=CC3,0,W54))","v":{"$error":"#DIV/0!"}},{"$error":"#DIV/0!"},{"$f":"IF(I21=CC16,0,IF(OR(I22=CC2,I22=CC3,I22=CC4),0,W54))","v":{"$error":"#DIV/0!"}},{"$error":"#DIV/0!"},{"$error":"#DIV/0!"},{"$f":"IF(I24=CC20,IF(I22<>CC3,AD53-((AD53-AD57)*0.05),),)","v":0},{"$f":"IF(I24=CC20,IF(I22<>CC3,AE52,),)","v":0},{"$f":"IF(I24=CC20,IF(OR(I22=CC5,I22=CC6),AF53-((AF53-AF57)*0.05),),)","v":0},{"$f":"IF(I24=CC20,IF(OR(I22=CC5,I22=CC6),AG52,),)","v":0},{"$error":"#DIV/0!"},{"$error":"#DIV/0!"},{"$f":"IF(I21=CC16,0,IF(I24=CC20,IF(I22<>CC3,AD53-((AD53-AD57)*0.05),),))","v":0},{"$f":"IF(I21=CC16,0,IF(I24=CC20,IF(I22<>CC3,AK52,),))","v":0},{"$f":"IF(I21=CC16,0,IF(I24=CC20,IF(OR(I22=CC5,I22=CC6),AF53-((AF53-AF57)*0.05),),))","v":0},{"$f":"IF(I24=CC20,IF(OR(I22=CC5,I22=CC6),AM52,),)","v":0},{"$error":"#DIV/0!"},{"$error":"#DIV/0!"},null,{"$f":"IF(L21=CP16,0,AQ66)","v":{"$error":"#DIV/0!"}},{"$f":"IF(L21=CP16,0,((CR11/2)-AR66)+(CR11/2))","v":{"$error":"#DIV/0!"}},{"$f":"IF(L22=CP3,0,AS46)","v":{"$error":"#DIV/0!"}},{"$f":"IF(L21=CP16,0,IF(L22=CP3,0,AR54))","v":{"$error":"#DIV/0!"}},{"$error":"#DIV/0!"},{"$f":"IF(L21=CP16,0,IF(OR(L22=CP2,L22=CP3,L22=CP4),0,AR54))","v":{"$error":"#DIV/0!"}},{"$error":"#DIV/0!"},{"$f":"AV54","v":{"$error":"#DIV/0!"}},{"$f":"IF(L24=CP20,IF(L22<>CP3,AY53-((AY53-AY57)*0.05),),)","v":{"$error":"#DIV/0!"}},{"$f":"IF(L24=CP20,IF(L22<>CP3,AZ52,),)","v":{"$error":"#DIV/0!"}},{"$f":"IF(L24=CP20,IF(OR(L22=CP5,L22=CP6),BA53-((BA53-BA57)*0.05),),)","v":{"$error":"#DIV/0!"}},{"$f":"IF(L24=CP20,IF(OR(L22=CP5,L22=CP6),BB52,),)","v":{"$error":"#DIV/0!"}},{"$error":"#DIV/0!"},{"$error":"#DIV/0!"},{"$f":"IF(L21=CP16,0,IF(L24=CP20,IF(L22<>CP3,AY53-((AY53-AY57)*0.05),),))","v":{"$error":"#DIV/0!"}},{"$f":"IF(L21=CP16,0,IF(L24=CP20,IF(L22<>CP3,BF52,),))","v":{"$error":"#DIV/0!"}},{"$f":"IF(L21=CP16,0,IF(L24=CP20,IF(OR(L22=CP5,L22=CP6),BA53-((BA53-BA57)*0.05),),))","v":{"$error":"#DIV/0!"}},{"$f":"IF(L24=CP20,IF(OR(L22=CP5,L22=CP6),BH52,),)","v":{"$error":"#DIV/0!"}},{"$error":"#DIV/0!"},{"$error":"#DIV/0!"}]
[{"$f":"IF(E21=BP16,0,A65)","v":{"$error":"#DIV/0!"}},{"$f":"B53","v":{"$error":"#DIV/0!"}},{"$f":"C45","v":{"$error":"#DIV/0!"}},{"$f":"IF(E22=BP3,0,D53)","v":{"$error":"#DIV/0!"}},{"$error":"#DIV/0!"},{"$f":"F53","v":{"$error":"#DIV/0!"}},{"$error":"#DIV/0!"},{"$error":"#DIV/0!"},{"$f":"IF(E24=BP20,IF(E22<>BP3,I57+((I53-I57)*0.85),),)","v":0},{"$f":"IF(E24=BP20,IF(E22<>BP3,J51,),)","v":0},{"$f":"IF(E24=BP20,IF(OR(E22=BP5,E22=BP6),K57+((K53-K57)*0.85),),)","v":0},{"$f":"IF(E24=BP20,IF(OR(E22=BP5,E22=BP6),L51,),)","v":0},{"$error":"#DIV/0!"},{"$error":"#DIV/0!"},{"$f":"IF(E21=BP16,0,IF(E24=BP20,IF(E22<>BP3,I57+((I53-I57)*0.85),),))","v":0},{"$f":"IF(E24=BP20,IF(E22<>BP3,P51,),)","v":0},{"$f":"IF(E21=BP16,0,IF(E24=BP20,IF(OR(E22=BP5,E22=BP6),K57+((K53-K57)*0.85),),))","v":0},{"$f":"IF(E24=BP20,IF(OR(E22=BP5,E22=BP6),R51,),)","v":0},{"$error":"#DIV/0!"},{"$error":"#DIV/0!"},null,{"$f":"IF(I21=CC16,0,V65)","v":{"$error":"#DIV/0!"}},{"$f":"W53","v":{"$error":"#DIV/0!"}},{"$f":"X45","v":{"$error":"#DIV/0!"}},{"$f":"IF(I22=CC3,0,Y53)","v":{"$error":"#DIV/0!"}},{"$error":"#DIV/0!"},{"$f":"AA53","v":{"$error":"#DIV/0!"}},{"$error":"#DIV/0!"},{"$error":"#DIV/0!"},{"$f":"IF(I24=CC20,IF(I22<>CC3,AD57+((AD53-AD57)*0.85),),)","v":0},{"$f":"IF(I24=CC20,IF(I22<>CC3,AE51,),)","v":0},{"$f":"IF(I24=CC20,IF(OR(I22=CC5,I22=CC6),AF57+((AF53-AF57)*0.85),),)","v":0},{"$f":"IF(I24=CC20,IF(OR(I22=CC5,I22=CC6),AG51,),)","v":0},{"$error":"#DIV/0!"},{"$error":"#DIV/0!"},{"$f":"IF(I21=CC16,0,IF(I24=CC20,IF(I22<>CC3,AD57+((AD53-AD57)*0.85),),))","v":0},{"$f":"IF(I24=CC20,IF(I22<>CC3,AK51,),)","v":0},{"$f":"IF(I21=CC16,0,IF(I24=CC20,IF(OR(I22=CC5,I22=CC6),AF57+((AF53-AF57)*0.85),),))","v":0},{"$f":"IF(I24=CC20,IF(OR(I22=CC5,I22=CC6),AM51,),)","v":0},{"$error":"#DIV/0!"},{"$error":"#DIV/0!"},null,{"$f":"IF(L21=CP16,0,AQ65)","v":{"$error":"#DIV/0!"}},{"$f":"AR53","v":{"$error":"#DIV/0!"}},{"$f":"AS45","v":{"$error":"#DIV/0!"}},{"$f":"IF(L22=CP3,0,AT53)","v":{"$error":"#DIV/0!"}},{"$error":"#DIV/0!"},{"$f":"AV53","v":{"$error":"#DIV/0!"}},{"$error":"#DIV/0!"},{"$f":"AV55","v":{"$error":"#DIV/0!"}},{"$f":"IF(L24=CP20,IF(L22<>CP3,AY57+((AY53-AY57)*0.85),),)","v":{"$error":"#DIV/0!"}},{"$f":"IF(L24=CP20,IF(L22<>CP3,AZ51,),)","v":{"$error":"#DIV/0!"}},{"$f":"IF(L24=CP20,IF(OR(L22=CP5,L22=CP6),BA57+((BA53-BA57)*0.85),),)","v":{"$error":"#DIV/0!"}},{"$f":"IF(L24=CP20,IF(OR(L22=CP5,L22=CP6),BB51,),)","v":{"$error":"#DIV/0!"}},{"$error":"#DIV/0!"},{"$error":"#DIV/0!"},{"$f":"IF(L21=CP16,0,IF(L24=CP20,IF(L22<>CP3,AY57+((AY53-AY57)*0.85),),))","v":{"$error":"#DIV/0!"}},{"$f":"IF(L24=CP20,IF(L22<>CP3,BF51,),)","v":{"$error":"#DIV/0!"}},{"$f":"IF(L21=CP16,0,IF(L24=CP20,IF(OR(L22=CP5,L22=CP6),BA57+((BA53-BA57)*0.85),),))","v":{"$error":"#DIV/0!"}},{"$f":"IF(L24=CP20,IF(OR(L22=CP5,L22=CP6),BH51,),)","v":{"$error":"#DIV/0!"}},{"$error":"#DIV/0!"},{"$error":"#DIV/0!"}]
[{"$f":"IF(E21=BP16,0,A64)","v":{"$error":"#DIV/0!"}},{"$f":"B52","v":{"$error":"#DIV/0!"}},{"$f":"IF(E22=BP3,0,C44)","v":{"$error":"#DIV/0!"}},{"$f":"IF(E22=BP3,0,D52)","v":{"$error":"#DIV/0!"}},{"$error":"#DIV/0!"},{"$f":"IF(OR(E22=BP2,E22=BP3,E22=BP4),0,F52)","v":{"$error":"#DIV/0!"}},{"$error":"#DIV/0!"},{"$error":"#DIV/0!"},{"$f":"IF(E24=BP20,IF(E22<>BP3,I57+((I53-I57)/1.8),),)","v":0},{"$f":"IF(E24=BP20,IF(E22<>BP3,J50,),)","v":0},{"$f":"IF(E24=BP20,IF(OR(E22=BP5,E22=BP6),K57+((K53-K57)/1.8),),)","v":0},{"$f":"IF(E24=BP20,IF(OR(E22=BP5,E22=BP6),L50,),)","v":0},{"$error":"#DIV/0!"},{"$error":"#DIV/0!"},{"$f":"IF(E21=BP16,0,IF(E24=BP20,IF(E22<>BP3,I57+((I53-I57)/1.8),),))","v":0},{"$f":"IF(E24=BP20,IF(E22<>BP3,P50,),)","v":0},{"$f":"IF(E21=BP16,0,IF(E24=BP20,IF(OR(E22=BP5,E22=BP6),K57+((K53-K57)/1.8),),))","v":0},{"$f":"IF(E24=BP20,IF(OR(E22=BP5,E22=BP6),R50,),)","v":0},{"$error":"#DIV/0!"},{"$error":"#DIV/0!"},null,{"$f":"IF(I21=CC16,0,V64)","v":{"$error":"#DIV/0!"}},{"$f":"W52","v":{"$error":"#DIV/0!"}},{"$f":"IF(I22=CC3,0,X44)","v":{"$error":"#DIV/0!"}},{"$f":"IF(I22=CC3,0,Y52)","v":{"$error":"#DIV/0!"}},{"$error":"#DIV/0!"},{"$f":"IF(OR(I22=CC2,I22=CC3,I22=CC4),0,AA52)","v":{"$error":"#DIV/0!"}},{"$error":"#DIV/0!"},{"$error":"#DIV/0!"},{"$f":"IF(I24=CC20,IF(I22<>CC3,AD57+((AD53-AD57)/1.8),),)","v":0},{"$f":"IF(I24=CC20,IF(I22<>CC3,AE50,),)","v":0},{"$f":"IF(I24=CC20,IF(OR(I22=CC5,I22=CC6),AF57+((AF53-AF57)/1.8),),)","v":0},{"$f":"IF(I24=CC20,IF(OR(I22=CC5,I22=CC6),AG50,),)","v":0},{"$error":"#DIV/0!"},{"$error":"#DIV/0!"},{"$f":"IF(I21=CC16,0,IF(I24=CC20,IF(I22<>CC3,AD57+((AD53-AD57)/1.8),),))","v":0},{"$f":"IF(I24=CC20,IF(I22<>CC3,AK50,),)","v":0},{"$f":"IF(I21=CC16,0,IF(I24=CC20,IF(OR(I22=CC5,I22=CC6),AF57+((AF53-AF57)/1.8),),))","v":0},{"$f":"IF(I24=CC20,IF(OR(I22=CC5,I22=CC6),AM50,),)","v":0},{"$error":"#DIV/0!"},{"$error":"#DIV/0!"},null,{"$f":"IF(L21=CP16,0,AQ64)","v":{"$error":"#DIV/0!"}},{"$f":"AR52","v":{"$error":"#DIV/0!"}},{"$f":"IF(L22=CP3,0,AS44)","v":{"$error":"#DIV/0!"}},{"$f":"IF(L22=CP3,0,AT52)","v":{"$error":"#DIV/0!"}},{"$error":"#DIV/0!"},{"$f":"IF(OR(L22=CP2,L22=CP3,L22=CP4),0,AV52)","v":{"$error":"#DIV/0!"}},{"$error":"#DIV/0!"},{"$error":"#DIV/0!"},{"$f":"IF(L24=CP20,IF(L22<>CP3,AY57+((AY53-AY57)/1.8),),)","v":{"$error":"#DIV/0!"}},{"$f":"IF(L24=CP20,IF(L22<>CP3,AZ50,),)","v":{"$error":"#DIV/0!"}},{"$f":"IF(L24=CP20,IF(OR(L22=CP5,L22=CP6),BA57+((BA53-BA57)/1.8),),)","v":{"$error":"#DIV/0!"}},{"$f":"IF(L24=CP20,IF(OR(L22=CP5,L22=CP6),BB50,),)","v":{"$error":"#DIV/0!"}},{"$error":"#DIV/0!"},{"$error":"#DIV/0!"},{"$f":"IF(L21=CP16,0,IF(L24=CP20,IF(L22<>CP3,AY57+((AY53-AY57)/1.8),),))","v":{"$error":"#DIV/0!"}},{"$f":"IF(L24=CP20,IF(L22<>CP3,BF50,),)","v":{"$error":"#DIV/0!"}},{"$f":"IF(L21=CP16,0,IF(L24=CP20,IF(OR(L22=CP5,L22=CP6),BA57+((BA53-BA57)/1.8),),))","v":{"$error":"#DIV/0!"}},{"$f":"IF(L24=CP20,IF(OR(L22=CP5,L22=CP6),BH50,),)","v":{"$error":"#DIV/0!"}},{"$error":"#DIV/0!"},{"$error":"#DIV/0!"}]
[{"$f":"IF(E21=BP16,0,A64+BO16)","v":{"$error":"#DIV/0!"}},{"$f":"B51","v":{"$error":"#DIV/0!"}},{"$f":"IF(E21=BP16,0,C44+BO16)","v":{"$error":"#DIV/0!"}},{"$f":"D51","v":{"$error":"#DIV/0!"}},{"$error":"#DIV/0!"},{"$f":"F51","v":{"$error":"#DIV/0!"}},{"$error":"#DIV/0!"},{"$error":"#DIV/0!"},{"$f":"IF(E24=BP20,IF(E22<>BP3,I45,),)","v":0},{"$f":"IF(E24=BP20,IF(E22<>BP3,J45,),)","v":0},{"$f":"IF(E24=BP20,IF(OR(E22=BP5,E22=BP6),K45,),)","v":0},{"$f":"IF(E24=BP20,IF(OR(E22=BP5,E22=BP6),L45,),)","v":0},{"$error":"#DIV/0!"},{"$error":"#DIV/0!"},{"$f":"IF(E21=BP16,0,IF(E24=BP20,IF(E22<>BP3,I45,),))","v":0},{"$f":"IF(E24=BP20,IF(E22<>BP3,P45,),)","v":0},{"$f":"IF(E21=BP16,0,IF(E24=BP20,IF(OR(E22=BP5,E22=BP6),K45,),))","v":0},{"$f":"IF(E24=BP20,IF(OR(E22=BP5,E22=BP6),R49,),)","v":0},{"$error":"#DIV/0!"},{"$error":"#DIV/0!"},null,{"$f":"IF(I21=CC16,0,V64+BO16)","v":{"$error":"#DIV/0!"}},{"$f":"W51","v":{"$error":"#DIV/0!"}},{"$f":"IF(I21=CC16,0,X44+BO16)","v":{"$error":"#DIV/0!"}},{"$f":"Y51","v":{"$error":"#DIV/0!"}},{"$error":"#DIV/0!"},{"$f":"AA51","v":{"$error":"#DIV/0!"}},{"$error":"#DIV/0!"},{"$error":"#DIV/0!"},{"$f":"IF(I24=CC20,IF(I22<>CC3,AD45,),)","v":0},{"$f":"IF(I24=CC20,IF(I22<>CC3,AE45,),)","v":0},{"$f":"IF(I24=CC20,IF(OR(I22=CC5,I22=CC6),AF45,),)","v":0},{"$f":"IF(I24=CC20,IF(OR(I22=CC5,I22=CC6),AG45,),)","v":0},{"$error":"#DIV/0!"},{"$error":"#DIV/0!"},{"$f":"IF(I21=CC16,0,IF(I24=CC20,IF(I22<>CC3,AD45,),))","v":0},{"$f":"IF(I24=CC20,IF(I22<>CC3,AK45,),)","v":0},{"$f":"IF(I21=CC16,0,IF(I24=CC20,IF(OR(I22=CC5,I22=CC6),AF45,),))","v":0},{"$f":"IF(I24=CC20,IF(OR(I22=CC5,I22=CC6),AM49,),)","v":0},{"$error":"#DIV/0!"},{"$error":"#DIV/0!"},null,{"$f":"IF(L21=CP16,0,AQ64+BO16)","v":{"$error":"#DIV/0!"}},{"$f":"AR51","v":{"$error":"#DIV/0!"}},{"$f":"IF(L21=CP16,0,AS44+BO16)","v":{"$error":"#DIV/0!"}},{"$f":"AT51","v":{"$error":"#DIV/0!"}},{"$error":"#DIV/0!"},{"$f":"AV51","v":{"$error":"#DIV/0!"}},{"$error":"#DIV/0!"},{"$error":"#DIV/0!"},{"$f":"IF(L24=CP20,IF(L22<>CP3,AY45,),)","v":{"$error":"#DIV/0!"}},{"$f":"IF(L24=CP20,IF(L22<>CP3,AZ45,),)","v":{"$error":"#DIV/0!"}},{"$f":"IF(L24=CP20,IF(OR(L22=CP5,L22=CP6),BA45,),)","v":{"$error":"#DIV/0!"}},{"$f":"IF(L24=CP20,IF(OR(L22=CP5,L22=CP6),BB45,),)","v":{"$error":"#DIV/0!"}},{"$error":"#DIV/0!"},{"$error":"#DIV/0!"},{"$f":"IF(L21=CP16,0,IF(L24=CP20,IF(L22<>CP3,AY45,),))","v":{"$error":"#DIV/0!"}},{"$f":"IF(L24=CP20,IF(L22<>CP3,BF45,),)","v":{"$error":"#DIV/0!"}},{"$f":"IF(L21=CP16,0,IF(L24=CP20,IF(OR(L22=CP5,L22=CP6),BA45,),))","v":{"$error":"#DIV/0!"}},{"$f":"IF(L24=CP20,IF(OR(L22=CP5,L22=CP6),BH49,),)","v":{"$error":"#DIV/0!"}},{"$error":"#DIV/0!"},{"$error":"#DIV/0!"}]
[{"$f":"IF(E21=BP16,0,A64+BN16)","v":{"$error":"#DIV/0!"}},{"$f":"B50","v":{"$error":"#DIV/0!"}},{"$f":"IF(E21=BP16,0,C44+BN16)","v":{"$error":"#DIV/0!"}},{"$f":"IF(E22=BP3,0,D50)","v":{"$error":"#DIV/0!"}},{"$error":"#DIV/0!"},{"$f":"IF(OR(E22=BP2,E22=BP3,E22=BP4),0,B50)","v":{"$error":"#DIV/0!"}},{"$error":"#DIV/0!"},{"$error":"#DIV/0!"},null,null,null,null,null,null,"Roof plan",null,null,null,null,null,null,{"$f":"IF(I21=CC16,0,V64+CA16)","v":{"$error":"#DIV/0!"}},{"$f":"W50","v":{"$error":"#DIV/0!"}},{"$f":"IF(I21=CC16,0,X44+CA16)","v":{"$error":"#DIV/0!"}},{"$f":"IF(I22=CC3,0,Y50)","v":{"$error":"#DIV/0!"}},{"$error":"#DIV/0!"},{"$f":"IF(OR(I22=CC2,I22=CC3,I22=CC4),0,W50)","v":{"$error":"#DIV/0!"}},{"$error":"#DIV/0!"},{"$error":"#DIV/0!"},null,null,null,null,null,null,"Roof plan",null,null,null,null,null,null,{"$f":"IF(L21=CP16,0,AQ64+CN16)","v":{"$error":"#DIV/0!"}},{"$f":"AR50","v":{"$error":"#DIV/0!"}},{"$f":"IF(L21=CP16,0,AS44+CN16)","v":{"$error":"#DIV/0!"}},{"$f":"IF(L22=CP3,0,AT50)","v":{"$error":"#DIV/0!"}},{"$error":"#DIV/0!"},{"$f":"IF(OR(L22=CP2,L22=CP3,L22=CP4),0,AR50)","v":{"$error":"#DIV/0!"}},{"$error":"#DIV/0!"},{"$error":"#DIV/0!"},null,null,null,null,null,null,"Roof plan"]
[{"$f":"IF(E21=BP16,0,A77)","v":{"$error":"#DIV/0!"}},{"$f":"B49","v":{"$error":"#DIV/0!"}},{"$f":"C57","v":{"$error":"#DIV/0!"}},{"$f":"D49","v":{"$error":"#DIV/0!"}},{"$error":"#DIV/0!"},{"$f":"F49","v":{"$error":"#DIV/0!"}},{"$error":"#DIV/0!"},{"$error":"#DIV/0!"},null,null,null,null,null,null,"x-axis","y-axis",null,null,null,null,null,{"$f":"IF(I21=CC16,0,V77)","v":{"$error":"#DIV/0!"}},{"$f":"W49","v":{"$error":"#DIV/0!"}},{"$f":"X57","v":{"$error":"#DIV/0!"}},{"$f":"Y49","v":{"$error":"#DIV/0!"}},{"$error":"#DIV/0!"},{"$f":"AA49","v":{"$error":"#DIV/0!"}},{"$error":"#DIV/0!"},{"$error":"#DIV/0!"},null,null,null,null,null,null,"x-axis","y-axis",null,null,null,null,null,{"$f":"IF(L21=CP16,0,AQ77)","v":{"$error":"#DIV/0!"}},{"$f":"AR49","v":{"$error":"#DIV/0!"}},{"$f":"AS57","v":{"$error":"#DIV/0!"}},{"$f":"AT49","v":{"$error":"#DIV/0!"}},{"$error":"#DIV/0!"},{"$f":"AV49","v":{"$error":"#DIV/0!"}},{"$error":"#DIV/0!"},{"$error":"#DIV/0!"},null,null,null,null,null,null,"x-axis","y-axis"]
[{"$f":"IF(E21=BP16,0,A64)","v":{"$error":"#DIV/0!"}},{"$f":"B44","v":{"$error":"#DIV/0!"}},{"$f":"IF(E22=BP3,0,C56)","v":{"$error":"#DIV/0!"}},{"$f":"IF(E22=BP3,0,B44)","v":{"$error":"#DIV/0!"}},{"$error":"#DIV/0!"},{"$f":"IF(OR(E22=BP2,E22=BP3,E22=BP4),0,B44)","v":{"$error":"#DIV/0!"}},{"$error":"#DIV/0!"},{"$error":"#DIV/0!"},null,null,null,null,null,null,0,0,null,null,null,null,null,{"$f":"IF(I21=CC16,0,V64)","v":{"$error":"#DIV/0!"}},{"$f":"W44","v":{"$error":"#DIV/0!"}},{"$f":"IF(I22=CC3,0,X56)","v":{"$error":"#DIV/0!"}},{"$f":"IF(I22=CC3,0,W44)","v":{"$error":"#DIV/0!"}},{"$error":"#DIV/0!"},{"$f":"IF(OR(I22=CC2,I22=CC3,I22=CC4),0,W44)","v":{"$error":"#DIV/0!"}},{"$error":"#DIV/0!"},{"$error":"#DIV/0!"},null,null,null,null,null,null,0,0,null,null,null,null,null,{"$f":"IF(L21=CP16,0,AQ64)","v":{"$error":"#DIV/0!"}},{"$f":"AR44","v":{"$error":"#DIV/0!"}},{"$f":"IF(L22=CP3,0,AS56)","v":{"$error":"#DIV/0!"}},{"$f":"IF(L22=CP3,0,AR44)","v":{"$error":"#DIV/0!"}},{"$error":"#DIV/0!"},{"$f":"IF(OR(L22=CP2,L22=CP3,L22=CP4),0,AR44)","v":{"$error":"#DIV/0!"}},{"$error":"#DIV/0!"},{"$error":"#DIV/0!"},null,null,null,null,null,null,0,0]
[null,null,null,null,null,null,null,null,null,null,null,null,null,null,{"$f":"BR10","v":{"$error":"#DIV/0!"}},0,null,null,null,null,null,null,null,null,null,null,null,null,null,null,null,null,null,null,null,{"$f":"CE10","v":{"$error":"#DIV/0!"}},0,null,null,null,null,null,null,null,null,null,null,null,null,null,null,null,null,null,null,null,{"$f":"CR10","v":{"$error":"#DIV/0!"}},0]
["x","y","x","y","x","y","x","y",null,null,null,null,null,null,{"$f":"BR10","v":{"$error":"#DIV/0!"}},{"$f":"BR11","v":{"$error":"#DIV/0!"}},null,null,null,null,null,"x","y","x","y","x","y","x","y",null,null,null,null,null,null,{"$f":"CE10","v":{"$error":"#DIV/0!"}},{"$f":"CE11","v":{"$error":"#DIV/0!"}},null,null,null,null,null,"x","y","x","y","x","y","x","y",null,null,null,null,null,null,{"$f":"CR10","v":{"$error":"#DIV/0!"}},{"$f":"CR11","v":{"$error":"#DIV/0!"}}]
["Left down",null,"Right down",null,"Mid left down",null,"Mid right down",null,null,null,null,null,null,null,0,{"$f":"BR11","v":{"$error":"#DIV/0!"}},null,null,null,null,null,"Left down",null,"Right down",null,"Mid left down",null,"Mid right down",null,null,null,null,null,null,null,0,{"$f":"CE11","v":{"$error":"#DIV/0!"}},null,null,null,null,null,"Left down",null,"Right down",null,"Mid left down",null,"Mid right down",null,null,null,null,null,null,null,0,{"$f":"CR11","v":{"$error":"#DIV/0!"}}]
[{"$f":"BR23","v":{"$error":"#DIV/0!"}},{"$f":"BR23","v":{"$error":"#DIV/0!"}},{"$f":"IF(E22=BP3,0,C68-BR22)","v":{"$error":"#DIV/0!"}},{"$f":"IF(E22=BP3,0,BR23)","v":{"$error":"#DIV/0!"}},{"$f":"IF(OR(E22=BP2,E22=BP3,E22=BP4),0,IF(E22=BP5,(BR10/2)-(BR21/2),BR24-(BR21/2)))","v":{"$error":"#DIV/0!"}},{"$f":"IF(OR(E22=BP2,E22=BP3,E22=BP4),0,BR23)","v":{"$error":"#DIV/0!"}},{"$f":"IF(OR(E22=BP2,E22=BP3,E22=BP4,E22=BP5),0,BT24-(BR21/2))","v":{"$error":"#DIV/0!"}},{"$f":"F64","v":{"$error":"#DIV/0!"}},null,null,null,null,null,null,0,0,null,null,null,null,null,{"$f":"CE23","v":{"$error":"#DIV/0!"}},{"$f":"CE23","v":{"$error":"#DIV/0!"}},{"$f":"IF(I22=CC3,0,X68-CE22)","v":{"$error":"#DIV/0!"}},{"$f":"IF(I22=CC3,0,CE23)","v":{"$error":"#DIV/0!"}},{"$f":"IF(OR(I22=CC2,I22=CC3,I22=CC4),0,IF(I22=CC5,(CE10/2)-(CE21/2),CE24-(CE21/2)))","v":{"$error":"#DIV/0!"}},{"$f":"IF(OR(I22=CC2,I22=CC3,I22=CC4),0,CE23)","v":{"$error":"#DIV/0!"}},{"$f":"IF(OR(I22=CC2,I22=CC3,I22=CC4,I22=CC5),0,CG24-(CE21/2))","v":{"$error":"#DIV/0!"}},{"$f":"AA64","v":{"$error":"#DIV/0!"}},null,null,null,null,null,null,0,0,null,null,null,null,null,{"$f":"CR23","v":{"$error":"#DIV/0!"}},{"$f":"CR23","v":{"$error":"#DIV/0!"}},{"$f":"IF(L22=CP3,0,AS68-CR22)","v":{"$error":"#DIV/0!"}},{"$f":"IF(L22=CP3,0,CR23)","v":{"$error":"#DIV/0!"}},{"$f":"IF(OR(L22=CP2,L22=CP3,L22=CP4),0,IF(L22=CP5,(CR10/2)-(CR21/2),CR24-(CR21/2)))","v":{"$error":"#DIV/0!"}},{"$f":"IF(OR(L22=CP2,L22=CP3,L22=CP4),0,CR23)","v":{"$error":"#DIV/0!"}},{"$f":"IF(OR(L22=CP2,L22=CP3,L22=CP4,L22=CP5),0,CT24-(CR21/2))","v":{"$error":"#DIV/0!"}},{"$f":"AV64","v":{"$error":"#DIV/0!"}},null,null,null,null,null,null,0,0]
[{"$f":"A64+(BR20/4)+BR23","v":{"$error":"#DIV/0!"}},{"$f":"IF(E25=BY33,BM18*0.5,BM18*0.75)","v":{"$error":"#DIV/0!"}},{"$f":"IF(E22=BP3,0,C66-(BR22/4))","v":{"$error":"#DIV/0!"}},{"$f":"IF(E22=BP3,0,B65)","v":{"$error":"#DIV/0!"}},{"$f":"IF(OR(E22=BP2,E22=BP3,E22=BP4),0,E64+(MAX(BR21:BS21)/4))","v":{"$error":"#DIV/0!"}},{"$f":"IF(OR(E22=BP2,E22=BP3,E22=BP4),0,B65)","v":{"$error":"#DIV/0!"}},{"$f":"IF(E22<>BP6,0,G64+(MAX(BR21:BS21)/4))","v":{"$error":"#DIV/0!"}},{"$f":"F65","v":{"$error":"#DIV/0!"}},null,null,null,null,null,null,0,{"$f":"BR11/2","v":{"$error":"#DIV/0!"}},null,null,null,null,null,{"$f":"V64+(CE20/4)+CE23","v":{"$error":"#DIV/0!"}},{"$f":"IF(I25=BY33,BZ18*0.5,BZ18*0.75)","v":{"$error":"#DIV/0!"}},{"$f":"IF(I22=CC3,0,X66-(CE22/4))","v":{"$error":"#DIV/0!"}},{"$f":"IF(I22=CC3,0,W65)","v":{"$error":"#DIV/0!"}},{"$f":"IF(OR(I22=CC2,I22=CC3,I22=CC4),0,Z64+(MAX(CE21:CF21)/4))","v":{"$error":"#DIV/0!"}},{"$f":"IF(OR(I22=CC2,I22=CC3,I22=CC4),0,W65)","v":{"$error":"#DIV/0!"}},{"$f":"IF(I22<>CC6,0,AB64+(MAX(CE21:CF21)/4))","v":{"$error":"#DIV/0!"}},{"$error":"#DIV/0!"},null,null,null,null,null,null,0,{"$f":"CE11/2","v":{"$error":"#DIV/0!"}},null,null,null,null,null,{"$f":"AQ64+(CR20/4)+CR23","v":{"$error":"#DIV/0!"}},{"$f":"IF(L25=BY33,CM18*0.5,CM18*0.75)","v":{"$error":"#DIV/0!"}},{"$f":"IF(L22=CP3,0,AS66-(CR22/4))","v":{"$error":"#DIV/0!"}},{"$f":"IF(L22=CP3,0,AR65)","v":{"$error":"#DIV/0!"}},{"$f":"IF(OR(L22=CP2,L22=CP3,L22=CP4),0,AU64+(MAX(CR21:CS21)/4))","v":{"$error":"#DIV/0!"}},{"$f":"IF(OR(L22=CP2,L22=CP3,L22=CP4),0,AR65)","v":{"$error":"#DIV/0!"}},{"$f":"IF(L22<>CP6,0,AW64+(MAX(CR21:CS21)/4))","v":{"$error":"#DIV/0!"}},{"$f":"AV65","v":{"$error":"#DIV/0!"}},null,null,null,null,null,null,0,{"$f":"CR11/2","v":{"$error":"#DIV/0!"}}]
[{"$f":"IF(E22=BP3,(BR10/2),A68-(BR20/2))","v":{"$error":"#DIV/0!"}},{"$f":"IF(E25=BY33,B64,BM18)","v":{"$error":"#DIV/0!"}},{"$f":"IF(E22=BP3,0,C68-(BR22/2))","v":{"$error":"#DIV/0!"}},{"$f":"IF(E22=BP3,0,B66)","v":{"$error":"#DIV/0!"}},{"$f":"IF(OR(E22=BP2,E22=BP3,E22=BP4),0,E68-((E68-E64)/2))","v":{"$error":"#DIV/0!"}},{"$f":"IF(OR(E22=BP2,E22=BP3,E22=BP4),0,B66)","v":{"$error":"#DIV/0!"}},{"$f":"IF(E22<>BP6,0,G68-((G68-G64)/2))","v":{"$error":"#DIV/0!"}},{"$error":"#DIV/0!"},null,null,null,null,null,null,{"$f":"O62","v":{"$error":"#DIV/0!"}},{"$f":"P65","v":{"$error":"#DIV/0!"}},null,null,null,null,null,{"$f":"IF(I22=CC3,(CE10/2),V68-(CE20/2))","v":{"$error":"#DIV/0!"}},{"$f":"IF(I25=BY33,W64,BZ18)","v":{"$error":"#DIV/0!"}},{"$f":"IF(I22=CC3,0,X68-(CE22/2))","v":{"$error":"#DIV/0!"}},{"$f":"IF(I22=CC3,0,W66)","v":{"$error":"#DIV/0!"}},{"$f":"IF(OR(I22=CC2,I22=CC3,I22=CC4),0,Z68-((Z68-Z64)/2))","v":{"$error":"#DIV/0!"}},{"$f":"IF(OR(I22=CC2,I22=CC3,I22=CC4),0,W66)","v":{"$error":"#DIV/0!"}},{"$f":"IF(I22<>CC6,0,AB68-((AB68-AB64)/2))","v":{"$error":"#DIV/0!"}},{"$error":"#DIV/0!"},null,null,null,null,null,null,{"$f":"AJ62","v":{"$error":"#DIV/0!"}},{"$f":"AK65","v":{"$error":"#DIV/0!"}},null,null,null,null,null,{"$f":"IF(L22=CP3,(CR10/2),AQ68-(CR20/2))","v":{"$error":"#DIV/0!"}},{"$f":"IF(L25=BY33,AR64,CM18)","v":{"$error":"#DIV/0!"}},{"$f":"IF(L22=CP3,0,AS68-(CR22/2))","v":{"$error":"#DIV/0!"}},{"$f":"IF(L22=CP3,0,AR66)","v":{"$error":"#DIV/0!"}},{"$f":"IF(OR(L22=CP2,L22=CP3,L22=CP4),0,AU68-((AU68-AU64)/2))","v":{"$error":"#DIV/0!"}},{"$f":"IF(OR(L22=CP2,L22=CP3,L22=CP4),0,AR66)","v":{"$error":"#DIV/0!"}},{"$f":"IF(L22<>CP6,0,AW68-((AW68-AW64)/2))","v":{"$error":"#DIV/0!"}},{"$error":"#DIV/0!"},null,null,null,null,null,null,{"$f":"BE62","v":{"$error":"#DIV/0!"}},{"$f":"BF65","v":{"$error":"#DIV/0!"}}]
[{"$f":"A68-(BR20/4)","v":{"$error":"#DIV/0!"}},{"$f":"B65","v":{"$error":"#DIV/0!"}},{"$f":"C66+(BR22/4)","v":{"$error":"#DIV/0!"}},{"$f":"IF(E22=BP3,0,B67)","v":{"$error":"#DIV/0!"}},{"$f":"IF(OR(E22=BP2,E22=BP3,E22=BP4),0,E68-(MAX(BR21:BS21)/4))","v":{"$error":"#DIV/0!"}},{"$f":"F65","v":{"$error":"#DIV/0!"}},{"$f":"IF(E22<>BP6,0,G68-(MAX(BR21:BS21)/4))","v":{"$error":"#DIV/0!"}},{"$error":"#DIV/0!"},null,null,null,null,null,null,null,null,null,null,null,null,null,{"$f":"V68-(CE20/4)","v":{"$error":"#DIV/0!"}},{"$f":"W65","v":{"$error":"#DIV/0!"}},{"$f":"X66+(CE22/4)","v":{"$error":"#DIV/0!"}},{"$f":"IF(I22=CC3,0,W67)","v":{"$error":"#DIV/0!"}},{"$f":"IF(OR(I22=CC2,I22=CC3,I22=CC4),0,Z68-(MAX(CE21:CF21)/4))","v":{"$error":"#DIV/0!"}},{"$f":"AA65","v":{"$error":"#DIV/0!"}},{"$f":"IF(I22<>CC6,0,AB68-(MAX(CE21:CF21)/4))","v":{"$error":"#DIV/0!"}},{"$error":"#DIV/0!"},null,null,null,null,null,null,null,null,null,null,null,null,null,{"$f":"AQ68-(CR20/4)","v":{"$error":"#DIV/0!"}},{"$f":"AR65","v":{"$error":"#DIV/0!"}},{"$f":"AS66+(CR22/4)","v":{"$error":"#DIV/0!"}},{"$f":"IF(L22=CP3,0,AR67)","v":{"$error":"#DIV/0!"}},{"$f":"IF(OR(L22=CP2,L22=CP3,L22=CP4),0,AU68-(MAX(CR21:CS21)/4))","v":{"$error":"#DIV/0!"}},{"$f":"AV65","v":{"$error":"#DIV/0!"}},{"$f":"IF(L22<>CP6,0,AW68-(MAX(CR21:CS21)/4))","v":{"$error":"#DIV/0!"}},{"$error":"#DIV/0!"}]
[{"$f":"A64+BR20","v":{"$error":"#DIV/0!"}},{"$f":"BR23","v":{"$error":"#DIV/0!"}},{"$f":"IF(E22=BP3,0,BR10-BR23)","v":{"$error":"#DIV/0!"}},{"$f":"IF(E22=BP3,0,BR23)","v":{"$error":"#DIV/0!"}},{"$f":"IF(OR(E22=BP2,E22=BP3,E22=BP4),0,IF(E22=BP5,(BR10/2)+(BS21/2),BR24+(BR21/2)))","v":{"$error":"#DIV/0!"}},{"$f":"IF(OR(E22=BP2,E22=BP3,E22=BP4),0,BR23)","v":{"$error":"#DIV/0!"}},{"$f":"IF(E22<>BP6,0,BT24+(BR21/2))","v":{"$error":"#DIV/0!"}},{"$error":"#DIV/0!"},null,null,null,null,null,null,null,null,null,null,null,null,null,{"$f":"V64+CE20","v":{"$error":"#DIV/0!"}},{"$f":"CE23","v":{"$error":"#DIV/0!"}},{"$f":"IF(I22=CC3,0,CE10-CE23)","v":{"$error":"#DIV/0!"}},{"$f":"IF(I22=CC3,0,CE23)","v":{"$error":"#DIV/0!"}},{"$f":"IF(OR(I22=CC2,I22=CC3,I22=CC4),0,IF(I22=CC5,(CE10/2)+(CF21/2),CE24+(CE21/2)))","v":{"$error":"#DIV/0!"}},{"$f":"IF(OR(I22=CC2,I22=CC3,I22=CC4),0,CE23)","v":{"$error":"#DIV/0!"}},{"$f":"IF(I22<>CC6,0,CG24+(CE21/2))","v":{"$error":"#DIV/0!"}},{"$error":"#DIV/0!"},null,null,null,null,null,null,null,null,null,null,null,null,null,{"$f":"AQ64+CR20","v":{"$error":"#DIV/0!"}},{"$f":"CR23","v":{"$error":"#DIV/0!"}},{"$f":"IF(L22=CP3,0,CR10-CR23)","v":{"$error":"#DIV/0!"}},{"$f":"IF(L22=CP3,0,CR23)","v":{"$error":"#DIV/0!"}},{"$f":"IF(OR(L22=CP2,L22=CP3,L22=CP4),0,IF(L22=CP5,(CR10/2)+(CS21/2),CR24+(CR21/2)))","v":{"$error":"#DIV/0!"}},{"$f":"IF(OR(L22=CP2,L22=CP3,L22=CP4),0,CR23)","v":{"$error":"#DIV/0!"}},{"$f":"IF(L22<>CP6,0,CT24+(CR21/2))","v":{"$error":"#DIV/0!"}},{"$error":"#DIV/0!"}]
[{"$f":"A68-BO16","v":{"$error":"#DIV/0!"}},{"$f":"BR19/4","v":{"$error":"#DIV/0!"}},{"$f":"IF(E22=BP3,0,C68-BO16)","v":{"$error":"#DIV/0!"}},{"$f":"IF(E22=BP3,0,B79)","v":{"$error":"#DIV/0!"}},{"$f":"IF(OR(E22=BP2,E22=BP3,E22=BP4),0,E68-BO16)","v":{"$error":"#DIV/0!"}},{"$f":"IF(OR(E22=BP2,E22=BP3,E22=BP4),0,D69)","v":{"$error":"#DIV/0!"}},{"$f":"IF(E22<>BP6,0,G68-BO16)","v":{"$error":"#DIV/0!"}},{"$error":"#DIV/0!"},null,null,null,null,null,null,null,null,null,null,null,null,null,{"$f":"V68-BO16","v":{"$error":"#DIV/0!"}},{"$f":"CE19/4","v":{"$error":"#DIV/0!"}},{"$f":"IF(I22=CC3,0,X68-BO16)","v":{"$error":"#DIV/0!"}},{"$f":"IF(I22=CC3,0,W79)","v":{"$error":"#DIV/0!"}},{"$f":"IF(OR(I22=CC2,I22=CC3,I22=CC4),0,Z68-BO16)","v":{"$error":"#DIV/0!"}},{"$f":"IF(OR(I22=CC2,I22=CC3,I22=CC4),0,Y69)","v":{"$error":"#DIV/0!"}},{"$f":"IF(I22<>CC6,0,AB68-BO16)","v":{"$error":"#DIV/0!"}},{"$error":"#DIV/0!"},null,null,null,null,null,null,null,null,null,null,null,null,null,{"$f":"AQ68-BO16","v":{"$error":"#DIV/0!"}},{"$f":"CR19/4","v":{"$error":"#DIV/0!"}},{"$f":"IF(L22=CP3,0,AS68-BO16)","v":{"$error":"#DIV/0!"}},{"$f":"IF(L22=CP3,0,AR79)","v":{"$error":"#DIV/0!"}},{"$f":"IF(OR(L22=CP2,L22=CP3,L22=CP4),0,AU68-BO16)","v":{"$error":"#DIV/0!"}},{"$f":"IF(OR(L22=CP2,L22=CP3,L22=CP4),0,AT69)","v":{"$error":"#DIV/0!"}},{"$f":"IF(L22<>CP6,0,AW68-BO16)","v":{"$error":"#DIV/0!"}},{"$error":"#DIV/0!"}]
[{"$f":"A68-BN16","v":{"$error":"#DIV/0!"}},{"$f":"(BR11/2)/2","v":{"$error":"#DIV/0!"}},{"$f":"IF(E22=BP3,0,C68-BN16)","v":{"$error":"#DIV/0!"}},{"$f":"IF(E22=BP3,0,B70)","v":{"$error":"#DIV/0!"}},{"$f":"IF(OR(E22=BP2,E22=BP3,E22=BP4),0,E68-BN16)","v":{"$error":"#DIV/0!"}},{"$f":"IF(OR(E22=BP2,E22=BP3,E22=BP4),0,B70)","v":{"$error":"#DIV/0!"}},{"$f":"IF(E22<>BP6,0,G68-BN16)","v":{"$error":"#DIV/0!"}},{"$error":"#DIV/0!"},null,null,null,null,null,null,null,null,null,null,null,null,null,{"$f":"V68-CA16","v":{"$error":"#DIV/0!"}},{"$f":"(CE11/2)/2","v":{"$error":"#DIV/0!"}},{"$f":"IF(I22=CC3,0,X68-CA16)","v":{"$error":"#DIV/0!"}},{"$f":"IF(I22=CC3,0,W70)","v":{"$error":"#DIV/0!"}},{"$f":"IF(OR(I22=CC2,I22=CC3,I22=CC4),0,Z68-CA16)","v":{"$error":"#DIV/0!"}},{"$f":"IF(OR(I22=CC2,I22=CC3,I22=CC4),0,W70)","v":{"$error":"#DIV/0!"}},{"$f":"IF(I22<>CC6,0,AB68-CA16)","v":{"$error":"#DIV/0!"}},{"$error":"#DIV/0!"},null,null,null,null,null,null,null,null,null,null,null,null,null,{"$f":"AQ68-CN16","v":{"$error":"#DIV/0!"}},{"$f":"(CR11/2)/2","v":{"$error":"#DIV/0!"}},{"$f":"IF(L22=CP3,0,AS68-CN16)","v":{"$error":"#DIV/0!"}},{"$f":"IF(L22=CP3,0,AR70)","v":{"$error":"#DIV/0!"}},{"$f":"IF(OR(L22=CP2,L22=CP3,L22=CP4),0,AU68-CN16)","v":{"$error":"#DIV/0!"}},{"$f":"IF(OR(L22=CP2,L22=CP3,L22=CP4),0,AR70)","v":{"$error":"#DIV/0!"}},{"$f":"IF(L22<>CP6,0,AW68-CN16)","v":{"$error":"#DIV/0!"}},{"$error":"#DIV/0!"}]
[{"$f":"A69","v":{"$error":"#DIV/0!"}},{"$f":"(BR19*0.75)","v":{"$error":"#DIV/0!"}},{"$f":"C69","v":{"$error":"#DIV/0!"}},{"$f":"IF(E22=BP3,0,B77)","v":{"$error":"#DIV/0!"}},{"$f":"E69","v":{"$error":"#DIV/0!"}},{"$f":"IF(OR(E22=BP2,E22=BP3,E22=BP4),0,D71)","v":{"$error":"#DIV/0!"}},{"$f":"G69","v":{"$error":"#DIV/0!"}},{"$error":"#DIV/0!"},null,null,null,null,null,null,null,null,null,null,null,null,null,{"$f":"V69","v":{"$error":"#DIV/0!"}},{"$f":"(CE19*0.75)","v":{"$error":"#DIV/0!"}},{"$f":"X69","v":{"$error":"#DIV/0!"}},{"$f":"IF(I22=CC3,0,W77)","v":{"$error":"#DIV/0!"}},{"$f":"Z69","v":{"$error":"#DIV/0!"}},{"$f":"IF(OR(I22=CC2,I22=CC3,I22=CC4),0,Y71)","v":{"$error":"#DIV/0!"}},{"$f":"AB69","v":{"$error":"#DIV/0!"}},{"$error":"#DIV/0!"},null,null,null,null,null,null,null,null,null,null,null,null,null,{"$f":"AQ69","v":{"$error":"#DIV/0!"}},{"$f":"(CR19*0.75)","v":{"$error":"#DIV/0!"}},{"$f":"AS69","v":{"$error":"#DIV/0!"}},{"$f":"IF(L22=CP3,0,AR77)","v":{"$error":"#DIV/0!"}},{"$f":"AU69","v":{"$error":"#DIV/0!"}},{"$f":"IF(OR(L22=CP2,L22=CP3,L22=CP4),0,AT71)","v":{"$error":"#DIV/0!"}},{"$f":"AW69","v":{"$error":"#DIV/0!"}},{"$error":"#DIV/0!"}]
[{"$f":"A68","v":{"$error":"#DIV/0!"}},{"$f":"(BR11/2)-BR23","v":{"$error":"#DIV/0!"}},{"$f":"IF(E22=BP3,0,C68)","v":{"$error":"#DIV/0!"}},{"$f":"IF(E22=BP3,0,B76)","v":{"$error":"#DIV/0!"}},{"$f":"IF(OR(E22=BP2,E22=BP3,E22=BP4),0,E68)","v":{"$error":"#DIV/0!"}},{"$f":"IF(OR(E22=BP2,E22=BP3,E22=BP4),0,D76)","v":{"$error":"#DIV/0!"}},{"$f":"IF(OR(E22=BP2,E22=BP3,E22=BP4),0,G68)","v":{"$error":"#DIV/0!"}},{"$error":"#DIV/0!"},null,null,null,null,null,null,null,null,null,null,null,null,null,{"$f":"V68","v":{"$error":"#DIV/0!"}},{"$f":"(CE11/2)-CE23","v":{"$error":"#DIV/0!"}},{"$f":"IF(I22=CC3,0,X68)","v":{"$error":"#DIV/0!"}},{"$f":"IF(I22=CC3,0,W76)","v":{"$error":"#DIV/0!"}},{"$f":"IF(OR(I22=CC2,I22=CC3,I22=CC4),0,Z68)","v":{"$error":"#DIV/0!"}},{"$f":"IF(OR(I22=CC2,I22=CC3,I22=CC4),0,Y76)","v":{"$error":"#DIV/0!"}},{"$f":"IF(OR(I22=CC2,I22=CC3,I22=CC4),0,AB68)","v":{"$error":"#DIV/0!"}},{"$error":"#DIV/0!"},null,null,null,null,null,null,null,null,null,null,null,null,null,{"$f":"AQ68","v":{"$error":"#DIV/0!"}},{"$f":"(CR11/2)-CR23","v":{"$error":"#DIV/0!"}},{"$f":"IF(L22=CP3,0,AS68)","v":{"$error":"#DIV/0!"}},{"$f":"IF(L22=CP3,0,AR76)","v":{"$error":"#DIV/0!"}},{"$f":"IF(OR(L22=CP2,L22=CP3,L22=CP4),0,AU68)","v":{"$error":"#DIV/0!"}},{"$f":"IF(OR(L22=CP2,L22=CP3,L22=CP4),0,AT76)","v":{"$error":"#DIV/0!"}},{"$f":"IF(OR(L22=CP2,L22=CP3,L22=CP4),0,AW68)","v":{"$error":"#DIV/0!"}},{"$error":"#DIV/0!"}]
[{"$f":"A67","v":{"$error":"#DIV/0!"}},{"$f":"(BR11/2)-B65","v":{"$error":"#DIV/0!"}},{"$f":"C67","v":{"$error":"#DIV/0!"}},{"$f":"IF(E22=BP3,0,B73)","v":{"$error":"#DIV/0!"}},{"$f":"E67","v":{"$error":"#DIV/0!"}},{"$f":"IF(OR(E22=BP2,E22=BP3,E22=BP4),0,B73)","v":{"$error":"#DIV/0!"}},{"$f":"G67","v":{"$error":"#DIV/0!"}},{"$error":"#DIV/0!"},null,null,null,null,null,null,null,null,null,null,null,null,null,{"$f":"V67","v":{"$error":"#DIV/0!"}},{"$f":"(CE11/2)-W65","v":{"$error":"#DIV/0!"}},{"$f":"X67","v":{"$error":"#DIV/0!"}},{"$f":"IF(I22=CC3,0,W73)","v":{"$error":"#DIV/0!"}},{"$f":"Z67","v":{"$error":"#DIV/0!"}},{"$f":"IF(OR(I22=CC2,I22=CC3,I22=CC4),0,W73)","v":{"$error":"#DIV/0!"}},{"$f":"AB67","v":{"$error":"#DIV/0!"}},{"$error":"#DIV/0!"},null,null,null,null,null,null,null,null,null,null,null,null,null,{"$f":"AQ67","v":{"$error":"#DIV/0!"}},{"$f":"(CR11/2)-AR65","v":{"$error":"#DIV/0!"}},{"$f":"AS67","v":{"$error":"#DIV/0!"}},{"$f":"IF(L22=CP3,0,AR73)","v":{"$error":"#DIV/0!"}},{"$f":"AU67","v":{"$error":"#DIV/0!"}},{"$f":"IF(OR(L22=CP2,L22=CP3,L22=CP4),0,AR73)","v":{"$error":"#DIV/0!"}},{"$f":"AW67","v":{"$error":"#DIV/0!"}},{"$error":"#DIV/0!"}]
[{"$f":"A66","v":{"$error":"#DIV/0!"}},{"$f":"(BR11/2)-B66","v":{"$error":"#DIV/0!"}},{"$f":"IF(E22=BP3,0,C66)","v":{"$error":"#DIV/0!"}},{"$f":"IF(E22=BP3,0,B74)","v":{"$error":"#DIV/0!"}},{"$f":"IF(OR(E22=BP2,E22=BP3,E22=BP4),0,E66)","v":{"$error":"#DIV/0!"}},{"$f":"IF(OR(E22=BP2,E22=BP3,E22=BP4),0,B74)","v":{"$error":"#DIV/0!"}},{"$f":"IF(OR(E22=BP2,E22=BP3,E22=BP4),0,G66)","v":{"$error":"#DIV/0!"}},{"$error":"#DIV/0!"},null,null,null,null,null,null,null,null,null,null,null,null,null,{"$f":"V66","v":{"$error":"#DIV/0!"}},{"$f":"(CE11/2)-W66","v":{"$error":"#DIV/0!"}},{"$f":"IF(I22=CC3,0,X66)","v":{"$error":"#DIV/0!"}},{"$f":"IF(I22=CC3,0,W74)","v":{"$error":"#DIV/0!"}},{"$f":"IF(OR(I22=CC2,I22=CC3,I22=CC4),0,Z66)","v":{"$error":"#DIV/0!"}},{"$f":"IF(OR(I22=CC2,I22=CC3,I22=CC4),0,W74)","v":{"$error":"#DIV/0!"}},{"$f":"IF(OR(I22=CC2,I22=CC3,I22=CC4),0,AB66)","v":{"$error":"#DIV/0!"}},{"$error":"#DIV/0!"},null,null,null,null,null,null,null,null,null,null,null,null,null,{"$f":"AQ66","v":{"$error":"#DIV/0!"}},{"$f":"(CR11/2)-AR66","v":{"$error":"#DIV/0!"}},{"$f":"IF(L22=CP3,0,AS66)","v":{"$error":"#DIV/0!"}},{"$f":"IF(L22=CP3,0,AR74)","v":{"$error":"#DIV/0!"}},{"$f":"IF(OR(L22=CP2,L22=CP3,L22=CP4),0,AU66)","v":{"$error":"#DIV/0!"}},{"$f":"IF(OR(L22=CP2,L22=CP3,L22=CP4),0,AR74)","v":{"$error":"#DIV/0!"}},{"$f":"IF(OR(L22=CP2,L22=CP3,L22=CP4),0,AW66)","v":{"$error":"#DIV/0!"}},{"$error":"#DIV/0!"}]
[{"$f":"A65","v":{"$error":"#DIV/0!"}},{"$f":"B73","v":{"$error":"#DIV/0!"}},{"$f":"C65","v":{"$error":"#DIV/0!"}},{"$f":"IF(E22=BP3,0,B75)","v":{"$error":"#DIV/0!"}},{"$f":"E65","v":{"$error":"#DIV/0!"}},{"$f":"F73","v":{"$error":"#DIV/0!"}},{"$f":"G65","v":{"$error":"#DIV/0!"}},{"$error":"#DIV/0!"},null,null,null,null,null,null,null,null,null,null,null,null,null,{"$f":"V65","v":{"$error":"#DIV/0!"}},{"$f":"W73","v":{"$error":"#DIV/0!"}},{"$f":"X65","v":{"$error":"#DIV/0!"}},{"$f":"IF(I22=CC3,0,W75)","v":{"$error":"#DIV/0!"}},{"$f":"Z65","v":{"$error":"#DIV/0!"}},{"$f":"AA73","v":{"$error":"#DIV/0!"}},{"$f":"AB65","v":{"$error":"#DIV/0!"}},{"$error":"#DIV/0!"},null,null,null,null,null,null,null,null,null,null,null,null,null,{"$f":"AQ65","v":{"$error":"#DIV/0!"}},{"$f":"AR73","v":{"$error":"#DIV/0!"}},{"$f":"AS65","v":{"$error":"#DIV/0!"}},{"$f":"IF(L22=CP3,0,AR75)","v":{"$error":"#DIV/0!"}},{"$f":"AU65","v":{"$error":"#DIV/0!"}},{"$f":"AV73","v":{"$error":"#DIV/0!"}},{"$f":"AW65","v":{"$error":"#DIV/0!"}},{"$error":"#DIV/0!"}]
[{"$f":"A64","v":{"$error":"#DIV/0!"}},{"$f":"B72","v":{"$error":"#DIV/0!"}},{"$f":"IF(E22=BP3,0,C64)","v":{"$error":"#DIV/0!"}},{"$f":"IF(E22=BP3,0,D72)","v":{"$error":"#DIV/0!"}},{"$f":"IF(OR(E22=BP2,E22=BP3,E22=BP4),0,E64)","v":{"$error":"#DIV/0!"}},{"$f":"IF(OR(E22=BP2,E22=BP3,E22=BP4),0,F72)","v":{"$error":"#DIV/0!"}},{"$f":"IF(OR(E22=BP2,E22=BP3,E22=BP4),0,G64)","v":{"$error":"#DIV/0!"}},{"$error":"#DIV/0!"},null,null,null,null,null,null,null,null,null,null,null,null,null,{"$f":"V64","v":{"$error":"#DIV/0!"}},{"$f":"W72","v":{"$error":"#DIV/0!"}},{"$f":"IF(I22=CC3,0,X64)","v":{"$error":"#DIV/0!"}},{"$f":"IF(I22=CC3,0,Y72)","v":{"$error":"#DIV/0!"}},{"$f":"IF(OR(I22=CC2,I22=CC3,I22=CC4),0,Z64)","v":{"$error":"#DIV/0!"}},{"$f":"IF(OR(I22=CC2,I22=CC3,I22=CC4),0,AA72)","v":{"$error":"#DIV/0!"}},{"$f":"IF(OR(I22=CC2,I22=CC3,I22=CC4),0,AB64)","v":{"$error":"#DIV/0!"}},{"$error":"#DIV/0!"},null,null,null,null,null,null,null,null,null,null,null,null,null,{"$f":"AQ64","v":{"$error":"#DIV/0!"}},{"$f":"AR72","v":{"$error":"#DIV/0!"}},{"$f":"IF(L22=CP3,0,AS64)","v":{"$error":"#DIV/0!"}},{"$f":"IF(L22=CP3,0,AT72)","v":{"$error":"#DIV/0!"}},{"$f":"IF(OR(L22=CP2,L22=CP3,L22=CP4),0,AU64)","v":{"$error":"#DIV/0!"}},{"$f":"IF(OR(L22=CP2,L22=CP3,L22=CP4),0,AV72)","v":{"$error":"#DIV/0!"}},{"$f":"IF(OR(L22=CP2,L22=CP3,L22=CP4),0,AW64)","v":{"$error":"#DIV/0!"}},{"$error":"#DIV/0!"}]
[{"$f":"A64+BO16","v":{"$error":"#DIV/0!"}},{"$f":"B71","v":{"$error":"#DIV/0!"}},{"$f":"IF(E22=BP3,0,C64+BO16)","v":{"$error":"#DIV/0!"}},{"$f":"D71","v":{"$error":"#DIV/0!"}},{"$f":"IF(OR(E22=BP2,E22=BP3,E22=BP4),0,E64+BO16)","v":{"$error":"#DIV/0!"}},{"$f":"F71","v":{"$error":"#DIV/0!"}},{"$f":"IF(E22<>BP6,0,G64+BO16)","v":{"$error":"#DIV/0!"}},{"$error":"#DIV/0!"},null,null,null,null,null,null,null,null,null,null,null,null,null,{"$f":"V64+BO16","v":{"$error":"#DIV/0!"}},{"$f":"W71","v":{"$error":"#DIV/0!"}},{"$f":"IF(I22=CC3,0,X64+BO16)","v":{"$error":"#DIV/0!"}},{"$f":"Y71","v":{"$error":"#DIV/0!"}},{"$f":"IF(OR(I22=CC2,I22=CC3,I22=CC4),0,Z64+BO16)","v":{"$error":"#DIV/0!"}},{"$f":"AA71","v":{"$error":"#DIV/0!"}},{"$f":"IF(I22<>CC6,0,AB64+BO16)","v":{"$error":"#DIV/0!"}},{"$error":"#DIV/0!"},null,null,null,null,null,null,null,null,null,null,null,null,null,{"$f":"AQ64+BO16","v":{"$error":"#DIV/0!"}},{"$f":"AR71","v":{"$error":"#DIV/0!"}},{"$f":"IF(L22=CP3,0,AS64+BO16)","v":{"$error":"#DIV/0!"}},{"$f":"AT71","v":{"$error":"#DIV/0!"}},{"$f":"IF(OR(L22=CP2,L22=CP3,L22=CP4),0,AU64+BO16)","v":{"$error":"#DIV/0!"}},{"$f":"AV71","v":{"$error":"#DIV/0!"}},{"$f":"IF(L22<>CP6,0,AW64+BO16)","v":{"$error":"#DIV/0!"}},{"$error":"#DIV/0!"}]
[{"$f":"A64+BN16","v":{"$error":"#DIV/0!"}},{"$f":"B70","v":{"$error":"#DIV/0!"}},{"$f":"IF(E22=BP3,0,C64+BN16)","v":{"$error":"#DIV/0!"}},{"$f":"IF(E22=BP3,0,D70)","v":{"$error":"#DIV/0!"}},{"$f":"IF(OR(E22=BP2,E22=BP3,E22=BP4),0,E64+BN16)","v":{"$error":"#DIV/0!"}},{"$f":"IF(OR(E22=BP2,E22=BP3,E22=BP4),0,B70)","v":{"$error":"#DIV/0!"}},{"$f":"IF(E22<>BP6,0,G64+BN16)","v":{"$error":"#DIV/0!"}},{"$error":"#DIV/0!"},null,null,null,null,null,null,null,null,null,null,null,null,null,{"$f":"V64+CA16","v":{"$error":"#DIV/0!"}},{"$f":"W70","v":{"$error":"#DIV/0!"}},{"$f":"IF(I22=CC3,0,X64+CA16)","v":{"$error":"#DIV/0!"}},{"$f":"IF(I22=CC3,0,Y70)","v":{"$error":"#DIV/0!"}},{"$f":"IF(OR(I22=CC2,I22=CC3,I22=CC4),0,Z64+CA16)","v":{"$error":"#DIV/0!"}},{"$f":"IF(OR(I22=CC2,I22=CC3,I22=CC4),0,W70)","v":{"$error":"#DIV/0!"}},{"$f":"IF(I22<>CC6,0,AB64+CA16)","v":{"$error":"#DIV/0!"}},{"$error":"#DIV/0!"},null,null,null,null,null,null,null,null,null,null,null,null,null,{"$f":"AQ64+CN16","v":{"$error":"#DIV/0!"}},{"$f":"AR70","v":{"$error":"#DIV/0!"}},{"$f":"IF(L22=CP3,0,AS64+CN16)","v":{"$error":"#DIV/0!"}},{"$f":"IF(L22=CP3,0,AT70)","v":{"$error":"#DIV/0!"}},{"$f":"IF(OR(L22=CP2,L22=CP3,L22=CP4),0,AU64+CN16)","v":{"$error":"#DIV/0!"}},{"$f":"IF(OR(L22=CP2,L22=CP3,L22=CP4),0,AR70)","v":{"$error":"#DIV/0!"}},{"$f":"IF(L22<>CP6,0,AW64+CN16)","v":{"$error":"#DIV/0!"}},{"$error":"#DIV/0!"}]
[{"$f":"A77","v":{"$error":"#DIV/0!"}},{"$f":"B69","v":{"$error":"#DIV/0!"}},{"$f":"C77","v":{"$error":"#DIV/0!"}},{"$f":"D69","v":{"$error":"#DIV/0!"}},{"$f":"E77","v":{"$error":"#DIV/0!"}},{"$f":"F69","v":{"$error":"#DIV/0!"}},{"$f":"G77","v":{"$error":"#DIV/0!"}},{"$error":"#DIV/0!"},null,null,null,null,null,null,null,null,null,null,null,null,null,{"$f":"V77","v":{"$error":"#DIV/0!"}},{"$f":"W69","v":{"$error":"#DIV/0!"}},{"$f":"X77","v":{"$error":"#DIV/0!"}},{"$f":"Y69","v":{"$error":"#DIV/0!"}},{"$f":"Z77","v":{"$error":"#DIV/0!"}},{"$f":"AA69","v":{"$error":"#DIV/0!"}},{"$f":"AB77","v":{"$error":"#DIV/0!"}},{"$error":"#DIV/0!"},null,null,null,null,null,null,null,null,null,null,null,null,null,{"$f":"AQ77","v":{"$error":"#DIV/0!"}},{"$f":"AR69","v":{"$error":"#DIV/0!"}},{"$f":"AS77","v":{"$error":"#DIV/0!"}},{"$f":"AT69","v":{"$error":"#DIV/0!"}},{"$f":"AU77","v":{"$error":"#DIV/0!"}},{"$f":"AV69","v":{"$error":"#DIV/0!"}},{"$f":"AW77","v":{"$error":"#DIV/0!"}},{"$error":"#DIV/0!"}]
[{"$f":"A64","v":{"$error":"#DIV/0!"}},{"$f":"BR23","v":{"$error":"#DIV/0!"}},{"$f":"IF(E22=BP3,0,C76)","v":{"$error":"#DIV/0!"}},{"$f":"IF(E22=BP3,0,BR23)","v":{"$error":"#DIV/0!"}},{"$f":"IF(OR(E22=BP2,E22=BP3,E22=BP4),0,E76)","v":{"$error":"#DIV/0!"}},{"$f":"IF(OR(E22=BP2,E22=BP3,E22=BP4),0,BR23)","v":{"$error":"#DIV/0!"}},{"$f":"IF(OR(E22=BP2,E22=BP3,E22=BP4),0,G76)","v":{"$error":"#DIV/0!"}},{"$error":"#DIV/0!"},null,null,null,null,null,null,null,null,null,null,null,null,null,{"$f":"V64","v":{"$error":"#DIV/0!"}},{"$f":"CE23","v":{"$error":"#DIV/0!"}},{"$f":"IF(I22=CC3,0,X76)","v":{"$error":"#DIV/0!"}},{"$f":"IF(I22=CC3,0,CE23)","v":{"$error":"#DIV/0!"}},{"$f":"IF(OR(I22=CC2,I22=CC3,I22=CC4),0,Z76)","v":{"$error":"#DIV/0!"}},{"$f":"IF(OR(I22=CC2,I22=CC3,I22=CC4),0,CE23)","v":{"$error":"#DIV/0!"}},{"$f":"IF(OR(I22=CC2,I22=CC3,I22=CC4),0,AB76)","v":{"$error":"#DIV/0!"}},{"$error":"#DIV/0!"},null,null,null,null,null,null,null,null,null,null,null,null,null,{"$f":"AQ64","v":{"$error":"#DIV/0!"}},{"$f":"CR23","v":{"$error":"#DIV/0!"}},{"$f":"IF(L22=CP3,0,AS76)","v":{"$error":"#DIV/0!"}},{"$f":"IF(L22=CP3,0,CR23)","v":{"$error":"#DIV/0!"}},{"$f":"IF(OR(L22=CP2,L22=CP3,L22=CP4),0,AU76)","v":{"$error":"#DIV/0!"}},{"$f":"IF(OR(L22=CP2,L22=CP3,L22=CP4),0,CR23)","v":{"$error":"#DIV/0!"}},{"$f":"IF(OR(L22=CP2,L22=CP3,L22=CP4),0,AW76)","v":{"$error":"#DIV/0!"}},{"$error":"#DIV/0!"}]

{"sheet":"Georgian Hipped","index":6,"n_rows":76,"n_cols":96,"rows_kept":76,"cut":false,"hidden":false,"merged":[[17,3,18,3],[17,7,18,7],[17,10,18,10]]}
[null,null,null,null,null,null,null,null,null,null,null,null,null,null,null,null,null,null,null,null,null,null,null,null,null,null,null,null,null,null,null,null,null,null,null,null,null,null,null,null,null,null,null,null,null,null,null,null,null,null,null,null,"Main material",{"$f":"IF(OR(E28=BK2,E28=BK3,E28=BK4,E28=BK5,E28=BK6),'  '!B6,IF(OR(E28=BK7,E28=BK8,E28=BK9,E28=BK10,E28=BK11,E28=BK12,E28=BK13,E28=BK14,E28=BK15),'  '!B7,IF(OR(E28=BK16,E28=BK17,E28=BK18,E28=BK19,E28=BK20),'  '!B8,)))","v":4.54},null,null,"Sails","Warning 1","Warning: Sail too narrow, decrease no. of sails, add additional fitting points or increase gap size","Triangles",null,null,"Fabric Colour",null,"Fittings Colours",null,null,"Main material",{"$f":"IF(OR(I28=BZ2,I28=BZ3,I28=BZ4,I28=BZ5,I28=BZ6),'  '!B6,IF(OR(I28=BZ7,I28=BZ8,I28=BZ9,I28=BZ10,I28=BZ11,I28=BZ12,I28=BZ13,I28=BZ14,I28=BZ15),'  '!B7,IF(OR(I28=BZ16,I28=BZ17,I28=BZ18,I28=BZ19,I28=BZ20),'  '!B8,)))","v":4.54},"Material cost",{"$f":"'  '!B10","v":13.25},"Sails","Warning 1","Warning: Sail too narrow, decrease no. of sails, add additional fitting points or increase gap size","Triangles",null,null,"Fabric Colour",null,"Fittings Colours",null,null,"Main material",{"$f":"IF(OR(L28=CO2,L28=CO3,L28=CO4,L28=CO5,L28=CO6),'  '!B6,IF(OR(L28=CO7,L28=CO8,L28=CO9,L28=CO10,L28=CO11,L28=CO12,L28=CO13,L28=CO14,L28=CO15),'  '!B7,IF(OR(L28=CO16,L28=CO17,L28=CO18,L28=CO19,L28=CO20),'  '!B8,)))","v":4.54},null,null,"Sails","Warning 1","Warning: Sail too narrow, decrease no. of sails, add additional fitting points or increase gap size","Triangles",null,null,"Fabric Colour",null,"Fittings Colours"]
[null,null,null,null,null,null," ",null,null,null,null,null,null,null,null,null,null,null,null,null,null,null,null,null,null,null,null,null,null,null,null,null,null,null,null,null,null,null,null,null,null," ",null,null,null,null,null,null,null,null,null,null,"Tri material",{"$f":"IF(OR(E29=BK2,E29=BK3,E29=BK4,E29=BK5,E29=BK6),'  '!B6,IF(OR(E29=BK7,E29=BK8,E29=BK9,E29=BK10,E29=BK11,E29=BK12,E29=BK13,E29=BK14,E29=BK15),'  '!B7,IF(OR(E29=BK16,E29=BK17,E29=BK18,E29=BK19,E29=BK20),'  '!B8,)))","v":4.54},null,null,null,"Warning 2","Warning: Sail too narrow, increase no. of sails, add additional fitting points or reduce gap size","No",null,null,"ISX Solid",null,"Stainless steel",null,null,"Tri material",{"$f":"IF(OR(I29=BZ2,I29=BZ3,I29=BZ4,I29=BZ5,I29=BZ6),'  '!B6,IF(OR(I29=BZ7,I29=BZ8,I29=BZ9,I29=BZ10,I29=BZ11,I29=BZ12,I29=BZ13,I29=BZ14,I29=BZ15),'  '!B7,IF(OR(I29=BZ16,I29=BZ17,I29=BZ18,I29=BZ19,I29=BZ20),'  '!B8,)))","v":4.54},"PE",{"$f":"'  '!B11","v":3},null,"Warning 2","Warning: Sail too narrow, increase no. of sails, add additional fitting points or reduce gap size","No",null,null,"ISX Solid",null,"Stainless steel",null,null,"Tri material",{"$f":"IF(OR(L29=CO2,L29=CO3,L29=CO4,L29=CO5,L29=CO6),'  '!B6,IF(OR(L29=CO7,L29=CO8,L29=CO9,L29=CO10,L29=CO11,L29=CO12,L29=CO13,L29=CO14,L29=CO15),'  '!B7,IF(OR(L29=CO16,L29=CO17,L29=CO18,L29=CO19,L29=CO20),'  '!B8,)))","v":4.54},null,null,null,"Warning 2","Warning: Sail too narrow, increase no. of sails, add additional fitting points or reduce gap size","No",null,null,"ISX Solid",null,"Stainless steel"]
[null,null,null,null,null,null,null,null,null,null,null,null,null,null,null,null,null,null,null,null,null,null,null,null,null,null,null,null,null,null,null,null,null,null,null,null,null,null,null,null,null,null,null,null,null,null,null,null,null,null,null,null,null,null,null,null,1,"Warning 3","Warning: Sail too wide for standard fabric, please add more sails or increase gap size","Yes",null,null,"ISX White",null,"White",null,null,null,null,"PN",{"$f":"'  '!B19","v":4.25},1,"Warning 3","Warning: Sail too wide for standard fabric, please add more sails or increase gap size","Yes",null,null,"ISX White",null,"White",null,null,null,null,null,null,1,"Warning 3","Warning: Sail too wide for standard fabric, please add more sails or increase gap size","Yes",null,null,"ISX White",null,"White"]
[null,null,null,null,null,null,null,null,null,null,null,null,null,null,null,null,null,null,null,null,null,null,null,null,null,null,null,null,null,null,null,null,null,null,null,null,null,null,null,null,null,null,null,null,null,null,null,null,null,null,null,null,null,null,null,null,2,"Warning 4","Warning: Conservatory too long for standard fabric, contact office for more detailed price","Coverage",null,null,"ISX Solid Ivory",null,"Gold",null,null,null,null,"IP",{"$f":"'  '!#REF!","v":{"$error":"#REF!"}},2,"Warning 4","Warning: Conservatory too long for standard fabric, contact office for more detailed price","Coverage",null,null,"ISX Solid Ivory",null,"Gold",null,null,null,null,null,null,2,"Warning 4","Warning: Conservatory too long for standard fabric, contact office for more detailed price","Coverage",null,null,"ISX Solid Ivory",null,"Gold"]
[null,{"$f":"'  '!A46","v":"v2023.2"},null,null,null,null,null,null,null,null,null,null,null,null,null,null,null,null,null,null,null,null,null,null,null,null,null,null,null,null,null,null,null,null,null,null,null,null,null,null,null,null,null,null,null,null,null,null,null,null,null,null,null,null,null,null,3,"Warning 5","Warning: Ridge is too short for a 3 sails per side solution, reduce no. of sails","One Side",null,null,"ISX Solid Oyster",null,"Cost",{"$f":"IF(E30=BM2, '  '!B24, '  '!B25)","v":7},null,null,null,null,null,3,"Warning 5","Warning: Ridge is too short for a 3 sails per side solution, reduce no. of sails","One Side",null,null,"ISX Solid Oyster",null,"Cost",{"$f":"IF(I30=CB2, '  '!B24, '  '!B25)","v":7},null,null,null,null,null,3,"Warning 5","Warning: Ridge is too short for a 3 sails per side solution, reduce no. of sails","One Side",null,null,"ISX Solid Oyster",null,"Cost",{"$f":"IF(L30=CQ2, '  '!B24, '  '!B25)","v":7}]
[null,null,null,null,null,null,null,null,null,null,null,null,null,null,null,null,null,null,null,null,null,null,null,null,null,null,null,null,null,null,null,null,null,null,null,null,null,null,null,null,null,null,null,null,null,null,null,null,null,null,null,null,null,null,"No. of vents",null,4,"Warning 6","Warning: Some triangular sails are too thin for this conservatory","Both Sides",null,null,"ISX Solid Stone",null,null,null,null,"Standard",{"$f":"'  '!B14","v":1},"No. of vents",null,4,"Warning 6","Warning: Some triangular sails are too thin for this conservatory","Both Sides",null,null,"ISX Solid Stone",null,null,null,null,null,null,"No. of vents",null,4,"Warning 6","Warning: Some triangular sails are too thin for this conservatory","Both Sides",null,null,"ISX Solid Stone"]
[null,null,null,null,null,null,null,null,null,null,null,null,null,null,null,null,null,null,null,null,null,null,null,null,null,null,null,null,null,null,null,null,null,null,null,null,null,null,null,null,null,null,null,null,null,null,null,null,null,null,null,null,null,null,0,null,null,null,null,null,null,null,"ISX Duplex",null,null,null,null,"Tri/Dia",{"$f":"'  '!B15","v":0.75},0,null,null,null,null,null,null,null,"ISX Duplex",null,null,null,null,null,null,0,null,null,null,null,null,null,null,"ISX Duplex"]
[null,null,null,null,null,null,null,null,null,null,null,null,null,null,null,null,null,null,null,null,null,null,null,null,null,null,null,null,null,null,null,null,null,null,null,null,null,null,null,null,null,null,null,null,null,null,null,null,null,null,null,null,null,null,1,null,null,"Warnings front","Warnings mid","Warnings back","Warnings front tri","Warnings back tri","ISX Duplex Ocean",null,null,null,null,"Vic",{"$f":"'  '!B16","v":0.85},1,null,null,"Warnings front","Warnings mid","Warnings back","Warnings front tri","Warnings back tri","ISX Duplex Ocean",null,null,null,null,null,null,1,null,null,"Warnings front","Warnings mid","Warnings back","Warnings front tri","Warnings back tri","ISX Duplex Ocean"]
[null,null,null,null,null,null,null,null,null," "," ",null,null,null,null,null,null,null,null,null,null,null,null,null,null,null,null,null,null,null,null,null,null,null,null,null,null,null,null,null,null,null,null,null," "," ",null,null,null,null,null,null,null,null,2,null,null,{"$f":"BD31","v":{"$error":"#DIV/0!"}},{"$f":"IF(OR(E22=BE2,E22=BE3),BF9,BE31)","v":{"$error":"#DIV/0!"}},{"$f":"BF31","v":{"$error":"#DIV/0!"}},{"$f":"IF(E24=BH2,0.001,1)*BG31","v":0},{"$f":"IF(OR(E24=BH3,E24=BH3),1,0.0001)*BH31","v":{"$error":"#DIV/0!"}},"ISX Duplex Stone",null,null,null,null,null,null,2,"No. of corners",4,{"$f":"BS31","v":{"$error":"#DIV/0!"}},{"$f":"IF(OR(I22=BT2,I22=BT3),BU9,BT31)","v":{"$error":"#DIV/0!"}},{"$f":"BU31","v":{"$error":"#DIV/0!"}},{"$f":"IF(I24=BW2,0.001,1)*BV31","v":0},{"$f":"IF(OR(I24=BW3,I24=BW3),1,0.0001)*BW31","v":{"$error":"#DIV/0!"}},"ISX Duplex Stone",null,null,null,null,null,null,2,null,null,{"$f":"CH31","v":{"$error":"#DIV/0!"}},{"$f":"IF(OR(L22=CI2,L22=CI3),CJ9,CI31)","v":{"$error":"#DIV/0!"}},{"$f":"CJ31","v":{"$error":"#DIV/0!"}},{"$f":"IF(L24=CL2,0.001,1)*CK31","v":0},{"$f":"IF(OR(L24=CL3,L24=CL3),1,0.0001)*CL31","v":{"$error":"#DIV/0!"}},"ISX Duplex Stone"]
[null,null,null,null,null,null,null,null,null,null," ",null,null,null,null,null,null,null,null,null,null,null,null,null,null,null,null,null,null,null,null,null,null,null,null,null,null,null,null,null,null,null,null,null,null," ",null,null,null,null,null,null,"Overlap front",{"$f":"IF(E23=BA11,BB11,IF(E23=BA12,BB12,IF(E23=BA13,BB13,)))","v":{"$error":"#DIV/0!"}},3,null,null,{"$f":"BD32","v":{"$error":"#DIV/0!"}},{"$f":"IF(OR(E22=BE2,E22=BE3),BF10,BE32)","v":{"$error":"#DIV/0!"}},{"$f":"IF(E22<>BE5,BF10,BF32)","v":{"$error":"#DIV/0!"}},{"$f":"BG32+IF(E22=BE3,1000)","v":{"$error":"#DIV/0!"}},{"$f":"BH32","v":{"$error":"#DIV/0!"}},"ISX Duplex Slate",null,null,null,null,"Overlap front",{"$f":"IF(I23=BP11,BQ11,IF(I23=BP12,BQ12,IF(I23=BP13,BQ13,)))","v":{"$error":"#DIV/0!"}},3,null,null,{"$f":"BS32","v":{"$error":"#DIV/0!"}},{"$f":"IF(OR(I22=BT2,I22=BT3),BU10,BT32)","v":{"$error":"#DIV/0!"}},{"$f":"IF(I22<>BT5,BU10,BU32)","v":{"$error":"#DIV/0!"}},{"$f":"BV32+IF(I22=BT3,1000)","v":{"$error":"#DIV/0!"}},{"$f":"BW32","v":{"$error":"#DIV/0!"}},"ISX Duplex Slate",null,null,null,null,"Overlap front",{"$f":"IF(L23=CE11,CF11,IF(L23=CE12,CF12,IF(L23=CE13,CF13,)))","v":0},3,null,null,{"$f":"CH32","v":{"$error":"#DIV/0!"}},{"$f":"IF(OR(L22=CI2,L22=CI3),CJ10,CI32)","v":{"$error":"#DIV/0!"}},{"$f":"IF(L22<>CI5,CJ10,CJ32)","v":{"$error":"#DIV/0!"}},{"$f":"CK32+IF(L22=CI3,1000)","v":{"$error":"#DIV/0!"}},{"$f":"CL32","v":{"$error":"#DIV/0!"}},"ISX Duplex Slate"]
[null,null,null,null,null,null,null,null,null,null,null,null,null,null,null,null,null,null,null,null,null,null,null,null,null,null,null,null,null,null,null,null,null,null,null,null,null,null,null,null,null,null,null,null,null,null,null,null,null,null,null,null,0,0,4,"Curve allowance",0.5,"Tri","Mid","Quarters",null,null,"ISX Duplex Graphite",null,null,null,null,0,0,4,"Curve allowance",0.5,"Tri","Mid","Quarters",null,null,"ISX Duplex Graphite",null,null,null,null,0,0,4,"Curve allowance",0.5,"Tri","Mid","Quarters",null,null,"ISX Duplex Graphite"]
[null,null,null,null,null,null,null,null,null,null,null,null,null,null,null,null,null,null,null,null,null,null,null,null,null,null,null,null,null,null,null,null,null,null,null,null,null,null,null,null,null,null,null,null,null,null,null,null,null,null,null,null,0.5,{"$f":"(BD15*2)/2+(0.035/(IF(B24>B25,B24,B25)/1000))","v":{"$error":"#DIV/0!"}},"Front","Mid","Quarters","Vertical Back",{"$f":"((BH25+(0.07/(IF(B24>B25,B24,B25)/1000)))*0.13)+BB30","v":{"$error":"#DIV/0!"}},{"$f":"BG12*0.75","v":{"$error":"#DIV/0!"}},null,null,"ISXFR Solid",null,null,null,null,0.5,{"$f":"(BS15*2)/2+(0.035/(IF(B24>B25,B24,B25)/1000))","v":{"$error":"#DIV/0!"}},"Front","Mid","Quarters","Vertical Back",{"$f":"((BW25+(0.07/(IF(B24>B25,B24,B25)/1000)))*0.13)+BQ30","v":{"$error":"#DIV/0!"}},{"$f":"BV12*0.75","v":{"$error":"#DIV/0!"}},null,null,"ISXFR Solid",null,null,null,null,0.5,{"$f":"(CH15*2)/2+(0.035/(IF(B24>B25,B24,B25)/1000))","v":{"$error":"#DIV/0!"}},"Front","Mid","Quarters","Vertical Back",{"$f":"((CL25+(0.07/(IF(B24>B25,B24,B25)/1000)))*0.13)+CF30","v":{"$error":"#DIV/0!"}},{"$f":"CK12*0.75","v":{"$error":"#DIV/0!"}},null,null,"ISXFR Solid"]
[null,null,null,null,null,null,null,null,null," "," ",null,null,null,null,null,null,null," ",null,null,null,null,null,null,null,null,null,null,null,null,null,null,null,null,null,null,null,null,null,null,null,null,null," "," ",null,null,null,null,null,null,1,{"$f":"BD15*2+(0.035/(IF(B24>B25,B24,B25)/1000))","v":{"$error":"#DIV/0!"}},"Horizontal",{"$f":"((BD24+(0.07/(IF(B24>B25,B24,B25)/1000)))*0.13)+BB30","v":{"$error":"#DIV/0!"}},{"$f":"(BD13)*0.75","v":{"$error":"#DIV/0!"}},"Vertical Middle",{"$f":"((BG25+(0.07/(IF(B24>B25,B24,B25)/1000)))*0.13)+BB30","v":{"$error":"#DIV/0!"}},{"$f":"BG13*0.75","v":{"$error":"#DIV/0!"}},null,null,"ISXFR White",null,null,null,null,1,{"$f":"BS15*2+(0.035/(IF(B24>B25,B24,B25)/1000))","v":{"$error":"#DIV/0!"}},"Horizontal",{"$f":"((BS24+(0.07/(IF(B24>B25,B24,B25)/1000)))*0.13)+BQ30","v":{"$error":"#DIV/0!"}},{"$f":"(BS13)*0.75","v":{"$error":"#DIV/0!"}},"Vertical Middle",{"$f":"((BV25+(0.07/(IF(B24>B25,B24,B25)/1000)))*0.13)+BQ30","v":{"$error":"#DIV/0!"}},{"$f":"BV13*0.75","v":{"$error":"#DIV/0!"}},null,null,"ISXFR White",null,null,null," ",1,{"$f":"CH15*2+(0.035/(IF(B24>B25,B24,B25)/1000))","v":{"$error":"#DIV/0!"}},"Horizontal",{"$f":"((CH24+(0.07/(IF(B24>B25,B24,B25)/1000)))*0.13)+CF30","v":{"$error":"#DIV/0!"}},{"$f":"(CH13)*0.75","v":{"$error":"#DIV/0!"}},"Vertical Middle",{"$f":"((CK25+(0.07/(IF(B24>B25,B24,B25)/1000)))*0.13)+CF30","v":{"$error":"#DIV/0!"}},{"$f":"CK13*0.75","v":{"$error":"#DIV/0!"}},null,null,"ISXFR White"]
[null,null,null,null,null,null,null,null,null,null,null,null,null,null,null,null,null,null," ",null,null,null,null,null,null,null,null,null,null,null,null,null,null,null,null,null,null,null,null,null,null,null,null,null,null,null,null,null,null,null,null,null,"Overlap middle",{"$f":"IF(E23=BA15,BB15,IF(E23=BA16,BB16,IF(E23=BA17,BB17,)))*IF(E22=BE3,0,1)","v":{"$error":"#DIV/0!"}},"Hotizontal overlaped",{"$f":"((BE24+(0.07/(IF(B24>B25,B24,B25)/1000)))*0.13)+BB30","v":{"$error":"#DIV/0!"}},{"$f":"(BD14)*0.75","v":{"$error":"#DIV/0!"}},"Vertical Front",{"$f":"((BF25+(0.07/(IF(B24>B25,B24,B25)/1000)))*0.13)+BB30","v":{"$error":"#DIV/0!"}},{"$f":"BG14*0.75","v":{"$error":"#DIV/0!"}},null,null,"ISXFR Solid Ivory",null,null,null,null,"Overlap middle",{"$f":"IF(I23=BP15,BQ15,IF(I23=BP16,BQ16,IF(I23=BP17,BQ17,)))*IF(I22=BT3,0,1)","v":{"$error":"#DIV/0!"}},"Hotizontal overlaped",{"$f":"((BT24+(0.07/(IF(B24>B25,B24,B25)/1000)))*0.13)+BQ30","v":{"$error":"#DIV/0!"}},{"$f":"(BS14)*0.75","v":{"$error":"#DIV/0!"}},"Vertical Front",{"$f":"((BU25+(0.07/(IF(B24>B25,B24,B25)/1000)))*0.13)+BQ30","v":{"$error":"#DIV/0!"}},{"$f":"BV14*0.75","v":{"$error":"#DIV/0!"}},null,null,"ISXFR Solid Ivory",null,null,null," ","Overlap middle",{"$f":"IF(L23=CE15,CF15,IF(L23=CE16,CF16,IF(L23=CE17,CF17,)))*IF(L22=CI3,0,1)","v":{"$error":"#DIV/0!"}},"Hotizontal overlaped",{"$f":"((CI24+(0.07/(IF(B24>B25,B24,B25)/1000)))*0.13)+CF30","v":{"$error":"#DIV/0!"}},{"$f":"(CH14)*0.75","v":{"$error":"#DIV/0!"}},"Vertical Front",{"$f":"((CJ25+(0.07/(IF(B24>B25,B24,B25)/1000)))*0.13)+CF30","v":{"$error":"#DIV/0!"}},{"$f":"CK14*0.75","v":{"$error":"#DIV/0!"}},null,null,"ISXFR Solid Ivory"]
[null,null,null,null,null,null,null,null,null,null,null,null,null,null,null,null,null,null,null,null,null,null,null,null,null,null,null,null,null,null,null,null,null,null,null,null,null,null,null,null,null,null,null,null,null,null,null,null,null,null,null,null,0,0,"Vertical",{"$f":"IF(E22=BE2,((BD25+(0.07/(IF(B24>B25,B24,B25)/1000)))*0.13)+BB30,((BD25+(0.07/(IF(B24>B25,B24,B25)/1000)))*0.13)+BB30)","v":{"$error":"#DIV/0!"}},{"$f":"BD15*0.75","v":{"$error":"#DIV/0!"}},"Back","Mid","Quarters",null,null,"ISXFR Solid Oyster",null,null,null,null,0,0,"Vertical",{"$f":"IF(I22=BT2,((BS25+(0.07/(IF(B24>B25,B24,B25)/1000)))*0.13)+BQ30,((BS25+(0.07/(IF(B24>B25,B24,B25)/1000)))*0.13)+BQ30)","v":{"$error":"#DIV/0!"}},{"$f":"BS15*0.75","v":{"$error":"#DIV/0!"}},"Back","Mid","Quarters",null,null,"ISXFR Solid Oyster",null,null,null,null,0,0,"Vertical",{"$f":"IF(L22=CI2,((CH25+(0.07/(IF(B24>B25,B24,B25)/1000)))*0.13)+CF30,((CH25+(0.07/(IF(B24>B25,B24,B25)/1000)))*0.13)+CF30)","v":{"$error":"#DIV/0!"}},{"$f":"CH15*0.75","v":{"$error":"#DIV/0!"}},"Back","Mid","Quarters",null,null,"ISXFR Solid Oyster"]
[null,null,null,null,"Plan view - looking from above        ",null,null,null,"Plan view - looking from above        ",null,null,"Plan view - looking from above        ",null,null,null,null,null,null,null,null,null,null,null,null,null,null,null,null,null,null,null,null,null,null,null,null,null,null,null,null,null,null,null,null,null,null,null,null,null,null,null,null,0.5,{"$f":"(BD18*2.5)/2+(0.035/(IF(B24>B25,B24,B25)/1000))","v":{"$error":"#DIV/0!"}},"Vertical overlaped",{"$f":"((BE25+(0.07/(IF(B24>B25,B24,B25)/1000)))*0.13)+BB30","v":{"$error":"#DIV/0!"}},{"$f":"BD16*0.75","v":{"$error":"#DIV/0!"}},"Horizontal",{"$f":"((BG27+(0.07/(IF(B24>B25,B24,B25)/1000)))*0.13)+BB30","v":{"$error":"#DIV/0!"}},{"$f":"BG16*0.75","v":{"$error":"#DIV/0!"}},null,null,"ISXFR Duplex",null,null,null,null,0.5,{"$f":"(BS18*2.5)/2+(0.035/(IF(B24>B25,B24,B25)/1000))","v":{"$error":"#DIV/0!"}},"Vertical overlaped",{"$f":"((BT25+(0.07/(IF(B24>B25,B24,B25)/1000)))*0.13)+BQ30","v":{"$error":"#DIV/0!"}},{"$f":"BS16*0.75","v":{"$error":"#DIV/0!"}},"Horizontal",{"$f":"((BV27+(0.07/(IF(B24>B25,B24,B25)/1000)))*0.13)+BQ30","v":{"$error":"#DIV/0!"}},{"$f":"BV16*0.75","v":{"$error":"#DIV/0!"}},null,null,"ISXFR Duplex",null,null,null,null,0.5,{"$f":"(CH18*2.5)/2+(0.035/(IF(B24>B25,B24,B25)/1000))","v":{"$error":"#DIV/0!"}},"Vertical overlaped",{"$f":"((CI25+(0.07/(IF(B24>B25,B24,B25)/1000)))*0.13)+CF30","v":{"$error":"#DIV/0!"}},{"$f":"CH16*0.75","v":{"$error":"#DIV/0!"}},"Horizontal",{"$f":"((CK27+(0.07/(IF(B24>B25,B24,B25)/1000)))*0.13)+CF30","v":{"$error":"#DIV/0!"}},{"$f":"CK16*0.75","v":{"$error":"#DIV/0!"}},null,null,"ISXFR Duplex"]
[null,null,null,null,null,null,null,null,null,null,null,null,null,null,null,null,null,null,null,null,null,null,null,null,null,null,null,null,null,null,null,null,null,null,null,null,null,null,null,null,null,null,null,null,null,null,null,null,null,null,null,null,1,{"$f":"BD18*2.5+(0.035/(IF(B24>B25,B24,B25)/1000))","v":{"$error":"#DIV/0!"}},"Mid","Mid","Quarters","Vertical",{"$f":"((BH28+(0.07/(IF(B24>B25,B24,B25)/1000)))*0.13)","v":{"$error":"#DIV/0!"}},{"$f":"BG17*0.75","v":{"$error":"#DIV/0!"}},null,null,"ISXFR Duplex Ocean",null,null,null,null,1,{"$f":"BS18*2.5+(0.035/(IF(B24>B25,B24,B25)/1000))","v":{"$error":"#DIV/0!"}},"Mid","Mid","Quarters","Vertical",{"$f":"((BW28+(0.07/(IF(B24>B25,B24,B25)/1000)))*0.13)","v":{"$error":"#DIV/0!"}},{"$f":"BV17*0.75","v":{"$error":"#DIV/0!"}},null,null,"ISXFR Duplex Ocean",null,null,null,null,1,{"$f":"CH18*2.5+(0.035/(IF(B24>B25,B24,B25)/1000))","v":{"$error":"#DIV/0!"}},"Mid","Mid","Quarters","Vertical",{"$f":"((CL28+(0.07/(IF(B24>B25,B24,B25)/1000)))*0.13)","v":{"$error":"#DIV/0!"}},{"$f":"CK17*0.75","v":{"$error":"#DIV/0!"}},null,null,"ISXFR Duplex Ocean"]
[null,null,null,{"$f":"'  '!$A$42","v":"Starting Cost incl. Installation"},{"$f":"((((E31*'  '!B29)+BD34+BE34+BF34+IF(E24=BH3,BG34+((IF(E21=BH6,2,1)*(E22-1))*BH34),0))+('  '!B21*E25)+IF(E30<>BM2,E25*'  '!B26,0)+(E26*'  '!B30)+(E27*'  '!B31)))","v":{"$error":"#DIV/0!"}},null,null,{"$f":"'  '!$A$43","v":"Average Cost incl. Installation"},{"$f":"((((I31*'  '!B29)+BS34+BT34+BU34+IF(I24=BH3,BV34+((IF(I21=BW6,2,1)*(I22-1))*BW34),0))+('  '!B21*I25)+IF(I30<>BM2,I25*'  '!B26,0)+(I26*'  '!B30)+(I27*'  '!B31)))","v":{"$error":"#DIV/0!"}},null,{"$f":"'  '!$A$44","v":"High End Cost incl. Installation"},{"$f":"((((L31*'  '!B29)+CH34+CI34+CJ34+IF(L24=BH3,CK34+((IF(L21=CL6,2,1)*(L22-1))*CL34),0))+('  '!B21*L25)+IF(L30<>CQ2,L25*'  '!B26,0)+(L26*'  '!B30)+(L27*'  '!B31)))","v":{"$error":"#DIV/0!"}},null,null,null,null,null,null," ",null,null,null,null,null,null,null,null,null,null,null,null,null,null,null,null,null,null,null,null,null,null,null,null,null,null,null,null,null,null,null,null,null,"Overlap back",{"$f":"IF(OR(E22=BE2,E22=BE3,E22=BE4),0,IF(E23=BA15,BB19,IF(E23=BA16,BB20,IF(E23=BA17,BB21,))))","v":{"$error":"#DIV/0!"}},"Horizontal",{"$f":"((BD27+(0.07/(IF(B24>B25,B24,B25)/1000)))*0.13)+BB30","v":{"$error":"#DIV/0!"}},{"$f":"(BD18)*0.75","v":{"$error":"#DIV/0!"}},"Overlapped",{"$f":"((BG28+(0.07/(IF(B24>B25,B24,B25)/1000)))*0.13)+BB30","v":{"$error":"#DIV/0!"}},{"$f":"BG18*0.75","v":{"$error":"#DIV/0!"}},null,null,"ISXFR Duplex Stone",null,null,null,null,"Overlap back",{"$f":"IF(OR(I22=BT2,I22=BT3,I22=BT4),0,IF(I23=BP15,BQ19,IF(I23=BP16,BQ20,IF(I23=BP17,BQ21,))))","v":{"$error":"#DIV/0!"}},"Horizontal",{"$f":"((BS27+(0.07/(IF(B24>B25,B24,B25)/1000)))*0.13)+BQ30","v":{"$error":"#DIV/0!"}},{"$f":"(BS18)*0.75","v":{"$error":"#DIV/0!"}},"Overlapped",{"$f":"((BV28+(0.07/(IF(B24>B25,B24,B25)/1000)))*0.13)+BQ30","v":{"$error":"#DIV/0!"}},{"$f":"BV18*0.75","v":{"$error":"#DIV/0!"}},null,null,"ISXFR Duplex Stone",null,null,null," ","Overlap back",{"$f":"IF(OR(L22=CI2,L22=CI3,L22=CI4),0,IF(L23=CE15,CF19,IF(L23=CE16,CF20,IF(L23=CE17,CF21,))))","v":{"$error":"#DIV/0!"}},"Horizontal",{"$f":"((CH27+(0.07/(IF(B24>B25,B24,B25)/1000)))*0.13)+CF30","v":{"$error":"#DIV/0!"}},{"$f":"(CH18)*0.75","v":{"$error":"#DIV/0!"}},"Overlapped",{"$f":"((CK28+(0.07/(IF(B24>B25,B24,B25)/1000)))*0.13)+CF30","v":{"$error":"#DIV/0!"}},{"$f":"CK18*0.75","v":{"$error":"#DIV/0!"}},null,null,"ISXFR Duplex Stone"]
[null,null,null,null,{"$f":"'   '!U6+'  '!B33","v":{"$error":"#DIV/0!"}},null,null,null,{"$f":"'   '!AG6+'  '!B33","v":{"$error":"#DIV/0!"}},null,null,{"$f":"'   '!AS6+'  '!B33","v":{"$error":"#DIV/0!"}},null,null,null,null,null,null,null,null,null,null,null,null,null,null,null,null,null,null,null,null,null,null,null,null,null,null,null,null,null,null,null,null,null,null,null,null,null,null,null,null,0,0,"Vertical",{"$f":"((BD28+(0.07/(IF(B24>B25,B24,B25)/1000)))*0.13)","v":{"$error":"#DIV/0!"}},{"$f":"BD19*0.75","v":{"$error":"#DIV/0!"}},null,null,null,null,null,"ISXFR Duplex Slate",null,null,null,null,0,0,"Vertical",{"$f":"((BS28+(0.07/(IF(B24>B25,B24,B25)/1000)))*0.13)","v":{"$error":"#DIV/0!"}},{"$f":"BS19*0.75","v":{"$error":"#DIV/0!"}},null,null,null,null,null,"ISXFR Duplex Slate",null,null,null,null,0,0,"Vertical",{"$f":"((CH28+(0.07/(IF(B24>B25,B24,B25)/1000)))*0.13)","v":{"$error":"#DIV/0!"}},{"$f":"CH19*0.75","v":{"$error":"#DIV/0!"}},null,null,null,null,null,"ISXFR Duplex Slate"]
[null,null,null,null,null,null,null,null,null,null,null,null,null,null,null,null,null,null,null,null,null,null,null,null,null,null,null,null,null,null,null,null,null,null,null,null,null,null,null,null,null,null,null,null,null,null,null,null,null,null,null,null,0.5,{"$f":"IF(E22=BE4,BD18+(0.035/(IF(B24>B25,B24,B25)/1000)),IF(OR(E22=BE5,E22=BE6),BD18+(0.035/(IF(B24>B25,B24,B25)/1000)),))","v":{"$error":"#DIV/0!"}},"Vertical overlaped",{"$f":"((MAX(BD28:BF28)+(0.07/(IF(B24>B25,B24,B25)/1000)))*0.13)+BB30","v":{"$error":"#DIV/0!"}},{"$f":"BD20*0.75","v":{"$error":"#DIV/0!"}},null,null,null,null,null,"ISXFR Duplex Graphite",null,null,null,null,0.5,{"$f":"IF(I22=BT4,BS18+(0.035/(IF(B24>B25,B24,B25)/1000)),IF(OR(I22=BT5,I22=BT6),BS18+(0.035/(IF(B24>B25,B24,B25)/1000)),))","v":{"$error":"#DIV/0!"}},"Vertical overlaped",{"$f":"((MAX(BS28:BU28)+(0.07/(IF(B24>B25,B24,B25)/1000)))*0.13)+BQ30","v":{"$error":"#DIV/0!"}},{"$f":"BS20*0.75","v":{"$error":"#DIV/0!"}},null,null,null,null,null,"ISXFR Duplex Graphite",null,null,null,null,0.5,{"$f":"IF(L22=CI4,CH18+(0.035/(IF(B24>B25,B24,B25)/1000)),IF(OR(L22=CI5,L22=CI6),CH18+(0.035/(IF(B24>B25,B24,B25)/1000)),))","v":{"$error":"#DIV/0!"}},"Vertical overlaped",{"$f":"((MAX(CH28:CJ28)+(0.07/(IF(B24>B25,B24,B25)/1000)))*0.13)+CF30","v":{"$error":"#DIV/0!"}},{"$f":"CH20*0.75","v":{"$error":"#DIV/0!"}},null,null,null,null,null,"ISXFR Duplex Graphite"]
[null,null,null,"Select coverage","Both Sides",null,null,"Select coverage","Both Sides",null,"Select coverage","Both Sides",null,null,null,null,null,null,null,null,null,null,null,null,null,null,null,null,null,null,null,null,null,null,null,null,null,null,null,null,null,null,null,null,null,null,null,null,null,null,null,null,1,{"$f":"IF(E22=BE4,BD18*2+(0.035/(IF(B24>B25,B24,B25)/1000)),IF(OR(E22=BE5,E22=BE6),BD18*2+(0.035/(IF(B24>B25,B24,B25)/1000)),))","v":{"$error":"#DIV/0!"}},null,"front","mid","back","tri front","tri mid/back",null,null,null,null,null,null,null,1,{"$f":"IF(I22=BT4,BS18*2+(0.035/(IF(B24>B25,B24,B25)/1000)),IF(OR(I22=BT5,I22=BT6),BS18*2+(0.035/(IF(B24>B25,B24,B25)/1000)),))","v":{"$error":"#DIV/0!"}},null,"front","mid","back","tri front","tri mid/back",null,null,null,null,null,null,null,1,{"$f":"IF(L22=CI4,CH18*2+(0.035/(IF(B24>B25,B24,B25)/1000)),IF(OR(L22=CI5,L22=CI6),CH18*2+(0.035/(IF(B24>B25,B24,B25)/1000)),))","v":{"$error":"#DIV/0!"}},null,"front","mid","back","tri front","tri mid/back"]
[null,null,null,"Number of sails per side",{"$f":"BL27","v":{"$error":"#DIV/0!"}},null,null,"Number of sails per side",{"$f":"CA27","v":{"$error":"#DIV/0!"}},null,"Number of sails per side",{"$f":"CP27","v":{"$error":"#DIV/0!"}},null,null,null,null,null,null,null,null,null,null,null,null,null,null,null,null,null,null,null,null,null,null,null,null,null,null,null,null,null,null,null,null,null,null,null,null,null,null,null,null,null,"Dims in m","Sail perimeter",{"$f":"((BE24+0.07)*2)+((BE25+0.07)*2)","v":{"$error":"#DIV/0!"}},{"$f":"((BD27+0.07)*2)+BE28+0.07+BD28+0.07","v":{"$error":"#DIV/0!"}},{"$f":"((BG27+0.07)*2)+((BG28+0.07)*2)","v":{"$error":"#DIV/0!"}},{"$f":"((BF24+0.07)*2)+BF25+0.07","v":{"$error":"#DIV/0!"}},{"$f":"((BG24+0.07)*2)+BG25+0.07","v":{"$error":"#DIV/0!"}},null,null,null,null,null,null,null,null,"Dims in m","Sail perimeter",{"$f":"((BT24+0.07)*2)+((BT25+0.07)*2)","v":{"$error":"#DIV/0!"}},{"$f":"((BS27+0.07)*2)+BT28+0.07+BS28+0.07","v":{"$error":"#DIV/0!"}},{"$f":"((BV27+0.07)*2)+((BV28+0.07)*2)","v":{"$error":"#DIV/0!"}},{"$f":"((BU24+0.07)*2)+BU25+0.07","v":{"$error":"#DIV/0!"}},{"$f":"((BV24+0.07)*2)+BV25+0.07","v":{"$error":"#DIV/0!"}},null,null,null,null,null,null,null,null,"Dims in m","Sail perimeter",{"$f":"((CI24+0.07)*2)+((CI25+0.07)*2)","v":{"$error":"#DIV/0!"}},{"$f":"((CH27+0.07)*2)+CI28+0.07+CH28+0.07","v":{"$error":"#DIV/0!"}},{"$f":"((CK27+0.07)*2)+((CK28+0.07)*2)","v":{"$error":"#DIV/0!"}},{"$f":"((CJ24+0.07)*2)+CJ25+0.07","v":{"$error":"#DIV/0!"}},{"$f":"((CK24+0.07)*2)+CK25+0.07","v":{"$error":"#DIV/0!"}}]
[null,"All dims in mm",null,"Overlaps",0.5,null,null,"Overlaps",0.5,null,"Overlaps",0,null,null,null,null,null,null,null,null,null,null,null,null,null,null,null,null,null,null,null,null,null,null,null,null,null,null,null,null,null,null,null,null,null,null,null,null,null,null,null,null,"h1",{"$f":"B26/IF(B24>B25,B24,B25)","v":{"$error":"#DIV/0!"}},null,"front + overlaped",null,"tri front","tri mid","tri back",null,null,null,null,null,null,null,"h1",{"$f":"B26/IF(B24>B25,B24,B25)","v":{"$error":"#DIV/0!"}},null,"front + overlaped",null,"tri front","tri mid","tri back",null,null,null,null,null,null,null,"h1",{"$f":"B26/IF(B24>B25,B24,B25)","v":{"$error":"#DIV/0!"}},null,"front + overlaped",null,"tri front","tri mid","tri back"]
["X1",null,null,"Triangles","No",null,null,"Triangles","No",null,"Triangles","Yes",null,null,null,null,null,null,null,null,null,null,null,null,null,null,null,null,null,null,null,null,null,null,null,null,null,null,null,null,null,null,null,null,null,null,null,null,null,null,null,null,"h2",{"$f":"B27/IF(B24>B25,B24,B25)","v":{"$error":"#DIV/0!"}},"Sail length",{"$f":"(BB26/2)-(0.07/(IF(B24>B25,B24,B25)/1000))","v":{"$error":"#DIV/0!"}},{"$f":"BD24+BB10","v":{"$error":"#DIV/0!"}},{"$f":"O49-(0.07/(IF(B24>B25,B24,B25)/1000))","v":{"$error":"#DIV/0!"}},{"$f":"(BB26/2)-(0.07/(IF(B24>B25,B24,B25)/1000))","v":{"$error":"#DIV/0!"}},{"$f":"(BB26/2)-(0.07/(IF(B24>B25,B24,B25)/1000))","v":{"$error":"#DIV/0!"}},null,null,null,null,null,null,null,"h2",{"$f":"B27/IF(B24>B25,B24,B25)","v":{"$error":"#DIV/0!"}},"Sail length",{"$f":"(BQ26/2)-(0.07/(IF(B24>B25,B24,B25)/1000))","v":{"$error":"#DIV/0!"}},{"$f":"BS24+BQ10","v":{"$error":"#DIV/0!"}},{"$f":"AF49-(0.07/(IF(B24>B25,B24,B25)/1000))","v":{"$error":"#DIV/0!"}},{"$f":"(BQ26/2)-(0.07/(IF(B24>B25,B24,B25)/1000))","v":{"$error":"#DIV/0!"}},{"$f":"(BQ26/2)-(0.07/(IF(B24>B25,B24,B25)/1000))","v":{"$error":"#DIV/0!"}},null,null,null,null,null,null,null,"h2",{"$f":"B27/IF(B24>B25,B24,B25)","v":{"$error":"#DIV/0!"}},"Sail length",{"$f":"(CF26/2)-(0.07/(IF(B24>B25,B24,B25)/1000))","v":{"$error":"#DIV/0!"}},{"$f":"CH24+CF10","v":{"$error":"#DIV/0!"}},{"$f":"AW49-(0.07/(IF(B24>B25,B24,B25)/1000))","v":{"$error":"#DIV/0!"}},{"$f":"(CF26/2)-(0.07/(IF(B24>B25,B24,B25)/1000))","v":{"$error":"#DIV/0!"}},{"$f":"(CF26/2)-(0.07/(IF(B24>B25,B24,B25)/1000))","v":{"$error":"#DIV/0!"}}]
["Y1",null,null,"Total additional fittings",0,null,null,"Total additional fittings",0,null,"Total additional fittings",0,null,null,null,null,null,null,null,null,null,null,null,null,null,null,null,null,null,null,null,null,null,null,null,null,null,null,null,null,null,null,null,null,null,null,null,null,null,null,null,null,"y1",{"$f":"B25/IF(B24>B25,B24,B25)","v":{"$error":"#DIV/0!"}},"Sail width",{"$f":"IF(E22=BE3,O46-(0.07/(IF(B24>B25,B24,B25)/1000)),O49-(0.07/(IF(B24>B25,B24,B25)/1000)))","v":{"$error":"#DIV/0!"}},{"$f":"BD25+BB14","v":{"$error":"#DIV/0!"}},{"$f":"BF24*0.7","v":{"$error":"#DIV/0!"}},{"$f":"BG24*0.8","v":{"$error":"#DIV/0!"}},{"$f":"BH24*0.8","v":{"$error":"#DIV/0!"}},null,null,null,null,null,null,null,"y1",{"$f":"B25/IF(B24>B25,B24,B25)","v":{"$error":"#DIV/0!"}},"Sail width",{"$f":"IF(I22=BT3,AF46-(0.07/(IF(B24>B25,B24,B25)/1000)),AF49-(0.07/(IF(B24>B25,B24,B25)/1000)))","v":{"$error":"#DIV/0!"}},{"$f":"BS25+BQ14","v":{"$error":"#DIV/0!"}},{"$f":"BU24*0.7","v":{"$error":"#DIV/0!"}},{"$f":"BV24*0.8","v":{"$error":"#DIV/0!"}},{"$f":"BW24*0.8","v":{"$error":"#DIV/0!"}},null,null,null,null,null,null,null,"y1",{"$f":"B25/IF(B24>B25,B24,B25)","v":{"$error":"#DIV/0!"}},"Sail width",{"$f":"IF(L22=CI3,AW46-(0.07/(IF(B24>B25,B24,B25)/1000)),AW49-(0.07/(IF(B24>B25,B24,B25)/1000)))","v":{"$error":"#DIV/0!"}},{"$f":"CH25+CF14","v":{"$error":"#DIV/0!"}},{"$f":"CJ24*0.7","v":{"$error":"#DIV/0!"}},{"$f":"CK24*0.8","v":{"$error":"#DIV/0!"}},{"$f":"CL24*0.8","v":{"$error":"#DIV/0!"}}]
["H1",null,null,"Total tie-bar loops",0,null,null,"Total tie-bar loops",0,null,"Total tie-bar loops",0,null,null,null,null,null,null,null,null,null,null,null,null,null,null,null,null,null,null,null,null,null,null,null,null,null,null,null,null,null,null,null,null,null,null,null,null,null,null,null,null,"x1",{"$f":"B24/IF(B24>B25,B24,B25)","v":{"$error":"#DIV/0!"}},null,"mid + overlaped",null,null,"back bott","back top",null,null,null,"Low",null,null,null,"x1",{"$f":"B24/IF(B24>B25,B24,B25)","v":{"$error":"#DIV/0!"}},null,"mid + overlaped",null,null,"back bott","back top",null,null,null,"Mid",null,null,null,"x1",{"$f":"B24/IF(B24>B25,B24,B25)","v":{"$error":"#DIV/0!"}},null,"mid + overlaped",null,null,"back bott","back top",null,null,null,"Top"]
["H2",null,null,"Total straight edges",0,null,null,"Total straight edges",0,null,"Total straight edges",0,null,null,null,null,null,null,null,null,null,null,null,null,null,null,null,null,null,null,null,null,null,null,null,null,null,null,null,null,null,null,null,null,null,null,null,null,null,null,null,null,"r1",{"$f":"B28/IF(B24>B25,B24,B25)","v":{"$error":"#DIV/0!"}},"Sail length",{"$f":"BD24","v":{"$error":"#DIV/0!"}}," <-"," ->",{"$f":"BD27","v":{"$error":"#DIV/0!"}},{"$f":"BG27","v":{"$error":"#DIV/0!"}},null,null,"Number of sails per side",{"$f":"IF(OR(BL32>1.5,B25>4000),2,1)","v":{"$error":"#DIV/0!"}},null,null,null,"r1",{"$f":"B28/IF(B24>B25,B24,B25)","v":{"$error":"#DIV/0!"}},"Sail length",{"$f":"BS24","v":{"$error":"#DIV/0!"}}," <-"," ->",{"$f":"BS27","v":{"$error":"#DIV/0!"}},{"$f":"BV27","v":{"$error":"#DIV/0!"}},null,null,"Number of sails per side",{"$f":"IF(CA31<1.25,2,IF(AND(CA31>=1.25,CA31<=2.25),3,IF(CA31>2.25,4)))","v":{"$error":"#DIV/0!"}},null,null,null,"r1",{"$f":"B28/IF(B24>B25,B24,B25)","v":{"$error":"#DIV/0!"}},"Sail length",{"$f":"CH24","v":{"$error":"#DIV/0!"}}," <-"," ->",{"$f":"CH27","v":{"$error":"#DIV/0!"}},{"$f":"CK27","v":{"$error":"#DIV/0!"}},null,null,"Number of sails per side",{"$f":"IF(CP31<1.25,2,IF(AND(CP31>=1.25,CP31<=2.25),3,IF(CP31>2.25,4)))","v":{"$error":"#DIV/0!"}}]
["R1",null,null,"Colour of main sails","ISX Solid",null,null,"Colour of main sails","ISX Solid",null,"Colour of main sails","ISX Solid",null,null,null,null,null,null,null,null,null,null,null,null,null,null,null,null,null,null,null,null,null,null,null,null,null,null,null,null,null,null,null,null,null,null,null,null,null,null,null,null,"Roof area (m^2)",{"$f":"BB29*BB25","v":{"$error":"#DIV/0!"}},"Sail width",{"$f":"((BB27/(IF(E22=BE5,2,IF(E22=BE6,3,1)))))-(0.07/(IF(B24>B25,B24,B25)/1000))","v":{"$error":"#DIV/0!"}},{"$f":"BD28+BB14","v":{"$error":"#DIV/0!"}},{"$f":"BD28+BB18","v":{"$error":"#DIV/0!"}},{"$f":"BH28+BB18","v":{"$error":"#DIV/0!"}},{"$f":"((BB27/IF(E22=BE4,1,IF(E22=BE5,2,3))-(0.07/(IF(B24>B25,B24,B25)/1000))))","v":{"$error":"#DIV/0!"}},null,null,"Overlaps",0.5,null,null,null,"Roof area (m^2)",{"$f":"BQ29*BQ25","v":{"$error":"#DIV/0!"}},"Sail width",{"$f":"((BQ27/(IF(I22=BT5,2,IF(I22=BT6,3,1)))))-(0.07/(IF(B24>B25,B24,B25)/1000))","v":{"$error":"#DIV/0!"}},{"$f":"BS28+BQ14","v":{"$error":"#DIV/0!"}},{"$f":"BS28+BQ18","v":{"$error":"#DIV/0!"}},{"$f":"BW28+BQ18","v":{"$error":"#DIV/0!"}},{"$f":"((BQ27/IF(I22=BT4,1,IF(I22=BT5,2,3))-(0.07/(IF(B24>B25,B24,B25)/1000))))","v":{"$error":"#DIV/0!"}},null,null,"Overlaps",0.5,null,null,null,"Roof area (m^2)",{"$f":"CF29*CF25","v":{"$error":"#DIV/0!"}},"Sail width",{"$f":"((CF27/(IF(L22=CI5,2,IF(L22=CI6,3,1)))))-(0.07/(IF(B24>B25,B24,B25)/1000))","v":{"$error":"#DIV/0!"}},{"$f":"CH28+CF14","v":{"$error":"#DIV/0!"}},{"$f":"CH28+CF18","v":{"$error":"#DIV/0!"}},{"$f":"CL28+CF18","v":{"$error":"#DIV/0!"}},{"$f":"((CF27/IF(L22=CI4,1,IF(L22=CI5,2,3))-(0.07/(IF(B24>B25,B24,B25)/1000))))","v":{"$error":"#DIV/0!"}},null,null,"Overlaps",0]
[null,null,null,"Colour of triangles","ISX Solid",null,null,"Colour of triangles","ISX Solid",null,"Colour of triangles","ISX Solid",null,null,null,null,null,null,null,null,null,null,null,null,null,null,null,null,null,null,null,null,null,null,null,null,null,null,null,null,null,null,null,null,null,null,null,null,null,null,null,null,"Glazing bar length",{"$f":"SQRT((BB24-BB23)^2+(BB26/2)^2)","v":{"$error":"#DIV/0!"}},null,"4 sails left",{"$f":"(BB27*0.333)+O52","v":{"$error":"#DIV/0!"}},"4 sails left",{"$f":"(BB27*0.666)+O52","v":{"$error":"#DIV/0!"}},null,null,null,"Triangles","No",null,null,null,"Glazing bar length",{"$f":"SQRT((BQ24-BQ23)^2+(BQ26/2)^2)","v":{"$error":"#DIV/0!"}},null,"4 sails left",{"$f":"(BQ27*0.333)+AF52","v":{"$error":"#DIV/0!"}},"4 sails left",{"$f":"(BQ27*0.666)+AF52","v":{"$error":"#DIV/0!"}},null,null,null,"Triangles","No",null,null,null,"Glazing bar length",{"$f":"SQRT((CF24-CF23)^2+(CF26/2)^2)","v":{"$error":"#DIV/0!"}},null,"4 sails left",{"$f":"(CF27*0.333)+AW52","v":{"$error":"#DIV/0!"}},"4 sails left",{"$f":"(CF27*0.666)+AW52","v":{"$error":"#DIV/0!"}},null,null,null,"Triangles","Yes"]
[null,null,null,"Colour of fittings","Stainless steel",null,null,"Colour of fittings","Stainless steel",null,"Colour of fittings","Stainless steel",null,null,null,null,null,null,null,null,null,null,null,null,null,null,null,null,null,null,null,null,null,null,null,null,null,null,null,null,null,null,null,null,null,null,null,null,null,null,null,null,"50mm links",{"$f":"(0.035/(IF(B24>B25,B24,B25)/1000))","v":{"$error":"#DIV/0!"}},"Costs","front","mid","right","tri front","tri mid/back",null,null,"Total additional fittings",{"$f":"(IF(E21=BH6,2,1)*E22*2)","v":{"$error":"#DIV/0!"}},null,null,null,"50mm links",{"$f":"(0.035/(IF(B24>B25,B24,B25)/1000))","v":{"$error":"#DIV/0!"}},"Costs","front","mid","right","tri front","tri mid/back",null,null,"Total additional fittings",{"$f":"IF(I22=1,1,0)*(IF(CA31<1.25,2,))","v":{"$error":"#DIV/0!"}},null,null,null,"50mm links",{"$f":"(0.035/(IF(B24>B25,B24,B25)/1000))","v":{"$error":"#DIV/0!"}},"Costs","front","mid","right","tri front","tri mid/back",null,null,"Total additional fittings",{"$f":"IF(L22=1,1,0)*(IF(CP31<1.25,4,))","v":{"$error":"#DIV/0!"}}]
[null,null,null,"Number of window vents",0,null,null,"Number of window vents",0,null,"Number of window vents",0,null,null,null,null,null,null,null,null,null,null,null,null,null,null,null,null,null,null,null,null,null,null,null,null,null,null,null,null,null,null,null,null,null,null,null,null,null,null,null,null,null,null,"length",{"$f":"(IF((B72-B76)<BB29,BB29,(B72-B76))*(IF(B24>B25,B24,B25)/1000))","v":{"$error":"#DIV/0!"}},{"$f":"(IF(BD27<BB29,BB29,BD27)*(IF(B24>B25,B24,B25)/1000))","v":{"$error":"#DIV/0!"}},{"$f":"BE31","v":{"$error":"#DIV/0!"}},{"$f":"(SQRT(((B25-B28)^2)+((B27-B26)^2)))/1000","v":0},{"$f":"BF31","v":{"$error":"#DIV/0!"}},null,null,"Length/Width Ratio",{"$f":"BB27/(BB26/2)","v":{"$error":"#DIV/0!"}},null,null,null,null,null,"length",{"$f":"(IF((S72-S76)<BQ29,BQ29,(S72-S76))*(IF(B24>B25,B24,B25)/1000))","v":{"$error":"#DIV/0!"}},{"$f":"(IF(BS27<BQ29,BQ29,BS27)*(IF(B24>B25,B24,B25)/1000))","v":{"$error":"#DIV/0!"}},{"$f":"BT31","v":{"$error":"#DIV/0!"}},{"$f":"(SQRT(((B25-B28)^2)+((B27-B26)^2)))/1000","v":0},{"$f":"BU31","v":{"$error":"#DIV/0!"}},null,null,"Length/Width Ratio",{"$f":"BQ27/(BQ26/2)","v":{"$error":"#DIV/0!"}},null,null,null,null,null,"length",{"$f":"(IF((AJ72-AJ76)<CF29,CF29,(AJ72-AJ76))*(IF(B24>B25,B24,B25)/1000))","v":{"$error":"#DIV/0!"}},{"$f":"(IF(CH27<CF29,CF29,CH27)*(IF(B24>B25,B24,B25)/1000))","v":{"$error":"#DIV/0!"}},{"$f":"CI31","v":{"$error":"#DIV/0!"}},{"$f":"(SQRT(((B25-B28)^2)+((B27-B26)^2)))/1000","v":0},{"$f":"CJ31","v":{"$error":"#DIV/0!"}},null,null,"Length/Width Ratio",{"$f":"CF27/(CF26/2)","v":{"$error":"#DIV/0!"}}]
[null,null,null,null,null,null,null,null,null,null,null,null,null,null,null,null,null,null,null,null,null,null,null,null,null,null,null,null,null,null,null,null,null,null,null,null,null,null,null,null,null,null,null,null,null,null,null,null,null,null,null,null,null," ","width",{"$f":"IF(E22=1,1,1)*(IF(E22<>BE3,IF((((A64-A60)*(IF(B24>B25,B24,B25)/1000))+0.07)>((SQRT(((B25-B28)^2)+((B27-B26)^2)))/1000),(((A64-A60)*(IF(B24>B25,B24,B25)/1000))+0.07),((SQRT(((B25-B28)^2)+((B27-B26)^2)))/1000)),(SQRT((B25^2)+((B27-B26)^2)))/1000))","v":{"$error":"#DIV/0!"}},{"$f":"((C64-C60)*(IF(B24>B25,B24,B25)/1000))+0.07","v":{"$error":"#DIV/0!"}},{"$f":"IF(E22<>BE5,MIN(BD32,BE32),((G64-G60)*(IF(B24>B25,B24,B25)/1000))+0.07)","v":{"$error":"#DIV/0!"}},{"$f":"((B44-B48)*(IF(B24>B25,B24,B25)/1000))+0.07","v":7.0000000000000007E-2},{"$f":"(BG25*(IF(B24>B25,B24,B25)/1000))+0.07","v":{"$error":"#DIV/0!"}},null,null,"Low Length/Width Ratio",{"$f":"BB25/BB26","v":{"$error":"#DIV/0!"}},null,null,null,null," ","width",{"$f":"IF(I22=1,1,1)*(IF(I22<>BT3,IF((((R64-R60)*(IF(B24>B25,B24,B25)/1000))+0.07)>((SQRT(((B25-B28)^2)+((B27-B26)^2)))/1000),(((R64-R60)*(IF(B24>B25,B24,B25)/1000))+0.07),((SQRT(((B25-B28)^2)+((B27-B26)^2)))/1000)),(SQRT((B25^2)+((B27-B26)^2)))/1000))","v":{"$error":"#DIV/0!"}},{"$f":"((T64-T60)*(IF(B24>B25,B24,B25)/1000))+0.07","v":{"$error":"#DIV/0!"}},{"$f":"IF(I22<>BT5,MIN(BS32,BT32),((X64-X60)*(IF(B24>B25,B24,B25)/1000))+0.07)","v":{"$error":"#DIV/0!"}},{"$f":"((S44-S48)*(IF(B24>B25,B24,B25)/1000))+0.07","v":7.0000000000000007E-2},{"$f":"(BV25*(IF(B24>B25,B24,B25)/1000))+0.07","v":{"$error":"#DIV/0!"}},null,null,"Low Length/Width Ratio",{"$f":"BQ25/BQ26","v":{"$error":"#DIV/0!"}},null,null,null,null," ","width",{"$f":"IF(L22=1,1,1)*(IF(L22<>CI3,IF((((AI64-AI60)*(IF(B24>B25,B24,B25)/1000))+0.07)>((SQRT(((B25-B28)^2)+((B27-B26)^2)))/1000),(((AI64-AI60)*(IF(B24>B25,B24,B25)/1000))+0.07),((SQRT(((B25-B28)^2)+((B27-B26)^2)))/1000)),(SQRT((B25^2)+((B27-B26)^2)))/1000))","v":{"$error":"#DIV/0!"}},{"$f":"((AK64-AK60)*(IF(B24>B25,B24,B25)/1000))+0.07","v":{"$error":"#DIV/0!"}},{"$f":"IF(L22<>CI5,MIN(CH32,CI32),((AO64-AO60)*(IF(B24>B25,B24,B25)/1000))+0.07)","v":{"$error":"#DIV/0!"}},{"$f":"((AJ44-AJ48)*(IF(B24>B25,B24,B25)/1000))+0.07","v":{"$error":"#DIV/0!"}},{"$f":"(CK25*(IF(B24>B25,B24,B25)/1000))+0.07","v":{"$error":"#DIV/0!"}},null,null,"Low Length/Width Ratio",{"$f":"CF25/CF26","v":{"$error":"#DIV/0!"}}]
[null,null,null,"Max length of sail",{"$f":"(MAX(BD31:BF31))*1000","v":{"$error":"#DIV/0!"}},null,null,"Max length of sail",{"$f":"(MAX(BS31:BU31))*1000","v":{"$error":"#DIV/0!"}},null,"Max length of sail",{"$f":"(MAX(CH31:CJ31))*1000","v":{"$error":"#DIV/0!"}},null,null,null,null,null,null,null,null,null,null,null,null,null,null,null,null,null,null,null,null,null,null,null,null,null,null,null,null,null,null,null,null,null,null,null,null,null,null,null,null,null," ","perimeter",{"$f":"(BD31+BD32+((BD24*(IF(B24>B25,B24,B25)/1000))+0.07)+((BD25*(IF(B24>B25,B24,B25)/1000))+0.07))*1.05","v":{"$error":"#DIV/0!"}},{"$f":"((BE31*2)+BE32+(((C68-C72)*(IF(B24>B25,B24,B25)/1000))+0.07))*1.05","v":{"$error":"#DIV/0!"}},{"$f":"((BF31*2)+(BF32*2))*1.05","v":{"$error":"#DIV/0!"}},{"$f":"((BG31*2)+BG32)*1.05","v":7.350000000000001E-2},{"$f":"((BH31*2)+BH32)*1.05","v":{"$error":"#DIV/0!"}},null,null,null,null,null,null,null,null," ","perimeter",{"$f":"(BS31+BS32+((BS24*(IF(B24>B25,B24,B25)/1000))+0.07)+((BS25*(IF(B24>B25,B24,B25)/1000))+0.07))*1.05","v":{"$error":"#DIV/0!"}},{"$f":"((BT31*2)+BT32+(((T68-T72)*(IF(B24>B25,B24,B25)/1000))+0.07))*1.05","v":{"$error":"#DIV/0!"}},{"$f":"((BU31*2)+(BU32*2))*1.05","v":{"$error":"#DIV/0!"}},{"$f":"((BV31*2)+BV32)*1.05","v":7.350000000000001E-2},{"$f":"((BW31*2)+BW32)*1.05","v":{"$error":"#DIV/0!"}},null,null,null,null,null,null,null,null," ","perimeter",{"$f":"(CH31+CH32+((CH24*(IF(B24>B25,B24,B25)/1000))+0.07)+((CH25*(IF(B24>B25,B24,B25)/1000))+0.07))*1.05","v":{"$error":"#DIV/0!"}},{"$f":"((CI31*2)+CI32+(((AK68-AK72)*(IF(B24>B25,B24,B25)/1000))+0.07))*1.05","v":{"$error":"#DIV/0!"}},{"$f":"((CJ31*2)+(CJ32*2))*1.05","v":{"$error":"#DIV/0!"}},{"$f":"((CK31*2)+CK32)*1.05","v":{"$error":"#DIV/0!"}},{"$f":"((CL31*2)+CL32)*1.05","v":{"$error":"#DIV/0!"}}]
[null,null,null,"Max width of sail",{"$f":"(MAX(BD32:BF32))*1000","v":{"$error":"#DIV/0!"}},null,null,"Max width of sail",{"$f":"(MAX(BS32:BU32))*1000","v":{"$error":"#DIV/0!"}},null,"Max width of sail",{"$f":"(MAX(CH32:CJ32))*1000","v":{"$error":"#DIV/0!"}},null,null,null,null,null,null,null,null,null,null,null,null,null,null,null,null,null,null,null,null,null,null,null,null,null,null,null,null,null,null,null,null,null,null,null,null,null,null,null,null,null,null,null,{"$f":"(IF(E21=BW6,2,1)*((BB1*((BD31*BD32*BS1*BQ6)+(BD33*BS2)+(BT9*BS3)))+(BT9*BN5)+'  '!B35))","v":{"$error":"#DIV/0!"}},{"$f":"(IF(E22=BE6,2,1))*((IF(OR(E22=BE2,E22=BE3),0,IF(E21=BW6,2,1)*((((BB1*((BE31*BE32*BS1*BQ6)+(BE33*BS2)+(BT9*BS3))+(BT9*BN5)+'  '!B35)))))))","v":{"$error":"#DIV/0!"}},{"$f":"(IF(OR(E22=BE2,E22=BE3,E22=BE4),0,IF(E21=BW6,2,1)*((BB1*((BF31*BF32*BS1*BQ6)+(BF33*BS2)+(BT9*BS3)))+(BT9*BN5)+'  '!B35)))","v":{"$error":"#DIV/0!"}},{"$f":"IF(E24=BH2,0,(IF(E24=BH3,((BB2*((BG31*BG32*BS1*BQ7)+(BG33*BS2)+(3*BS3)))+(3*BN5)+'  '!B35))))","v":0},{"$f":"(IF(E24=BH2,0,(((BB2*((BH31*BH32*BS1*BQ7)+(BH33*BS2)+(3*BS3)))+(3*BN5)+'  '!B35))))","v":0},null,null,null,null,null,"Overlaps","Triangles",null,null,null,{"$f":"IF(I21=BW6,2,1)*((BQ1*((BS31*BS32*BS1*BQ6)+(BS33*BS2)+(BT9*BS3)))+(BT9*CC5)+'  '!B35)","v":{"$error":"#DIV/0!"}},{"$f":"(IF(I22=BT6,2,1))*((IF(OR(I22=BT2,I22=BT3),0,IF(I21=BW6,2,1)*((((BQ1*((BT31*BT32*BS1*BQ6)+(BT33*BS2)+(BT9*BS3))+(BT9*CC5)+'  '!B35)))))))","v":{"$error":"#DIV/0!"}},{"$f":"(IF(OR(I22=BT2,I22=BT3,I22=BT4),0,IF(I21=BW6,2,1)*((BQ1*((BU31*BU32*BS1*BQ6)+(BU33*BS2)+(BT9*BS3)))+(BT9*CC5)+'  '!B35)))","v":{"$error":"#DIV/0!"}},{"$f":"IF(I24=BW2,0,(IF(I24=BW3,((BQ2*((BV31*BV32*BS1*BQ7)+(BV33*BS2)+(3*BS3)))+(3*CC5)+'  '!B35))))","v":0},{"$f":"(IF(I24=BW2,0,((BQ2*((BW31*BW32*BS1*BQ7)+(BW33*BS2)+(3*BS3)))+(3*CC5)+'  '!B35)))","v":0},null,null,null,null,null,null,null,null,null,null,{"$f":"(IF(L21=BW6,2,1)*((CF1*((CH31*CH32*BS1*BQ6)+(CH33*BS2)+(BT9*BS3)))+(BT9*CR5)+'  '!B35))","v":{"$error":"#DIV/0!"}},{"$f":"(IF(L22=CI6,2,1))*((IF(OR(L22=CI2,L22=CI3),0,IF(L21=BW6,2,1)*((((CF1*((CI31*CI32*BS1*BQ6)+(CI33*BS2)+(BT9*BS3))+(BT9*CR5)+'  '!B35)))))))","v":{"$error":"#DIV/0!"}},{"$f":"(IF(OR(L22=CI2,L22=CI3,L22=CI4),0,IF(L21=BW6,2,1)*((CF1*((CJ31*CJ32*BS1*BQ6)+(CJ33*BS2)+(BT9*BS3)))+(BT9*CR5)+'  '!B35)))","v":{"$error":"#DIV/0!"}},{"$f":"IF(L24=CL2,0,(IF(L24=CL3,((CF2*((CK31*CK32*BS1*BQ7)+(CK33*BS2)+(3*BS3)))+(3*CR5)+'  '!B35))))","v":{"$error":"#DIV/0!"}},{"$f":"(IF(L24=CL2,0,((CF2*((CL31*CL32*BS1*BQ7)+(CL33*BS2)+(3*BS3)))+(3*CR5)+'  '!B35)))","v":{"$error":"#DIV/0!"}}]
[null,null,null,null,"Sails +2100mm in both directions require seams",null,null,null,"Sails +2100mm in both directions require seams",null,null,"Sails +2100mm in both directions require seams",null,null,null,null,null,null,null,null,null,null,null,null,null,null,null,null,null,null,null,null,null,null,null,null,null,null,null,null,null,null,null,null,null,null,null,null,null,null,null,null,null,null,null,null,null,null,null,null,null,null,null,null,null,0,"No"]
[null,null,null,null,null,null,null,null,null,null,null,null,null,null,null,null,null,null,null,null,null,null,null,null,null,null,null,null,null,null,null,null,null,null,null,null,null,null,null,null,null,null,null,null,null,null,null,null,null,null,null,null,null,null,null,null,null,null,null,null,null,null,null,null,null,0.5,"Yes"]
[null,null,null,null,null,null,null,null,null,null,null,null,null,null,null,null,null,null,null,null,null,null,null,null,null,null,null,null,null,null,null,null,null,null,null,null,null,null,null,null,null,null,null,null,null,null,null,null,null,null,null,null,null,null,null,null,null,null,null,null,null,null,null,null,null,1]
[]
[]
[]
[]
["x","y","x","y","x","y","x","y","x","y","x","y","x","y","Roof plan",null,null,"x","y","x","y","x","y","x","y","x","y","x","y","x","y","Roof plan",null,null,"x","y","x","y","x","y","x","y","x","y","x","y","x","y","Roof plan"]
["f tri 3",null,"m tri 1",null,"m tri 2",null,"b tri 4",null,"b tri 5",null,"b tri 6",null,"b tri 7",null,"x-axis","y-axis",null,"f tri 3",null,"m tri 1",null,"m tri 2",null,"b tri 4",null,"b tri 5",null,"b tri 6",null,"b tri 7",null,"x-axis","y-axis",null,"f tri 3",null,"m tri 1",null,"m tri 2",null,"b tri 4",null,"b tri 5",null,"b tri 6",null,"b tri 7",null,"x-axis","y-axis"]
[{"$f":"IF(E24=BH3,BB30,)","v":0},{"$f":"IF(E24=BH3,P49+(BF25/2),)","v":0},{"$f":"IF(AND(E22<>BE3,E24=BH3),C46-(BG25/2),)","v":{"$error":"#DIV/0!"}},{"$f":"IF(AND(E22<>BE3,E24=BH3),BB30,)","v":{"$error":"#DIV/0!"}},{"$f":"IF(AND(E22<>BE3,E24=BH3,E21<>BH5),C46-(BG25/2),)","v":{"$error":"#DIV/0!"}},{"$f":"IF(AND(E22<>BE3,E24=BH3,E21<>BH5),P46-BB30,)","v":{"$error":"#DIV/0!"}},{"$f":"IF(AND(E22>2,E24=BH3),G46-(BH25/2),)","v":{"$error":"#DIV/0!"}},{"$f":"IF(AND(E22>2,E24=BH3),BB30,)","v":{"$error":"#DIV/0!"}},{"$f":"IF(AND(E22>2,E24=BH3,E21<>BH5),G46-(BH25/2),)","v":{"$error":"#DIV/0!"}},{"$f":"IF(AND(E22>2,E24=BH3,E21<>BH5),P46-BB30,)","v":{"$error":"#DIV/0!"}},{"$f":"IF(AND($E$24=BH3,$E$22=4),G44+($BB$27/3)-$A$60)","v":{"$error":"#DIV/0!"}},{"$f":"IF(AND($E$24=BH3,$E$22=4),H44)","v":{"$error":"#DIV/0!"}},{"$f":"IF(AND($E$24=BH3,$E$22=4,$E$21=$BH$6),I44+($BB$27/3)-$A$44)","v":{"$error":"#DIV/0!"}},{"$f":"IF(AND($E$24=BH3,$E$22=4,$E$21=$BH$6),J44)","v":{"$error":"#DIV/0!"}},0,0,null,{"$f":"IF(I24=BW3,BQ30,)","v":0},{"$f":"IF(I24=BW3,AG49+(BU25/2),)","v":0},{"$f":"IF(AND(I22<>BT3,I24=BW3),T46-(BV25/2),)","v":{"$error":"#DIV/0!"}},{"$f":"IF(AND(I22<>BT3,I24=BW3),BQ30,)","v":{"$error":"#DIV/0!"}},{"$f":"IF(AND(I22<>BT3,I24=BW3,I21<>BW5),T46-(BV25/2),)","v":{"$error":"#DIV/0!"}},{"$f":"IF(AND(I22<>BT3,I24=BW3,I21<>BW5),AG46-BQ30,)","v":{"$error":"#DIV/0!"}},{"$f":"IF(AND(I22>2,I24=BW3),X46-(BW25/2),)","v":{"$error":"#DIV/0!"}},{"$f":"IF(AND(I22>2,I24=BW3),BQ30,)","v":{"$error":"#DIV/0!"}},{"$f":"IF(AND(I22>2,I24=BW3,I21<>BW5),X46-(BW25/2),)","v":{"$error":"#DIV/0!"}},{"$f":"IF(AND(I22>2,I24=BW3,I21<>BW5),AG46-BQ30,)","v":{"$error":"#DIV/0!"}},{"$f":"IF(AND($I$24=BH3,$I$22=4),X44+($BB$27/3)-$R$60)","v":{"$error":"#DIV/0!"}},{"$f":"IF(AND($I$24=BH3,$I$22=4),Y44)","v":{"$error":"#DIV/0!"}},{"$f":"IF(AND($I$24=BH3,$I$22=4,$I$21=$BH$6),Z44+($BB$27/3)-$R$44)","v":{"$error":"#DIV/0!"}},{"$f":"IF(AND($I$24=BH3,$I$22=4,$I$21=$BH$6),AA44)","v":{"$error":"#DIV/0!"}},0,0,null,{"$f":"IF(L24=CL3,CF30,)","v":{"$error":"#DIV/0!"}},{"$f":"IF(L24=CL3,AX49+(CJ25/2),)","v":{"$error":"#DIV/0!"}},{"$f":"IF(AND(L22<>CI3,L24=CL3),AK46-(CK25/2),)","v":{"$error":"#DIV/0!"}},{"$f":"IF(AND(L22<>CI3,L24=CL3),CF30,)","v":{"$error":"#DIV/0!"}},{"$f":"IF(AND(L22<>CI3,L24=CL3,L21<>CL5),AK46-(CK25/2),)","v":{"$error":"#DIV/0!"}},{"$f":"IF(AND(L22<>CI3,L24=CL3,L21<>CL5),AX46-CF30,)","v":{"$error":"#DIV/0!"}},{"$f":"IF(AND(L22>2,L24=CL3),AO46-(CL25/2),)","v":{"$error":"#DIV/0!"}},{"$f":"IF(AND(L22>2,L24=CL3),CF30,)","v":{"$error":"#DIV/0!"}},{"$f":"IF(AND(L22>2,L24=CL3,L21<>CL5),AO46-(CL25/2),)","v":{"$error":"#DIV/0!"}},{"$f":"IF(AND(L22>2,L24=CL3,L21<>CL5),AX46-CF30,)","v":{"$error":"#DIV/0!"}},{"$f":"IF(AND($L$24=BH3,$L$22=4),AO44+($BB$27/3)-$AI$60)","v":{"$error":"#DIV/0!"}},{"$f":"IF(AND($L$24=BH3,$L$22=4),AP44)","v":{"$error":"#DIV/0!"}},{"$f":"IF(AND($L$24=BH3,$L$22=4,$L$21=$BH$6),AQ44+($BB$27/3)-$AI$44)","v":{"$error":"#DIV/0!"}},{"$f":"IF(AND($L$24=BH3,$L$22=4,$L$21=$BH$6),AR44)","v":{"$error":"#DIV/0!"}},0,0]
[{"$f":"IF(E24=BH3,BH14,)","v":0},{"$f":"IF(E24=BH3,B44-(BF25/4),)","v":0},{"$f":"IF(AND(E22<>BE3,E24=BH3),C46-(BG25/4),)","v":{"$error":"#DIV/0!"}},{"$f":"IF(AND(E22<>BE3,E24=BH3),BH13,)","v":{"$error":"#DIV/0!"}},{"$f":"IF(AND(E22<>BE3,E24=BH3,E21<>BH5),C46-(BG25/4),)","v":{"$error":"#DIV/0!"}},{"$f":"IF(AND(E22<>BE3,E24=BH3,E21<>BH5),P46-BH13,)","v":{"$error":"#DIV/0!"}},{"$f":"IF(AND(E22>2,E24=BH3),G46-(BH25/4),)","v":{"$error":"#DIV/0!"}},{"$f":"IF(AND(E22>2,E24=BH3),BH12,)","v":{"$error":"#DIV/0!"}},{"$f":"IF(AND(E22>2,E24=BH3,E21<>BH5),G46-(BH25/4),)","v":{"$error":"#DIV/0!"}},{"$f":"IF(AND(E22>2,E24=BH3,E21<>BH5),P46-BH12,)","v":{"$error":"#DIV/0!"}},{"$f":"IF(AND($E$24=BH3,$E$22=4),G45+($BB$27/3)-$A$60)","v":{"$error":"#DIV/0!"}},{"$f":"IF(AND($E$24=BH3,$E$22=4),H45)","v":{"$error":"#DIV/0!"}},{"$f":"IF(AND($E$24=BH3,$E$22=4,$E$21=$BH$6),I45+($BB$27/3)-$A$44)","v":{"$error":"#DIV/0!"}},{"$f":"IF(AND($E$24=BH3,$E$22=4,$E$21=$BH$6),J45)","v":{"$error":"#DIV/0!"}},{"$f":"BB25","v":{"$error":"#DIV/0!"}},0,null,{"$f":"IF(I24=BW3,BW14,)","v":0},{"$f":"IF(I24=BW3,S44-(BU25/4),)","v":0},{"$f":"IF(AND(I22<>BT3,I24=BW3),T46-(BV25/4),)","v":{"$error":"#DIV/0!"}},{"$f":"IF(AND(I22<>BT3,I24=BW3),BW13,)","v":{"$error":"#DIV/0!"}},{"$f":"IF(AND(I22<>BT3,I24=BW3,I21<>BW5),T46-(BV25/4),)","v":{"$error":"#DIV/0!"}},{"$f":"IF(AND(I22<>BT3,I24=BW3,I21<>BW5),AG46-BW13,)","v":{"$error":"#DIV/0!"}},{"$f":"IF(AND(I22>2,I24=BW3),X46-(BW25/4),)","v":{"$error":"#DIV/0!"}},{"$f":"IF(AND(I22>2,I24=BW3),BW12,)","v":{"$error":"#DIV/0!"}},{"$f":"IF(AND(I22>2,I24=BW3,I21<>BW5),X46-(BW25/4),)","v":{"$error":"#DIV/0!"}},{"$f":"IF(AND(I22>2,I24=BW3,I21<>BW5),AG46-BW12,)","v":{"$error":"#DIV/0!"}},{"$f":"IF(AND($I$24=BH3,$I$22=4),X45+($BB$27/3)-$R$60)","v":{"$error":"#DIV/0!"}},{"$f":"IF(AND($I$24=BH3,$I$22=4),Y45)","v":{"$error":"#DIV/0!"}},{"$f":"IF(AND($I$24=BH3,$I$22=4,$I$21=$BH$6),Z45+($BB$27/3)-$R$44)","v":{"$error":"#DIV/0!"}},{"$f":"IF(AND($I$24=BH3,$I$22=4,$I$21=$BH$6),AA45)","v":{"$error":"#DIV/0!"}},{"$f":"BQ25","v":{"$error":"#DIV/0!"}},0,null,{"$f":"IF(L24=CL3,CL14,)","v":{"$error":"#DIV/0!"}},{"$f":"IF(L24=CL3,AJ44-(CJ25/4),)","v":{"$error":"#DIV/0!"}},{"$f":"IF(AND(L22<>CI3,L24=CL3),AK46-(CK25/4),)","v":{"$error":"#DIV/0!"}},{"$f":"IF(AND(L22<>CI3,L24=CL3),CL13,)","v":{"$error":"#DIV/0!"}},{"$f":"IF(AND(L22<>CI3,L24=CL3,L21<>CL5),AK46-(CK25/4),)","v":{"$error":"#DIV/0!"}},{"$f":"IF(AND(L22<>CI3,L24=CL3,L21<>CL5),AX46-CL13,)","v":{"$error":"#DIV/0!"}},{"$f":"IF(AND(L22>2,L24=CL3),AO46-(CL25/4),)","v":{"$error":"#DIV/0!"}},{"$f":"IF(AND(L22>2,L24=CL3),CL12,)","v":{"$error":"#DIV/0!"}},{"$f":"IF(AND(L22>2,L24=CL3,L21<>CL5),AO46-(CL25/4),)","v":{"$error":"#DIV/0!"}},{"$f":"IF(AND(L22>2,L24=CL3,L21<>CL5),AX46-CL12,)","v":{"$error":"#DIV/0!"}},{"$f":"IF(AND($L$24=BH3,$L$22=4),AO45+($BB$27/3)-$AI$60)","v":{"$error":"#DIV/0!"}},{"$f":"IF(AND($L$24=BH3,$L$22=4),AP45)","v":{"$error":"#DIV/0!"}},{"$f":"IF(AND($L$24=BH3,$L$22=4,$L$21=$BH$6),AQ45+($BB$27/3)-$AI$44)","v":{"$error":"#DIV/0!"}},{"$f":"IF(AND($L$24=BH3,$L$22=4,$L$21=$BH$6),AR45)","v":{"$error":"#DIV/0!"}},{"$f":"CF25","v":{"$error":"#DIV/0!"}},0]
[{"$f":"IF(E24=BH3,BG14,)","v":0},{"$f":"IF(E24=BH3,B45-(BF25/4),)","v":0},{"$f":"IF(AND(E22<>BE3,E24=BH3),C52,)","v":{"$error":"#DIV/0!"}},{"$f":"IF(AND(E22<>BE3,E24=BH3),BG13,)","v":{"$error":"#DIV/0!"}},{"$f":"IF(AND(E22<>BE3,E24=BH3,E21<>BH5),C52,)","v":{"$error":"#DIV/0!"}},{"$f":"IF(AND(E22<>BE3,E24=BH3,E21<>BH5),P47-BG13,)","v":{"$error":"#DIV/0!"}},{"$f":"IF(AND(E22>2,E24=BH3),G52,)","v":{"$error":"#DIV/0!"}},{"$f":"IF(AND(E22>2,E24=BH3),BG12,)","v":{"$error":"#DIV/0!"}},{"$f":"IF(AND(E22>2,E24=BH3,E21<>BH5),G52,)","v":{"$error":"#DIV/0!"}},{"$f":"IF(AND(E22>2,E24=BH3,E21<>BH5),P47-BG12,)","v":{"$error":"#DIV/0!"}},{"$f":"IF(AND($E$24=BH3,$E$22=4),G46+($BB$27/3)-$A$60)","v":{"$error":"#DIV/0!"}},{"$f":"IF(AND($E$24=BH3,$E$22=4),H46)","v":{"$error":"#DIV/0!"}},{"$f":"IF(AND($E$24=BH3,$E$22=4,$E$21=$BH$6),I46+($BB$27/3)-$A$44)","v":{"$error":"#DIV/0!"}},{"$f":"IF(AND($E$24=BH3,$E$22=4,$E$21=$BH$6),J46)","v":{"$error":"#DIV/0!"}},{"$f":"BB25","v":{"$error":"#DIV/0!"}},{"$f":"BB26","v":{"$error":"#DIV/0!"}},null,{"$f":"IF(I24=BW3,BV14,)","v":0},{"$f":"IF(I24=BW3,S45-(BU25/4),)","v":0},{"$f":"IF(AND(I22<>BT3,I24=BW3),T52,)","v":{"$error":"#DIV/0!"}},{"$f":"IF(AND(I22<>BT3,I24=BW3),BV13,)","v":{"$error":"#DIV/0!"}},{"$f":"IF(AND(I22<>BT3,I24=BW3,I21<>BW5),T52,)","v":{"$error":"#DIV/0!"}},{"$f":"IF(AND(I22<>BT3,I24=BW3,I21<>BW5),AG47-BV13,)","v":{"$error":"#DIV/0!"}},{"$f":"IF(AND(I22>2,I24=BW3),X52,)","v":{"$error":"#DIV/0!"}},{"$f":"IF(AND(I22>2,I24=BW3),BV12,)","v":{"$error":"#DIV/0!"}},{"$f":"IF(AND(I22>2,I24=BW3,I21<>BW5),X52,)","v":{"$error":"#DIV/0!"}},{"$f":"IF(AND(I22>2,I24=BW3,I21<>BW5),AG47-BV12,)","v":{"$error":"#DIV/0!"}},{"$f":"IF(AND($I$24=BH3,$I$22=4),X46+($BB$27/3)-$R$60)","v":{"$error":"#DIV/0!"}},{"$f":"IF(AND($I$24=BH3,$I$22=4),Y46)","v":{"$error":"#DIV/0!"}},{"$f":"IF(AND($I$24=BH3,$I$22=4,$I$21=$BH$6),Z46+($BB$27/3)-$R$44)","v":{"$error":"#DIV/0!"}},{"$f":"IF(AND($I$24=BH3,$I$22=4,$I$21=$BH$6),AA46)","v":{"$error":"#DIV/0!"}},{"$f":"BQ25","v":{"$error":"#DIV/0!"}},{"$f":"BQ26","v":{"$error":"#DIV/0!"}},null,{"$f":"IF(L24=CL3,CK14,)","v":{"$error":"#DIV/0!"}},{"$f":"IF(L24=CL3,AJ45-(CJ25/4),)","v":{"$error":"#DIV/0!"}},{"$f":"IF(AND(L22<>CI3,L24=CL3),AK52,)","v":{"$error":"#DIV/0!"}},{"$f":"IF(AND(L22<>CI3,L24=CL3),CK13,)","v":{"$error":"#DIV/0!"}},{"$f":"IF(AND(L22<>CI3,L24=CL3,L21<>CL5),AK52,)","v":{"$error":"#DIV/0!"}},{"$f":"IF(AND(L22<>CI3,L24=CL3,L21<>CL5),AX47-CK13,)","v":{"$error":"#DIV/0!"}},{"$f":"IF(AND(L22>2,L24=CL3),AO52,)","v":{"$error":"#DIV/0!"}},{"$f":"IF(AND(L22>2,L24=CL3),CK12,)","v":{"$error":"#DIV/0!"}},{"$f":"IF(AND(L22>2,L24=CL3,L21<>CL5),AO52,)","v":{"$error":"#DIV/0!"}},{"$f":"IF(AND(L22>2,L24=CL3,L21<>CL5),AX47-CK12,)","v":{"$error":"#DIV/0!"}},{"$f":"IF(AND($L$24=BH3,$L$22=4),AO46+($BB$27/3)-$AI$60)","v":{"$error":"#DIV/0!"}},{"$f":"IF(AND($L$24=BH3,$L$22=4),AP46)","v":{"$error":"#DIV/0!"}},{"$f":"IF(AND($L$24=BH3,$L$22=4,$L$21=$BH$6),AQ46+($BB$27/3)-$AI$44)","v":{"$error":"#DIV/0!"}},{"$f":"IF(AND($L$24=BH3,$L$22=4,$L$21=$BH$6),AR46)","v":{"$error":"#DIV/0!"}},{"$f":"CF25","v":{"$error":"#DIV/0!"}},{"$f":"CF26","v":{"$error":"#DIV/0!"}}]
[{"$f":"IF(E24=BH3,A45,)","v":0},{"$f":"IF(E24=BH3,B46-(BF25/4),)","v":0},{"$f":"IF(AND(E22<>BE3,E24=BH3),C46+(BG25/4),)","v":{"$error":"#DIV/0!"}},{"$f":"IF(AND(E22<>BE3,E24=BH3),BH13,)","v":{"$error":"#DIV/0!"}},{"$f":"IF(AND(E22<>BE3,E24=BH3,E21<>BH5),C46+(BG25/4),)","v":{"$error":"#DIV/0!"}},{"$f":"IF(AND(E22<>BE3,E24=BH3,E21<>BH5),P47-BH13,)","v":{"$error":"#DIV/0!"}},{"$f":"IF(AND(E22>2,E24=BH3),G46+(BH25/4),)","v":{"$error":"#DIV/0!"}},{"$f":"IF(AND(E22>2,E24=BH3),BH12,)","v":{"$error":"#DIV/0!"}},{"$f":"IF(AND(E22>2,E24=BH3,E21<>BH5),G46+(BH25/4),)","v":{"$error":"#DIV/0!"}},{"$f":"IF(AND(E22>2,E24=BH3,E21<>BH5),P47-BH12,)","v":{"$error":"#DIV/0!"}},{"$f":"IF(AND($E$24=BH3,$E$22=4),G47+($BB$27/3)-$A$60)","v":{"$error":"#DIV/0!"}},{"$f":"IF(AND($E$24=BH3,$E$22=4),H47)","v":{"$error":"#DIV/0!"}},{"$f":"IF(AND($E$24=BH3,$E$22=4,$E$21=$BH$6),I47+($BB$27/3)-$A$44)","v":{"$error":"#DIV/0!"}},{"$f":"IF(AND($E$24=BH3,$E$22=4,$E$21=$BH$6),J47)","v":{"$error":"#DIV/0!"}},0,{"$f":"BB26","v":{"$error":"#DIV/0!"}},null,{"$f":"IF(I24=BW3,R45,)","v":0},{"$f":"IF(I24=BW3,S46-(BU25/4),)","v":0},{"$f":"IF(AND(I22<>BT3,I24=BW3),T46+(BV25/4),)","v":{"$error":"#DIV/0!"}},{"$f":"IF(AND(I22<>BT3,I24=BW3),BW13,)","v":{"$error":"#DIV/0!"}},{"$f":"IF(AND(I22<>BT3,I24=BW3,I21<>BW5),T46+(BV25/4),)","v":{"$error":"#DIV/0!"}},{"$f":"IF(AND(I22<>BT3,I24=BW3,I21<>BW5),AG47-BW13,)","v":{"$error":"#DIV/0!"}},{"$f":"IF(AND(I22>2,I24=BW3),X46+(BW25/4),)","v":{"$error":"#DIV/0!"}},{"$f":"IF(AND(I22>2,I24=BW3),BW12,)","v":{"$error":"#DIV/0!"}},{"$f":"IF(AND(I22>2,I24=BW3,I21<>BW5),X46+(BW25/4),)","v":{"$error":"#DIV/0!"}},{"$f":"IF(AND(I22>2,I24=BW3,I21<>BW5),AG47-BW12,)","v":{"$error":"#DIV/0!"}},{"$f":"IF(AND($I$24=BH3,$I$22=4),X47+($BB$27/3)-$R$60)","v":{"$error":"#DIV/0!"}},{"$f":"IF(AND($I$24=BH3,$I$22=4),Y47)","v":{"$error":"#DIV/0!"}},{"$f":"IF(AND($I$24=BH3,$I$22=4,$I$21=$BH$6),Z47+($BB$27/3)-$R$44)","v":{"$error":"#DIV/0!"}},{"$f":"IF(AND($I$24=BH3,$I$22=4,$I$21=$BH$6),AA47)","v":{"$error":"#DIV/0!"}},0,{"$f":"BQ26","v":{"$error":"#DIV/0!"}},null,{"$f":"IF(L24=CL3,AI45,)","v":{"$error":"#DIV/0!"}},{"$f":"IF(L24=CL3,AJ46-(CJ25/4),)","v":{"$error":"#DIV/0!"}},{"$f":"IF(AND(L22<>CI3,L24=CL3),AK46+(CK25/4),)","v":{"$error":"#DIV/0!"}},{"$f":"IF(AND(L22<>CI3,L24=CL3),CL13,)","v":{"$error":"#DIV/0!"}},{"$f":"IF(AND(L22<>CI3,L24=CL3,L21<>CL5),AK46+(CK25/4),)","v":{"$error":"#DIV/0!"}},{"$f":"IF(AND(L22<>CI3,L24=CL3,L21<>CL5),AX47-CL13,)","v":{"$error":"#DIV/0!"}},{"$f":"IF(AND(L22>2,L24=CL3),AO46+(CL25/4),)","v":{"$error":"#DIV/0!"}},{"$f":"IF(AND(L22>2,L24=CL3),CL12,)","v":{"$error":"#DIV/0!"}},{"$f":"IF(AND(L22>2,L24=CL3,L21<>CL5),AO46+(CL25/4),)","v":{"$error":"#DIV/0!"}},{"$f":"IF(AND(L22>2,L24=CL3,L21<>CL5),AX47-CL12,)","v":{"$error":"#DIV/0!"}},{"$f":"IF(AND($L$24=BH3,$L$22=4),AO47+($BB$27/3)-$AI$60)","v":{"$error":"#DIV/0!"}},{"$f":"IF(AND($L$24=BH3,$L$22=4),AP47)","v":{"$error":"#DIV/0!"}},{"$f":"IF(AND($L$24=BH3,$L$22=4,$L$21=$BH$6),AQ47+($BB$27/3)-$AI$44)","v":{"$error":"#DIV/0!"}},{"$f":"IF(AND($L$24=BH3,$L$22=4,$L$21=$BH$6),AR47)","v":{"$error":"#DIV/0!"}},0,{"$f":"CF26","v":{"$error":"#DIV/0!"}}]
[{"$f":"A44","v":0},{"$f":"IF(E24=BH3,P49-(BF25/2),)","v":0},{"$f":"IF(AND(E22<>BE3,E24=BH3),C46+(BG25/2),)","v":{"$error":"#DIV/0!"}},{"$f":"D44","v":{"$error":"#DIV/0!"}},{"$f":"IF(AND(E22<>BE3,E24=BH3,E21<>BH5),C46+(BG25/2),)","v":{"$error":"#DIV/0!"}},{"$f":"IF(AND(E22<>BE3,E24=BH3,E21<>BH5),P46-D44,)","v":{"$error":"#DIV/0!"}},{"$f":"IF(AND(E22>2,E24=BH3),G46+(BH25/2),)","v":{"$error":"#DIV/0!"}},{"$f":"H44","v":{"$error":"#DIV/0!"}},{"$f":"IF(AND(E22>2,E24=BH3,E21<>BH5),G46+(BH25/2),)","v":{"$error":"#DIV/0!"}},{"$f":"IF(AND(E22>2,E24=BH3,E21<>BH5),P46-D44,)","v":{"$error":"#DIV/0!"}},{"$f":"IF(AND($E$24=BH3,$E$22=4),G48+($BB$27/3)-$A$60)","v":{"$error":"#DIV/0!"}},{"$f":"IF(AND($E$24=BH3,$E$22=4),H48)","v":{"$error":"#DIV/0!"}},{"$f":"IF(AND($E$24=BH3,$E$22=4,$E$21=$BH$6),I48+($BB$27/3)-$A$44)","v":{"$error":"#DIV/0!"}},{"$f":"IF(AND($E$24=BH3,$E$22=4,$E$21=$BH$6),J48)","v":{"$error":"#DIV/0!"}},0,0,null,{"$f":"R44","v":0},{"$f":"IF(I24=BW3,AG49-(BU25/2),)","v":0},{"$f":"IF(AND(I22<>BT3,I24=BW3),T46+(BV25/2),)","v":{"$error":"#DIV/0!"}},{"$f":"U44","v":{"$error":"#DIV/0!"}},{"$f":"IF(AND(I22<>BT3,I24=BW3,I21<>BW5),T46+(BV25/2),)","v":{"$error":"#DIV/0!"}},{"$f":"IF(AND(I22<>BT3,I24=BW3,I21<>BW5),AG46-U44,)","v":{"$error":"#DIV/0!"}},{"$f":"IF(AND(I22>2,I24=BW3),X46+(BW25/2),)","v":{"$error":"#DIV/0!"}},{"$f":"Y44","v":{"$error":"#DIV/0!"}},{"$f":"IF(AND(I22>2,I24=BW3,I21<>BW5),X46+(BW25/2),)","v":{"$error":"#DIV/0!"}},{"$f":"IF(AND(I22>2,I24=BW3,I21<>BW5),AG46-U44,)","v":{"$error":"#DIV/0!"}},{"$f":"IF(AND($I$24=BH3,$I$22=4),X48+($BB$27/3)-$R$60)","v":{"$error":"#DIV/0!"}},{"$f":"IF(AND($I$24=BH3,$I$22=4),Y48)","v":{"$error":"#DIV/0!"}},{"$f":"IF(AND($I$24=BH3,$I$22=4,$I$21=$BH$6),Z48+($BB$27/3)-$R$44)","v":{"$error":"#DIV/0!"}},{"$f":"IF(AND($I$24=BH3,$I$22=4,$I$21=$BH$6),AA48)","v":{"$error":"#DIV/0!"}},0,0,null,{"$f":"AI44","v":{"$error":"#DIV/0!"}},{"$f":"IF(L24=CL3,AX49-(CJ25/2),)","v":{"$error":"#DIV/0!"}},{"$f":"IF(AND(L22<>CI3,L24=CL3),AK46+(CK25/2),)","v":{"$error":"#DIV/0!"}},{"$f":"AL44","v":{"$error":"#DIV/0!"}},{"$f":"IF(AND(L22<>CI3,L24=CL3,L21<>CL5),AK46+(CK25/2),)","v":{"$error":"#DIV/0!"}},{"$f":"IF(AND(L22<>CI3,L24=CL3,L21<>CL5),AX46-AL44,)","v":{"$error":"#DIV/0!"}},{"$f":"IF(AND(L22>2,L24=CL3),AO46+(CL25/2),)","v":{"$error":"#DIV/0!"}},{"$f":"AP44","v":{"$error":"#DIV/0!"}},{"$f":"IF(AND(L22>2,L24=CL3,L21<>CL5),AO46+(CL25/2),)","v":{"$error":"#DIV/0!"}},{"$f":"IF(AND(L22>2,L24=CL3,L21<>CL5),AX46-AL44,)","v":{"$error":"#DIV/0!"}},{"$f":"IF(AND($L$24=BH3,$L$22=4),AO48+($BB$27/3)-$AI$60)","v":{"$error":"#DIV/0!"}},{"$f":"IF(AND($L$24=BH3,$L$22=4),AP48)","v":{"$error":"#DIV/0!"}},{"$f":"IF(AND($L$24=BH3,$L$22=4,$L$21=$BH$6),AQ48+($BB$27/3)-$AI$44)","v":{"$error":"#DIV/0!"}},{"$f":"IF(AND($L$24=BH3,$L$22=4,$L$21=$BH$6),AR48)","v":{"$error":"#DIV/0!"}},0,0]
[{"$f":"IF(E24=BH3,A50-(BF24/4),)","v":0},{"$f":"IF(E24=BH3,B48+((B52-B48)/1.8),)","v":0},{"$f":"IF(AND(E22<>BE3,E24=BH3),C48-((C48-C52)/1.8),)","v":{"$error":"#DIV/0!"}},{"$f":"IF(AND(E22<>BE3,E24=BH3),D50-(BG24/4),)","v":{"$error":"#DIV/0!"}},{"$f":"IF(AND(E24=BH3,E21<>BH5),C48-((C48-C52)/1.8),)","v":0},{"$f":"IF(AND(E22<>BE3,E24=BH3,E21<>BH5),F50+(BG24/4),)","v":{"$error":"#DIV/0!"}},{"$f":"IF(AND(E22>2,E24=BH3),G48-((G48-G52)/1.8),)","v":{"$error":"#DIV/0!"}},{"$f":"IF(AND(E22>2,E24=BH3),H50-(BG24/4),)","v":{"$error":"#DIV/0!"}},{"$f":"IF(AND(E24=BH3,E21<>BH5),G48-((G48-G52)/1.8),)","v":0},{"$f":"IF(AND(E22>2,E24=BH3,E21<>BH5),J50+(BG24/4),)","v":{"$error":"#DIV/0!"}},{"$f":"IF(AND($E$24=BH3,$E$22=4),G49+($BB$27/3)-$A$60)","v":{"$error":"#DIV/0!"}},{"$f":"IF(AND($E$24=BH3,$E$22=4),H49)","v":{"$error":"#DIV/0!"}},{"$f":"IF(AND($E$24=BH3,$E$22=4,$E$21=$BH$6),I49+($BB$27/3)-$A$44)","v":{"$error":"#DIV/0!"}},{"$f":"IF(AND($E$24=BH3,$E$22=4,$E$21=$BH$6),J49)","v":{"$error":"#DIV/0!"}},{"$f":"BB25-BB27","v":{"$error":"#DIV/0!"}},{"$f":"BB26/2","v":{"$error":"#DIV/0!"}},null,{"$f":"IF(I24=BW3,R50-(BU24/4),)","v":0},{"$f":"IF(I24=BW3,S48+((S52-S48)/1.8),)","v":0},{"$f":"IF(AND(I22<>BT3,I24=BW3),T48-((T48-T52)/1.8),)","v":{"$error":"#DIV/0!"}},{"$f":"IF(AND(I22<>BT3,I24=BW3),U50-(BV24/4),)","v":{"$error":"#DIV/0!"}},{"$f":"IF(AND(I24=BW3,I21<>BW5),T48-((T48-T52)/1.8),)","v":0},{"$f":"IF(AND(I22<>BT3,I24=BW3,I21<>BW5),W50+(BV24/4),)","v":{"$error":"#DIV/0!"}},{"$f":"IF(AND(I22>2,I24=BW3),X48-((X48-X52)/1.8),)","v":{"$error":"#DIV/0!"}},{"$f":"IF(AND(I22>2,I24=BW3),Y50-(BV24/4),)","v":{"$error":"#DIV/0!"}},{"$f":"IF(AND(I24=BW3,I21<>BW5),X48-((X48-X52)/1.8),)","v":0},{"$f":"IF(AND(I22>2,I24=BW3,I21<>BW5),AA50+(BV24/4),)","v":{"$error":"#DIV/0!"}},{"$f":"IF(AND($I$24=BH3,$I$22=4),X49+($BB$27/3)-$R$60)","v":{"$error":"#DIV/0!"}},{"$f":"IF(AND($I$24=BH3,$I$22=4),Y49)","v":{"$error":"#DIV/0!"}},{"$f":"IF(AND($I$24=BH3,$I$22=4,$I$21=$BH$6),Z49+($BB$27/3)-$R$44)","v":{"$error":"#DIV/0!"}},{"$f":"IF(AND($I$24=BH3,$I$22=4,$I$21=$BH$6),AA49)","v":{"$error":"#DIV/0!"}},{"$f":"BQ25-BQ27","v":{"$error":"#DIV/0!"}},{"$f":"BQ26/2","v":{"$error":"#DIV/0!"}},null,{"$f":"IF(L24=CL3,AI50-(CJ24/4),)","v":{"$error":"#DIV/0!"}},{"$f":"IF(L24=CL3,AJ48+((AJ52-AJ48)/1.8),)","v":{"$error":"#DIV/0!"}},{"$f":"IF(AND(L22<>CI3,L24=CL3),AK48-((AK48-AK52)/1.8),)","v":{"$error":"#DIV/0!"}},{"$f":"IF(AND(L22<>CI3,L24=CL3),AL50-(CK24/4),)","v":{"$error":"#DIV/0!"}},{"$f":"IF(AND(L24=CL3,L21<>CL5),AK48-((AK48-AK52)/1.8),)","v":{"$error":"#DIV/0!"}},{"$f":"IF(AND(L22<>CI3,L24=CL3,L21<>CL5),AN50+(CK24/4),)","v":{"$error":"#DIV/0!"}},{"$f":"IF(AND(L22>2,L24=CL3),AO48-((AO48-AO52)/1.8),)","v":{"$error":"#DIV/0!"}},{"$f":"IF(AND(L22>2,L24=CL3),AP50-(CK24/4),)","v":{"$error":"#DIV/0!"}},{"$f":"IF(AND(L24=CL3,L21<>CL5),AO48-((AO48-AO52)/1.8),)","v":{"$error":"#DIV/0!"}},{"$f":"IF(AND(L22>2,L24=CL3,L21<>CL5),AR50+(CK24/4),)","v":{"$error":"#DIV/0!"}},{"$f":"IF(AND($L$24=BH3,$L$22=4),AO49+($BB$27/3)-$AI$60)","v":{"$error":"#DIV/0!"}},{"$f":"IF(AND($L$24=BH3,$L$22=4),AP49)","v":{"$error":"#DIV/0!"}},{"$f":"IF(AND($L$24=BH3,$L$22=4,$L$21=$BH$6),AQ49+($BB$27/3)-$AI$44)","v":{"$error":"#DIV/0!"}},{"$f":"IF(AND($L$24=BH3,$L$22=4,$L$21=$BH$6),AR49)","v":{"$error":"#DIV/0!"}},{"$f":"CF25-CF27","v":{"$error":"#DIV/0!"}},{"$f":"CF26/2","v":{"$error":"#DIV/0!"}}]
[{"$f":"IF(E24=BH3,A51-(BF24/4),)","v":0},{"$f":"IF(E24=BH3,B48+((B52-B48)*0.85),)","v":0},{"$f":"IF(AND(E22<>BE3,E24=BH3),C48-((C48-C52)*0.85),)","v":{"$error":"#DIV/0!"}},{"$f":"IF(AND(E22<>BE3,E24=BH3),(BB26/2)-(BB26/4),)","v":{"$error":"#DIV/0!"}},{"$f":"IF(AND(E24=BH3,E21<>BH5),C48-((C48-C52)*0.85),)","v":0},{"$f":"IF(AND(E22<>BE3,E24=BH3,E21<>BH5),P46-(BB26/4),)","v":{"$error":"#DIV/0!"}},{"$f":"IF(AND(E22>2,E24=BH3),G48-((G48-G52)*0.85),)","v":{"$error":"#DIV/0!"}},{"$f":"IF(AND(E22>2,E24=BH3),(BB26/2)-(BB26/4),)","v":{"$error":"#DIV/0!"}},{"$f":"IF(AND(E24=BH3,E21<>BH5),G48-((G48-G52)*0.85),)","v":0},{"$f":"IF(AND(E22>2,E24=BH3,E21<>BH5),P46-(BB26/4),)","v":{"$error":"#DIV/0!"}},{"$f":"IF(AND($E$24=BH3,$E$22=4),G50+($BB$27/3)-$A$60)","v":{"$error":"#DIV/0!"}},{"$f":"IF(AND($E$24=BH3,$E$22=4),H50)","v":{"$error":"#DIV/0!"}},{"$f":"IF(AND($E$24=BH3,$E$22=4,$E$21=$BH$6),I50+($BB$27/3)-$A$44)","v":{"$error":"#DIV/0!"}},{"$f":"IF(AND($E$24=BH3,$E$22=4,$E$21=$BH$6),J50)","v":{"$error":"#DIV/0!"}},{"$f":"O46","v":{"$error":"#DIV/0!"}},{"$f":"P49","v":{"$error":"#DIV/0!"}},null,{"$f":"IF(I24=BW3,R51-(BU24/4),)","v":0},{"$f":"IF(I24=BW3,S48+((S52-S48)*0.85),)","v":0},{"$f":"IF(AND(I22<>BT3,I24=BW3),T48-((T48-T52)*0.85),)","v":{"$error":"#DIV/0!"}},{"$f":"IF(AND(I22<>BT3,I24=BW3),(BQ26/2)-(BQ26/4),)","v":{"$error":"#DIV/0!"}},{"$f":"IF(AND(I24=BW3,I21<>BW5),T48-((T48-T52)*0.85),)","v":0},{"$f":"IF(AND(I22<>BT3,I24=BW3,I21<>BW5),AG46-(BQ26/4),)","v":{"$error":"#DIV/0!"}},{"$f":"IF(AND(I22>2,I24=BW3),X48-((X48-X52)*0.85),)","v":{"$error":"#DIV/0!"}},{"$f":"IF(AND(I22>2,I24=BW3),(BQ26/2)-(BQ26/4),)","v":{"$error":"#DIV/0!"}},{"$f":"IF(AND(I24=BW3,I21<>BW5),X48-((X48-X52)*0.85),)","v":0},{"$f":"IF(AND(I22>2,I24=BW3,I21<>BW5),AG46-(BQ26/4),)","v":{"$error":"#DIV/0!"}},{"$f":"IF(AND($I$24=BH3,$I$22=4),X50+($BB$27/3)-$R$60)","v":{"$error":"#DIV/0!"}},{"$f":"IF(AND($I$24=BH3,$I$22=4),Y50)","v":{"$error":"#DIV/0!"}},{"$f":"IF(AND($I$24=BH3,$I$22=4,$I$21=$BH$6),Z50+($BB$27/3)-$R$44)","v":{"$error":"#DIV/0!"}},{"$f":"IF(AND($I$24=BH3,$I$22=4,$I$21=$BH$6),AA50)","v":{"$error":"#DIV/0!"}},{"$f":"AF46","v":{"$error":"#DIV/0!"}},{"$f":"AG49","v":{"$error":"#DIV/0!"}},null,{"$f":"IF(L24=CL3,AI51-(CJ24/4),)","v":{"$error":"#DIV/0!"}},{"$f":"IF(L24=CL3,AJ48+((AJ52-AJ48)*0.85),)","v":{"$error":"#DIV/0!"}},{"$f":"IF(AND(L22<>CI3,L24=CL3),AK48-((AK48-AK52)*0.85),)","v":{"$error":"#DIV/0!"}},{"$f":"IF(AND(L22<>CI3,L24=CL3),(CF26/2)-(CF26/4),)","v":{"$error":"#DIV/0!"}},{"$f":"IF(AND(L24=CL3,L21<>CL5),AK48-((AK48-AK52)*0.85),)","v":{"$error":"#DIV/0!"}},{"$f":"IF(AND(L22<>CI3,L24=CL3,L21<>CL5),AX46-(CF26/4),)","v":{"$error":"#DIV/0!"}},{"$f":"IF(AND(L22>2,L24=CL3),AO48-((AO48-AO52)*0.85),)","v":{"$error":"#DIV/0!"}},{"$f":"IF(AND(L22>2,L24=CL3),(CF26/2)-(CF26/4),)","v":{"$error":"#DIV/0!"}},{"$f":"IF(AND(L24=CL3,L21<>CL5),AO48-((AO48-AO52)*0.85),)","v":{"$error":"#DIV/0!"}},{"$f":"IF(AND(L22>2,L24=CL3,L21<>CL5),AX46-(CF26/4),)","v":{"$error":"#DIV/0!"}},{"$f":"IF(AND($L$24=BH3,$L$22=4),AO50+($BB$27/3)-$AI$60)","v":{"$error":"#DIV/0!"}},{"$f":"IF(AND($L$24=BH3,$L$22=4),AP50)","v":{"$error":"#DIV/0!"}},{"$f":"IF(AND($L$24=BH3,$L$22=4,$L$21=$BH$6),AQ50+($BB$27/3)-$AI$44)","v":{"$error":"#DIV/0!"}},{"$f":"IF(AND($L$24=BH3,$L$22=4,$L$21=$BH$6),AR50)","v":{"$error":"#DIV/0!"}},{"$f":"AW46","v":{"$error":"#DIV/0!"}},{"$f":"AX49","v":{"$error":"#DIV/0!"}}]
[{"$f":"IF(E24=BH3,A52-(BF24/4),)","v":0},{"$f":"IF(E24=BH3,B52-((B52-B48)*0.05),)","v":0},{"$f":"IF(AND(E22<>BE3,E24=BH3),C52+((C48-C52)*0.05),)","v":{"$error":"#DIV/0!"}},{"$f":"IF(AND(E22<>BE3,E24=BH3),D50+(BG24/4),)","v":{"$error":"#DIV/0!"}},{"$f":"IF(AND(E24=BH3,E21<>BH5),C52+((C48-C52)*0.05),)","v":0},{"$f":"IF(AND(E22<>BE3,E24=BH3,E21<>BH5),F50-(BG24/4),)","v":{"$error":"#DIV/0!"}},{"$f":"IF(AND(E22>2,E24=BH3),G52+((G48-G52)*0.05),)","v":{"$error":"#DIV/0!"}},{"$f":"IF(AND(E22>2,E24=BH3),H50+(BG24/4),)","v":{"$error":"#DIV/0!"}},{"$f":"IF(AND(E24=BH3,E21<>BH5),G52+((G48-G52)*0.05),)","v":0},{"$f":"IF(AND(E22>2,E24=BH3,E21<>BH5),J50-(BG24/4),)","v":{"$error":"#DIV/0!"}},{"$f":"IF(AND($E$24=BH3,$E$22=4),G51+($BB$27/3)-$A$60)","v":{"$error":"#DIV/0!"}},{"$f":"IF(AND($E$24=BH3,$E$22=4),H51)","v":{"$error":"#DIV/0!"}},{"$f":"IF(AND($E$24=BH3,$E$22=4,$E$21=$BH$6),I51+($BB$27/3)-$A$44)","v":{"$error":"#DIV/0!"}},{"$f":"IF(AND($E$24=BH3,$E$22=4,$E$21=$BH$6),J51)","v":{"$error":"#DIV/0!"}},0,0,null,{"$f":"IF(I24=BW3,R52-(BU24/4),)","v":0},{"$f":"IF(I24=BW3,S52-((S52-S48)*0.05),)","v":0},{"$f":"IF(AND(I22<>BT3,I24=BW3),T52+((T48-T52)*0.05),)","v":{"$error":"#DIV/0!"}},{"$f":"IF(AND(I22<>BT3,I24=BW3),U50+(BV24/4),)","v":{"$error":"#DIV/0!"}},{"$f":"IF(AND(I24=BW3,I21<>BW5),T52+((T48-T52)*0.05),)","v":0},{"$f":"IF(AND(I22<>BT3,I24=BW3,I21<>BW5),W50-(BV24/4),)","v":{"$error":"#DIV/0!"}},{"$f":"IF(AND(I22>2,I24=BW3),X52+((X48-X52)*0.05),)","v":{"$error":"#DIV/0!"}},{"$f":"IF(AND(I22>2,I24=BW3),Y50+(BV24/4),)","v":{"$error":"#DIV/0!"}},{"$f":"IF(AND(I24=BW3,I21<>BW5),X52+((X48-X52)*0.05),)","v":0},{"$f":"IF(AND(I22>2,I24=BW3,I21<>BW5),AA50-(BV24/4),)","v":{"$error":"#DIV/0!"}},{"$f":"IF(AND($I$24=BH3,$I$22=4),X51+($BB$27/3)-$R$60)","v":{"$error":"#DIV/0!"}},{"$f":"IF(AND($I$24=BH3,$I$22=4),Y51)","v":{"$error":"#DIV/0!"}},{"$f":"IF(AND($I$24=BH3,$I$22=4,$I$21=$BH$6),Z51+($BB$27/3)-$R$44)","v":{"$error":"#DIV/0!"}},{"$f":"IF(AND($I$24=BH3,$I$22=4,$I$21=$BH$6),AA51)","v":{"$error":"#DIV/0!"}},0,0,null,{"$f":"IF(L24=CL3,AI52-(CJ24/4),)","v":{"$error":"#DIV/0!"}},{"$f":"IF(L24=CL3,AJ52-((AJ52-AJ48)*0.05),)","v":{"$error":"#DIV/0!"}},{"$f":"IF(AND(L22<>CI3,L24=CL3),AK52+((AK48-AK52)*0.05),)","v":{"$error":"#DIV/0!"}},{"$f":"IF(AND(L22<>CI3,L24=CL3),AL50+(CK24/4),)","v":{"$error":"#DIV/0!"}},{"$f":"IF(AND(L24=CL3,L21<>CL5),AK52+((AK48-AK52)*0.05),)","v":{"$error":"#DIV/0!"}},{"$f":"IF(AND(L22<>CI3,L24=CL3,L21<>CL5),AN50-(CK24/4),)","v":{"$error":"#DIV/0!"}},{"$f":"IF(AND(L22>2,L24=CL3),AO52+((AO48-AO52)*0.05),)","v":{"$error":"#DIV/0!"}},{"$f":"IF(AND(L22>2,L24=CL3),AP50+(CK24/4),)","v":{"$error":"#DIV/0!"}},{"$f":"IF(AND(L24=CL3,L21<>CL5),AO52+((AO48-AO52)*0.05),)","v":{"$error":"#DIV/0!"}},{"$f":"IF(AND(L22>2,L24=CL3,L21<>CL5),AR50-(CK24/4),)","v":{"$error":"#DIV/0!"}},{"$f":"IF(AND($L$24=BH3,$L$22=4),AO51+($BB$27/3)-$AI$60)","v":{"$error":"#DIV/0!"}},{"$f":"IF(AND($L$24=BH3,$L$22=4),AP51)","v":{"$error":"#DIV/0!"}},{"$f":"IF(AND($L$24=BH3,$L$22=4,$L$21=$BH$6),AQ51+($BB$27/3)-$AI$44)","v":{"$error":"#DIV/0!"}},{"$f":"IF(AND($L$24=BH3,$L$22=4,$L$21=$BH$6),AR51)","v":{"$error":"#DIV/0!"}},0,0]
[{"$f":"IF(E24=BH3,O49-BB30,)","v":0},{"$f":"IF(E24=BH3,P49,)","v":0},{"$f":"IF(AND(E22<>BE3,E24=BH3),O49,)","v":{"$error":"#DIV/0!"}},{"$f":"IF(AND(E22<>BE3,E24=BH3),P49-BB30,)","v":{"$error":"#DIV/0!"}},{"$f":"IF(AND(E22<>BE3,E24=BH3,E21<>BH5),O49,)","v":{"$error":"#DIV/0!"}},{"$f":"IF(AND(E22<>BE3,E24=BH3,E21<>BH5),P49+BB30,)","v":{"$error":"#DIV/0!"}},{"$f":"IF(AND(E22>2,E24=BH3),A44+O49+(BB27/(E22-1)),)","v":{"$error":"#DIV/0!"}},{"$f":"IF(AND(E22>2,E24=BH3),P49-BB30,)","v":{"$error":"#DIV/0!"}},{"$f":"IF(AND(E22>2,E24=BH3,E21<>BH5),G52,)","v":{"$error":"#DIV/0!"}},{"$f":"IF(AND(E22>2,E24=BH3,E21<>BH5),P49+BB30,)","v":{"$error":"#DIV/0!"}},{"$f":"IF(AND($E$24=BH3,$E$22=4),G52+($BB$27/3)-$A$60)","v":{"$error":"#DIV/0!"}},{"$f":"IF(AND($E$24=BH3,$E$22=4),H52)","v":{"$error":"#DIV/0!"}},{"$f":"IF(AND($E$24=BH3,$E$22=4,$E$21=$BH$6),I52+($BB$27/3)-$A$44)","v":{"$error":"#DIV/0!"}},{"$f":"IF(AND($E$24=BH3,$E$22=4,$E$21=$BH$6),J52)","v":{"$error":"#DIV/0!"}},{"$f":"BB25-BB27","v":{"$error":"#DIV/0!"}},{"$f":"P50","v":{"$error":"#DIV/0!"}},null,{"$f":"IF(I24=BW3,AF49-BQ30,)","v":0},{"$f":"IF(I24=BW3,AG49,)","v":0},{"$f":"IF(AND(I22<>BT3,I24=BW3),AF49,)","v":{"$error":"#DIV/0!"}},{"$f":"IF(AND(I22<>BT3,I24=BW3),AG49-BQ30,)","v":{"$error":"#DIV/0!"}},{"$f":"IF(AND(I22<>BT3,I24=BW3,I21<>BW5),AF49,)","v":{"$error":"#DIV/0!"}},{"$f":"IF(AND(I22<>BT3,I24=BW3,I21<>BW5),AG49+BQ30,)","v":{"$error":"#DIV/0!"}},{"$f":"IF(AND(I22>2,I24=BW3),R44+AF49+(BQ27/(I22-1)),)","v":{"$error":"#DIV/0!"}},{"$f":"IF(AND(I22>2,I24=BW3),AG49-BQ30,)","v":{"$error":"#DIV/0!"}},{"$f":"IF(AND(I22>2,I24=BW3,I21<>BW5),X52,)","v":{"$error":"#DIV/0!"}},{"$f":"IF(AND(I22>2,I24=BW3,I21<>BW5),AG49+BQ30,)","v":{"$error":"#DIV/0!"}},{"$f":"IF(AND($I$24=BH3,$I$22=4),X52+($BB$27/3)-$R$60)","v":{"$error":"#DIV/0!"}},{"$f":"IF(AND($I$24=BH3,$I$22=4),Y52)","v":{"$error":"#DIV/0!"}},{"$f":"IF(AND($I$24=BH3,$I$22=4,$I$21=$BH$6),Z52+($BB$27/3)-$R$44)","v":{"$error":"#DIV/0!"}},{"$f":"IF(AND($I$24=BH3,$I$22=4,$I$21=$BH$6),AA52)","v":{"$error":"#DIV/0!"}},{"$f":"BQ25-BQ27","v":{"$error":"#DIV/0!"}},{"$f":"AG50","v":{"$error":"#DIV/0!"}},null,{"$f":"IF(L24=CL3,AW49-CF30,)","v":{"$error":"#DIV/0!"}},{"$f":"IF(L24=CL3,AX49,)","v":{"$error":"#DIV/0!"}},{"$f":"IF(AND(L22<>CI3,L24=CL3),AW49,)","v":{"$error":"#DIV/0!"}},{"$f":"IF(AND(L22<>CI3,L24=CL3),AX49-CF30,)","v":{"$error":"#DIV/0!"}},{"$f":"IF(AND(L22<>CI3,L24=CL3,L21<>CL5),AW49,)","v":{"$error":"#DIV/0!"}},{"$f":"IF(AND(L22<>CI3,L24=CL3,L21<>CL5),AX49+CF30,)","v":{"$error":"#DIV/0!"}},{"$f":"IF(AND(L22>2,L24=CL3),AI44+AW49+(CF27/(L22-1)),)","v":{"$error":"#DIV/0!"}},{"$f":"IF(AND(L22>2,L24=CL3),AX49-CF30,)","v":{"$error":"#DIV/0!"}},{"$f":"IF(AND(L22>2,L24=CL3,L21<>CL5),AO52,)","v":{"$error":"#DIV/0!"}},{"$f":"IF(AND(L22>2,L24=CL3,L21<>CL5),AX49+CF30,)","v":{"$error":"#DIV/0!"}},{"$f":"IF(AND($L$24=BH3,$L$22=4),AO52+($BB$27/3)-$AI$60)","v":{"$error":"#DIV/0!"}},{"$f":"IF(AND($L$24=BH3,$L$22=4),AP52)","v":{"$error":"#DIV/0!"}},{"$f":"IF(AND($L$24=BH3,$L$22=4,$L$21=$BH$6),AQ52+($BB$27/3)-$AI$44)","v":{"$error":"#DIV/0!"}},{"$f":"IF(AND($L$24=BH3,$L$22=4,$L$21=$BH$6),AR52)","v":{"$error":"#DIV/0!"}},{"$f":"CF25-CF27","v":{"$error":"#DIV/0!"}},{"$f":"AX50","v":{"$error":"#DIV/0!"}}]
[{"$f":"A51","v":0},{"$f":"B52+((B52-B48)*0.05)","v":0},{"$f":"IF(AND(E22<>BE3,E24=BH3),C52-((C48-C52)*0.05),)","v":{"$error":"#DIV/0!"}},{"$f":"D51","v":{"$error":"#DIV/0!"}},{"$f":"IF(AND(E24=BH3,E21<>BH5),C52-((C48-C52)*0.05),)","v":0},{"$f":"F51","v":{"$error":"#DIV/0!"}},{"$f":"IF(AND(E22>2,E24=BH3),G52-((G48-G52)*0.05),)","v":{"$error":"#DIV/0!"}},{"$f":"H51","v":{"$error":"#DIV/0!"}},{"$f":"IF(AND(E24=BH3,E21<>BH5),G52-((G48-G52)*0.05),)","v":0},{"$f":"J51","v":{"$error":"#DIV/0!"}},{"$f":"IF(AND($E$24=BH3,$E$22=4),G53+($BB$27/3)-$A$60)","v":{"$error":"#DIV/0!"}},{"$f":"IF(AND($E$24=BH3,$E$22=4),H53)","v":{"$error":"#DIV/0!"}},{"$f":"IF(AND($E$24=BH3,$E$22=4,$E$21=$BH$6),I53+($BB$27/3)-$A$44)","v":{"$error":"#DIV/0!"}},{"$f":"IF(AND($E$24=BH3,$E$22=4,$E$21=$BH$6),J53)","v":{"$error":"#DIV/0!"}},0,{"$f":"P47","v":{"$error":"#DIV/0!"}},null,{"$f":"R51","v":0},{"$f":"S52+((S52-S48)*0.05)","v":0},{"$f":"IF(AND(I22<>BT3,I24=BW3),T52-((T48-T52)*0.05),)","v":{"$error":"#DIV/0!"}},{"$f":"U51","v":{"$error":"#DIV/0!"}},{"$f":"IF(AND(I24=BW3,I21<>BW5),T52-((T48-T52)*0.05),)","v":0},{"$f":"W51","v":{"$error":"#DIV/0!"}},{"$f":"IF(AND(I22>2,I24=BW3),X52-((X48-X52)*0.05),)","v":{"$error":"#DIV/0!"}},{"$f":"Y51","v":{"$error":"#DIV/0!"}},{"$f":"IF(AND(I24=BW3,I21<>BW5),X52-((X48-X52)*0.05),)","v":0},{"$f":"AA51","v":{"$error":"#DIV/0!"}},{"$f":"IF(AND($I$24=BH3,$I$22=4),X53+($BB$27/3)-$R$60)","v":{"$error":"#DIV/0!"}},{"$f":"IF(AND($I$24=BH3,$I$22=4),Y53)","v":{"$error":"#DIV/0!"}},{"$f":"IF(AND($I$24=BH3,$I$22=4,$I$21=$BH$6),Z53+($BB$27/3)-$R$44)","v":{"$error":"#DIV/0!"}},{"$f":"IF(AND($I$24=BH3,$I$22=4,$I$21=$BH$6),AA53)","v":{"$error":"#DIV/0!"}},0,{"$f":"AG47","v":{"$error":"#DIV/0!"}},null,{"$f":"AI51","v":{"$error":"#DIV/0!"}},{"$f":"AJ52+((AJ52-AJ48)*0.05)","v":{"$error":"#DIV/0!"}},{"$f":"IF(AND(L22<>CI3,L24=CL3),AK52-((AK48-AK52)*0.05),)","v":{"$error":"#DIV/0!"}},{"$f":"AL51","v":{"$error":"#DIV/0!"}},{"$f":"IF(AND(L24=CL3,L21<>CL5),AK52-((AK48-AK52)*0.05),)","v":{"$error":"#DIV/0!"}},{"$f":"AN51","v":{"$error":"#DIV/0!"}},{"$f":"IF(AND(L22>2,L24=CL3),AO52-((AO48-AO52)*0.05),)","v":{"$error":"#DIV/0!"}},{"$f":"AP51","v":{"$error":"#DIV/0!"}},{"$f":"IF(AND(L24=CL3,L21<>CL5),AO52-((AO48-AO52)*0.05),)","v":{"$error":"#DIV/0!"}},{"$f":"AR51","v":{"$error":"#DIV/0!"}},{"$f":"IF(AND($L$24=BH3,$L$22=4),AO53+($BB$27/3)-$AI$60)","v":{"$error":"#DIV/0!"}},{"$f":"IF(AND($L$24=BH3,$L$22=4),AP53)","v":{"$error":"#DIV/0!"}},{"$f":"IF(AND($L$24=BH3,$L$22=4,$L$21=$BH$6),AQ53+($BB$27/3)-$AI$44)","v":{"$error":"#DIV/0!"}},{"$f":"IF(AND($L$24=BH3,$L$22=4,$L$21=$BH$6),AR53)","v":{"$error":"#DIV/0!"}},0,{"$f":"AX47","v":{"$error":"#DIV/0!"}}]
[{"$f":"A50","v":0},{"$f":"B56-((B52-B48)*0.85)","v":0},{"$f":"IF(AND(E22<>BE3,E24=BH3),C56+((C52-C56)*0.85),)","v":{"$error":"#DIV/0!"}},{"$f":"D50","v":{"$error":"#DIV/0!"}},{"$f":"IF(AND(E24=BH3,E21<>BH5),C56+((C52-C56)*0.85),)","v":0},{"$f":"F50","v":{"$error":"#DIV/0!"}},{"$f":"IF(AND(E22>2,E24=BH3),G56+((G52-G56)*0.85),)","v":{"$error":"#DIV/0!"}},{"$f":"H50","v":{"$error":"#DIV/0!"}},{"$f":"IF(AND(E24=BH3,E21<>BH5),G56+((G52-G56)*0.85),)","v":0},{"$f":"J50","v":{"$error":"#DIV/0!"}},{"$f":"IF(AND($E$24=BH3,$E$22=4),G54+($BB$27/3)-$A$60)","v":{"$error":"#DIV/0!"}},{"$f":"IF(AND($E$24=BH3,$E$22=4),H54)","v":{"$error":"#DIV/0!"}},{"$f":"IF(AND($E$24=BH3,$E$22=4,$E$21=$BH$6),I54+($BB$27/3)-$A$44)","v":{"$error":"#DIV/0!"}},{"$f":"IF(AND($E$24=BH3,$E$22=4,$E$21=$BH$6),J54)","v":{"$error":"#DIV/0!"}},null,null,null,{"$f":"R50","v":0},{"$f":"S56-((S52-S48)*0.85)","v":0},{"$f":"IF(AND(I22<>BT3,I24=BW3),T56+((T52-T56)*0.85),)","v":{"$error":"#DIV/0!"}},{"$f":"U50","v":{"$error":"#DIV/0!"}},{"$f":"IF(AND(I24=BW3,I21<>BW5),T56+((T52-T56)*0.85),)","v":0},{"$f":"W50","v":{"$error":"#DIV/0!"}},{"$f":"IF(AND(I22>2,I24=BW3),X56+((X52-X56)*0.85),)","v":{"$error":"#DIV/0!"}},{"$f":"Y50","v":{"$error":"#DIV/0!"}},{"$f":"IF(AND(I24=BW3,I21<>BW5),X56+((X52-X56)*0.85),)","v":0},{"$f":"AA50","v":{"$error":"#DIV/0!"}},{"$f":"IF(AND($I$24=BH3,$I$22=4),X54+($BB$27/3)-$R$60)","v":{"$error":"#DIV/0!"}},{"$f":"IF(AND($I$24=BH3,$I$22=4),Y54)","v":{"$error":"#DIV/0!"}},{"$f":"IF(AND($I$24=BH3,$I$22=4,$I$21=$BH$6),Z54+($BB$27/3)-$R$44)","v":{"$error":"#DIV/0!"}},{"$f":"IF(AND($I$24=BH3,$I$22=4,$I$21=$BH$6),AA54)","v":{"$error":"#DIV/0!"}},null,null,null,{"$f":"AI50","v":{"$error":"#DIV/0!"}},{"$f":"AJ56-((AJ52-AJ48)*0.85)","v":{"$error":"#DIV/0!"}},{"$f":"IF(AND(L22<>CI3,L24=CL3),AK56+((AK52-AK56)*0.85),)","v":{"$error":"#DIV/0!"}},{"$f":"AL50","v":{"$error":"#DIV/0!"}},{"$f":"IF(AND(L24=CL3,L21<>CL5),AK56+((AK52-AK56)*0.85),)","v":{"$error":"#DIV/0!"}},{"$f":"AN50","v":{"$error":"#DIV/0!"}},{"$f":"IF(AND(L22>2,L24=CL3),AO56+((AO52-AO56)*0.85),)","v":{"$error":"#DIV/0!"}},{"$f":"AP50","v":{"$error":"#DIV/0!"}},{"$f":"IF(AND(L24=CL3,L21<>CL5),AO56+((AO52-AO56)*0.85),)","v":{"$error":"#DIV/0!"}},{"$f":"AR50","v":{"$error":"#DIV/0!"}},{"$f":"IF(AND($L$24=BH3,$L$22=4),AO54+($BB$27/3)-$AI$60)","v":{"$error":"#DIV/0!"}},{"$f":"IF(AND($L$24=BH3,$L$22=4),AP54)","v":{"$error":"#DIV/0!"}},{"$f":"IF(AND($L$24=BH3,$L$22=4,$L$21=$BH$6),AQ54+($BB$27/3)-$AI$44)","v":{"$error":"#DIV/0!"}},{"$f":"IF(AND($L$24=BH3,$L$22=4,$L$21=$BH$6),AR54)","v":{"$error":"#DIV/0!"}}]
[{"$f":"A49","v":0},{"$f":"B56-((B52-B48)/1.8)","v":0},{"$f":"C56+((C52-C56)/1.8)","v":{"$error":"#DIV/0!"}},{"$f":"D49","v":{"$error":"#DIV/0!"}},{"$f":"IF(AND(E24=BH3,E21<>BH5),C56+((C52-C56)/1.8),)","v":0},{"$f":"F49","v":{"$error":"#DIV/0!"}},{"$f":"G56+((G52-G56)/1.8)","v":{"$error":"#DIV/0!"}},{"$f":"H49","v":{"$error":"#DIV/0!"}},{"$f":"IF(AND(E24=BH3,E21<>BH5),G56+((G52-G56)/1.8),)","v":0},{"$f":"J49","v":{"$error":"#DIV/0!"}},{"$f":"IF(AND($E$24=BH3,$E$22=4),G55+($BB$27/3)-$A$60)","v":{"$error":"#DIV/0!"}},{"$f":"IF(AND($E$24=BH3,$E$22=4),H55)","v":{"$error":"#DIV/0!"}},{"$f":"IF(AND($E$24=BH3,$E$22=4,$E$21=$BH$6),I55+($BB$27/3)-$A$44)","v":{"$error":"#DIV/0!"}},{"$f":"IF(AND($E$24=BH3,$E$22=4,$E$21=$BH$6),J55)","v":{"$error":"#DIV/0!"}},null,null,null,{"$f":"R49","v":0},{"$f":"S56-((S52-S48)/1.8)","v":0},{"$f":"T56+((T52-T56)/1.8)","v":{"$error":"#DIV/0!"}},{"$f":"U49","v":{"$error":"#DIV/0!"}},{"$f":"IF(AND(I24=BW3,I21<>BW5),T56+((T52-T56)/1.8),)","v":0},{"$f":"W49","v":{"$error":"#DIV/0!"}},{"$f":"X56+((X52-X56)/1.8)","v":{"$error":"#DIV/0!"}},{"$f":"Y49","v":{"$error":"#DIV/0!"}},{"$f":"IF(AND(I24=BW3,I21<>BW5),X56+((X52-X56)/1.8),)","v":0},{"$f":"AA49","v":{"$error":"#DIV/0!"}},{"$f":"IF(AND($I$24=BH3,$I$22=4),X55+($BB$27/3)-$R$60)","v":{"$error":"#DIV/0!"}},{"$f":"IF(AND($I$24=BH3,$I$22=4),Y55)","v":{"$error":"#DIV/0!"}},{"$f":"IF(AND($I$24=BH3,$I$22=4,$I$21=$BH$6),Z55+($BB$27/3)-$R$44)","v":{"$error":"#DIV/0!"}},{"$f":"IF(AND($I$24=BH3,$I$22=4,$I$21=$BH$6),AA55)","v":{"$error":"#DIV/0!"}},null,null,null,{"$f":"AI49","v":{"$error":"#DIV/0!"}},{"$f":"AJ56-((AJ52-AJ48)/1.8)","v":{"$error":"#DIV/0!"}},{"$f":"AK56+((AK52-AK56)/1.8)","v":{"$error":"#DIV/0!"}},{"$f":"AL49","v":{"$error":"#DIV/0!"}},{"$f":"IF(AND(L24=CL3,L21<>CL5),AK56+((AK52-AK56)/1.8),)","v":{"$error":"#DIV/0!"}},{"$f":"AN49","v":{"$error":"#DIV/0!"}},{"$f":"AO56+((AO52-AO56)/1.8)","v":{"$error":"#DIV/0!"}},{"$f":"AP49","v":{"$error":"#DIV/0!"}},{"$f":"IF(AND(L24=CL3,L21<>CL5),AO56+((AO52-AO56)/1.8),)","v":{"$error":"#DIV/0!"}},{"$f":"AR49","v":{"$error":"#DIV/0!"}},{"$f":"IF(AND($L$24=BH3,$L$22=4),AO55+($BB$27/3)-$AI$60)","v":{"$error":"#DIV/0!"}},{"$f":"IF(AND($L$24=BH3,$L$22=4),AP55)","v":{"$error":"#DIV/0!"}},{"$f":"IF(AND($L$24=BH3,$L$22=4,$L$21=$BH$6),AQ55+($BB$27/3)-$AI$44)","v":{"$error":"#DIV/0!"}},{"$f":"IF(AND($L$24=BH3,$L$22=4,$L$21=$BH$6),AR55)","v":{"$error":"#DIV/0!"}}]
[{"$f":"A44","v":0},{"$f":"B44","v":0},{"$f":"C44","v":{"$error":"#DIV/0!"}},{"$f":"D44","v":{"$error":"#DIV/0!"}},{"$f":"IF(AND(E24=BH3,E21<>BH5),C44,)","v":0},{"$f":"F48","v":{"$error":"#DIV/0!"}},{"$f":"G44","v":{"$error":"#DIV/0!"}},{"$f":"H44","v":{"$error":"#DIV/0!"}},{"$f":"IF(AND(E24=BH3,E21<>BH5),G44,)","v":0},{"$f":"J48","v":{"$error":"#DIV/0!"}},{"$f":"IF(AND($E$24=BH3,$E$22=4),G56+($BB$27/3)-$A$60)","v":{"$error":"#DIV/0!"}},{"$f":"IF(AND($E$24=BH3,$E$22=4),H56)","v":{"$error":"#DIV/0!"}},{"$f":"IF(AND($E$24=BH3,$E$22=4,$E$21=$BH$6),I56+($BB$27/3)-$A$44)","v":{"$error":"#DIV/0!"}},{"$f":"IF(AND($E$24=BH3,$E$22=4,$E$21=$BH$6),J56)","v":{"$error":"#DIV/0!"}},null,null,null,{"$f":"R44","v":0},{"$f":"S44","v":0},{"$f":"T44","v":{"$error":"#DIV/0!"}},{"$f":"U44","v":{"$error":"#DIV/0!"}},{"$f":"IF(AND(I24=BW3,I21<>BW5),T44,)","v":0},{"$f":"W48","v":{"$error":"#DIV/0!"}},{"$f":"X44","v":{"$error":"#DIV/0!"}},{"$f":"Y44","v":{"$error":"#DIV/0!"}},{"$f":"IF(AND(I24=BW3,I21<>BW5),X44,)","v":0},{"$f":"AA48","v":{"$error":"#DIV/0!"}},{"$f":"IF(AND($I$24=BH3,$I$22=4),X56+($BB$27/3)-$R$60)","v":{"$error":"#DIV/0!"}},{"$f":"IF(AND($I$24=BH3,$I$22=4),Y56)","v":{"$error":"#DIV/0!"}},{"$f":"IF(AND($I$24=BH3,$I$22=4,$I$21=$BH$6),Z56+($BB$27/3)-$R$44)","v":{"$error":"#DIV/0!"}},{"$f":"IF(AND($I$24=BH3,$I$22=4,$I$21=$BH$6),AA56)","v":{"$error":"#DIV/0!"}},null,null,null,{"$f":"AI44","v":{"$error":"#DIV/0!"}},{"$f":"AJ44","v":{"$error":"#DIV/0!"}},{"$f":"AK44","v":{"$error":"#DIV/0!"}},{"$f":"AL44","v":{"$error":"#DIV/0!"}},{"$f":"IF(AND(L24=CL3,L21<>CL5),AK44,)","v":{"$error":"#DIV/0!"}},{"$f":"AN48","v":{"$error":"#DIV/0!"}},{"$f":"AO44","v":{"$error":"#DIV/0!"}},{"$f":"AP44","v":{"$error":"#DIV/0!"}},{"$f":"IF(AND(L24=CL3,L21<>CL5),AO44,)","v":{"$error":"#DIV/0!"}},{"$f":"AR48","v":{"$error":"#DIV/0!"}},{"$f":"IF(AND($L$24=BH3,$L$22=4),AO56+($BB$27/3)-$AI$60)","v":{"$error":"#DIV/0!"}},{"$f":"IF(AND($L$24=BH3,$L$22=4),AP56)","v":{"$error":"#DIV/0!"}},{"$f":"IF(AND($L$24=BH3,$L$22=4,$L$21=$BH$6),AQ56+($BB$27/3)-$AI$44)","v":{"$error":"#DIV/0!"}},{"$f":"IF(AND($L$24=BH3,$L$22=4,$L$21=$BH$6),AR56)","v":{"$error":"#DIV/0!"}}]
[]
["x","y","x","y","x","y","x","y","x","y","x","y","x","y","x","y",null,"x","y","x","y","x","y","x","y","x","y","x","y","x","y","x","y",null,"x","y","x","y","x","y","x","y","x","y","x","y","x","y","x","y"]
["down front",null,"down mid left",null,"down mid right",null,"down right",null,"up front",null,"up mid left",null,"up mid right",null,"up right",null,null,"down front",null,"down mid left",null,"down mid right",null,"down right",null,"up front",null,"up mid left",null,"up mid right",null,"up right",null,null,"down front",null,"down mid left",null,"down mid right",null,"down right",null,"up front",null,"up mid left",null,"up mid right",null,"up right"]
[{"$f":"BB30","v":{"$error":"#DIV/0!"}},{"$f":"BB30","v":{"$error":"#DIV/0!"}},{"$f":"IF(OR(E22=BE4,E22=BE5,E22=BE6),O52+BB30-BB14,)","v":{"$error":"#DIV/0!"}},{"$f":"IF(OR(E22=BE4,E22=BE5,E22=BE6),BB30,)","v":{"$error":"#DIV/0!"}},{"$f":"IF($E$22=$BE$6,(C60+$BB$30)+($BB$27/3),0)","v":{"$error":"#DIV/0!"}},{"$f":"D60","v":{"$error":"#DIV/0!"}},{"$f":"IF(E22=BE5,G64-(BB27/2)-BB18,IF(E22=BE6,BG29-BB18,))","v":{"$error":"#DIV/0!"}},{"$f":"H64","v":{"$error":"#DIV/0!"}},{"$f":"IF(E21=BH5,0,BB30)","v":{"$error":"#DIV/0!"}},{"$f":"IF(E21=BH5,0,P46-BE24-BB30)","v":{"$error":"#DIV/0!"}},{"$f":"IF(AND(E21=BH6,OR(E22=BE4,E22=BE5,E22=BE6)),C72,)","v":{"$error":"#DIV/0!"}},{"$f":"IF(AND(E21=BH6,OR(E22=BE4,E22=BE5,E22=BE6)),J64,)","v":{"$error":"#DIV/0!"}},{"$f":"IF(AND($E$22=$BE$6,$E$21=$BH$6),(K60+$BB$30)+($BB$27/3),0)","v":{"$error":"#DIV/0!"}},{"$f":"IF(AND($E$22=$BE$6,$E$21=$BH$6),L60,0)","v":{"$error":"#DIV/0!"}},{"$f":"IF(AND(E21=BH6,OR(OR(E22=BE5,E22=BE6),E22=BE6)),G72,)","v":{"$error":"#DIV/0!"}},{"$f":"IF(AND(E21=BH6,OR(E22=BE5,E22=BE6)),(BB26/2)+BB30,)","v":{"$error":"#DIV/0!"}},null,{"$f":"BQ30","v":{"$error":"#DIV/0!"}},{"$f":"BQ30","v":{"$error":"#DIV/0!"}},{"$f":"IF(OR(I22=BT4,I22=BT5,I22=BT6),AF52+BQ30-BQ14,)","v":{"$error":"#DIV/0!"}},{"$f":"IF(OR(I22=BT4,I22=BT5,I22=BT6),BQ30,)","v":{"$error":"#DIV/0!"}},{"$f":"IF($I$22=$BE$6,(T60+$BB$30)+($BB$27/3),0)","v":{"$error":"#DIV/0!"}},{"$f":"U60","v":{"$error":"#DIV/0!"}},{"$f":"IF(I22=BT5,X64-(BQ27/2)-BQ18,IF(I22=BT6,BV29-BQ18,))","v":{"$error":"#DIV/0!"}},{"$f":"Y64","v":{"$error":"#DIV/0!"}},{"$f":"IF(I21=BW5,0,BQ30)","v":{"$error":"#DIV/0!"}},{"$f":"IF(I21=BW5,0,AG46-BT24-BQ30)","v":{"$error":"#DIV/0!"}},{"$f":"IF(AND(I21=BW6,OR(I22=BT4,I22=BT5,I22=BT6)),T72,)","v":{"$error":"#DIV/0!"}},{"$f":"IF(AND(I21=BW6,OR(I22=BT4,I22=BT5,I22=BT6)),AA64,)","v":{"$error":"#DIV/0!"}},{"$f":"IF(AND($I$22=$BE$6,$I$21=$BH$6),(AB60+$BB$30)+($BB$27/3),0)","v":{"$error":"#DIV/0!"}},{"$f":"IF(AND($I$22=$BE$6,$I$21=$BH$6),AC60,0)","v":{"$error":"#DIV/0!"}},{"$f":"IF(AND(I21=BW6,OR(OR(I22=BT5,I22=BT6),I22=BT6)),X72,)","v":{"$error":"#DIV/0!"}},{"$f":"IF(AND(I21=BW6,OR(I22=BT5,I22=BT6)),(BQ26/2)+BQ30,)","v":{"$error":"#DIV/0!"}},null,{"$f":"CF30","v":{"$error":"#DIV/0!"}},{"$f":"CF30","v":{"$error":"#DIV/0!"}},{"$f":"IF(OR(L22=CI4,L22=CI5,L22=CI6),AW52+CF30-CF14,)","v":{"$error":"#DIV/0!"}},{"$f":"IF(OR(L22=CI4,L22=CI5,L22=CI6),CF30,)","v":{"$error":"#DIV/0!"}},{"$f":"IF($L$22=$BE$6,(AK60+$BB$30)+($BB$27/3),0)","v":{"$error":"#DIV/0!"}},{"$f":"AL60","v":{"$error":"#DIV/0!"}},{"$f":"IF(L22=CI5,AO64-(CF27/2)-CF18,IF(L22=CI6,CK29-CF18,))","v":{"$error":"#DIV/0!"}},{"$f":"AP64","v":{"$error":"#DIV/0!"}},{"$f":"IF(L21=CL5,0,CF30)","v":{"$error":"#DIV/0!"}},{"$f":"IF(L21=CL5,0,AX46-CI24-CF30)","v":{"$error":"#DIV/0!"}},{"$f":"IF(AND(L21=CL6,OR(L22=CI4,L22=CI5,L22=CI6)),AK72,)","v":{"$error":"#DIV/0!"}},{"$f":"IF(AND(L21=CL6,OR(L22=CI4,L22=CI5,L22=CI6)),AR64,)","v":{"$error":"#DIV/0!"}},{"$f":"IF(AND($L$22=$BE$6,$L$21=$BH$6),(AS60+$BB$30)+($BB$27/3),0)","v":{"$error":"#DIV/0!"}},{"$f":"IF(AND($L$22=$BE$6,$L$21=$BH$6),AT60,0)","v":{"$error":"#DIV/0!"}},{"$f":"IF(AND(L21=CL6,OR(OR(L22=CI5,L22=CI6),L22=CI6)),AO72,)","v":{"$error":"#DIV/0!"}},{"$f":"IF(AND(L21=CL6,OR(L22=CI5,L22=CI6)),(CF26/2)+CF30,)","v":{"$error":"#DIV/0!"}}]
[{"$f":"IF(E22=BE2,A60+(BE25/4),A60+(BE25/4))","v":{"$error":"#DIV/0!"}},{"$f":"B62*0.75","v":{"$error":"#DIV/0!"}},{"$f":"IF(OR(E22=BE4,E22=BE5,E22=BE6),C60+((C64-C60)/4),)","v":{"$error":"#DIV/0!"}},{"$f":"IF(OR(E22=BE4,E22=BE5,E22=BE6),BE20,)","v":{"$error":"#DIV/0!"}},{"$f":"IF($E$22=$BE$6,(C61-$BB$30)+($BB$27/3),0)","v":{"$error":"#DIV/0!"}},{"$f":"D61","v":{"$error":"#DIV/0!"}},{"$f":"IF(OR(E22=BE5,E22=BE6),G62-((G64-G60)/4),)","v":{"$error":"#DIV/0!"}},{"$f":"IF(OR(E22=BE5,E22=BE6),BH18,)","v":{"$error":"#DIV/0!"}},{"$f":"IF(E21=BH5,0,A71)","v":{"$error":"#DIV/0!"}},{"$f":"IF(E21=BH5,0,J60+BE15+(BB10/4))","v":{"$error":"#DIV/0!"}},{"$f":"IF(AND(E21=BH6,OR(E22=BE4,E22=BE5,E22=BE6)),C71,)","v":{"$error":"#DIV/0!"}},{"$f":"IF(AND(E21=BH6,OR(E22=BE4,E22=BE5,E22=BE6)),P49+BE19,)","v":{"$error":"#DIV/0!"}},{"$f":"IF(AND($E$22=$BE$6,$E$21=$BH$6),(K61-$BB$30)+($BB$27/3),0)","v":{"$error":"#DIV/0!"}},{"$error":"#DIV/0!"},{"$f":"IF(AND(E21=BH6,OR(OR(E22=BE5,E22=BE6),E22=BE6)),G71,)","v":{"$error":"#DIV/0!"}},{"$f":"IF(AND(E21=BH6,OR(E22=BE5,E22=BE6)),BH17+(BB26/2),)","v":{"$error":"#DIV/0!"}},null,{"$f":"IF(I22=BT2,R60+(BT25/4),R60+(BT25/4))","v":{"$error":"#DIV/0!"}},{"$f":"S62*0.75","v":{"$error":"#DIV/0!"}},{"$f":"IF(OR(I22=BT4,I22=BT5,I22=BT6),T60+((T64-T60)/4),)","v":{"$error":"#DIV/0!"}},{"$f":"IF(OR(I22=BT4,I22=BT5,I22=BT6),BT20,)","v":{"$error":"#DIV/0!"}},{"$f":"IF($I$22=$BE$6,(T61-$BB$30)+($BB$27/3),0)","v":{"$error":"#DIV/0!"}},{"$f":"U61","v":{"$error":"#DIV/0!"}},{"$f":"IF(OR(I22=BT5,I22=BT6),X62-((X64-X60)/4),)","v":{"$error":"#DIV/0!"}},{"$f":"IF(OR(I22=BT5,I22=BT6),BW18,)","v":{"$error":"#DIV/0!"}},{"$f":"IF(I21=BW5,0,R71)","v":{"$error":"#DIV/0!"}},{"$f":"IF(I21=BW5,0,AA60+BT15+(BQ10/4))","v":{"$error":"#DIV/0!"}},{"$f":"IF(AND(I21=BW6,OR(I22=BT4,I22=BT5,I22=BT6)),T71,)","v":{"$error":"#DIV/0!"}},{"$f":"IF(AND(I21=BW6,OR(I22=BT4,I22=BT5,I22=BT6)),AG49+BT19,)","v":{"$error":"#DIV/0!"}},{"$f":"IF(AND($I$22=$BE$6,$I$21=$BH$6),(AB61-$BB$30)+($BB$27/3),0)","v":{"$error":"#DIV/0!"}},{"$error":"#DIV/0!"},{"$f":"IF(AND(I21=BW6,OR(OR(I22=BT5,I22=BT6),I22=BT6)),X71,)","v":{"$error":"#DIV/0!"}},{"$f":"IF(AND(I21=BW6,OR(I22=BT5,I22=BT6)),BW17+(BQ26/2),)","v":{"$error":"#DIV/0!"}},null,{"$f":"IF(L22=CI2,AI60+(CI25/4),AI60+(CI25/4))","v":{"$error":"#DIV/0!"}},{"$f":"AJ62*0.75","v":{"$error":"#DIV/0!"}},{"$f":"IF(OR(L22=CI4,L22=CI5,L22=CI6),AK60+((AK64-AK60)/4),)","v":{"$error":"#DIV/0!"}},{"$f":"IF(OR(L22=CI4,L22=CI5,L22=CI6),CI20,)","v":{"$error":"#DIV/0!"}},{"$f":"IF($L$22=$BE$6,(AK61-$BB$30)+($BB$27/3),0)","v":{"$error":"#DIV/0!"}},{"$f":"AL61","v":{"$error":"#DIV/0!"}},{"$f":"IF(OR(L22=CI5,L22=CI6),AO62-((AO64-AO60)/4),)","v":{"$error":"#DIV/0!"}},{"$f":"IF(OR(L22=CI5,L22=CI6),CL18,)","v":{"$error":"#DIV/0!"}},{"$f":"IF(L21=CL5,0,AI71)","v":{"$error":"#DIV/0!"}},{"$f":"IF(L21=CL5,0,AR60+CI15+(CF10/4))","v":{"$error":"#DIV/0!"}},{"$f":"IF(AND(L21=CL6,OR(L22=CI4,L22=CI5,L22=CI6)),AK71,)","v":{"$error":"#DIV/0!"}},{"$f":"IF(AND(L21=CL6,OR(L22=CI4,L22=CI5,L22=CI6)),AX49+CI19,)","v":{"$error":"#DIV/0!"}},{"$f":"IF(AND($L$22=$BE$6,$L$21=$BH$6),(AS61-$BB$30)+($BB$27/3),0)","v":{"$error":"#DIV/0!"}},{"$error":"#DIV/0!"},{"$f":"IF(AND(L21=CL6,OR(OR(L22=CI5,L22=CI6),L22=CI6)),AO71,)","v":{"$error":"#DIV/0!"}},{"$f":"IF(AND(L21=CL6,OR(L22=CI5,L22=CI6)),CL17+(CF26/2),)","v":{"$error":"#DIV/0!"}}]
[{"$f":"IF(E22=BE2,A60+(BE25/2),A60+(BE25/2))","v":{"$error":"#DIV/0!"}},{"$f":"BD16","v":{"$error":"#DIV/0!"}},{"$f":"IF(E22=BE4,C64-(C64-C60)/2,IF(OR(E22=BE5,E22=BE6),C64-(C64-C60)/2,))","v":{"$error":"#DIV/0!"}},{"$f":"IF(OR(E22=BE4,E22=BE5,E22=BE6),BD20,)","v":{"$error":"#DIV/0!"}},{"$error":"#DIV/0!"},{"$error":"#DIV/0!"},{"$f":"IF(OR(E22=BE5,E22=BE6),G64-((G64-G60)/2),)","v":{"$error":"#DIV/0!"}},{"$f":"IF(OR(E22=BE5,E22=BE6),BG18,)","v":{"$error":"#DIV/0!"}},{"$f":"IF(E21=BH5,0,A70)","v":{"$error":"#DIV/0!"}},{"$f":"IF(E21=BH5,0,J60+BD15+(BB10/2))","v":{"$error":"#DIV/0!"}},{"$f":"IF(AND(E21=BH6,OR(E22=BE4,E22=BE5,E22=BE6)),C70,)","v":{"$error":"#DIV/0!"}},{"$f":"IF(AND(E21=BH6,OR(E22=BE4,E22=BE5,E22=BE6)),P50+BD19,)","v":{"$error":"#DIV/0!"}},{"$error":"#DIV/0!"},{"$error":"#DIV/0!"},{"$f":"IF(AND(E21=BH6,OR(OR(E22=BE5,E22=BE6),E22=BE6)),G70,)","v":{"$error":"#DIV/0!"}},{"$f":"IF(AND(E21=BH6,OR(E22=BE5,E22=BE6)),BG17+(BB26/2),)","v":{"$error":"#DIV/0!"}},null,{"$f":"IF(I22=BT2,R60+(BT25/2),R60+(BT25/2))","v":{"$error":"#DIV/0!"}},{"$f":"BS16","v":{"$error":"#DIV/0!"}},{"$f":"IF(I22=BT4,T64-(T64-T60)/2,IF(OR(I22=BT5,I22=BT6),T64-(T64-T60)/2,))","v":{"$error":"#DIV/0!"}},{"$f":"IF(OR(I22=BT4,I22=BT5,I22=BT6),BS20,)","v":{"$error":"#DIV/0!"}},{"$error":"#DIV/0!"},{"$error":"#DIV/0!"},{"$f":"IF(OR(I22=BT5,I22=BT6),X64-((X64-X60)/2),)","v":{"$error":"#DIV/0!"}},{"$f":"IF(OR(I22=BT5,I22=BT6),BV18,)","v":{"$error":"#DIV/0!"}},{"$f":"IF(I21=BW5,0,R70)","v":{"$error":"#DIV/0!"}},{"$f":"IF(I21=BW5,0,AA60+BS15+(BQ10/2))","v":{"$error":"#DIV/0!"}},{"$f":"IF(AND(I21=BW6,OR(I22=BT4,I22=BT5,I22=BT6)),T70,)","v":{"$error":"#DIV/0!"}},{"$f":"IF(AND(I21=BW6,OR(I22=BT4,I22=BT5,I22=BT6)),AG50+BS19,)","v":{"$error":"#DIV/0!"}},{"$error":"#DIV/0!"},{"$error":"#DIV/0!"},{"$f":"IF(AND(I21=BW6,OR(OR(I22=BT5,I22=BT6),I22=BT6)),X70,)","v":{"$error":"#DIV/0!"}},{"$f":"IF(AND(I21=BW6,OR(I22=BT5,I22=BT6)),BV17+(BQ26/2),)","v":{"$error":"#DIV/0!"}},null,{"$f":"IF(L22=CI2,AI60+(CI25/2),AI60+(CI25/2))","v":{"$error":"#DIV/0!"}},{"$f":"CH16","v":{"$error":"#DIV/0!"}},{"$f":"IF(L22=CI4,AK64-(AK64-AK60)/2,IF(OR(L22=CI5,L22=CI6),AK64-(AK64-AK60)/2,))","v":{"$error":"#DIV/0!"}},{"$f":"IF(OR(L22=CI4,L22=CI5,L22=CI6),CH20,)","v":{"$error":"#DIV/0!"}},{"$error":"#DIV/0!"},{"$error":"#DIV/0!"},{"$f":"IF(OR(L22=CI5,L22=CI6),AO64-((AO64-AO60)/2),)","v":{"$error":"#DIV/0!"}},{"$f":"IF(OR(L22=CI5,L22=CI6),CK18,)","v":{"$error":"#DIV/0!"}},{"$f":"IF(L21=CL5,0,AI70)","v":{"$error":"#DIV/0!"}},{"$f":"IF(L21=CL5,0,AR60+CH15+(CF10/2))","v":{"$error":"#DIV/0!"}},{"$f":"IF(AND(L21=CL6,OR(L22=CI4,L22=CI5,L22=CI6)),AK70,)","v":{"$error":"#DIV/0!"}},{"$f":"IF(AND(L21=CL6,OR(L22=CI4,L22=CI5,L22=CI6)),AX50+CH19,)","v":{"$error":"#DIV/0!"}},{"$error":"#DIV/0!"},{"$error":"#DIV/0!"},{"$f":"IF(AND(L21=CL6,OR(OR(L22=CI5,L22=CI6),L22=CI6)),AO70,)","v":{"$error":"#DIV/0!"}},{"$f":"IF(AND(L21=CL6,OR(L22=CI5,L22=CI6)),CK17+(CF26/2),)","v":{"$error":"#DIV/0!"}}]
[{"$f":"IF(E22=BE2,A62+(BE25/4),A62+(BE25/4))","v":{"$error":"#DIV/0!"}},{"$f":"B61","v":{"$error":"#DIV/0!"}},{"$f":"IF(OR(E22=BE4,E22=BE5,E22=BE6),C62+((C64-C60)/4),)","v":{"$error":"#DIV/0!"}},{"$f":"IF(OR(E22=BE4,E22=BE5,E22=BE6),D61,)","v":{"$error":"#DIV/0!"}},{"$error":"#DIV/0!"},{"$error":"#DIV/0!"},{"$f":"IF(OR(E22=BE5,E22=BE6),G64-((G64-G60)/4),)","v":{"$error":"#DIV/0!"}},{"$f":"IF(OR(E22=BE5,E22=BE6),H61,)","v":{"$error":"#DIV/0!"}},{"$f":"IF(E21=BH5,0,A69)","v":{"$error":"#DIV/0!"}},{"$f":"IF(E21=BH5,0,J64+BE15-(BB10/4))","v":{"$error":"#DIV/0!"}},{"$f":"K62+(K62-K61)","v":{"$error":"#DIV/0!"}},{"$f":"IF(AND(E21=BH6,OR(E22=BE4,E22=BE5,E22=BE6)),L61,)","v":{"$error":"#DIV/0!"}},{"$error":"#DIV/0!"},{"$error":"#DIV/0!"},{"$f":"IF(AND(E21=BH6,OR(OR(E22=BE5,E22=BE6),E22=BE6)),G69,)","v":{"$error":"#DIV/0!"}},{"$f":"IF(AND(E21=BH6,OR(E22=BE5,E22=BE6)),P61,)","v":{"$error":"#DIV/0!"}},null,{"$f":"IF(I22=BT2,R62+(BT25/4),R62+(BT25/4))","v":{"$error":"#DIV/0!"}},{"$f":"S61","v":{"$error":"#DIV/0!"}},{"$f":"IF(OR(I22=BT4,I22=BT5,I22=BT6),T62+((T64-T60)/4),)","v":{"$error":"#DIV/0!"}},{"$f":"IF(OR(I22=BT4,I22=BT5,I22=BT6),U61,)","v":{"$error":"#DIV/0!"}},{"$error":"#DIV/0!"},{"$error":"#DIV/0!"},{"$f":"IF(OR(I22=BT5,I22=BT6),X64-((X64-X60)/4),)","v":{"$error":"#DIV/0!"}},{"$f":"IF(OR(I22=BT5,I22=BT6),Y61,)","v":{"$error":"#DIV/0!"}},{"$f":"IF(I21=BW5,0,R69)","v":{"$error":"#DIV/0!"}},{"$f":"IF(I21=BW5,0,AA64+BT15-(BQ10/4))","v":{"$error":"#DIV/0!"}},{"$f":"AB62+(AB62-AB61)","v":{"$error":"#DIV/0!"}},{"$f":"IF(AND(I21=BW6,OR(I22=BT4,I22=BT5,I22=BT6)),AC61,)","v":{"$error":"#DIV/0!"}},{"$error":"#DIV/0!"},{"$error":"#DIV/0!"},{"$f":"IF(AND(I21=BW6,OR(OR(I22=BT5,I22=BT6),I22=BT6)),X69,)","v":{"$error":"#DIV/0!"}},{"$f":"IF(AND(I21=BW6,OR(I22=BT5,I22=BT6)),AG61,)","v":{"$error":"#DIV/0!"}},null,{"$f":"IF(L22=CI2,AI62+(CI25/4),AI62+(CI25/4))","v":{"$error":"#DIV/0!"}},{"$f":"AJ61","v":{"$error":"#DIV/0!"}},{"$f":"IF(OR(L22=CI4,L22=CI5,L22=CI6),AK62+((AK64-AK60)/4),)","v":{"$error":"#DIV/0!"}},{"$f":"IF(OR(L22=CI4,L22=CI5,L22=CI6),AL61,)","v":{"$error":"#DIV/0!"}},{"$error":"#DIV/0!"},{"$error":"#DIV/0!"},{"$f":"IF(OR(L22=CI5,L22=CI6),AO64-((AO64-AO60)/4),)","v":{"$error":"#DIV/0!"}},{"$f":"IF(OR(L22=CI5,L22=CI6),AP61,)","v":{"$error":"#DIV/0!"}},{"$f":"IF(L21=CL5,0,AI69)","v":{"$error":"#DIV/0!"}},{"$f":"IF(L21=CL5,0,AR64+CI15-(CF10/4))","v":{"$error":"#DIV/0!"}},{"$f":"AS62+(AS62-AS61)","v":{"$error":"#DIV/0!"}},{"$f":"IF(AND(L21=CL6,OR(L22=CI4,L22=CI5,L22=CI6)),AT61,)","v":{"$error":"#DIV/0!"}},{"$error":"#DIV/0!"},{"$error":"#DIV/0!"},{"$f":"IF(AND(L21=CL6,OR(OR(L22=CI5,L22=CI6),L22=CI6)),AO69,)","v":{"$error":"#DIV/0!"}},{"$f":"IF(AND(L21=CL6,OR(L22=CI5,L22=CI6)),AX61,)","v":{"$error":"#DIV/0!"}}]
[{"$f":"IF((A60+BE25)>BB25,BB25,A60+BE25)","v":{"$error":"#DIV/0!"}},{"$f":"BB30","v":{"$error":"#DIV/0!"}},{"$f":"IF(E22=BE4,BB25-BB30,IF(E22=BE5,C68+BB18,IF(E22=BE6,BE29+BB18,)))","v":{"$error":"#DIV/0!"}},{"$f":"IF(OR(E22=BE4,E22=BE5,E22=BE6),BB30,)","v":{"$error":"#DIV/0!"}},{"$error":"#DIV/0!"},{"$error":"#DIV/0!"},{"$f":"IF(OR(E22=BE5,E22=BE6),O50-BB30,)","v":{"$error":"#DIV/0!"}},{"$f":"IF(OR(E22=BE5,E22=BE6),BB30,)","v":{"$error":"#DIV/0!"}},{"$f":"IF(E21=BH5,0,IF(E22=BE3,A60+BE25,BD25+A60))","v":{"$error":"#DIV/0!"}},{"$f":"IF(E21=BH5,0,P47-BD24-BB30)","v":{"$error":"#DIV/0!"}},{"$f":"IF(AND(E21=BH6,OR(E22=BE4,E22=BE5,E22=BE6)),C68,)","v":{"$error":"#DIV/0!"}},{"$f":"IF(AND(E21=BH6,OR(E22=BE4,E22=BE5,E22=BE6)),L60,)","v":{"$error":"#DIV/0!"}},{"$error":"#DIV/0!"},{"$error":"#DIV/0!"},{"$f":"IF(AND(E21=BH6,OR(E22=BE5,E22=BE6)),O50-BB30,)","v":{"$error":"#DIV/0!"}},{"$f":"IF(AND(E21=BH6,OR(E22=BE5,E22=BE6)),P60,)","v":{"$error":"#DIV/0!"}},null,{"$f":"IF((R60+BT25)>BQ25,BQ25,R60+BT25)","v":{"$error":"#DIV/0!"}},{"$f":"BQ30","v":{"$error":"#DIV/0!"}},{"$f":"IF(I22=BT4,BQ25-BQ30,IF(I22=BT5,T68+BQ18,IF(I22=BT6,BT29+BQ18,)))","v":{"$error":"#DIV/0!"}},{"$f":"IF(OR(I22=BT4,I22=BT5,I22=BT6),BQ30,)","v":{"$error":"#DIV/0!"}},{"$error":"#DIV/0!"},{"$error":"#DIV/0!"},{"$f":"IF(OR(I22=BT5,I22=BT6),AF50-BQ30,)","v":{"$error":"#DIV/0!"}},{"$f":"IF(OR(I22=BT5,I22=BT6),BQ30,)","v":{"$error":"#DIV/0!"}},{"$f":"IF(I21=BW5,0,IF(I22=BT3,R60+BT25,BS25+R60))","v":{"$error":"#DIV/0!"}},{"$f":"IF(I21=BW5,0,AG47-BS24-BQ30)","v":{"$error":"#DIV/0!"}},{"$f":"IF(AND(I21=BW6,OR(I22=BT4,I22=BT5,I22=BT6)),T68,)","v":{"$error":"#DIV/0!"}},{"$f":"IF(AND(I21=BW6,OR(I22=BT4,I22=BT5,I22=BT6)),AC60,)","v":{"$error":"#DIV/0!"}},{"$error":"#DIV/0!"},{"$error":"#DIV/0!"},{"$f":"IF(AND(I21=BW6,OR(I22=BT5,I22=BT6)),AF50-BQ30,)","v":{"$error":"#DIV/0!"}},{"$f":"IF(AND(I21=BW6,OR(I22=BT5,I22=BT6)),AG60,)","v":{"$error":"#DIV/0!"}},null,{"$f":"IF((AI60+CI25)>CF25,CF25,AI60+CI25)","v":{"$error":"#DIV/0!"}},{"$f":"CF30","v":{"$error":"#DIV/0!"}},{"$f":"IF(L22=CI4,CF25-CF30,IF(L22=CI5,AK68+CF18,IF(L22=CI6,CI29+CF18,)))","v":{"$error":"#DIV/0!"}},{"$f":"IF(OR(L22=CI4,L22=CI5,L22=CI6),CF30,)","v":{"$error":"#DIV/0!"}},{"$error":"#DIV/0!"},{"$error":"#DIV/0!"},{"$f":"IF(OR(L22=CI5,L22=CI6),AW50-CF30,)","v":{"$error":"#DIV/0!"}},{"$f":"IF(OR(L22=CI5,L22=CI6),CF30,)","v":{"$error":"#DIV/0!"}},{"$f":"IF(L21=CL5,0,IF(L22=CI3,AI60+CI25,CH25+AI60))","v":{"$error":"#DIV/0!"}},{"$f":"IF(L21=CL5,0,AX47-CH24-CF30)","v":{"$error":"#DIV/0!"}},{"$f":"IF(AND(L21=CL6,OR(L22=CI4,L22=CI5,L22=CI6)),AK68,)","v":{"$error":"#DIV/0!"}},{"$f":"IF(AND(L21=CL6,OR(L22=CI4,L22=CI5,L22=CI6)),AT60,)","v":{"$error":"#DIV/0!"}},{"$error":"#DIV/0!"},{"$error":"#DIV/0!"},{"$f":"IF(AND(L21=CL6,OR(L22=CI5,L22=CI6)),AW50-CF30,)","v":{"$error":"#DIV/0!"}},{"$f":"IF(AND(L21=CL6,OR(L22=CI5,L22=CI6)),AX60,)","v":{"$error":"#DIV/0!"}}]
[{"$f":"A64-BE13-(BB14/IF(E22=BE5,2.75,2.75))","v":{"$error":"#DIV/0!"}},{"$f":"BD24/4","v":{"$error":"#DIV/0!"}},{"$f":"IF(E22=BE4,C67,IF(OR(E22=BE5,E22=BE6),C64-BE18-(BB18/2.75),))","v":{"$error":"#DIV/0!"}},{"$f":"IF(OR(E22=BE4,E22=BE5,E22=BE6),B65,)","v":{"$error":"#DIV/0!"}},{"$error":"#DIV/0!"},{"$error":"#DIV/0!"},{"$f":"IF(OR(E22=BE5,E22=BE6),G64-BH16,)","v":{"$error":"#DIV/0!"}},{"$f":"IF(OR(E22=BE5,E22=BE6),D65,)","v":{"$error":"#DIV/0!"}},{"$f":"IF(E21=BH5,0,A67)","v":{"$error":"#DIV/0!"}},{"$f":"IF(E21=BH5,0,(BD24/4)+(BB26/2))","v":{"$error":"#DIV/0!"}},{"$f":"IF(AND(E21=BH6,OR(E22=BE4,E22=BE5,E22=BE6)),C67,)","v":{"$error":"#DIV/0!"}},{"$f":"IF(AND(E21=BH6,OR(E22=BE4,E22=BE5,E22=BE6)),J65,)","v":{"$error":"#DIV/0!"}},{"$error":"#DIV/0!"},{"$error":"#DIV/0!"},{"$f":"IF(AND(E21=BH6,OR(E22=BE5,E22=BE6)),G64-BH16,)","v":{"$error":"#DIV/0!"}},{"$f":"IF(AND(E21=BH6,OR(E22=BE5,E22=BE6)),L65,)","v":{"$error":"#DIV/0!"}},null,{"$f":"R64-BT13-(BQ14/IF(I22=BT5,2.75,2.75))","v":{"$error":"#DIV/0!"}},{"$f":"BS24/4","v":{"$error":"#DIV/0!"}},{"$f":"IF(I22=BT4,T67,IF(OR(I22=BT5,I22=BT6),T64-BT18-(BQ18/2.75),))","v":{"$error":"#DIV/0!"}},{"$f":"IF(OR(I22=BT4,I22=BT5,I22=BT6),S65,)","v":{"$error":"#DIV/0!"}},{"$error":"#DIV/0!"},{"$error":"#DIV/0!"},{"$f":"IF(OR(I22=BT5,I22=BT6),X64-BW16,)","v":{"$error":"#DIV/0!"}},{"$f":"IF(OR(I22=BT5,I22=BT6),U65,)","v":{"$error":"#DIV/0!"}},{"$f":"IF(I21=BW5,0,R67)","v":{"$error":"#DIV/0!"}},{"$f":"IF(I21=BW5,0,(BS24/4)+(BQ26/2))","v":{"$error":"#DIV/0!"}},{"$f":"IF(AND(I21=BW6,OR(I22=BT4,I22=BT5,I22=BT6)),T67,)","v":{"$error":"#DIV/0!"}},{"$f":"IF(AND(I21=BW6,OR(I22=BT4,I22=BT5,I22=BT6)),AA65,)","v":{"$error":"#DIV/0!"}},{"$error":"#DIV/0!"},{"$error":"#DIV/0!"},{"$f":"IF(AND(I21=BW6,OR(I22=BT5,I22=BT6)),X64-BW16,)","v":{"$error":"#DIV/0!"}},{"$f":"IF(AND(I21=BW6,OR(I22=BT5,I22=BT6)),AC65,)","v":{"$error":"#DIV/0!"}},null,{"$f":"AI64-CI13-(CF14/IF(L22=CI5,2.75,2.75))","v":{"$error":"#DIV/0!"}},{"$f":"CH24/4","v":{"$error":"#DIV/0!"}},{"$f":"IF(L22=CI4,AK67,IF(OR(L22=CI5,L22=CI6),AK64-CI18-(CF18/2.75),))","v":{"$error":"#DIV/0!"}},{"$f":"IF(OR(L22=CI4,L22=CI5,L22=CI6),AJ65,)","v":{"$error":"#DIV/0!"}},{"$error":"#DIV/0!"},{"$error":"#DIV/0!"},{"$f":"IF(OR(L22=CI5,L22=CI6),AO64-CL16,)","v":{"$error":"#DIV/0!"}},{"$f":"IF(OR(L22=CI5,L22=CI6),AL65,)","v":{"$error":"#DIV/0!"}},{"$f":"IF(L21=CL5,0,AI67)","v":{"$error":"#DIV/0!"}},{"$f":"IF(L21=CL5,0,(CH24/4)+(CF26/2))","v":{"$error":"#DIV/0!"}},{"$f":"IF(AND(L21=CL6,OR(L22=CI4,L22=CI5,L22=CI6)),AK67,)","v":{"$error":"#DIV/0!"}},{"$f":"IF(AND(L21=CL6,OR(L22=CI4,L22=CI5,L22=CI6)),AR65,)","v":{"$error":"#DIV/0!"}},{"$error":"#DIV/0!"},{"$error":"#DIV/0!"},{"$f":"IF(AND(L21=CL6,OR(L22=CI5,L22=CI6)),AO64-CL16,)","v":{"$error":"#DIV/0!"}},{"$f":"IF(AND(L21=CL6,OR(L22=CI5,L22=CI6)),AT65,)","v":{"$error":"#DIV/0!"}}]
[{"$f":"A64-BD13-(BB14/IF(E22=BE5,1.6,1.6))","v":{"$error":"#DIV/0!"}},{"$f":"BB26/4","v":{"$error":"#DIV/0!"}},{"$f":"IF(E22=BE4,C64-BG16,IF(OR(E22=BE5,E22=BE6),C64-BD18-(BB18/1.6),))","v":{"$error":"#DIV/0!"}},{"$f":"IF(OR(E22=BE4,E22=BE5,E22=BE6),B66,)","v":{"$error":"#DIV/0!"}},{"$error":"#DIV/0!"},{"$error":"#DIV/0!"},{"$f":"IF(OR(E22=BE5,E22=BE6),G64-BG16,)","v":{"$error":"#DIV/0!"}},{"$f":"IF(OR(E22=BE5,E22=BE6),D66,)","v":{"$error":"#DIV/0!"}},{"$f":"IF(E21=BH5,0,A66)","v":{"$error":"#DIV/0!"}},{"$f":"IF(E21=BH5,0,(BB26/4)+(BB26/2))","v":{"$error":"#DIV/0!"}},{"$f":"IF(AND(E21=BH6,OR(E22=BE4,E22=BE5,E22=BE6)),C66,)","v":{"$error":"#DIV/0!"}},{"$f":"IF(OR(E22=BE2,E22=BE3),0,J66)","v":{"$error":"#DIV/0!"}},{"$error":"#DIV/0!"},{"$error":"#DIV/0!"},{"$f":"IF(AND(E21=BH6,OR(E22=BE5,E22=BE6)),G64-BG16,)","v":{"$error":"#DIV/0!"}},{"$f":"IF(AND(E21=BH6,OR(E22=BE5,E22=BE6)),L66,)","v":{"$error":"#DIV/0!"}},null,{"$f":"R64-BS13-(BQ14/IF(I22=BT5,1.6,1.6))","v":{"$error":"#DIV/0!"}},{"$f":"BQ26/4","v":{"$error":"#DIV/0!"}},{"$f":"IF(I22=BT4,T64-BV16,IF(OR(I22=BT5,I22=BT6),T64-BS18-(BQ18/1.6),))","v":{"$error":"#DIV/0!"}},{"$f":"IF(OR(I22=BT4,I22=BT5,I22=BT6),S66,)","v":{"$error":"#DIV/0!"}},{"$error":"#DIV/0!"},{"$error":"#DIV/0!"},{"$f":"IF(OR(I22=BT5,I22=BT6),X64-BV16,)","v":{"$error":"#DIV/0!"}},{"$f":"IF(OR(I22=BT5,I22=BT6),U66,)","v":{"$error":"#DIV/0!"}},{"$f":"IF(I21=BW5,0,R66)","v":{"$error":"#DIV/0!"}},{"$f":"IF(I21=BW5,0,(BQ26/4)+(BQ26/2))","v":{"$error":"#DIV/0!"}},{"$f":"IF(AND(I21=BW6,OR(I22=BT4,I22=BT5,I22=BT6)),T66,)","v":{"$error":"#DIV/0!"}},{"$f":"IF(OR(I22=BT2,I22=BT3),0,AA66)","v":{"$error":"#DIV/0!"}},{"$error":"#DIV/0!"},{"$error":"#DIV/0!"},{"$f":"IF(AND(I21=BW6,OR(I22=BT5,I22=BT6)),X64-BV16,)","v":{"$error":"#DIV/0!"}},{"$f":"IF(AND(I21=BW6,OR(I22=BT5,I22=BT6)),AC66,)","v":{"$error":"#DIV/0!"}},null,{"$f":"AI64-CH13-(CF14/IF(L22=CI5,1.6,1.6))","v":{"$error":"#DIV/0!"}},{"$f":"CF26/4","v":{"$error":"#DIV/0!"}},{"$f":"IF(L22=CI4,AK64-CK16,IF(OR(L22=CI5,L22=CI6),AK64-CH18-(CF18/1.6),))","v":{"$error":"#DIV/0!"}},{"$f":"IF(OR(L22=CI4,L22=CI5,L22=CI6),AJ66,)","v":{"$error":"#DIV/0!"}},{"$error":"#DIV/0!"},{"$error":"#DIV/0!"},{"$f":"IF(OR(L22=CI5,L22=CI6),AO64-CK16,)","v":{"$error":"#DIV/0!"}},{"$f":"IF(OR(L22=CI5,L22=CI6),AL66,)","v":{"$error":"#DIV/0!"}},{"$f":"IF(L21=CL5,0,AI66)","v":{"$error":"#DIV/0!"}},{"$f":"IF(L21=CL5,0,(CF26/4)+(CF26/2))","v":{"$error":"#DIV/0!"}},{"$f":"IF(AND(L21=CL6,OR(L22=CI4,L22=CI5,L22=CI6)),AK66,)","v":{"$error":"#DIV/0!"}},{"$f":"IF(OR(L22=CI2,L22=CI3),0,AR66)","v":{"$error":"#DIV/0!"}},{"$error":"#DIV/0!"},{"$error":"#DIV/0!"},{"$f":"IF(AND(L21=CL6,OR(L22=CI5,L22=CI6)),AO64-CK16,)","v":{"$error":"#DIV/0!"}},{"$f":"IF(AND(L21=CL6,OR(L22=CI5,L22=CI6)),AT66,)","v":{"$error":"#DIV/0!"}}]
[{"$f":"A68-BE13+(BB14/5)","v":{"$error":"#DIV/0!"}},{"$f":"(BD24*0.75)","v":{"$error":"#DIV/0!"}},{"$f":"IF(E22=BE4,C64-BH16,C68-BE18+(BB18/5))","v":{"$error":"#DIV/0!"}},{"$f":"IF(OR(E22=BE4,E22=BE5,E22=BE6),B67,)","v":{"$error":"#DIV/0!"}},{"$error":"#DIV/0!"},{"$error":"#DIV/0!"},{"$f":"IF(OR(E22=BE5,E22=BE6),G65,)","v":{"$error":"#DIV/0!"}},{"$f":"IF(OR(E22=BE5,E22=BE6),D67,)","v":{"$error":"#DIV/0!"}},{"$f":"IF(E21=BH5,0,A65)","v":{"$error":"#DIV/0!"}},{"$f":"IF(E21=BH5,0,(BD24*0.75)+(BB26/2))","v":{"$error":"#DIV/0!"}},{"$f":"C65","v":{"$error":"#DIV/0!"}},{"$f":"IF(OR(E22=BE2,E22=BE3),0,J67)","v":{"$error":"#DIV/0!"}},{"$error":"#DIV/0!"},{"$error":"#DIV/0!"},{"$f":"IF(AND(E21=BH6,OR(E22=BE5,E22=BE6)),G65,)","v":{"$error":"#DIV/0!"}},{"$f":"IF(OR(E22=BE5,E22=BE6),L67,)","v":{"$error":"#DIV/0!"}},null,{"$f":"R68-BT13+(BQ14/5)","v":{"$error":"#DIV/0!"}},{"$f":"(BS24*0.75)","v":{"$error":"#DIV/0!"}},{"$f":"IF(I22=BT4,T64-BW16,T68-BT18+(BQ18/5))","v":{"$error":"#DIV/0!"}},{"$f":"IF(OR(I22=BT4,I22=BT5,I22=BT6),S67,)","v":{"$error":"#DIV/0!"}},{"$error":"#DIV/0!"},{"$error":"#DIV/0!"},{"$f":"IF(OR(I22=BT5,I22=BT6),X65,)","v":{"$error":"#DIV/0!"}},{"$f":"IF(OR(I22=BT5,I22=BT6),U67,)","v":{"$error":"#DIV/0!"}},{"$f":"IF(I21=BW5,0,R65)","v":{"$error":"#DIV/0!"}},{"$f":"IF(I21=BW5,0,(BS24*0.75)+(BQ26/2))","v":{"$error":"#DIV/0!"}},{"$f":"T65","v":{"$error":"#DIV/0!"}},{"$f":"IF(OR(I22=BT2,I22=BT3),0,AA67)","v":{"$error":"#DIV/0!"}},{"$error":"#DIV/0!"},{"$error":"#DIV/0!"},{"$f":"IF(AND(I21=BW6,OR(I22=BT5,I22=BT6)),X65,)","v":{"$error":"#DIV/0!"}},{"$f":"IF(OR(I22=BT5,I22=BT6),AC67,)","v":{"$error":"#DIV/0!"}},null,{"$f":"AI68-CI13+(CF14/5)","v":{"$error":"#DIV/0!"}},{"$f":"(CH24*0.75)","v":{"$error":"#DIV/0!"}},{"$f":"IF(L22=CI4,AK64-CL16,AK68-CI18+(CF18/5))","v":{"$error":"#DIV/0!"}},{"$f":"IF(OR(L22=CI4,L22=CI5,L22=CI6),AJ67,)","v":{"$error":"#DIV/0!"}},{"$error":"#DIV/0!"},{"$error":"#DIV/0!"},{"$f":"IF(OR(L22=CI5,L22=CI6),AO65,)","v":{"$error":"#DIV/0!"}},{"$f":"IF(OR(L22=CI5,L22=CI6),AL67,)","v":{"$error":"#DIV/0!"}},{"$f":"IF(L21=CL5,0,AI65)","v":{"$error":"#DIV/0!"}},{"$f":"IF(L21=CL5,0,(CH24*0.75)+(CF26/2))","v":{"$error":"#DIV/0!"}},{"$f":"AK65","v":{"$error":"#DIV/0!"}},{"$f":"IF(OR(L22=CI2,L22=CI3),0,AR67)","v":{"$error":"#DIV/0!"}},{"$error":"#DIV/0!"},{"$error":"#DIV/0!"},{"$f":"IF(AND(L21=CL6,OR(L22=CI5,L22=CI6)),AO65,)","v":{"$error":"#DIV/0!"}},{"$f":"IF(OR(L22=CI5,L22=CI6),AT67,)","v":{"$error":"#DIV/0!"}}]
[{"$f":"IF(E22=BE3,A60+BE25,A60+BD25)","v":{"$error":"#DIV/0!"}},{"$f":"(BB26/2)-BB30","v":{"$error":"#DIV/0!"}},{"$f":"IF(E22=BE4,BB25-BB30,IF(E22=BE5,O52+(BB27/2),IF(E22=BE6,BE29,)))","v":{"$error":"#DIV/0!"}},{"$f":"IF(OR(E22=BE4,E22=BE5,E22=BE6),(BB26/2)-BB30,)","v":{"$error":"#DIV/0!"}},{"$error":"#DIV/0!"},{"$error":"#DIV/0!"},{"$f":"IF(OR(E22=BE5,E22=BE6),G64,)","v":{"$error":"#DIV/0!"}},{"$f":"IF(OR(E22=BE5,E22=BE6),D68,)","v":{"$error":"#DIV/0!"}},{"$f":"IF(E21=BH5,0,A64)","v":{"$error":"#DIV/0!"}},{"$f":"IF(E21=BH5,0,BB26-BB30)","v":{"$error":"#DIV/0!"}},{"$f":"IF(AND(E21=BH6,OR(E22=BE4,E22=BE5,E22=BE6)),C64,)","v":{"$error":"#DIV/0!"}},{"$f":"IF(OR(E22=BE2,E22=BE3),0,J72)","v":{"$error":"#DIV/0!"}},{"$error":"#DIV/0!"},{"$error":"#DIV/0!"},{"$f":"IF(AND(E21=BH6,OR(E22=BE5,E22=BE6)),G64,)","v":{"$error":"#DIV/0!"}},{"$f":"IF(OR(E22=BE5,E22=BE6),L68,)","v":{"$error":"#DIV/0!"}},null,{"$f":"IF(I22=BT3,R60+BT25,R60+BS25)","v":{"$error":"#DIV/0!"}},{"$f":"(BQ26/2)-BQ30","v":{"$error":"#DIV/0!"}},{"$f":"IF(I22=BT4,BQ25-BQ30,IF(I22=BT5,AF52+(BQ27/2),IF(I22=BT6,BT29,)))","v":{"$error":"#DIV/0!"}},{"$f":"IF(OR(I22=BT4,I22=BT5,I22=BT6),(BQ26/2)-BQ30,)","v":{"$error":"#DIV/0!"}},{"$error":"#DIV/0!"},{"$error":"#DIV/0!"},{"$f":"IF(OR(I22=BT5,I22=BT6),X64,)","v":{"$error":"#DIV/0!"}},{"$f":"IF(OR(I22=BT5,I22=BT6),U68,)","v":{"$error":"#DIV/0!"}},{"$f":"IF(I21=BW5,0,R64)","v":{"$error":"#DIV/0!"}},{"$f":"IF(I21=BW5,0,BQ26-BQ30)","v":{"$error":"#DIV/0!"}},{"$f":"IF(AND(I21=BW6,OR(I22=BT4,I22=BT5,I22=BT6)),T64,)","v":{"$error":"#DIV/0!"}},{"$f":"IF(OR(I22=BT2,I22=BT3),0,AA72)","v":{"$error":"#DIV/0!"}},{"$error":"#DIV/0!"},{"$error":"#DIV/0!"},{"$f":"IF(AND(I21=BW6,OR(I22=BT5,I22=BT6)),X64,)","v":{"$error":"#DIV/0!"}},{"$f":"IF(OR(I22=BT5,I22=BT6),AC68,)","v":{"$error":"#DIV/0!"}},null,{"$f":"IF(L22=CI3,AI60+CI25,AI60+CH25)","v":{"$error":"#DIV/0!"}},{"$f":"(CF26/2)-CF30","v":{"$error":"#DIV/0!"}},{"$f":"IF(L22=CI4,CF25-CF30,IF(L22=CI5,AW52+(CF27/2),IF(L22=CI6,CI29,)))","v":{"$error":"#DIV/0!"}},{"$f":"IF(OR(L22=CI4,L22=CI5,L22=CI6),(CF26/2)-CF30,)","v":{"$error":"#DIV/0!"}},{"$error":"#DIV/0!"},{"$error":"#DIV/0!"},{"$f":"IF(OR(L22=CI5,L22=CI6),AO64,)","v":{"$error":"#DIV/0!"}},{"$f":"IF(OR(L22=CI5,L22=CI6),AL68,)","v":{"$error":"#DIV/0!"}},{"$f":"IF(L21=CL5,0,AI64)","v":{"$error":"#DIV/0!"}},{"$f":"IF(L21=CL5,0,CF26-CF30)","v":{"$error":"#DIV/0!"}},{"$f":"IF(AND(L21=CL6,OR(L22=CI4,L22=CI5,L22=CI6)),AK64,)","v":{"$error":"#DIV/0!"}},{"$f":"IF(OR(L22=CI2,L22=CI3),0,AR72)","v":{"$error":"#DIV/0!"}},{"$error":"#DIV/0!"},{"$error":"#DIV/0!"},{"$f":"IF(AND(L21=CL6,OR(L22=CI5,L22=CI6)),AO64,)","v":{"$error":"#DIV/0!"}},{"$f":"IF(OR(L22=CI5,L22=CI6),AT68,)","v":{"$error":"#DIV/0!"}}]
[{"$f":"IF(E22=BE3,A62+(BE25/4),A68-(BD25/4))","v":{"$error":"#DIV/0!"}},{"$f":"B68-BE15+(BB10/4)","v":{"$error":"#DIV/0!"}},{"$f":"IF(OR(E22=BE4,E22=BE5,E22=BE6),C68-((C68-C72)/4),)","v":{"$error":"#DIV/0!"}},{"$f":"IF(OR(E22=BE4,E22=BE5,E22=BE6),(BB26/2)-BE19,)","v":{"$error":"#DIV/0!"}},{"$error":"#DIV/0!"},{"$error":"#DIV/0!"},{"$f":"IF(OR(E22=BE5,E22=BE6),G68-((G68-G72)/4),)","v":{"$error":"#DIV/0!"}},{"$f":"IF(OR(E22=BE5,E22=BE6),(BB26/2)-BH17,)","v":{"$error":"#DIV/0!"}},{"$f":"IF(E21=BH5,0,A63)","v":{"$error":"#DIV/0!"}},{"$f":"IF(E21=BH5,0,((BB26/2)-B61)+(BB26/2))","v":{"$error":"#DIV/0!"}},{"$f":"IF(AND(E21=BH6,OR(E22=BE4,E22=BE5,E22=BE6)),C63,)","v":{"$error":"#DIV/0!"}},{"$f":"IF(E21=BH5,0,IF(OR(E22=BE2,E22=BE3),0,P47-BE20))","v":{"$error":"#DIV/0!"}},{"$error":"#DIV/0!"},{"$error":"#DIV/0!"},{"$f":"IF(AND(E21=BH6,OR(E22=BE5,E22=BE6)),G63,)","v":{"$error":"#DIV/0!"}},{"$f":"IF(AND(E21=BH6,OR(E22=BE5,E22=BE6)),P47-BH17,)","v":{"$error":"#DIV/0!"}},null,{"$f":"IF(I22=BT3,R62+(BT25/4),R68-(BS25/4))","v":{"$error":"#DIV/0!"}},{"$f":"S68-BT15+(BQ10/4)","v":{"$error":"#DIV/0!"}},{"$f":"IF(OR(I22=BT4,I22=BT5,I22=BT6),T68-((T68-T72)/4),)","v":{"$error":"#DIV/0!"}},{"$f":"IF(OR(I22=BT4,I22=BT5,I22=BT6),(BQ26/2)-BT19,)","v":{"$error":"#DIV/0!"}},{"$error":"#DIV/0!"},{"$error":"#DIV/0!"},{"$f":"IF(OR(I22=BT5,I22=BT6),X68-((X68-X72)/4),)","v":{"$error":"#DIV/0!"}},{"$f":"IF(OR(I22=BT5,I22=BT6),(BQ26/2)-BW17,)","v":{"$error":"#DIV/0!"}},{"$f":"IF(I21=BW5,0,R63)","v":{"$error":"#DIV/0!"}},{"$f":"IF(I21=BW5,0,((BQ26/2)-S61)+(BQ26/2))","v":{"$error":"#DIV/0!"}},{"$f":"IF(AND(I21=BW6,OR(I22=BT4,I22=BT5,I22=BT6)),T63,)","v":{"$error":"#DIV/0!"}},{"$f":"IF(I21=BW5,0,IF(OR(I22=BT2,I22=BT3),0,AG47-BT20))","v":{"$error":"#DIV/0!"}},{"$error":"#DIV/0!"},{"$error":"#DIV/0!"},{"$f":"IF(AND(I21=BW6,OR(I22=BT5,I22=BT6)),X63,)","v":{"$error":"#DIV/0!"}},{"$f":"IF(AND(I21=BW6,OR(I22=BT5,I22=BT6)),AG47-BW17,)","v":{"$error":"#DIV/0!"}},null,{"$f":"IF(L22=CI3,AI62+(CI25/4),AI68-(CH25/4))","v":{"$error":"#DIV/0!"}},{"$f":"AJ68-CI15+(CF10/4)","v":{"$error":"#DIV/0!"}},{"$f":"IF(OR(L22=CI4,L22=CI5,L22=CI6),AK68-((AK68-AK72)/4),)","v":{"$error":"#DIV/0!"}},{"$f":"IF(OR(L22=CI4,L22=CI5,L22=CI6),(CF26/2)-CI19,)","v":{"$error":"#DIV/0!"}},{"$error":"#DIV/0!"},{"$error":"#DIV/0!"},{"$f":"IF(OR(L22=CI5,L22=CI6),AO68-((AO68-AO72)/4),)","v":{"$error":"#DIV/0!"}},{"$f":"IF(OR(L22=CI5,L22=CI6),(CF26/2)-CL17,)","v":{"$error":"#DIV/0!"}},{"$f":"IF(L21=CL5,0,AI63)","v":{"$error":"#DIV/0!"}},{"$f":"IF(L21=CL5,0,((CF26/2)-AJ61)+(CF26/2))","v":{"$error":"#DIV/0!"}},{"$f":"IF(AND(L21=CL6,OR(L22=CI4,L22=CI5,L22=CI6)),AK63,)","v":{"$error":"#DIV/0!"}},{"$f":"IF(L21=CL5,0,IF(OR(L22=CI2,L22=CI3),0,AX47-CI20))","v":{"$error":"#DIV/0!"}},{"$error":"#DIV/0!"},{"$error":"#DIV/0!"},{"$f":"IF(AND(L21=CL6,OR(L22=CI5,L22=CI6)),AO63,)","v":{"$error":"#DIV/0!"}},{"$f":"IF(AND(L21=CL6,OR(L22=CI5,L22=CI6)),AX47-CL17,)","v":{"$error":"#DIV/0!"}}]
[{"$f":"IF(E22=BE3,A60+(BE25/2),A69-(BD25/4))","v":{"$error":"#DIV/0!"}},{"$f":"B72-BD15-(BB10/2)","v":{"$error":"#DIV/0!"}},{"$f":"IF(OR(E22=BE4,E22=BE5,E22=BE6),C68-((C68-C72)/2),)","v":{"$error":"#DIV/0!"}},{"$f":"IF(OR(E22=BE4,E22=BE5,E22=BE6),(BB26/2)-BD19,)","v":{"$error":"#DIV/0!"}},{"$error":"#DIV/0!"},{"$error":"#DIV/0!"},{"$f":"IF(OR(E22=BE5,E22=BE6),G68-((G68-G72)/2),)","v":{"$error":"#DIV/0!"}},{"$f":"IF(OR(E22=BE5,E22=BE6),(BB26/2)-BG17,)","v":{"$error":"#DIV/0!"}},{"$f":"IF(E21=BH5,0,A62)","v":{"$error":"#DIV/0!"}},{"$f":"IF(E21=BH5,0,((BB26/2)-B62)+(BB26/2))","v":{"$error":"#DIV/0!"}},{"$f":"IF(AND(E21=BH6,OR(E22=BE4,E22=BE5,E22=BE6)),C62,)","v":{"$error":"#DIV/0!"}},{"$f":"IF(E21=BH5,0,IF(OR(E22=BE2,E22=BE3),0,P47-BD20))","v":{"$error":"#DIV/0!"}},{"$error":"#DIV/0!"},{"$error":"#DIV/0!"},{"$f":"IF(AND(E21=BH6,OR(E22=BE5,E22=BE6)),G62,)","v":{"$error":"#DIV/0!"}},{"$f":"IF(AND(E21=BH6,OR(E22=BE5,E22=BE6)),P47-BG17,)","v":{"$error":"#DIV/0!"}},null,{"$f":"IF(I22=BT3,R60+(BT25/2),R69-(BS25/4))","v":{"$error":"#DIV/0!"}},{"$f":"S72-BS15-(BQ10/2)","v":{"$error":"#DIV/0!"}},{"$f":"IF(OR(I22=BT4,I22=BT5,I22=BT6),T68-((T68-T72)/2),)","v":{"$error":"#DIV/0!"}},{"$f":"IF(OR(I22=BT4,I22=BT5,I22=BT6),(BQ26/2)-BS19,)","v":{"$error":"#DIV/0!"}},{"$error":"#DIV/0!"},{"$error":"#DIV/0!"},{"$f":"IF(OR(I22=BT5,I22=BT6),X68-((X68-X72)/2),)","v":{"$error":"#DIV/0!"}},{"$f":"IF(OR(I22=BT5,I22=BT6),(BQ26/2)-BV17,)","v":{"$error":"#DIV/0!"}},{"$f":"IF(I21=BW5,0,R62)","v":{"$error":"#DIV/0!"}},{"$f":"IF(I21=BW5,0,((BQ26/2)-S62)+(BQ26/2))","v":{"$error":"#DIV/0!"}},{"$f":"IF(AND(I21=BW6,OR(I22=BT4,I22=BT5,I22=BT6)),T62,)","v":{"$error":"#DIV/0!"}},{"$f":"IF(I21=BW5,0,IF(OR(I22=BT2,I22=BT3),0,AG47-BS20))","v":{"$error":"#DIV/0!"}},{"$error":"#DIV/0!"},{"$error":"#DIV/0!"},{"$f":"IF(AND(I21=BW6,OR(I22=BT5,I22=BT6)),X62,)","v":{"$error":"#DIV/0!"}},{"$f":"IF(AND(I21=BW6,OR(I22=BT5,I22=BT6)),AG47-BV17,)","v":{"$error":"#DIV/0!"}},null,{"$f":"IF(L22=CI3,AI60+(CI25/2),AI69-(CH25/4))","v":{"$error":"#DIV/0!"}},{"$f":"AJ72-CH15-(CF10/2)","v":{"$error":"#DIV/0!"}},{"$f":"IF(OR(L22=CI4,L22=CI5,L22=CI6),AK68-((AK68-AK72)/2),)","v":{"$error":"#DIV/0!"}},{"$f":"IF(OR(L22=CI4,L22=CI5,L22=CI6),(CF26/2)-CH19,)","v":{"$error":"#DIV/0!"}},{"$error":"#DIV/0!"},{"$error":"#DIV/0!"},{"$f":"IF(OR(L22=CI5,L22=CI6),AO68-((AO68-AO72)/2),)","v":{"$error":"#DIV/0!"}},{"$f":"IF(OR(L22=CI5,L22=CI6),(CF26/2)-CK17,)","v":{"$error":"#DIV/0!"}},{"$f":"IF(L21=CL5,0,AI62)","v":{"$error":"#DIV/0!"}},{"$f":"IF(L21=CL5,0,((CF26/2)-AJ62)+(CF26/2))","v":{"$error":"#DIV/0!"}},{"$f":"IF(AND(L21=CL6,OR(L22=CI4,L22=CI5,L22=CI6)),AK62,)","v":{"$error":"#DIV/0!"}},{"$f":"IF(L21=CL5,0,IF(OR(L22=CI2,L22=CI3),0,AX47-CH20))","v":{"$error":"#DIV/0!"}},{"$error":"#DIV/0!"},{"$error":"#DIV/0!"},{"$f":"IF(AND(L21=CL6,OR(L22=CI5,L22=CI6)),AO62,)","v":{"$error":"#DIV/0!"}},{"$f":"IF(AND(L21=CL6,OR(L22=CI5,L22=CI6)),AX47-CK17,)","v":{"$error":"#DIV/0!"}}]
[{"$f":"IF(E22=BE3,A60+(BE25/4),A70-(BD25/4))","v":{"$error":"#DIV/0!"}},{"$f":"B72-BE15-(BB10/4)","v":{"$error":"#DIV/0!"}},{"$f":"IF(OR(E22=BE4,E22=BE5,E22=BE6),C72+((C68-C72)/4),)","v":{"$error":"#DIV/0!"}},{"$f":"IF(OR(E22=BE4,E22=BE5,E22=BE6),(BB26/2)-BE19,)","v":{"$error":"#DIV/0!"}},{"$error":"#DIV/0!"},{"$error":"#DIV/0!"},{"$f":"IF(OR(E22=BE5,E22=BE6),G70-((G68-G72)/4),)","v":{"$error":"#DIV/0!"}},{"$f":"IF(OR(E22=BE5,E22=BE6),H69,)","v":{"$error":"#DIV/0!"}},{"$f":"IF(E21=BH5,0,A61)","v":{"$error":"#DIV/0!"}},{"$f":"J69","v":{"$error":"#DIV/0!"}},{"$f":"IF(AND(E21=BH6,OR(E22=BE4,E22=BE5,E22=BE6)),C61,)","v":{"$error":"#DIV/0!"}},{"$f":"IF(OR(E22=BE2,E22=BE3),0,L69)","v":{"$error":"#DIV/0!"}},{"$error":"#DIV/0!"},{"$error":"#DIV/0!"},{"$f":"IF(AND(E21=BH6,OR(E22=BE5,E22=BE6)),G61,)","v":{"$error":"#DIV/0!"}},{"$f":"IF(OR(E22=BE5,E22=BE6),P69,)","v":{"$error":"#DIV/0!"}},null,{"$f":"IF(I22=BT3,R60+(BT25/4),R70-(BS25/4))","v":{"$error":"#DIV/0!"}},{"$f":"S72-BT15-(BQ10/4)","v":{"$error":"#DIV/0!"}},{"$f":"IF(OR(I22=BT4,I22=BT5,I22=BT6),T72+((T68-T72)/4),)","v":{"$error":"#DIV/0!"}},{"$f":"IF(OR(I22=BT4,I22=BT5,I22=BT6),(BQ26/2)-BT19,)","v":{"$error":"#DIV/0!"}},{"$error":"#DIV/0!"},{"$error":"#DIV/0!"},{"$f":"IF(OR(I22=BT5,I22=BT6),X70-((X68-X72)/4),)","v":{"$error":"#DIV/0!"}},{"$f":"IF(OR(I22=BT5,I22=BT6),Y69,)","v":{"$error":"#DIV/0!"}},{"$f":"IF(I21=BW5,0,R61)","v":{"$error":"#DIV/0!"}},{"$f":"AA69","v":{"$error":"#DIV/0!"}},{"$f":"IF(AND(I21=BW6,OR(I22=BT4,I22=BT5,I22=BT6)),T61,)","v":{"$error":"#DIV/0!"}},{"$f":"IF(OR(I22=BT2,I22=BT3),0,AC69)","v":{"$error":"#DIV/0!"}},{"$error":"#DIV/0!"},{"$error":"#DIV/0!"},{"$f":"IF(AND(I21=BW6,OR(I22=BT5,I22=BT6)),X61,)","v":{"$error":"#DIV/0!"}},{"$f":"IF(OR(I22=BT5,I22=BT6),AG69,)","v":{"$error":"#DIV/0!"}},null,{"$f":"IF(L22=CI3,AI60+(CI25/4),AI70-(CH25/4))","v":{"$error":"#DIV/0!"}},{"$f":"AJ72-CI15-(CF10/4)","v":{"$error":"#DIV/0!"}},{"$f":"IF(OR(L22=CI4,L22=CI5,L22=CI6),AK72+((AK68-AK72)/4),)","v":{"$error":"#DIV/0!"}},{"$f":"IF(OR(L22=CI4,L22=CI5,L22=CI6),(CF26/2)-CI19,)","v":{"$error":"#DIV/0!"}},{"$error":"#DIV/0!"},{"$error":"#DIV/0!"},{"$f":"IF(OR(L22=CI5,L22=CI6),AO70-((AO68-AO72)/4),)","v":{"$error":"#DIV/0!"}},{"$f":"IF(OR(L22=CI5,L22=CI6),AP69,)","v":{"$error":"#DIV/0!"}},{"$f":"IF(L21=CL5,0,AI61)","v":{"$error":"#DIV/0!"}},{"$f":"AR69","v":{"$error":"#DIV/0!"}},{"$f":"IF(AND(L21=CL6,OR(L22=CI4,L22=CI5,L22=CI6)),AK61,)","v":{"$error":"#DIV/0!"}},{"$f":"IF(OR(L22=CI2,L22=CI3),0,AT69)","v":{"$error":"#DIV/0!"}},{"$error":"#DIV/0!"},{"$error":"#DIV/0!"},{"$f":"IF(AND(L21=CL6,OR(L22=CI5,L22=CI6)),AO61,)","v":{"$error":"#DIV/0!"}},{"$f":"IF(OR(L22=CI5,L22=CI6),AX69,)","v":{"$error":"#DIV/0!"}}]
[{"$f":"A60","v":{"$error":"#DIV/0!"}},{"$f":"B68+BB10","v":{"$error":"#DIV/0!"}},{"$f":"IF(OR(E22=BE4,E22=BE5,E22=BE6),O49+BB30,)","v":{"$error":"#DIV/0!"}},{"$f":"IF(OR(E22=BE4,E22=BE5,E22=BE6),D68,)","v":{"$error":"#DIV/0!"}},{"$f":"IF($E$22=$BE$6,(C72+$BB$30)+($BB$27/3),0)","v":{"$error":"#DIV/0!"}},{"$error":"#DIV/0!"},{"$f":"IF(E22=BE5,O52+(BB27/2),IF(E22=BE6,BG29,))","v":{"$error":"#DIV/0!"}},{"$f":"IF(OR(E22=BE5,E22=BE6),H68,)","v":{"$error":"#DIV/0!"}},{"$f":"IF(E21=BH5,0,A60)","v":{"$error":"#DIV/0!"}},{"$f":"J68","v":{"$error":"#DIV/0!"}},{"$f":"IF(AND(E21=BH6,OR(E22=BE4,E22=BE5,E22=BE6)),C76,)","v":{"$error":"#DIV/0!"}},{"$f":"IF(OR(E22=BE2,E22=BE3),0,L68)","v":{"$error":"#DIV/0!"}},{"$f":"IF(AND($E$22=$BE$6,$E$21=$BH$6),(K72+$BB$30)+($BB$27/3),0)","v":{"$error":"#DIV/0!"}},{"$error":"#DIV/0!"},{"$f":"IF(AND(E21=BH6,OR(E22=BE5,E22=BE6)),G60,)","v":{"$error":"#DIV/0!"}},{"$f":"IF(OR(E22=BE5,E22=BE6),P68,)","v":{"$error":"#DIV/0!"}},null,{"$f":"R60","v":{"$error":"#DIV/0!"}},{"$f":"S68+BQ10","v":{"$error":"#DIV/0!"}},{"$f":"IF(OR(I22=BT4,I22=BT5,I22=BT6),AF49+BQ30,)","v":{"$error":"#DIV/0!"}},{"$f":"IF(OR(I22=BT4,I22=BT5,I22=BT6),U68,)","v":{"$error":"#DIV/0!"}},{"$f":"IF($I$22=$BE$6,(T72+$BB$30)+($BB$27/3),0)","v":{"$error":"#DIV/0!"}},{"$error":"#DIV/0!"},{"$f":"IF(I22=BT5,AF52+(BQ27/2),IF(I22=BT6,BV29,))","v":{"$error":"#DIV/0!"}},{"$f":"IF(OR(I22=BT5,I22=BT6),Y68,)","v":{"$error":"#DIV/0!"}},{"$f":"IF(I21=BW5,0,R60)","v":{"$error":"#DIV/0!"}},{"$f":"AA68","v":{"$error":"#DIV/0!"}},{"$f":"IF(AND(I21=BW6,OR(I22=BT4,I22=BT5,I22=BT6)),T76,)","v":{"$error":"#DIV/0!"}},{"$f":"IF(OR(I22=BT2,I22=BT3),0,AC68)","v":{"$error":"#DIV/0!"}},{"$f":"IF(AND($I$22=$BE$6,$I$21=$BH$6),(AB72+$BB$30)+($BB$27/3),0)","v":{"$error":"#DIV/0!"}},{"$error":"#DIV/0!"},{"$f":"IF(AND(I21=BW6,OR(I22=BT5,I22=BT6)),X60,)","v":{"$error":"#DIV/0!"}},{"$f":"IF(OR(I22=BT5,I22=BT6),AG68,)","v":{"$error":"#DIV/0!"}},null,{"$f":"AI60","v":{"$error":"#DIV/0!"}},{"$f":"AJ68+CF10","v":{"$error":"#DIV/0!"}},{"$f":"IF(OR(L22=CI4,L22=CI5,L22=CI6),AW49+CF30,)","v":{"$error":"#DIV/0!"}},{"$f":"IF(OR(L22=CI4,L22=CI5,L22=CI6),AL68,)","v":{"$error":"#DIV/0!"}},{"$f":"IF($L$22=$BE$6,(AK72+$BB$30)+($BB$27/3),0)","v":{"$error":"#DIV/0!"}},{"$error":"#DIV/0!"},{"$f":"IF(L22=CI5,AW52+(CF27/2),IF(L22=CI6,CK29,))","v":{"$error":"#DIV/0!"}},{"$f":"IF(OR(L22=CI5,L22=CI6),AP68,)","v":{"$error":"#DIV/0!"}},{"$f":"IF(L21=CL5,0,AI60)","v":{"$error":"#DIV/0!"}},{"$f":"AR68","v":{"$error":"#DIV/0!"}},{"$f":"IF(AND(L21=CL6,OR(L22=CI4,L22=CI5,L22=CI6)),AK76,)","v":{"$error":"#DIV/0!"}},{"$f":"IF(OR(L22=CI2,L22=CI3),0,AT68)","v":{"$error":"#DIV/0!"}},{"$f":"IF(AND($L$22=$BE$6,$L$21=$BH$6),(AS72+$BB$30)+($BB$27/3),0)","v":{"$error":"#DIV/0!"}},{"$error":"#DIV/0!"},{"$f":"IF(AND(L21=CL6,OR(L22=CI5,L22=CI6)),AO60,)","v":{"$error":"#DIV/0!"}},{"$f":"IF(OR(L22=CI5,L22=CI6),AX68,)","v":{"$error":"#DIV/0!"}}]
[{"$f":"A60+BE14","v":{"$error":"#DIV/0!"}},{"$f":"B72-(BE24/4)","v":{"$error":"#DIV/0!"}},{"$f":"IF(OR(E22=BE4,E22=BE5,E22=BE6),C72+BE18-(BB14/5),)","v":{"$error":"#DIV/0!"}},{"$f":"D67","v":{"$error":"#DIV/0!"}},{"$f":"IF($E$22=$BE$6,(C73+$BB$30)+($BB$27/3),0)","v":{"$error":"#DIV/0!"}},{"$error":"#DIV/0!"},{"$f":"IF(OR(E22=BE5,E22=BE6),G72+BH16-(BB18/5),)","v":{"$error":"#DIV/0!"}},{"$f":"IF(OR(E22=BE5,E22=BE6),H67,)","v":{"$error":"#DIV/0!"}},{"$f":"IF(E21=BH5,0,A60+BE14)","v":{"$error":"#DIV/0!"}},{"$f":"IF(E21=BH5,0,J72-(BE24/4))","v":{"$error":"#DIV/0!"}},{"$f":"IF(AND(E21=BH6,OR(E22=BE4,E22=BE5,E22=BE6)),C75,)","v":{"$error":"#DIV/0!"}},{"$f":"L67","v":{"$error":"#DIV/0!"}},{"$f":"IF(AND($E$22=$BE$6,$E$21=$BH$6),(K73+$BB$30)+($BB$27/3),0)","v":{"$error":"#DIV/0!"}},{"$error":"#DIV/0!"},{"$f":"IF(AND(E21=BH6,OR(E22=BE5,E22=BE6)),G75,)","v":{"$error":"#DIV/0!"}},{"$f":"IF(OR(E22=BE5,E22=BE6),L73,)","v":{"$error":"#DIV/0!"}},null,{"$f":"R60+BT14","v":{"$error":"#DIV/0!"}},{"$f":"S72-(BT24/4)","v":{"$error":"#DIV/0!"}},{"$f":"IF(OR(I22=BT4,I22=BT5,I22=BT6),T72+BT18-(BQ14/5),)","v":{"$error":"#DIV/0!"}},{"$f":"U67","v":{"$error":"#DIV/0!"}},{"$f":"IF($I$22=$BE$6,(T73+$BB$30)+($BB$27/3),0)","v":{"$error":"#DIV/0!"}},{"$error":"#DIV/0!"},{"$f":"IF(OR(I22=BT5,I22=BT6),X72+BW16-(BQ18/5),)","v":{"$error":"#DIV/0!"}},{"$f":"IF(OR(I22=BT5,I22=BT6),Y67,)","v":{"$error":"#DIV/0!"}},{"$f":"IF(I21=BW5,0,R60+BT14)","v":{"$error":"#DIV/0!"}},{"$f":"IF(I21=BW5,0,AA72-(BT24/4))","v":{"$error":"#DIV/0!"}},{"$f":"IF(AND(I21=BW6,OR(I22=BT4,I22=BT5,I22=BT6)),T75,)","v":{"$error":"#DIV/0!"}},{"$f":"AC67","v":{"$error":"#DIV/0!"}},{"$f":"IF(AND($I$22=$BE$6,$I$21=$BH$6),(AB73+$BB$30)+($BB$27/3),0)","v":{"$error":"#DIV/0!"}},{"$error":"#DIV/0!"},{"$f":"IF(AND(I21=BW6,OR(I22=BT5,I22=BT6)),X75,)","v":{"$error":"#DIV/0!"}},{"$f":"IF(OR(I22=BT5,I22=BT6),AC73,)","v":{"$error":"#DIV/0!"}},null,{"$f":"AI60+CI14","v":{"$error":"#DIV/0!"}},{"$f":"AJ72-(CI24/4)","v":{"$error":"#DIV/0!"}},{"$f":"IF(OR(L22=CI4,L22=CI5,L22=CI6),AK72+CI18-(CF14/5),)","v":{"$error":"#DIV/0!"}},{"$f":"AL67","v":{"$error":"#DIV/0!"}},{"$f":"IF($L$22=$BE$6,(AK73+$BB$30)+($BB$27/3),0)","v":{"$error":"#DIV/0!"}},{"$error":"#DIV/0!"},{"$f":"IF(OR(L22=CI5,L22=CI6),AO72+CL16-(CF18/5),)","v":{"$error":"#DIV/0!"}},{"$f":"IF(OR(L22=CI5,L22=CI6),AP67,)","v":{"$error":"#DIV/0!"}},{"$f":"IF(L21=CL5,0,AI60+CI14)","v":{"$error":"#DIV/0!"}},{"$f":"IF(L21=CL5,0,AR72-(CI24/4))","v":{"$error":"#DIV/0!"}},{"$f":"IF(AND(L21=CL6,OR(L22=CI4,L22=CI5,L22=CI6)),AK75,)","v":{"$error":"#DIV/0!"}},{"$f":"AT67","v":{"$error":"#DIV/0!"}},{"$f":"IF(AND($L$22=$BE$6,$L$21=$BH$6),(AS73+$BB$30)+($BB$27/3),0)","v":{"$error":"#DIV/0!"}},{"$error":"#DIV/0!"},{"$f":"IF(AND(L21=CL6,OR(L22=CI5,L22=CI6)),AO75,)","v":{"$error":"#DIV/0!"}},{"$f":"IF(OR(L22=CI5,L22=CI6),AT73,)","v":{"$error":"#DIV/0!"}}]
[{"$f":"A60+BD14","v":{"$error":"#DIV/0!"}},{"$f":"B73-(BE24/4)","v":{"$error":"#DIV/0!"}},{"$f":"IF(OR(E22=BE4,E22=BE5,E22=BE6),C76+BD18+(BB14/1.6),)","v":{"$error":"#DIV/0!"}},{"$f":"IF(OR(E22=BE4,E22=BE5,E22=BE6),D66,)","v":{"$error":"#DIV/0!"}},{"$f":"IF($E$22=$BE$6,(C74+$BB$30)+($BB$27/3),0)","v":{"$error":"#DIV/0!"}},{"$error":"#DIV/0!"},{"$f":"IF(OR(E22=BE5,E22=BE6),G76+BG16+(BB18/1.6),)","v":{"$error":"#DIV/0!"}},{"$f":"IF(OR(E22=BE5,E22=BE6),H66,)","v":{"$error":"#DIV/0!"}},{"$f":"IF(E21=BH5,0,A60+BD14)","v":{"$error":"#DIV/0!"}},{"$f":"IF(E21=BH5,0,J73-(BE24/4))","v":{"$error":"#DIV/0!"}},{"$f":"IF(AND(E21=BH6,OR(E22=BE4,E22=BE5,E22=BE6)),C74,)","v":{"$error":"#DIV/0!"}},{"$f":"IF(OR(E22=BE2,E22=BE3),0,L66)","v":{"$error":"#DIV/0!"}},{"$f":"IF(AND($E$22=$BE$6,$E$21=$BH$6),(K74+$BB$30)+($BB$27/3),0)","v":{"$error":"#DIV/0!"}},{"$error":"#DIV/0!"},{"$f":"IF(AND(E21=BH6,OR(E22=BE5,E22=BE6)),G74,)","v":{"$error":"#DIV/0!"}},{"$f":"IF(OR(E22=BE5,E22=BE6),L74,)","v":{"$error":"#DIV/0!"}},null,{"$f":"R60+BS14","v":{"$error":"#DIV/0!"}},{"$f":"S73-(BT24/4)","v":{"$error":"#DIV/0!"}},{"$f":"IF(OR(I22=BT4,I22=BT5,I22=BT6),T76+BS18+(BQ14/1.6),)","v":{"$error":"#DIV/0!"}},{"$f":"IF(OR(I22=BT4,I22=BT5,I22=BT6),U66,)","v":{"$error":"#DIV/0!"}},{"$f":"IF($I$22=$BE$6,(T74+$BB$30)+($BB$27/3),0)","v":{"$error":"#DIV/0!"}},{"$error":"#DIV/0!"},{"$f":"IF(OR(I22=BT5,I22=BT6),X76+BV16+(BQ18/1.6),)","v":{"$error":"#DIV/0!"}},{"$f":"IF(OR(I22=BT5,I22=BT6),Y66,)","v":{"$error":"#DIV/0!"}},{"$f":"IF(I21=BW5,0,R60+BS14)","v":{"$error":"#DIV/0!"}},{"$f":"IF(I21=BW5,0,AA73-(BT24/4))","v":{"$error":"#DIV/0!"}},{"$f":"IF(AND(I21=BW6,OR(I22=BT4,I22=BT5,I22=BT6)),T74,)","v":{"$error":"#DIV/0!"}},{"$f":"IF(OR(I22=BT2,I22=BT3),0,AC66)","v":{"$error":"#DIV/0!"}},{"$f":"IF(AND($I$22=$BE$6,$I$21=$BH$6),(AB74+$BB$30)+($BB$27/3),0)","v":{"$error":"#DIV/0!"}},{"$error":"#DIV/0!"},{"$f":"IF(AND(I21=BW6,OR(I22=BT5,I22=BT6)),X74,)","v":{"$error":"#DIV/0!"}},{"$f":"IF(OR(I22=BT5,I22=BT6),AC74,)","v":{"$error":"#DIV/0!"}},null,{"$f":"AI60+CH14","v":{"$error":"#DIV/0!"}},{"$f":"AJ73-(CI24/4)","v":{"$error":"#DIV/0!"}},{"$f":"IF(OR(L22=CI4,L22=CI5,L22=CI6),AK76+CH18+(CF14/1.6),)","v":{"$error":"#DIV/0!"}},{"$f":"IF(OR(L22=CI4,L22=CI5,L22=CI6),AL66,)","v":{"$error":"#DIV/0!"}},{"$f":"IF($L$22=$BE$6,(AK74+$BB$30)+($BB$27/3),0)","v":{"$error":"#DIV/0!"}},{"$error":"#DIV/0!"},{"$f":"IF(OR(L22=CI5,L22=CI6),AO76+CK16+(CF18/1.6),)","v":{"$error":"#DIV/0!"}},{"$f":"IF(OR(L22=CI5,L22=CI6),AP66,)","v":{"$error":"#DIV/0!"}},{"$f":"IF(L21=CL5,0,AI60+CH14)","v":{"$error":"#DIV/0!"}},{"$f":"IF(L21=CL5,0,AR73-(CI24/4))","v":{"$error":"#DIV/0!"}},{"$f":"IF(AND(L21=CL6,OR(L22=CI4,L22=CI5,L22=CI6)),AK74,)","v":{"$error":"#DIV/0!"}},{"$f":"IF(OR(L22=CI2,L22=CI3),0,AT66)","v":{"$error":"#DIV/0!"}},{"$f":"IF(AND($L$22=$BE$6,$L$21=$BH$6),(AS74+$BB$30)+($BB$27/3),0)","v":{"$error":"#DIV/0!"}},{"$error":"#DIV/0!"},{"$f":"IF(AND(L21=CL6,OR(L22=CI5,L22=CI6)),AO74,)","v":{"$error":"#DIV/0!"}},{"$f":"IF(OR(L22=CI5,L22=CI6),AT74,)","v":{"$error":"#DIV/0!"}}]
[{"$f":"A73","v":{"$error":"#DIV/0!"}},{"$f":"B74-(BE24/4)","v":{"$error":"#DIV/0!"}},{"$f":"IF(OR(E22=BE4,E22=BE5,E22=BE6),C76+BE18+(BB14/2.75),)","v":{"$error":"#DIV/0!"}},{"$f":"D65","v":{"$error":"#DIV/0!"}},{"$f":"IF($E$22=$BE$6,(C75+$BB$30)+($BB$27/3),0)","v":{"$error":"#DIV/0!"}},{"$error":"#DIV/0!"},{"$f":"IF(OR(E22=BE5,E22=BE6),G76+BH16+(BB18/2.75),)","v":{"$error":"#DIV/0!"}},{"$f":"IF(OR(E22=BE5,E22=BE6),H65,)","v":{"$error":"#DIV/0!"}},{"$f":"IF(E21=BH5,0,I73)","v":{"$error":"#DIV/0!"}},{"$f":"IF(E21=BH5,0,J74-(BE24/4))","v":{"$error":"#DIV/0!"}},{"$f":"IF(AND(E21=BH6,OR(E22=BE4,E22=BE5,E22=BE6)),C73,)","v":{"$error":"#DIV/0!"}},{"$f":"L65","v":{"$error":"#DIV/0!"}},{"$f":"IF(AND($E$22=$BE$6,$E$21=$BH$6),(K75+$BB$30)+($BB$27/3),0)","v":{"$error":"#DIV/0!"}},{"$error":"#DIV/0!"},{"$f":"IF(AND(E21=BH6,OR(E22=BE5,E22=BE6)),G73,)","v":{"$error":"#DIV/0!"}},{"$f":"IF(OR(E22=BE5,E22=BE6),L75,)","v":{"$error":"#DIV/0!"}},null,{"$f":"R73","v":{"$error":"#DIV/0!"}},{"$f":"S74-(BT24/4)","v":{"$error":"#DIV/0!"}},{"$f":"IF(OR(I22=BT4,I22=BT5,I22=BT6),T76+BT18+(BQ14/2.75),)","v":{"$error":"#DIV/0!"}},{"$f":"U65","v":{"$error":"#DIV/0!"}},{"$f":"IF($I$22=$BE$6,(T75+$BB$30)+($BB$27/3),0)","v":{"$error":"#DIV/0!"}},{"$error":"#DIV/0!"},{"$f":"IF(OR(I22=BT5,I22=BT6),X76+BW16+(BQ18/2.75),)","v":{"$error":"#DIV/0!"}},{"$f":"IF(OR(I22=BT5,I22=BT6),Y65,)","v":{"$error":"#DIV/0!"}},{"$f":"IF(I21=BW5,0,Z73)","v":{"$error":"#DIV/0!"}},{"$f":"IF(I21=BW5,0,AA74-(BT24/4))","v":{"$error":"#DIV/0!"}},{"$f":"IF(AND(I21=BW6,OR(I22=BT4,I22=BT5,I22=BT6)),T73,)","v":{"$error":"#DIV/0!"}},{"$f":"AC65","v":{"$error":"#DIV/0!"}},{"$f":"IF(AND($I$22=$BE$6,$I$21=$BH$6),(AB75+$BB$30)+($BB$27/3),0)","v":{"$error":"#DIV/0!"}},{"$error":"#DIV/0!"},{"$f":"IF(AND(I21=BW6,OR(I22=BT5,I22=BT6)),X73,)","v":{"$error":"#DIV/0!"}},{"$f":"IF(OR(I22=BT5,I22=BT6),AC75,)","v":{"$error":"#DIV/0!"}},null,{"$f":"AI73","v":{"$error":"#DIV/0!"}},{"$f":"AJ74-(CI24/4)","v":{"$error":"#DIV/0!"}},{"$f":"IF(OR(L22=CI4,L22=CI5,L22=CI6),AK76+CI18+(CF14/2.75),)","v":{"$error":"#DIV/0!"}},{"$f":"AL65","v":{"$error":"#DIV/0!"}},{"$f":"IF($L$22=$BE$6,(AK75+$BB$30)+($BB$27/3),0)","v":{"$error":"#DIV/0!"}},{"$error":"#DIV/0!"},{"$f":"IF(OR(L22=CI5,L22=CI6),AO76+CL16+(CF18/2.75),)","v":{"$error":"#DIV/0!"}},{"$f":"IF(OR(L22=CI5,L22=CI6),AP65,)","v":{"$error":"#DIV/0!"}},{"$f":"IF(L21=CL5,0,AQ73)","v":{"$error":"#DIV/0!"}},{"$f":"IF(L21=CL5,0,AR74-(CI24/4))","v":{"$error":"#DIV/0!"}},{"$f":"IF(AND(L21=CL6,OR(L22=CI4,L22=CI5,L22=CI6)),AK73,)","v":{"$error":"#DIV/0!"}},{"$f":"AT65","v":{"$error":"#DIV/0!"}},{"$f":"IF(AND($L$22=$BE$6,$L$21=$BH$6),(AS75+$BB$30)+($BB$27/3),0)","v":{"$error":"#DIV/0!"}},{"$error":"#DIV/0!"},{"$f":"IF(AND(L21=CL6,OR(L22=CI5,L22=CI6)),AO73,)","v":{"$error":"#DIV/0!"}},{"$f":"IF(OR(L22=CI5,L22=CI6),AT75,)","v":{"$error":"#DIV/0!"}}]
[{"$f":"A60","v":{"$error":"#DIV/0!"}},{"$f":"BB30","v":{"$error":"#DIV/0!"}},{"$f":"IF(OR(E22=BE4,E22=BE5,E22=BE6),C60,)","v":{"$error":"#DIV/0!"}},{"$f":"IF(OR(E22=BE4,E22=BE5,E22=BE6),BB30,)","v":{"$error":"#DIV/0!"}},{"$f":"IF($E$22=$BE$6,(C76+$BB$30)+($BB$27/3),0)","v":{"$error":"#DIV/0!"}},{"$error":"#DIV/0!"},{"$f":"IF(OR(E22=BE5,E22=BE6),G60,)","v":{"$error":"#DIV/0!"}},{"$f":"IF(OR(E22=BE5,E22=BE6),H64,)","v":{"$error":"#DIV/0!"}},{"$f":"IF(E21=BH5,0,A60)","v":{"$error":"#DIV/0!"}},{"$f":"J60","v":{"$error":"#DIV/0!"}},{"$f":"IF(AND(E21=BH6,OR(E22=BE4,E22=BE5,E22=BE6)),K60,)","v":{"$error":"#DIV/0!"}},{"$f":"IF(E22=BE2,0,L60)","v":{"$error":"#DIV/0!"}},{"$f":"IF(AND($E$22=$BE$6,$E$21=$BH$6),(K76+$BB$30)+($BB$27/3),0)","v":{"$error":"#DIV/0!"}},{"$error":"#DIV/0!"},{"$f":"IF(AND(E21=BH6,OR(E22=BE5,E22=BE6)),G72,)","v":{"$error":"#DIV/0!"}},{"$f":"IF(OR(E22=BE5,E22=BE6),P60,)","v":{"$error":"#DIV/0!"}},null,{"$f":"R60","v":{"$error":"#DIV/0!"}},{"$f":"BQ30","v":{"$error":"#DIV/0!"}},{"$f":"IF(OR(I22=BT4,I22=BT5,I22=BT6),T60,)","v":{"$error":"#DIV/0!"}},{"$f":"IF(OR(I22=BT4,I22=BT5,I22=BT6),BQ30,)","v":{"$error":"#DIV/0!"}},{"$f":"IF($I$22=$BE$6,(T76+$BB$30)+($BB$27/3),0)","v":{"$error":"#DIV/0!"}},{"$error":"#DIV/0!"},{"$f":"IF(OR(I22=BT5,I22=BT6),X60,)","v":{"$error":"#DIV/0!"}},{"$f":"IF(OR(I22=BT5,I22=BT6),Y64,)","v":{"$error":"#DIV/0!"}},{"$f":"IF(I21=BW5,0,R60)","v":{"$error":"#DIV/0!"}},{"$f":"AA60","v":{"$error":"#DIV/0!"}},{"$f":"IF(AND(I21=BW6,OR(I22=BT4,I22=BT5,I22=BT6)),AB60,)","v":{"$error":"#DIV/0!"}},{"$f":"IF(I22=BT2,0,AC60)","v":{"$error":"#DIV/0!"}},{"$f":"IF(AND($I$22=$BE$6,$I$21=$BH$6),(AB76+$BB$30)+($BB$27/3),0)","v":{"$error":"#DIV/0!"}},{"$error":"#DIV/0!"},{"$f":"IF(AND(I21=BW6,OR(I22=BT5,I22=BT6)),X72,)","v":{"$error":"#DIV/0!"}},{"$f":"IF(OR(I22=BT5,I22=BT6),AG60,)","v":{"$error":"#DIV/0!"}},null,{"$f":"AI60","v":{"$error":"#DIV/0!"}},{"$f":"CF30","v":{"$error":"#DIV/0!"}},{"$f":"IF(OR(L22=CI4,L22=CI5,L22=CI6),AK60,)","v":{"$error":"#DIV/0!"}},{"$f":"IF(OR(L22=CI4,L22=CI5,L22=CI6),CF30,)","v":{"$error":"#DIV/0!"}},{"$f":"IF($L$22=$BE$6,(AK76+$BB$30)+($BB$27/3),0)","v":{"$error":"#DIV/0!"}},{"$error":"#DIV/0!"},{"$f":"IF(OR(L22=CI5,L22=CI6),AO60,)","v":{"$error":"#DIV/0!"}},{"$f":"IF(OR(L22=CI5,L22=CI6),AP64,)","v":{"$error":"#DIV/0!"}},{"$f":"IF(L21=CL5,0,AI60)","v":{"$error":"#DIV/0!"}},{"$f":"AR60","v":{"$error":"#DIV/0!"}},{"$f":"IF(AND(L21=CL6,OR(L22=CI4,L22=CI5,L22=CI6)),AS60,)","v":{"$error":"#DIV/0!"}},{"$f":"IF(L22=CI2,0,AT60)","v":{"$error":"#DIV/0!"}},{"$f":"IF(AND($L$22=$BE$6,$L$21=$BH$6),(AS76+$BB$30)+($BB$27/3),0)","v":{"$error":"#DIV/0!"}},{"$error":"#DIV/0!"},{"$f":"IF(AND(L21=CL6,OR(L22=CI5,L22=CI6)),AO72,)","v":{"$error":"#DIV/0!"}},{"$f":"IF(OR(L22=CI5,L22=CI6),AX60,)","v":{"$error":"#DIV/0!"}}]

{"sheet":"Georgian Double Hipped","index":7,"n_rows":83,"n_cols":126,"rows_kept":83,"cut":false,"hidden":false,"merged":[[24,39,25,40],[24,72,25,73],[21,3,22,3],[21,7,22,7],[21,10,22,10]]}
[null,null,null,null,null,null,null,null,null,null,null,null,null,null,null,null,null,null,null,null,null,null,null,null,null,null,null,null,null,null,null,null,null,null,null,null,null,null,null,null,null,null,null,null,null,null,null,null,null,null,null,null,null,null,null,null,null,null,null,null,null,null,null,null,null,null,null,null,null,null,null,null,null,null,null,null,null,null,null,null,null,null,"MBn material",{"$f":"IF(OR(E32=CN2,E32=CN3,E32=CN4,E32=CN5,E32=CN6),'  '!B6,IF(OR(E32=CN7,E32=CN8,E32=CN9,E32=CN10,E32=CN11,E32=CN12,E32=CN13,E32=CN14,E32=CN15),'  '!B7,IF(OR(E32=CN16,E32=CN17,E32=CN18,E32=CN19,E32=CN20),'  '!B8,)))","v":4.54},"Material cost",{"$f":"'  '!$B$10","v":13.25},"SBls","Warnings front/back","Warnings mid","Warnings front/back tri","Warnings mid tri","Fabric Colour",null,"Fittings Colours",null,null,null,"MBn material",{"$f":"IF(OR(I32=DC2,I32=DC3,I32=DC4,I32=DC5,I32=DC6),'  '!B6,IF(OR(I32=DC7,I32=DC8,I32=DC9,I32=DC10,I32=DC11,I32=DC12,I32=DC13,I32=DC14,I32=DC15),'  '!B7,IF(OR(I32=DC16,I32=DC17,I32=DC18,I32=DC19,I32=DC20),'  '!B8,)))","v":4.54},null,null,"SBls","Warnings front/back","Warnings mid","Warnings front/back tri","Warnings mid tri","Fabric Colour",null,"Fittings Colours",null,null,null,null,"MBn material",{"$f":"IF(OR(L32=DS2,L32=DS3,L32=DS4,L32=DS5,L32=DS6),'  '!B6,IF(OR(L32=DS7,L32=DS8,L32=DS9,L32=DS10,L32=DS11,L32=DS12,L32=DS13,L32=DS14,L32=DS15),'  '!B7,IF(OR(L32=DS16,L32=DS17,L32=DS18,L32=DS19,L32=DS20),'  '!B8,)))","v":4.54},null,null,"SBls","Warnings front/back","Warnings mid","Warnings front/back tri","Warnings mid tri","Fabric Colour",null,"Fittings Colours"]
[null,null,null,null,null,null,null,null,null,null,null,null,null,null,null,null,null,null,null,null,null,null,null,null,null,null,null,null,null,null,null,null,null,null,null,null,null,null,null,null,null,null,null,null,null,null,null,null,null,null,null,null,null,null,null,null,null,null,null,null,null,null,null,null,null,null,null,null,null,null,null,null,null,null,null,null,null,null,null,null,null,null,"Tri material",{"$f":"IF(OR(E33=CN2,E33=CN3,E33=CN4,E33=CN5,E33=CN6),'  '!B6,IF(OR(E33=CN7,E33=CN8,E33=CN9,E33=CN10,E33=CN11,E33=CN12,E33=CN13,E33=CN14,E33=CN15),'  '!B7,IF(OR(E33=CN16,E33=CN17,E33=CN18,E33=CN19,E33=CN20),'  '!B8,)))","v":4.54},"PE",{"$f":"'  '!$B$11","v":3},1,{"$f":"MIN(CI33,CL33)","v":{"$error":"#DIV/0!"}},{"$f":"CJ33","v":{"$error":"#DIV/0!"}},{"$f":"IF(E28<>CJ6,0.001,1)*CM33","v":0},{"$f":"IF(OR(E28=CJ6,E28=CJ6),1,0.00001)*CN33","v":{"$error":"#DIV/0!"}},"ISX Solid",null,"Stainless steel",null,null,null,"Tri material",{"$f":"IF(OR(I33=DC2,I33=DC3,I33=DC4,I33=DC5,I33=DC6),'  '!B6,IF(OR(I33=DC7,I33=DC8,I33=DC9,I33=DC10,I33=DC11,I33=DC12,I33=DC13,I33=DC14,I33=DC15),'  '!B7,IF(OR(I33=DC16,I33=DC17,I33=DC18,I33=DC19,I33=DC20),'  '!B8,)))","v":4.54},null,null,1,{"$f":"MIN(CX33,DA33)","v":{"$error":"#DIV/0!"}},{"$f":"CY33","v":{"$error":"#DIV/0!"}},{"$f":"IF(I28<>CY6,0.001,1)*DB33","v":0},{"$f":"IF(OR(I28=CY6,I28=CY6),1,0.00001)*DC33","v":{"$error":"#DIV/0!"}},"ISX Solid",null,"Stainless steel",null,null,null,null,"Tri material",{"$f":"IF(OR(L33=DS2,L33=DS3,L33=DS4,L33=DS5,L33=DS6),'  '!B6,IF(OR(L33=DS7,L33=DS8,L33=DS9,L33=DS10,L33=DS11,L33=DS12,L33=DS13,L33=DS14,L33=DS15),'  '!B7,IF(OR(L33=DS16,L33=DS17,L33=DS18,L33=DS19,L33=DS20),'  '!B8,)))","v":4.54},null,null,1,{"$f":"MIN(DN33,DQ33)","v":{"$error":"#DIV/0!"}},{"$f":"DO33","v":{"$error":"#DIV/0!"}},{"$f":"IF(L28<>DO6,0.001,1)*DR33","v":0},{"$f":"IF(OR(L28=DO6,L28=DO6),1,0.00001)*DS33","v":{"$error":"#DIV/0!"}},"ISX Solid",null,"Stainless steel"]
[null,null,null,null,null," ",null,null,null,null,null,null,null,null,null,null,null,null,null,null,null,null,null,null,null,null,null,null,null,null,null,null,null,null,null,null,null," ",null,null,null,null,null,null,null,null,null,null,null,null,null,null,null,null,null,null,null,null,null,null,null,null,null,null,null,null,null,null,null,null," ",null,null,null,null,null,null,null,null,null,null,null,null,null,"PN",{"$f":"'  '!$B$19","v":4.25},2,{"$f":"IF(E26=CI2,CI34,MIN(CI34,CL34))","v":{"$error":"#DIV/0!"}},{"$f":"CJ34+IF(OR(E26=CI2,E26=CI3),1000,1)","v":{"$error":"#DIV/0!"}},{"$f":"CM34","v":{"$error":"#DIV/0!"}},{"$f":"CN34","v":{"$error":"#DIV/0!"}},"ISX White",null,"White",null,null,null,null,null,null,null,2,{"$f":"IF(I26=CX2,CX34,MIN(CX34,DA34))","v":{"$error":"#DIV/0!"}},{"$f":"CY34+IF(OR(I26=CX2,I26=CX3),1000,1)","v":{"$error":"#DIV/0!"}},{"$f":"DB34","v":{"$error":"#DIV/0!"}},{"$f":"DC34","v":{"$error":"#DIV/0!"}},"ISX White",null,"White",null,null,null,null,null,null,null,null,2,{"$f":"IF(L26=DN2,DN34,MIN(DN34,DQ34))","v":{"$error":"#DIV/0!"}},{"$f":"DO34+IF(OR(L26=DN2,L26=DN3),1000,1)","v":{"$error":"#DIV/0!"}},{"$f":"DR34","v":{"$error":"#DIV/0!"}},{"$f":"DS34","v":{"$error":"#DIV/0!"}},"ISX White",null,"White"]
[null,null,null,null,null,null,null,null,null,null,null,null,null,null,null,null,null,null,null,null,null,null,null,null,null,null,null,null,null,null,null,null,null,null,null,null,null,null,null,null,null,null,null,null,null,null,null,null,null,null,null,null,null,null,null,null,null,null,null,null,null,null,null,null,null,null,null,null,null,null,null,null,null,null,null,null,null,null,null,null,null,null,null,null,null,null,3,"Tri sBls","Warning 1","Warning: SBl too narrow, increase no. of sBls, add additional fitting points or reduce gap size",null,"ISX Solid Ivory",null,"Gold",null,null,null,null,null,null,null,3,"Tri sBls","Warning 1","Warning: SBl too narrow, increase no. of sBls, add additional fitting points or reduce gap size",null,"ISX Solid Ivory",null,"Gold",null,null,null,null,null,null,null,null,3,"Tri sBls","Warning 1","Warning: SBl too narrow, increase no. of sBls, add additional fitting points or reduce gap size",null,"ISX Solid Ivory",null,"Gold"]
[null,{"$f":"'  '!A46","v":"v2023.2"},null,null,null,null,null,null,null,null,null,null,null,null,null,null,null,null,null,null,null,null,null,null,null,null,null,null,null,null,null,null,null,null,null,null,null,null,null,null,null,null,null,null,null,null,null,null,null,null,null,null,null,null,null,null,null,null,null,null,null,null,null,null,null,null,null,null,null,null,null,null,null,null,null,null,null,null,null,null,null,null,null,null,"No. of vents",null,4,"No","Warning 2","Warning: SBl too narrow, decrease no. of sBls, add additional fitting points or increase gap size",null,"ISX Solid Oyster",null,"Cost",{"$f":"IF(E34=CP2, '  '!B24, '  '!B25)","v":7},null,null,null,null,"No. of vents",null,4,"No","Warning 2","Warning: SBl too narrow, decrease no. of sBls, add additional fitting points or increase gap size",null,"ISX Solid Oyster",null,"Cost",{"$f":"IF(I34=CP2, '  '!B24, '  '!B25)","v":7},null,null,null,null,null,"No. of vents",null,4,"No","Warning 2","Warning: SBl too narrow, decrease no. of sBls, add additional fitting points or increase gap size",null,"ISX Solid Oyster",null,"Cost",{"$f":"IF(L34=CP2, '  '!B24, '  '!B25)","v":7}]
[null,null,null,null,null,null,null,null,null,null,null,null,null,null,null,null,null,null,null,null,null,null,null,null,null,null,null,null,null,null,null,null,null,null,null,null,null,null,null,null,null,null,null,null,null,null,null,null,null,null,null,null,null,null,null,null,null,null,null,null,null,null,null,null,null,null,null,null,null,null,null,null,null,null,null,null,null,null,null,null,null,null,"Standard",{"$f":"'  '!B14","v":1},0,null,5,"Yes","Warning 3","Warning: SBl too wide for standard fabric, please add more sBls or increase gap size",null,"ISX Solid Stone",null,null,null,null,null,null,null,0,null,5,"Yes","Warning 3","Warning: SBl too wide for standard fabric, please add more sBls or increase gap size",null,"ISX Solid Stone",null,null,null,null,null,null,null,null,0,null,5,"Yes","Warning 3","Warning: SBl too wide for standard fabric, please add more sBls or increase gap size",null,"ISX Solid Stone"]
[null,null,null,null,null,null,null,null,null,null,null,null,null,null,null,null,null,null,null,null,null,null,null,null,null,null,null,null,null,null,null,null,null,null,null,null,null,null,null,null,null,null,null,null,null,null,null,null,null,null,null,null,null,null,null,null,null,null,null,null,null,null,null,null,null,null,null,null,null,null,null,null,null,null,null,null,null,null,null,null,null,null,"Triangle",{"$f":"'  '!B15","v":0.75},1,null,null,"Coverage","Warning 4","Warning: Conservatory too long for standard fabric, contact office for more detBled price",null,"ISX Duplex",null,null,null,null,null,null,null,1,null,null,"Coverage","Warning 4","Warning: Conservatory too long for standard fabric, contact office for more detBled price",null,"ISX Duplex",null,null,null,null,null,null,null,null,1,null,null,"Coverage","Warning 4","Warning: Conservatory too long for standard fabric, contact office for more detBled price",null,"ISX Duplex"]
[null,null,null,null,null,null,null,null,null,null,null,null,null,null,null,null,null,null,null,null,null,null,null,null,null,null,null,null,null,null,null,null,null,null,null,null,null,null,null,null,null,null,null,null,null,null,null,null,null,null,null,null,null,null,null,null,null,null,null,null,null,null,null,null,null,null,null,null,null,null,null,null,null,null,null,null,null,null,null,null,null,null,null,null,2,"No. of corners",4,"One Side","Warning 5","Warning: Some triangular sBls are too thin for this conservatory",null,"ISX Duplex Ocean",null,null,null,null,null,null,null,2,null,null,"One Side","Warning 5","Warning: Some triangular sBls are too thin for this conservatory",null,"ISX Duplex Ocean",null,null,null,null,null,null,null,null,2,null,null,"One Side","Warning 5","Warning: Some triangular sBls are too thin for this conservatory",null,"ISX Duplex Ocean"]
[null,null,null,null,null,null,null,null,null,null," "," ",null,null,null,null,null,null,null,null,null,null,null,null,null,null,null,null,null,null,null,null,null,null,null,null,null,null,null,null,null,null," "," ",null,null,null,null,null,null,null,null,null,null,null,null,null,null,null,null,null,null,null,null,null,null,null,null,null,null,null,null,null,null,null," "," ",null,null,null,null,null,null,null,3,null,null,"Both Sides","Warning 6","Warning: Ridge is too short for a 3 sBls per side solution, reduce no. of sBls",null,"ISX Duplex Stone",null,null,null,null,null,null,null,3,null,null,"Both Sides","Warning 6","Warning: Ridge is too short for a 3 sBls per side solution, reduce no. of sBls",null,"ISX Duplex Stone",null,null,null,null,null,null,null,null,3,null,null,"Both Sides","Warning 6","Warning: Ridge is too short for a 3 sBls per side solution, reduce no. of sBls",null,"ISX Duplex Stone"]
[null,null,null,null,null,null,null,null,null,null,null,null,null,null,null,null,null,null,null,null,null,null,null,null,null,null,null,null,null,null,null,null,null,null,null,null,null,null,null,null,null,null,null,null,null,null,null,null,null,null,null,null,null,null,null,null,null,null,null,null,null,null,null,null,null,null,null,null,null,null,null,null,null,null,null,null,null,null,null,null,null,null,"Overlap front",{"$f":"IF(E27=CE11,CF11,IF(E27=CE12,CF12,IF(E27=CE13,CF13)))","v":{"$error":"#DIV/0!"}},4,"Curve allowance",0.5,null,null,null,null,"ISX Duplex Slate",null,null,null,null,null,"Overlap front",{"$f":"IF(I27=CT11,CU11,IF(I27=CT12,CU12,IF(I27=CT13,CU13)))","v":{"$error":"#DIV/0!"}},4,"Curve allowance",0.5,null,null,null,null,"ISX Duplex Slate",null,null,null,null,null,null,"Overlap front",{"$f":"IF(L27=DJ11,DK11,IF(L27=DJ12,DK12,IF(L27=DJ13,DK13)))","v":0},4,"Curve allowance",0.5,null,null,null,null,"ISX Duplex Slate"]
[null,null,null,null,null,null,null,null,null,null,null,null,null,null,null,null,null,null,null,null,null,null,null,null,null,null,null,null,null,null,null,null,null,null,null,null,null,null,null,null,null,null,null,null,null,null,null,null,null,null,null,null,null,null,null,null,null,null,null,null,null,null,null,null,null,null,null,null,null,null,null,null,null,null,null,null,null,null,null,null,null,null,0,0,5,"Front","Mid","Quarters","Back","Mid","Quarters","ISX Duplex Graphite",null,null,null,null,null,0,0,5,"Front","Mid","Quarters","Back","Mid","Quarters","ISX Duplex Graphite",null,null,null,null,null,null,0,0,5,"Front","Mid","Quarters","Back","Mid","Quarters","ISX Duplex Graphite"]
[null,null,null,null,null,null,null,null,null,null,null,null,null,null,null,null,null,null,null,null,null,null,null,null,null,null,null,null,null,null,null,null,null,null,null,null,null,null,null,null,null,null,null,null,null,null,null,null,null,null,null,null,null,null,null,null,null,null,null,null,null,null,null,null,null,null,null,null,null,null,null,null,null,null,null,null,null,null,null,null,null,null,0.5,{"$f":"(CI14*2)/2+(0.035/(IF(B23>B24,B23,B24)/1000))","v":{"$error":"#DIV/0!"}},6,"Horizontal",{"$f":"((CH27+(0.07/(IF(B23>B24,B23,B24)/1000)))*0.13)+CH25","v":{"$error":"#DIV/0!"}},{"$f":"(CI12)*0.75","v":{"$error":"#DIV/0!"}},"Horizontal",{"$f":"((CK27+(0.07/(IF(B23>B24,B23,B24)/1000)))*0.13)+CH25","v":{"$error":"#DIV/0!"}},{"$f":"(CL12)*0.75","v":{"$error":"#DIV/0!"}},"ISXFR Solid",null,null,null,null,null,0.5,{"$f":"(CX14*2)/2+(0.035/(IF(B23>B24,B23,B24)/1000))","v":{"$error":"#DIV/0!"}},6,"Horizontal",{"$f":"((CW27+(0.07/(IF(B23>B24,B23,B24)/1000)))*0.13)+CW25","v":{"$error":"#DIV/0!"}},{"$f":"(CX12)*0.75","v":{"$error":"#DIV/0!"}},"Horizontal",{"$f":"((CZ27+(0.07/(IF(B23>B24,B23,B24)/1000)))*0.13)+CW25","v":{"$error":"#DIV/0!"}},{"$f":"(DA12)*0.75","v":{"$error":"#DIV/0!"}},"ISXFR Solid",null,null,null,null,null,null,0.5,{"$f":"(DN14*2)/2+(0.035/(IF(B23>B24,B23,B24)/1000))","v":{"$error":"#DIV/0!"}},6,"Horizontal",{"$f":"((DM27+(0.07/(IF(B23>B24,B23,B24)/1000)))*0.13)+DM25","v":{"$error":"#DIV/0!"}},{"$f":"(DN12)*0.75","v":{"$error":"#DIV/0!"}},"Horizontal",{"$f":"((DP27+(0.07/(IF(B23>B24,B23,B24)/1000)))*0.13)+DM25","v":{"$error":"#DIV/0!"}},{"$f":"(DQ12)*0.75","v":{"$error":"#DIV/0!"}},"ISXFR Solid"]
[null,null,null,null,null,null,null,null,null,null," "," ",null,null,null,null,null,null,null,null,null,null,null,null,null,null,null,null,null,null,null,null,null,null,null,null,null,null,null,null,null,null," "," ",null,null,null,null,null,null,null,null,null,null,null,null,null,null,null,null,null,null,null,null,null,null,null,null,null,null,null,null,null,null,null," "," ",null,null,null,null,null,1,{"$f":"CI14*2+(0.035/(IF(B23>B24,B23,B24)/1000))","v":{"$error":"#DIV/0!"}}," ","Horizontal overlaped",{"$f":"((CI27+(0.07/(IF(B23>B24,B23,B24)/1000)))*0.13)+CH25","v":{"$error":"#DIV/0!"}},{"$f":"(CI13)*0.75","v":{"$error":"#DIV/0!"}},"Horizontal overlaped",{"$f":"((CK27+(0.07/(IF(B23>B24,B23,B24)/1000)))*0.13)+CH25","v":{"$error":"#DIV/0!"}},{"$f":"(CL13)*0.75","v":{"$error":"#DIV/0!"}},"ISXFR White",null,null,null,null,null,1,{"$f":"CX14*2+(0.035/(IF(B23>B24,B23,B24)/1000))","v":{"$error":"#DIV/0!"}}," ","Horizontal overlaped",{"$f":"((CX27+(0.07/(IF(B23>B24,B23,B24)/1000)))*0.13)+CW25","v":{"$error":"#DIV/0!"}},{"$f":"(CX13)*0.75","v":{"$error":"#DIV/0!"}},"Horizontal overlaped",{"$f":"((CZ27+(0.07/(IF(B23>B24,B23,B24)/1000)))*0.13)+CW25","v":{"$error":"#DIV/0!"}},{"$f":"(DA13)*0.75","v":{"$error":"#DIV/0!"}},"ISXFR White",null,null,null,null,null,null,1,{"$f":"DN14*2+(0.035/(IF(B23>B24,B23,B24)/1000))","v":{"$error":"#DIV/0!"}}," ","Horizontal overlaped",{"$f":"((DN27+(0.07/(IF(B23>B24,B23,B24)/1000)))*0.13)+DM25","v":{"$error":"#DIV/0!"}},{"$f":"(DN13)*0.75","v":{"$error":"#DIV/0!"}},"Horizontal overlaped",{"$f":"((DP27+(0.07/(IF(B23>B24,B23,B24)/1000)))*0.13)+DM25","v":{"$error":"#DIV/0!"}},{"$f":"(DQ13)*0.75","v":{"$error":"#DIV/0!"}},"ISXFR White"]
[null,null,null,null,null,null,null,null,null,null," ",null,null,null,null,null,null,null,null,null,null,null,null,null,null,null,null,null,null,null,null,null,null,null,null,null,null,null,null,null,null,null," ",null,null,null,null,null,null,null,null,null,null,null,null,null,null,null,null,null,null,null,null,null,null,null,null,null,null,null,null,null,null,null,null," ",null,null,null,null,null,null,"Overlap back",{"$f":"IF(E27=CE15,CF15,IF(E27=CE16,CF16,IF(E27=CE17,CF17)))","v":{"$error":"#DIV/0!"}},null,"Vertical",{"$f":"IF(E26=CI2,((CH28+(0.07/(IF(B23>B24,B23,B24)/1000)))*0.13)+CH25,((CH28+(0.07/(IF(B23>B24,B23,B24)/1000)))*0.13)+CH25)","v":{"$error":"#DIV/0!"}},{"$f":"CI14*0.75","v":{"$error":"#DIV/0!"}},"Vertical",{"$f":"IF(E26=CI2,0,((CJ28+(0.07/(IF(B23>B24,B23,B24)/1000)))*0.13)+CH25)","v":{"$error":"#DIV/0!"}},{"$f":"CL14*0.75","v":{"$error":"#DIV/0!"}},"ISXFR Solid Ivory",null,null,null,null,null,"Overlap back",{"$f":"IF(I27=CT15,CU15,IF(I27=CT16,CU16,IF(I27=CT17,CU17)))","v":{"$error":"#DIV/0!"}},null,"Vertical",{"$f":"IF(I26=CX2,((CW28+(0.07/(IF(B23>B24,B23,B24)/1000)))*0.13)+CW25,((CW28+(0.07/(IF(B23>B24,B23,B24)/1000)))*0.13)+CW25)","v":{"$error":"#DIV/0!"}},{"$f":"CX14*0.75","v":{"$error":"#DIV/0!"}},"Vertical",{"$f":"IF(I26=CX2,0,((CY28+(0.07/(IF(B23>B24,B23,B24)/1000)))*0.13)+CW25)","v":{"$error":"#DIV/0!"}},{"$f":"DA14*0.75","v":{"$error":"#DIV/0!"}},"ISXFR Solid Ivory",null,null,null,null,null,null,"Overlap back",{"$f":"IF(L27=DJ15,DK15,IF(L27=DJ16,DK16,IF(L27=DJ17,DK17)))","v":0},null,"Vertical",{"$f":"IF(L26=DN2,((DM28+(0.07/(IF(B23>B24,B23,B24)/1000)))*0.13)+DM25,((DM28+(0.07/(IF(B23>B24,B23,B24)/1000)))*0.13)+DM25)","v":{"$error":"#DIV/0!"}},{"$f":"DN14*0.75","v":{"$error":"#DIV/0!"}},"Vertical",{"$f":"IF(L26=DN2,0,((DO28+(0.07/(IF(B23>B24,B23,B24)/1000)))*0.13)+DM25)","v":{"$error":"#DIV/0!"}},{"$f":"DQ14*0.75","v":{"$error":"#DIV/0!"}},"ISXFR Solid Ivory"]
[null,null,null,null,null,null,null,null,null,null,null,null,null,null,null,null,null,null,null,null,null,null,null,null,null,null,null,null,null,null,null,null,null,null,null,null,null,null,null,null,null,null,null,null,null,null,null,null,null,null,null,null,null,null,null,null,null,null,null,null,null,null,null,null,null,null,null,null,null,null,null,null,null,null,null,null,null,null,null,null,null,null,0,0," ","Vertical overlaped",{"$f":"IF(E26=CI2,((CI28+(0.07/(IF(B23>B24,B23,B24)/1000)))*0.13)+CH25,((CI28+(0.07/(IF(B23>B24,B23,B24)/1000)))*0.13)+CH25)","v":{"$error":"#DIV/0!"}},{"$f":"CI15*0.75","v":{"$error":"#DIV/0!"}},"Vertical overlaped",{"$f":"IF(E26=CI2,((CK28+(0.07/(IF(B23>B24,B23,B24)/1000)))*0.13)+CH25,((CK28+(0.07/(IF(B23>B24,B23,B24)/1000)))*0.13)+CH25)","v":{"$error":"#DIV/0!"}},{"$f":"CL15*0.75","v":{"$error":"#DIV/0!"}},"ISXFR Solid Oyster",null,null,null,null,null,0,0," ","Vertical overlaped",{"$f":"IF(I26=CX2,((CX28+(0.07/(IF(B23>B24,B23,B24)/1000)))*0.13)+CW25,((CX28+(0.07/(IF(B23>B24,B23,B24)/1000)))*0.13)+CW25)","v":{"$error":"#DIV/0!"}},{"$f":"CX15*0.75","v":{"$error":"#DIV/0!"}},"Vertical overlaped",{"$f":"IF(I26=CX2,((CZ28+(0.07/(IF(B23>B24,B23,B24)/1000)))*0.13)+CW25,((CZ28+(0.07/(IF(B23>B24,B23,B24)/1000)))*0.13)+CW25)","v":{"$error":"#DIV/0!"}},{"$f":"DA15*0.75","v":{"$error":"#DIV/0!"}},"ISXFR Solid Oyster",null,null,null,null,null,null,0,0," ","Vertical overlaped",{"$f":"IF(L26=DN2,((DN28+(0.07/(IF(B23>B24,B23,B24)/1000)))*0.13)+DM25,((DN28+(0.07/(IF(B23>B24,B23,B24)/1000)))*0.13)+DM25)","v":{"$error":"#DIV/0!"}},{"$f":"DN15*0.75","v":{"$error":"#DIV/0!"}},"Vertical overlaped",{"$f":"IF(L26=DN2,((DP28+(0.07/(IF(B23>B24,B23,B24)/1000)))*0.13)+DM25,((DP28+(0.07/(IF(B23>B24,B23,B24)/1000)))*0.13)+DM25)","v":{"$error":"#DIV/0!"}},{"$f":"DQ15*0.75","v":{"$error":"#DIV/0!"}},"ISXFR Solid Oyster"]
[null,null,null,null,null,null,null,null,null,null,null,null,null,null,null,null,null,null,null,null,null,null,null,null,null,null,null,null,null,null,null,null,null,null,null,null,null,null,null,null,null,null,null,null,null,null,null,null,null,null,null,null,null,null,null,null,null,null,null,null,null,null,null,null,null,null,null,null,null,null,null,null,null,null,null,null,null,null,null,null,null,null,0.5,{"$f":"(CL14*2)/2+(0.035/(IF(B23>B24,B23,B24)/1000))","v":{"$error":"#DIV/0!"}},null,null,null,null,null,null,null,"ISXFR Duplex",null,null,null,null,null,0.5,{"$f":"(DA14*2)/2+(0.035/(IF(B23>B24,B23,B24)/1000))","v":{"$error":"#DIV/0!"}},null,null,null,null,null,null,null,"ISXFR Duplex",null,null,null,null,null,null,0.5,{"$f":"(DQ14*2)/2+(0.035/(IF(B23>B24,B23,B24)/1000))","v":{"$error":"#DIV/0!"}},null,null,null,null,null,null,null,"ISXFR Duplex"]
[null,null,null,null,null,null,null,null,null,null,null,null,null,null,null,null,null,null,null,null,null,null,null,null,null,null,null,null,null,null,null,null,null,null,null,null,null,null,null,null,null,null,null,null,null,null,null,null,null,null,null,null,null,null,null,null,null,null,null,null,null,null,null,null,null,null,null,null,null,null,null,null,null,null,null,null,null,null,null,null,null,null,1,{"$f":"CL14*2+(0.035/(IF(B23>B24,B23,B24)/1000))","v":{"$error":"#DIV/0!"}},null,"Mid left","Mid","Quarters","Mid right","Mid","Quarters","ISXFR Duplex Ocean",null,null,null,null,null,1,{"$f":"DA14*2+(0.035/(IF(B23>B24,B23,B24)/1000))","v":{"$error":"#DIV/0!"}},null,"Mid left","Mid","Quarters","Mid right","Mid","Quarters","ISXFR Duplex Ocean",null,null,null,null,null,null,1,{"$f":"DQ14*2+(0.035/(IF(B23>B24,B23,B24)/1000))","v":{"$error":"#DIV/0!"}},null,"Mid left","Mid","Quarters","Mid right","Mid","Quarters","ISXFR Duplex Ocean"]
[null,null,null,null,null,null,null,null,null,null," "," ",null,null,null,null,null,null," ",null,null,null,null,null,null,null,null,null,null,null,null,null,null,null,null,null,null,null,null,null,null,null," "," ",null,null,null,null,null,null," ",null,null,null,null,null,null,null,null,null,null,null,null,null,null,null,null,null,null,null,null,null,null,null,null," "," ",null,null,null,null,null,"Overlap middle left",{"$f":"IF(E27=CE19,CF19,IF(E27=CE20,CF20,IF(E27=CE21,CF21)))","v":{"$error":"#DIV/0!"}},null,"Horizontal",{"$f":"((CH30+(0.07/(IF(B23>B24,B23,B24)/1000)))*0.13)+CH25","v":{"$error":"#DIV/0!"}},{"$f":"(CI18)*0.75","v":{"$error":"#DIV/0!"}},"Horizontal",{"$f":"((CK30+(0.07/(IF(B23>B24,B23,B24)/1000)))*0.13)+CH25","v":{"$error":"#DIV/0!"}},{"$f":"(CL18)*0.75","v":{"$error":"#DIV/0!"}},"ISXFR Duplex Stone",null,null,null,null,null,"Overlap middle left",{"$f":"IF(I27=CT19,CU19,IF(I27=CT20,CU20,IF(I27=CT21,CU21)))","v":{"$error":"#DIV/0!"}},null,"Horizontal",{"$f":"((CW30+(0.07/(IF(B23>B24,B23,B24)/1000)))*0.13)+CW25","v":{"$error":"#DIV/0!"}},{"$f":"(CX18)*0.75","v":{"$error":"#DIV/0!"}},"Horizontal",{"$f":"((CZ30+(0.07/(IF(B23>B24,B23,B24)/1000)))*0.13)+CW25","v":{"$error":"#DIV/0!"}},{"$f":"(DA18)*0.75","v":{"$error":"#DIV/0!"}},"ISXFR Duplex Stone",null,null,null,null,null,null,"Overlap middle left",{"$f":"IF(L27=DJ19,DK19,IF(L27=DJ20,DK20,IF(L27=DJ21,DK21)))","v":0},null,"Horizontal",{"$f":"((DM30+(0.07/(IF(B23>B24,B23,B24)/1000)))*0.13)+DM25","v":{"$error":"#DIV/0!"}},{"$f":"(DN18)*0.75","v":{"$error":"#DIV/0!"}},"Horizontal",{"$f":"((DP30+(0.07/(IF(B23>B24,B23,B24)/1000)))*0.13)+DM25","v":{"$error":"#DIV/0!"}},{"$f":"(DQ18)*0.75","v":{"$error":"#DIV/0!"}},"ISXFR Duplex Stone"]
[null,null,null,null,null,null,null,null,null,null," ",null,null,null,null,null,null,null," ",null,null,null,null,null,null,null,null,null,null,null,null,null,null,null,null,null,null,null,null,null,null,null," ",null,null,null,null,null,null,null," ",null,null,null,null,null,null,null,null,null,null,null,null,null,null,null,null,null,null,null,null,null,null,null,null," ",null,null,null,null,null,null,0,0,null,"Vertical",{"$f":"((CH31+(0.07/(IF(B23>B24,B23,B24)/1000)))*0.13)+CH25","v":{"$error":"#DIV/0!"}},{"$f":"CI19*0.75","v":{"$error":"#DIV/0!"}},"Vertical",{"$f":"((CK31+(0.07/(IF(B23>B24,B23,B24)/1000)))*0.13)+CH25","v":{"$error":"#DIV/0!"}},{"$f":"CL19*0.75","v":{"$error":"#DIV/0!"}},"ISXFR Duplex Slate",null,null,null,null,null,0,0,null,"Vertical",{"$f":"((CW31+(0.07/(IF(B23>B24,B23,B24)/1000)))*0.13)+CW25","v":{"$error":"#DIV/0!"}},{"$f":"CX19*0.75","v":{"$error":"#DIV/0!"}},"Vertical",{"$f":"((CZ31+(0.07/(IF(B23>B24,B23,B24)/1000)))*0.13)+CW25","v":{"$error":"#DIV/0!"}},{"$f":"DA19*0.75","v":{"$error":"#DIV/0!"}},"ISXFR Duplex Slate",null,null,null,null,null,null,0,0,null,"Vertical",{"$f":"((DM31+(0.07/(IF(B23>B24,B23,B24)/1000)))*0.13)+DM25","v":{"$error":"#DIV/0!"}},{"$f":"DN19*0.75","v":{"$error":"#DIV/0!"}},"Vertical",{"$f":"((DP31+(0.07/(IF(B23>B24,B23,B24)/1000)))*0.13)+DM25","v":{"$error":"#DIV/0!"}},{"$f":"DQ19*0.75","v":{"$error":"#DIV/0!"}},"ISXFR Duplex Slate"]
[null,null,null,null,"           Plan view - looking from above          ",null,null,null,"Plan view - looking from above           ",null,null,"Plan view - looking from above         ",null,null,null,null,null,null,null,null,null,null,null,null,null,null,null,null,null,null,null,null,null,null,null,null,null,null,null,null,null,null,null,null,null,null,null,null,null,null,null,null,null,null,null,null,null,null,null,null,null,null,null,null,null,null,null,null,null,null,null,null,null,null,null,null,null,null,null,null,null,null,0.5,{"$f":"CI12+(0.035/(IF(B23>B24,B23,B24)/1000))","v":{"$error":"#DIV/0!"}}," ","Vertical overlaped",{"$f":"((AVERAGE(CH31:CJ31)+(0.07/(IF(B23>B24,B23,B24)/1000)))*0.13)+CH25","v":{"$error":"#DIV/0!"}},{"$f":"CI20*0.75","v":{"$error":"#DIV/0!"}},"Vertical overlaped",{"$f":"((AVERAGE(CK31:CM31)+(0.07/(IF(B23>B24,B23,B24)/1000)))*0.13)+CH25","v":{"$error":"#DIV/0!"}},{"$f":"CL20*0.75","v":{"$error":"#DIV/0!"}},"ISXFR Duplex Graphite",null,null,null,null,null,0.5,{"$f":"CX12+(0.035/(IF(B23>B24,B23,B24)/1000))","v":{"$error":"#DIV/0!"}}," ","Vertical overlaped",{"$f":"((AVERAGE(CW31:CY31)+(0.07/(IF(B23>B24,B23,B24)/1000)))*0.13)+CW25","v":{"$error":"#DIV/0!"}},{"$f":"CX20*0.75","v":{"$error":"#DIV/0!"}},"Vertical overlaped",{"$f":"((AVERAGE(CZ31:DB31)+(0.07/(IF(B23>B24,B23,B24)/1000)))*0.13)+CW25","v":{"$error":"#DIV/0!"}},{"$f":"DA20*0.75","v":{"$error":"#DIV/0!"}},"ISXFR Duplex Graphite",null,null,null,null,null,null,0.5,{"$f":"DN12+(0.035/(IF(B23>B24,B23,B24)/1000))","v":{"$error":"#DIV/0!"}}," ","Vertical overlaped",{"$f":"((AVERAGE(DM31:DO31)+(0.07/(IF(B23>B24,B23,B24)/1000)))*0.13)+DM25","v":{"$error":"#DIV/0!"}},{"$f":"DN20*0.75","v":{"$error":"#DIV/0!"}},"Vertical overlaped",{"$f":"((AVERAGE(DP31:DR31)+(0.07/(IF(B23>B24,B23,B24)/1000)))*0.13)+DM25","v":{"$error":"#DIV/0!"}},{"$f":"DQ20*0.75","v":{"$error":"#DIV/0!"}},"ISXFR Duplex Graphite"]
[null,null,null,null,null,null,null,null,null,null,null,null,null,null,null,null,null,null,null,null,null,null,null,null,null,null,null,null,null,null,null,null,null,null,null,null,null,null,null,null,null,null,null,null,null,null,null,null,null,null,null,null,null,null,null,null,null,null,null,null,null,null,null,null,null,null,null,null,null,null,null,null,null,null,null,null,null,null,null,null,null,null,1,{"$f":"(CI12*2)+(0.035/(IF(B23>B24,B23,B24)/1000))","v":{"$error":"#DIV/0!"}},null,"front","mid","tri front","tri mid",null,null,null,null,null,null,null,null,1,{"$f":"(CX12*2)+(0.035/(IF(B23>B24,B23,B24)/1000))","v":{"$error":"#DIV/0!"}},null,"front","mid","tri front","tri mid",null,null,null,null,null,null,null,null,null,1,{"$f":"(DN12*2)+(0.035/(IF(B23>B24,B23,B24)/1000))","v":{"$error":"#DIV/0!"}},null,"front","mid","tri front","tri mid"]
[null,"All dims in mm",null,{"$f":"'  '!$A$42","v":"Starting Cost incl. Installation"},{"$f":"(((((E35*'  '!B29)+CH36+CI36+CJ36+CK36+CL36+CM36+CN36)+('  '!B21*E29)+IF(E34<>CP2,E29*'  '!B26,0)))+(E30*'  '!B30)+(E31*'  '!B31))","v":{"$error":"#DIV/0!"}},null,null,{"$f":"'  '!$A$43","v":"Average Cost incl. Installation"},{"$f":"(((((I35*'  '!B29)+CW36+CX36+CY36+CZ36+DA36+DB36+DC36)+('  '!B21*I29)+IF(I34<>DE2,I29*'  '!B26,0)))+(I30*'  '!B30)+(I31*'  '!B31))","v":{"$error":"#DIV/0!"}},null,{"$f":"'  '!$A$44","v":"High End Cost incl. Installation"},{"$f":"(((((L35*'  '!B29)+DM36+DN36+DO36+DP36+DQ36+DR36+DS36)+('  '!B21*L29)+IF(L34<>DU2,L29*'  '!B26,0)))+(L30*'  '!B30)+(L31*'  '!B31))","v":{"$error":"#DIV/0!"}},null,null,null,null,null,null," ",null,null,null,null,null,null,null,null,null,null,null,null,null,null,null,null,null,null,null,null,null,null,null,null," ",null,null,null,null,null,null," ",null,null,null,null,null,null,null,null,null,null,null,null,null,null,null,null,null,null,null,null,null,null,null,null,null," ",null,null,null,null,null,"Overlap middle right",{"$f":"IF(E26=CI3,CF18,IF(E27=CE19,CF19,IF(E27=CE20,CF20,IF(E27=CE21,CF21))))","v":{"$error":"#DIV/0!"}},"SBl perimeter",{"$f":"((CI27+0.07)*2)+((CI28+0.07)*2)","v":{"$error":"#DIV/0!"}},{"$f":"((CH30+0.07)*2)+CI31+0.07+CH31+0.07","v":{"$error":"#DIV/0!"}},{"$f":"((CO30+0.07)*2)+CO31+0.07","v":{"$error":"#DIV/0!"}},{"$f":"((CN30+0.07)*2)+CN31+0.07","v":{"$error":"#DIV/0!"}},null,null,null,null,null,null,null,null,"Overlap middle right",{"$f":"IF(I26=CX3,CU18,IF(I27=CT19,CU19,IF(I27=CT20,CU20,IF(I27=CT21,CU21))))","v":{"$error":"#DIV/0!"}},"SBl perimeter",{"$f":"((CX27+0.07)*2)+((CX28+0.07)*2)","v":{"$error":"#DIV/0!"}},{"$f":"((CW30+0.07)*2)+CX31+0.07+CW31+0.07","v":{"$error":"#DIV/0!"}},{"$f":"((DD30+0.07)*2)+DD31+0.07","v":{"$error":"#DIV/0!"}},{"$f":"((DC30+0.07)*2)+DC31+0.07","v":{"$error":"#DIV/0!"}},null,null,null,null,null,null,null,null,null,"Overlap middle right",{"$f":"IF(L26=DN3,DK18,IF(L27=DJ19,DK19,IF(L27=DJ20,DK20,IF(L27=DJ21,DK21))))","v":{"$error":"#DIV/0!"}},"SBl perimeter",{"$f":"((DN27+0.07)*2)+((DN28+0.07)*2)","v":{"$error":"#DIV/0!"}},{"$f":"((DM30+0.07)*2)+DN31+0.07+DM31+0.07","v":{"$error":"#DIV/0!"}},{"$f":"((DT30+0.07)*2)+DT31+0.07","v":{"$error":"#DIV/0!"}},{"$f":"((DS30+0.07)*2)+DS31+0.07","v":{"$error":"#DIV/0!"}}]
["X1",null,null,null,{"$f":"'   '!U7+'  '!B33","v":{"$error":"#DIV/0!"}},null,null,null,{"$f":"'   '!AG7+'  '!B33","v":{"$error":"#DIV/0!"}},null,null,{"$f":"'   '!AS7+'  '!B33","v":{"$error":"#DIV/0!"}},null,null,null,null,null,null," ",null,null,null,null,null,null,null,null,null,null,null,null,null,null,null,null,null,null,null,null,null,null,null,null,null,null,null,null,null,null,null," ",null,null,null,null,null,null,null,null,null,null,null,null,null,null,null,null,null,null,null,null,null,null,null,null,null,null,null,null,null,null,null,"centre",{"$f":"CF18","v":{"$error":"#DIV/0!"}},"Roof area (m^2)",{"$f":"CF28/2*CF27","v":{"$error":"#DIV/0!"}},"Tri","Mid","Quarters",null,null,null,null,null,null,null,null,"centre",{"$f":"CU18","v":{"$error":"#DIV/0!"}},"Roof area (m^2)",{"$f":"CU28/2*CU27","v":{"$error":"#DIV/0!"}},"Tri","Mid","Quarters",null,null,null,null,null,null,null,null,null,"centre",{"$f":"DK18","v":0},"Roof area (m^2)",{"$f":"DK28/2*DK27","v":{"$error":"#DIV/0!"}},"Tri","Mid","Quarters"]
["Y1",null,null,null,null,null,null,null,null,null,null,null,null,null,null,null,null,null,null,null,null,null,null,null,null,null,null,null,null,null,null,null,null,null,null,null,null,null,null,null,null,null,null,null,null,null,null,null,null,null,null,null,null,null,null,null,null,null,null,null,null,null,null,null,null,null,null,null,null,null,null,null,null,null,null,null,null,null,null,null,null,null,null,"Dims in m","Glazing bar length",{"$f":"SQRT((CF26-CF25)^2+(CF28/2)^2)","v":{"$error":"#DIV/0!"}},"Vertical mid",{"$f":"((CN31+CH25)*0.13)+CH25","v":{"$error":"#DIV/0!"}},{"$f":"CJ24*0.75","v":{"$error":"#DIV/0!"}},null,null,null,null,null,null,null,null,null,"Dims in m","Glazing bar length",{"$f":"SQRT((CU26-CU25)^2+(CU28/2)^2)","v":{"$error":"#DIV/0!"}},"Vertical mid",{"$f":"((DC31+CW25)*0.13)+CW25","v":{"$error":"#DIV/0!"}},{"$f":"CY24*0.75","v":{"$error":"#DIV/0!"}},null,null,null,null,null,null,null,null,null,null,"Dims in m","Glazing bar length",{"$f":"SQRT((DK26-DK25)^2+(DK28/2)^2)","v":{"$error":"#DIV/0!"}},"Vertical mid",{"$f":"((DS31+DM25)*0.13)+DM25","v":{"$error":"#DIV/0!"}},{"$f":"DO24*0.75","v":{"$error":"#DIV/0!"}}]
["H1",null,null,"Select coverage","Both Sides",null,null,"Select coverage","Both Sides",null,"Select coverage","Both Sides",null,null,null,null,null,null,null,null,null,null,null,null,null,null,null,null,null,null,null,null,null,null,null,null,null,null,null,null,null,null,null,null,null,null,null,null,null,null,null,null,null,null,null,null,null,null,null,null,null,null,null,null,null,null,null,null,null,null,null,null,null,null,null,null,null,null,null,null,null,null,"h1",{"$f":"B25/IF(B23>B24,B23,B24)","v":{"$error":"#DIV/0!"}},"50mm links",{"$f":"(0.035/(IF(B23>B24,B23,B24)/1000))","v":{"$error":"#DIV/0!"}},"Vertical Front/back",{"$f":"((CO31+CH25)*0.13)+CH25","v":{"$error":"#DIV/0!"}},{"$f":"CJ25*0.75","v":{"$error":"#DIV/0!"}},null,null,null,null,null,null,null,null,"h1",{"$f":"B25/IF(B23>B24,B23,B24)","v":{"$error":"#DIV/0!"}},"50mm links",{"$f":"(0.035/(IF(B23>B24,B23,B24)/1000))","v":{"$error":"#DIV/0!"}},"Vertical Front/back",{"$f":"((DD31+CW25)*0.13)+CW25","v":{"$error":"#DIV/0!"}},{"$f":"CY25*0.75","v":{"$error":"#DIV/0!"}},null,null,null,null,null,null,null,null,null,"h1",{"$f":"B25/IF(B23>B24,B23,B24)","v":{"$error":"#DIV/0!"}},"50mm links",{"$f":"(0.035/(IF(B23>B24,B23,B24)/1000))","v":{"$error":"#DIV/0!"}},"Vertical Front/back",{"$f":"((DT31+DM25)*0.13)+DM25","v":{"$error":"#DIV/0!"}},{"$f":"DO25*0.75","v":{"$error":"#DIV/0!"}}]
["H2",null,null,"Number of sais per side",{"$f":"CF33","v":{"$error":"#DIV/0!"}},null,null,"Number of sais per side",{"$f":"CU33","v":{"$error":"#DIV/0!"}},null,"Number of sais per side",{"$f":"DK33","v":{"$error":"#DIV/0!"}},null,null,null,null,null,null,null,null,null,null,null,null,null,null,null,null,null,null,null,null,null,null,null,null,null,null,null,null,null,null," "," ",null,null,null,null,null,null,null,null,null,null,null,null,null,null,null,null,null,null,null,null,null,null,null,null,null,null,null,null,null,null,null," "," ",null,null,null,null,null,"h2",{"$f":"B26/IF(B23>B24,B23,B24)","v":{"$error":"#DIV/0!"}},null,"front + overlaped"," ","back + overlaped"," ",null," ",null,null,null,null,null,null,"h2",{"$f":"B26/IF(B23>B24,B23,B24)","v":{"$error":"#DIV/0!"}},null,"front + overlaped"," ","back + overlaped"," ",null," ",null,null,null,null,null,null,null,"h2",{"$f":"B26/IF(B23>B24,B23,B24)","v":{"$error":"#DIV/0!"}},null,"front + overlaped"," ","back + overlaped"," ",null," "]
["R1",null,null,"Overlap",0.5,null,null,"Overlap",0.5,null,"Overlap",0,null,null,null,null,null,null,null,null,null,null,null,null,null,null,null,null,null,null,null,null,null,null,null,null,null,null,null,null,null,null,null,null,null,null,null,null,null,null,null,null,null,null,null,null,null,null,null,null,null,null,null,null,null,null,null,null,null,null,null,null,null,null,null,null,null,null,null,null,null,null,"x1",{"$f":"B23/IF(B23>B24,B23,B24)","v":{"$error":"#DIV/0!"}},"SBl length",{"$f":"CF28/2-(0.07/(IF(B23>B24,B23,B24)/1000))","v":{"$error":"#DIV/0!"}},{"$f":"CH27+CF10","v":{"$error":"#DIV/0!"}},{"$f":"CF28/2-(0.07/(IF(B23>B24,B23,B24)/1000))","v":{"$error":"#DIV/0!"}},{"$f":"CH27+CF14","v":{"$error":"#DIV/0!"}},"5 sBls left point",null,"right point",null,null,null,null,null,"x1",{"$f":"B23/IF(B23>B24,B23,B24)","v":{"$error":"#DIV/0!"}},"SBl length",{"$f":"CU28/2-(0.07/(IF(B23>B24,B23,B24)/1000))","v":{"$error":"#DIV/0!"}},{"$f":"CW27+CU10","v":{"$error":"#DIV/0!"}},{"$f":"CU28/2-(0.07/(IF(B23>B24,B23,B24)/1000))","v":{"$error":"#DIV/0!"}},{"$f":"CW27+CU14","v":{"$error":"#DIV/0!"}},"5 sBls left point",null,"right point",null,null,null,null,null,null,"x1",{"$f":"B23/IF(B23>B24,B23,B24)","v":{"$error":"#DIV/0!"}},"SBl length",{"$f":"DK28/2-(0.07/(IF(B23>B24,B23,B24)/1000))","v":{"$error":"#DIV/0!"}},{"$f":"DM27+DK10","v":{"$error":"#DIV/0!"}},{"$f":"DK28/2-(0.07/(IF(B23>B24,B23,B24)/1000))","v":{"$error":"#DIV/0!"}},{"$f":"DM27+DK14","v":{"$error":"#DIV/0!"}},"5 sBls left point",null,"right point"]
[null,null,null,"Triangles","No",null,null,"Triangles","No",null,"Triangles","Yes",null,null,null,null,null,null,null,null,null,null,null,null,null,null,null,null,null,null,null,null,null,null,null,null,null,null,null,null,null,null,null,null,null,null,null,null,null,null,null,null,null,null,null,null,null,null,null,null,null,null,null,null,null,null,null,null,null,null,null,null,null,null,null,null,null,null,null,null,null,null,"y1",{"$f":"B24/IF(B23>B24,B23,B24)","v":{"$error":"#DIV/0!"}},"SBl width",{"$f":"IF(E26=CI3,X58-(CF29/2)-(0.07/(IF(B23>B24,B23,B24)/1000)),X52-(0.07/(IF(B23>B24,B23,B24)/1000)))","v":{"$error":"#DIV/0!"}},{"$f":"CH28+CF18","v":{"$error":"#DIV/0!"}},{"$f":"IF(E26=CI2,X49-(0.07/(IF(B23>B24,B23,B24)/1000)),IF(E26=CI3,X58-(CF29/2)-(0.07/(IF(B23>B24,B23,B24)/1000)),X52-(0.07/(IF(B23>B24,B23,B24)/1000))))","v":{"$error":"#DIV/0!"}},{"$f":"CJ28+CF22","v":{"$error":"#DIV/0!"}},{"$f":"X52+(CF29/3)","v":{"$error":"#DIV/0!"}},null,{"$f":"X53-(CF29/3)","v":{"$error":"#DIV/0!"}},null,null,null,null,null,"y1",{"$f":"B24/IF(B23>B24,B23,B24)","v":{"$error":"#DIV/0!"}},"SBl width",{"$f":"IF(I26=CX3,AX58-(CU29/2)-(0.07/(IF(B23>B24,B23,B24)/1000)),AX52-(0.07/(IF(B23>B24,B23,B24)/1000)))","v":{"$error":"#DIV/0!"}},{"$f":"CW28+CU18","v":{"$error":"#DIV/0!"}},{"$f":"IF(I26=CX2,AX49-(0.07/(IF(B23>B24,B23,B24)/1000)),IF(I26=CX3,AX58-(CU29/2)-(0.07/(IF(B23>B24,B23,B24)/1000)),AX52-(0.07/(IF(B23>B24,B23,B24)/1000))))","v":{"$error":"#DIV/0!"}},{"$f":"CY28+CU22","v":{"$error":"#DIV/0!"}},{"$f":"AX52+(CU29/3)","v":{"$error":"#DIV/0!"}},null,{"$f":"AX53-(CU29/3)","v":{"$error":"#DIV/0!"}},null,null,null,null,null,null,"y1",{"$f":"B24/IF(B23>B24,B23,B24)","v":{"$error":"#DIV/0!"}},"SBl width",{"$f":"IF(L26=DN3,BX58-(DK29/2)-(0.07/(IF(B23>B24,B23,B24)/1000)),BX52-(0.07/(IF(B23>B24,B23,B24)/1000)))","v":{"$error":"#DIV/0!"}},{"$f":"DM28+DK18","v":{"$error":"#DIV/0!"}},{"$f":"IF(L26=DN2,BX49-(0.07/(IF(B23>B24,B23,B24)/1000)),IF(L26=DN3,BX58-(DK29/2)-(0.07/(IF(B23>B24,B23,B24)/1000)),BX52-(0.07/(IF(B23>B24,B23,B24)/1000))))","v":{"$error":"#DIV/0!"}},{"$f":"DO28+DK22","v":{"$error":"#DIV/0!"}},{"$f":"BX52+(DK29/3)","v":{"$error":"#DIV/0!"}},null,{"$f":"BX53-(DK29/3)","v":{"$error":"#DIV/0!"}}]
[null,null,null,"Total additional fittings",0,null,null,"Total additional fittings",0,null,"Total additional fittings",0,null,null,null,null,null,null,null,null,null,null,null,null,null,null,null,null,null,null,null,null,null,null,null,null,null,null,null,null,null,null,null,null,null,null,null,null,null,null,null,null,null,null,null,null,null,null,null,null,null,null,null,null,null,null,null,null,null,null,null,null,null,null,null,null,null,null,null,null,null,null,"r1",{"$f":"B27/IF(B23>B24,B23,B24)","v":{"$error":"#DIV/0!"}},null,"mid left + overlaped",null,null,"mid right + overlaped",null,null,"tri mid","tri front/back",null,null,null,null,"r1",{"$f":"B27/IF(B23>B24,B23,B24)","v":{"$error":"#DIV/0!"}},null,"mid left + overlaped",null,null,"mid right + overlaped",null,null,"tri mid","tri front/back",null,null,null,null,null,"r1",{"$f":"B27/IF(B23>B24,B23,B24)","v":{"$error":"#DIV/0!"}},null,"mid left + overlaped",null,null,"mid right + overlaped",null,null,"tri mid","tri front/back"]
[null,null,null,"Total tie-bar loops",0,null,null,"Total tie-bar loops",0,null,"Total tie-bar loops",0,null,null,null,null,null,null,null,null,null,null,null,null,null,null,null,null,null,null,null,null,null,null,null,null,null,null,null,null,null,null,null,null,null,null,null,null,null,null,null,null,null,null,null,null,null,null,null,null,null,null,null,null,null,null,null,null,null,null,null,null,null,null,null,null,null,null,null,null,null,null,null,null,"SBl length",{"$f":"CH27","v":{"$error":"#DIV/0!"}},"<-"," ->",{"$f":"CJ27","v":{"$error":"#DIV/0!"}},"<-"," ->",{"$f":"CF28/2-(0.07/(IF(B23>B24,B23,B24)/1000))","v":{"$error":"#DIV/0!"}},{"$f":"X52-(0.07/(IF(B23>B24,B23,B24)/1000))","v":{"$error":"#DIV/0!"}},null,null,null,null,null,null,"SBl length",{"$f":"CW27","v":{"$error":"#DIV/0!"}},"<-"," ->",{"$f":"CY27","v":{"$error":"#DIV/0!"}},"<-"," ->",{"$f":"CU28/2-(0.07/(IF(B23>B24,B23,B24)/1000))","v":{"$error":"#DIV/0!"}},{"$f":"AX52-(0.07/(IF(B23>B24,B23,B24)/1000))","v":{"$error":"#DIV/0!"}},null,null,null,null,null,null,null,"SBl length",{"$f":"DM27","v":{"$error":"#DIV/0!"}},"<-"," ->",{"$f":"DO27","v":{"$error":"#DIV/0!"}},"<-"," ->",{"$f":"DK28/2-(0.07/(IF(B23>B24,B23,B24)/1000))","v":{"$error":"#DIV/0!"}},{"$f":"BX52-(0.07/(IF(B23>B24,B23,B24)/1000))","v":{"$error":"#DIV/0!"}}]
[null,null,null,"Total straight edges",0,null,null,"Total straight edges",0,null,"Total straight edges",0,null,null,null,null,null,null,null,null,null,null,null,null,null,null,null,null,null,null,null,null,null,null,null,null,null,null,null,null,null,null,null,null,null,null,null,null,null,null,null,null,null,null,null,null,null,null,null,null,null,null,null,null,null,null,null,null,null,null,null,null,null,null,null,null,null,null,null,null,null,null,null,null,"SBl width",{"$f":"IF(E26=CI4,X53-X52-(0.07/(IF(B23>B24,B23,B24)/1000)),IF(E26=CI5,CF29/2,CF29/3))","v":{"$error":"#DIV/0!"}},{"$f":"CH31+CF18+CF18","v":{"$error":"#DIV/0!"}},{"$f":"CI31","v":{"$error":"#DIV/0!"}},{"$f":"IF(E26=CI5,CF29/2,IF(E26=CI6,CH31,))","v":{"$error":"#DIV/0!"}},{"$f":"CK31+CF23+CF23","v":{"$error":"#DIV/0!"}},{"$f":"CL31","v":{"$error":"#DIV/0!"}},{"$f":"IF(CN30*0.7<(CF27-CF29)/2,CN30*0.8,(CF27-CF29)-(2*CH25))","v":{"$error":"#DIV/0!"}},{"$f":"IF(CO30*0.7<CF28,CO30*0.8,CF28-(2*CH25))","v":{"$error":"#DIV/0!"}},null,null,null,null,null,null,"SBl width",{"$f":"IF(I26=CX4,AX53-AX52-(0.07/(IF(B23>B24,B23,B24)/1000)),IF(I26=CX5,CU29/2,CU29/3))","v":{"$error":"#DIV/0!"}},{"$f":"CW31+CU18+CU18","v":{"$error":"#DIV/0!"}},{"$f":"CX31","v":{"$error":"#DIV/0!"}},{"$f":"IF(I26=CX5,CU29/2,IF(I26=CX6,CW31,))","v":{"$error":"#DIV/0!"}},{"$f":"CZ31+CU23+CU23","v":{"$error":"#DIV/0!"}},{"$f":"DA31","v":{"$error":"#DIV/0!"}},{"$f":"IF(DC30*0.7<(CU27-CU29)/2,DC30*0.8,(CU27-CU29)-(2*CW25))","v":{"$error":"#DIV/0!"}},{"$f":"IF(DD30*0.7<CU28,DD30*0.8,CU28-(2*CW25))","v":{"$error":"#DIV/0!"}},null,null,null,null,null,null,null,"SBl width",{"$f":"IF(L26=DN4,BX53-BX52-(0.07/(IF(B23>B24,B23,B24)/1000)),IF(L26=DN5,DK29/2,DK29/3))","v":{"$error":"#DIV/0!"}},{"$f":"DM31+DK18+DK18","v":{"$error":"#DIV/0!"}},{"$f":"DN31","v":{"$error":"#DIV/0!"}},{"$f":"IF(L26=DN5,DK29/2,IF(L26=DN6,DM31,))","v":{"$error":"#DIV/0!"}},{"$f":"DP31+DK23+DK23","v":{"$error":"#DIV/0!"}},{"$f":"DQ31","v":{"$error":"#DIV/0!"}},{"$f":"IF(DS30*0.7<(DK27-DK29)/2,DS30*0.8,(DK27-DK29)-(2*DM25))","v":{"$error":"#DIV/0!"}},{"$f":"IF(DT30*0.7<DK28,DT30*0.8,DK28-(2*DM25))","v":{"$error":"#DIV/0!"}}]
[null,null,null,"Colour of main sails","ISX Solid",null,null,"Colour of main sails","ISX Solid",null,"Colour of main sails","ISX Solid",null,null,null,null,null,null,null,null,null,null,null,null,null,null,null,null,null,null,null,null,null,null,null,null,null,null,null,null,null,null,null,null,null,null,null,null,null,null,null,null,null,null,null,null,null,null,null,null,null,null,null,null,null,null,null,null,null,null,null,null,null,null,null,null,null,null,null,null,null,null,null,"Low","Costs","6 pt hip","front","mid left","mid right","back","tri front/back","tri mid left/right",null,null,null,null,null,null,"Mid","Costs","6 pt hip","front","mid left","mid right","back","tri front/back","tri mid left/right",null,null,null,null,null,null,null,"Top","Costs","6 pt hip","front","mid left","mid right","back","tri front/back","tri mid left/right"]
[null,null,null,"Colour of triangles","ISX Solid",null,null,"Colour of triangles","ISX Solid",null,"Colour of triangles","ISX Solid",null,null,null,null,null,null,null,null,null,null,null,null,null,null,null,null,null,null,null,null,null,null,null,null,null,null,null,null,null,null,null,null,null,null,null,null,null,null,null,null,null,null,null,null,null,null,null,null,null,null,null,null,null,null,null,null,null,null,null,null,null,null,null,null,null,null,null,null,null,null,"Number of sBls per side",{"$f":"IF(CF38<1.25,1,IF(AND(CF38>=1.25,CF38<=2),2,3))","v":{"$error":"#DIV/0!"}},"length",{"$f":"K49*((IF(B23>B24,B23,B24)/1000))","v":{"$error":"#DIV/0!"}},{"$f":"IF((((N59-N63)*(IF(B23>B24,B23,B24)/1000))+0.07)>(CH24*(IF(B23>B24,B23,B24)/1000)),(((N59-N63)*(IF(B23>B24,B23,B24)/1000))+0.07),(CH24*(IF(B23>B24,B23,B24)/1000)))","v":{"$error":"#DIV/0!"}},{"$f":"CH24*(IF(B23>B24,B23,B24)/1000)","v":{"$error":"#DIV/0!"}},{"$f":"CH24*(IF(B23>B24,B23,B24)/1000)","v":{"$error":"#DIV/0!"}},{"$f":"IF((((V55-V51)*(IF(B23>B24,B23,B24)/1000))+0.07)>(CH24*(IF(B23>B24,B23,B24)/1000)),(((V55-V51)*(IF(B23>B24,B23,B24)/1000))+0.07),(CH24*(IF(B23>B24,B23,B24)/1000)))","v":{"$error":"#DIV/0!"}},{"$f":"(SQRT((((B23-B27)/2)^2)+((B26-B25)^2)))/1000","v":0},{"$f":"CH24*(IF(B23>B24,B23,B24)/1000)","v":{"$error":"#DIV/0!"}},null,null,null,null,null,"Number of sBls per side",{"$f":"IF(CU37<0.75,2,IF(AND(CU37>=0.75,CU37<=1.25),3,IF(AND(CU37>=1.25,CU37<=2.25),4,IF(CU37>2.25,5))))","v":{"$error":"#DIV/0!"}},"length",{"$f":"AK49*((IF(B23>B24,B23,B24)/1000))","v":{"$error":"#DIV/0!"}},{"$f":"IF((((AN59-AN63)*(IF(B23>B24,B23,B24)/1000))+0.07)>(CW24*(IF(B23>B24,B23,B24)/1000)),(((AN59-AN63)*(IF(B23>B24,B23,B24)/1000))+0.07),(CW24*(IF(B23>B24,B23,B24)/1000)))","v":{"$error":"#DIV/0!"}},{"$f":"CW24*(IF(B23>B24,B23,B24)/1000)","v":{"$error":"#DIV/0!"}},{"$f":"CW24*(IF(B23>B24,B23,B24)/1000)","v":{"$error":"#DIV/0!"}},{"$f":"IF((((AV55-AV51)*(IF(B23>B24,B23,B24)/1000))+0.07)>(CW24*(IF(B23>B24,B23,B24)/1000)),(((AV55-AV51)*(IF(B23>B24,B23,B24)/1000))+0.07),(CW24*(IF(B23>B24,B23,B24)/1000)))","v":{"$error":"#DIV/0!"}},{"$f":"(SQRT((((B23-B27)/2)^2)+((B26-B25)^2)))/1000","v":0},{"$f":"CW24*(IF(B23>B24,B23,B24)/1000)","v":{"$error":"#DIV/0!"}},null,null,null,null,null,null,"Number of sBls per side",{"$f":"IF(DK37<0.75,2,IF(AND(DK37>=0.75,DK37<=1.25),3,IF(AND(DK37>=1.25,DK37<=2.25),4,IF(DK37>2.25,5))))","v":{"$error":"#DIV/0!"}},"length",{"$f":"BK49*((IF(B23>B24,B23,B24)/1000))","v":{"$error":"#DIV/0!"}},{"$f":"IF((((BN59-BN63)*(IF(B23>B24,B23,B24)/1000))+0.07)>(DM24*(IF(B23>B24,B23,B24)/1000)),(((BN59-BN63)*(IF(B23>B24,B23,B24)/1000))+0.07),(DM24*(IF(B23>B24,B23,B24)/1000)))","v":{"$error":"#DIV/0!"}},{"$f":"DM24*(IF(B23>B24,B23,B24)/1000)","v":{"$error":"#DIV/0!"}},{"$f":"DM24*(IF(B23>B24,B23,B24)/1000)","v":{"$error":"#DIV/0!"}},{"$f":"IF((((BV55-BV51)*(IF(B23>B24,B23,B24)/1000))+0.07)>(DM24*(IF(B23>B24,B23,B24)/1000)),(((BV55-BV51)*(IF(B23>B24,B23,B24)/1000))+0.07),(DM24*(IF(B23>B24,B23,B24)/1000)))","v":{"$error":"#DIV/0!"}},{"$f":"(SQRT((((B23-B27)/2)^2)+((B26-B25)^2)))/1000","v":0},{"$f":"DM24*(IF(B23>B24,B23,B24)/1000)","v":{"$error":"#DIV/0!"}}]
[null,null,null,"Colour of fittings","Stainless steel",null,null,"Colour of fittings","Stainless steel",null,"Colour of fittings","Stainless steel",null,null,null,null,null,null,null,null,null,null,null,null,null,null,null,null,null,null,null,null,null,null,null,null,null,null,null,null,null,null,null,null,null,null,null,null,null,null,null,null,null,null,null,null,null,null,null,null,null,null,null,null,null,null,null,null,null,null,null,null,null,null,null,null,null,null,null,null,null,null,"Overlap",0.5,"width",{"$f":"IF(E26=1,(CH24*2)*((IF(B23>B24,B23,B24)/1000)),0)","v":{"$error":"#DIV/0!"}},{"$f":"IF((((M51-M47)*(IF(B23>B24,B23,B24)/1000))+0.07)>((SQRT((((B23-B27)/2)^2)+((B26-B25)^2)))/1000),(((M51-M47)*(IF(B23>B24,B23,B24)/1000))+0.07),((SQRT((((B23-B27)/2)^2)+((B26-B25)^2)))/1000))","v":{"$error":"#DIV/0!"}},{"$f":"IF(OR(E26=CI4,E26=CI5),((O51-O47)*(IF(B23>B24,B23,B24)/1000))+0.07,(CH31+CF23+CF18)*(IF(B23>B24,B23,B24)/1000))","v":{"$error":"#DIV/0!"}},{"$f":"IF(OR(E26=CI5,E26=CI6),(CH31+CF23+CF22)*(IF(B23>B24,B23,B24)/1000),)","v":{"$error":"#DIV/0!"}},{"$f":"IF((((U51-U47)*(IF(B23>B24,B23,B24)/1000))+0.07)>((SQRT((((B23-B27)/2)^2)+((B26-B25)^2)))/1000),(((U51-U47)*(IF(B23>B24,B23,B24)/1000))+0.07),((SQRT((((B23-B27)/2)^2)+((B26-B25)^2)))/1000))","v":{"$error":"#DIV/0!"}},{"$f":"(CO31*(IF(B23>B24,B23,B24)/1000))+0.07","v":{"$error":"#DIV/0!"}},{"$f":"(CN31*(IF(B23>B24,B23,B24)/1000))+0.07","v":{"$error":"#DIV/0!"}},null,null,null,null,null,"Overlap",0.5,"width",{"$f":"IF(I26=1,(CW24*2)*((IF(B23>B24,B23,B24)/1000)),0)","v":{"$error":"#DIV/0!"}},{"$f":"IF((((AM51-AM47)*(IF(B23>B24,B23,B24)/1000))+0.07)>((SQRT((((B23-B27)/2)^2)+((B26-B25)^2)))/1000),(((AM51-AM47)*(IF(B23>B24,B23,B24)/1000))+0.07),((SQRT((((B23-B27)/2)^2)+((B26-B25)^2)))/1000))","v":{"$error":"#DIV/0!"}},{"$f":"IF(OR(I26=CX4,I26=CX5),((AO51-AO47)*(IF(B23>B24,B23,B24)/1000))+0.07,(CW31+CU23+CU18)*(IF(B23>B24,B23,B24)/1000))","v":{"$error":"#DIV/0!"}},{"$f":"IF(OR(I26=CX5,I26=CX6),(CW31+CU23+CU22)*(IF(B23>B24,B23,B24)/1000),)","v":{"$error":"#DIV/0!"}},{"$f":"IF((((AU51-AU47)*(IF(B23>B24,B23,B24)/1000))+0.07)>((SQRT((((B23-B27)/2)^2)+((B26-B25)^2)))/1000),(((AU51-AU47)*(IF(B23>B24,B23,B24)/1000))+0.07),((SQRT((((B23-B27)/2)^2)+((B26-B25)^2)))/1000))","v":{"$error":"#DIV/0!"}},{"$f":"(DD31*(IF(B23>B24,B23,B24)/1000))+0.07","v":{"$error":"#DIV/0!"}},{"$f":"(DC31*(IF(B23>B24,B23,B24)/1000))+0.07","v":{"$error":"#DIV/0!"}},null,null,null,null,null,null,"Overlap",0,"width",{"$f":"IF(L26=1,(DM24*2)*((IF(B23>B24,B23,B24)/1000)),0)","v":{"$error":"#DIV/0!"}},{"$f":"IF((((BM51-BM47)*(IF(B23>B24,B23,B24)/1000))+0.07)>((SQRT((((B23-B27)/2)^2)+((B26-B25)^2)))/1000),(((BM51-BM47)*(IF(B23>B24,B23,B24)/1000))+0.07),((SQRT((((B23-B27)/2)^2)+((B26-B25)^2)))/1000))","v":{"$error":"#DIV/0!"}},{"$f":"IF(OR(L26=DN4,L26=DN5),((BO51-BO47)*(IF(B23>B24,B23,B24)/1000))+0.07,(DM31+DK23+DK18)*(IF(B23>B24,B23,B24)/1000))","v":{"$error":"#DIV/0!"}},{"$f":"IF(OR(L26=DN5,L26=DN6),(DM31+DK23+DK22)*(IF(B23>B24,B23,B24)/1000),)","v":{"$error":"#DIV/0!"}},{"$f":"IF((((BU51-BU47)*(IF(B23>B24,B23,B24)/1000))+0.07)>((SQRT((((B23-B27)/2)^2)+((B26-B25)^2)))/1000),(((BU51-BU47)*(IF(B23>B24,B23,B24)/1000))+0.07),((SQRT((((B23-B27)/2)^2)+((B26-B25)^2)))/1000))","v":{"$error":"#DIV/0!"}},{"$f":"(DT31*(IF(B23>B24,B23,B24)/1000))+0.07","v":{"$error":"#DIV/0!"}},{"$f":"(DS31*(IF(B23>B24,B23,B24)/1000))+0.07","v":{"$error":"#DIV/0!"}}]
[null,null,null,"Number of window vents",0,null,null,"Number of window vents",0,null,"Number of window vents",0,null,null,null,null,null,null,null,null,null,null,null,null,null,null,null,null,null,null,null,null,null,null,null,null,null,null,null,null,null,null,null,null,null,null,null,null,null,null,null,null,null,null,null,null,null,null,null,null,null,null,null,null,null,null,null,null,null,null,null,null,null,null,null,null,null,null,null,null,null,null,"Triangles","No","perimeter",{"$f":"CH34*2+CH33*2","v":{"$error":"#DIV/0!"}},{"$f":"(CI33+CI34+((CH27*(IF(B23>B24,B23,B24)/1000))+0.07)+((CH28*(IF(B23>B24,B23,B24)/1000))+0.07))*1.05","v":{"$error":"#DIV/0!"}},{"$f":"((CJ33*2)+((CH31*(IF(B23>B24,B23,B24)/1000))+0.07)+CJ34)*1.05","v":{"$error":"#DIV/0!"}},{"$f":"((CK33*2)+((CK31*(IF(B23>B24,B23,B24)/1000))+0.07)+CK34)*1.05","v":{"$error":"#DIV/0!"}},{"$f":"(CL33+CL34+((CJ27*(IF(B23>B24,B23,B24)/1000))+0.07)+((CJ28*(IF(B23>B24,B23,B24)/1000))+0.07))*1.05","v":{"$error":"#DIV/0!"}},{"$f":"((CM33*2)+CM34)*1.05","v":{"$error":"#DIV/0!"}},{"$f":"((CN33*2)+CN34)*1.05","v":{"$error":"#DIV/0!"}},null,null,null,null,null,"Triangles","No","perimeter",{"$f":"CW34*2+CW33*2","v":{"$error":"#DIV/0!"}},{"$f":"(CX33+CX34+((CW27*(IF(B23>B24,B23,B24)/1000))+0.07)+((CW28*(IF(B23>B24,B23,B24)/1000))+0.07))*1.05","v":{"$error":"#DIV/0!"}},{"$f":"((CY33*2)+((CW31*(IF(B23>B24,B23,B24)/1000))+0.07)+CY34)*1.05","v":{"$error":"#DIV/0!"}},{"$f":"((CZ33*2)+((CZ31*(IF(B23>B24,B23,B24)/1000))+0.07)+CZ34)*1.05","v":{"$error":"#DIV/0!"}},{"$f":"(DA33+DA34+((CY27*(IF(B23>B24,B23,B24)/1000))+0.07)+((CY28*(IF(B23>B24,B23,B24)/1000))+0.07))*1.05","v":{"$error":"#DIV/0!"}},{"$f":"((DB33*2)+DB34)*1.05","v":{"$error":"#DIV/0!"}},{"$f":"((DC33*2)+DC34)*1.05","v":{"$error":"#DIV/0!"}},null,null,null,null,null,null,"Triangles","Yes","perimeter",{"$f":"DM34*2+DM33*2","v":{"$error":"#DIV/0!"}},{"$f":"(DN33+DN34+((DM27*(IF(B23>B24,B23,B24)/1000))+0.07)+((DM28*(IF(B23>B24,B23,B24)/1000))+0.07))*1.05","v":{"$error":"#DIV/0!"}},{"$f":"((DO33*2)+((DM31*(IF(B23>B24,B23,B24)/1000))+0.07)+DO34)*1.05","v":{"$error":"#DIV/0!"}},{"$f":"((DP33*2)+((DP31*(IF(B23>B24,B23,B24)/1000))+0.07)+DP34)*1.05","v":{"$error":"#DIV/0!"}},{"$f":"(DQ33+DQ34+((DO27*(IF(B23>B24,B23,B24)/1000))+0.07)+((DO28*(IF(B23>B24,B23,B24)/1000))+0.07))*1.05","v":{"$error":"#DIV/0!"}},{"$f":"((DR33*2)+DR34)*1.05","v":{"$error":"#DIV/0!"}},{"$f":"((DS33*2)+DS34)*1.05","v":{"$error":"#DIV/0!"}}]
[null,null,null,null,null,null,null,null,null,null,null,null,null,null,null,null,null,null,null,null,null,null,null,null,null,null,null,null,null,null,null,null,null,null,null,null,null,null,null,null,null,null,null,null,null,null,null,null,null,null,null,null,null,null,null,null,null,null,null,null,null,null,null,null,null,null,null,null,null,null,null,null,null,null,null,null,null,null,null,null,null,null,"Total additional fittings",{"$f":"IF(E25=CJ9,2,1)*E26*2","v":{"$error":"#DIV/0!"}},null,{"$f":"IF(E26=1,((CF1*((CH33*CH34*CH1*CF6)+(CH35*CH2)+(6*CH3)))+(6*CQ5)+'  '!B35),0)*IF(E25=CJ8,1,2)","v":{"$error":"#DIV/0!"}},{"$f":"IF(E26=1,0,1)*(IF(E25=CJ9,2,1)*((CF1*((CI33*CI34*CH1*CF6)+(CI35*CH2)+(CI8*CH3)))+(CI8*CQ5)+'  '!B35))","v":{"$error":"#DIV/0!"}},{"$f":"(IF(E26=CI6,2,1))*((IF(OR(E26=CI4,E26=CI5,E26=CI6),(IF(E25=CJ9,2,1)*((CF1*((CJ33*CJ34*CH1*CF6)+(CJ35*CH2)+(CI8*CH3)))+(CI8*CQ5)+'  '!B35)),)))","v":{"$error":"#DIV/0!"}},{"$f":"(IF(OR(E26=CI5,E26=CI6),(IF(E25=CJ9,2,1)*((CF1*((CK33*CK34*CH1*CF6)+(CK35*CH2)+(CI8*CH3)))+(CI8*CQ5)+'  '!B35)),))","v":{"$error":"#DIV/0!"}},{"$f":"(IF(E26=CI2,0,IF(E25=CJ9,2,1)*((CF1*((CL33*CL34*CH1*CF6)+(CL35*CH2)+(CI8*CH3)))+(CI8*CQ5)+'  '!B35)))","v":{"$error":"#DIV/0!"}},{"$f":"2*((IF(OR(E28=CJ6,E28=CJ6),((CF2*((CM33*CM34*CH1*CF7)+(CM35*CH2)+(3*CH3)))+(3*CQ5)+'  '!B35),)))","v":0},{"$f":"IF(E25=CJ9,2,1)*(((((IF(E28=CJ6,((CF2*((CN33*CN34*CH1*CF7)+(CN35*CH2)+(3*CH3)))+(3*CQ5)+'  '!B35),)*IF(E28=CJ6,E26-1,0))))))","v":0},null,null,null,null,null,"Total additional fittings",{"$f":"IF(CU37<1.25,2,)*IF(AND(I26=1,I25=CY9),2,1)","v":{"$error":"#DIV/0!"}},null,{"$f":"IF(I26=1,((CU1*((CW33*CW34*CH1*CF6)+(CW35*CH2)+(6*CH3)))+(6*DF5)+'  '!B35),0)*IF(I25=CY8,1,2)","v":{"$error":"#DIV/0!"}},{"$f":"IF(I26=1,0,1)*(IF(I25=CY9,2,1)*((CU1*((CX33*CX34*CH1*CF6)+(CX35*CH2)+(CI8*CH3)))+(CI8*DF5)+'  '!B35))","v":{"$error":"#DIV/0!"}},{"$f":"(IF(I26=CX6,2,1))*((IF(OR(I26=CX4,I26=CX5,I26=CX6),(IF(I25=CY9,2,1)*((CU1*((CY33*CY34*CH1*CF6)+(CY35*CH2)+(CI8*CH3)))+(CI8*DF5)+'  '!B35)),)))","v":{"$error":"#DIV/0!"}},{"$f":"(IF(OR(I26=CX5,I26=CX6),(IF(I25=CY9,2,1)*((CU1*((CZ33*CZ34*CH1*CF6)+(CZ35*CH2)+(CI8*CH3)))+(CI8*DF5)+'  '!B35)),))","v":{"$error":"#DIV/0!"}},{"$f":"(IF(I26=CX2,0,IF(I25=CY9,2,1)*((CU1*((DA33*DA34*CH1*CF6)+(DA35*CH2)+(CI8*CH3)))+(CI8*DF5)+'  '!B35)))","v":{"$error":"#DIV/0!"}},{"$f":"2*((IF(OR(I28=CY6,I28=CY6),((CU2*((DB33*DB34*CH1*CF7)+(DB35*CH2)+(3*CH3)))+(3*DF5)+'  '!B35),)))","v":0},{"$f":"IF(I25=CY9,2,1)*(((((IF(I28=CY6,((CU2*((DC33*DC34*CH1*CF7)+(DC35*CH2)+(3*CH3)))+(3*DF5)+'  '!B35),)*IF(I28=CY6,I26-1,0))))))","v":0},null,null,null,null,null,null,"Total additional fittings",{"$f":"IF(DK37<1.25,4,)*IF(AND(L25=DO8,L26=1),0.5,1)","v":{"$error":"#DIV/0!"}},null,{"$f":"IF(L26=1,((CU1*((DM33*DM34*CH1*CF6)+(DM35*CH2)+(6*CH3)))+(6*DV5)+'  '!B35),0)*IF(L25=DO8,1,2)","v":{"$error":"#DIV/0!"}},{"$f":"IF(L26=1,0,1)*(IF(L25=DO9,2,1)*((DK1*((DN33*DN34*CH1*CF6)+(DN35*CH2)+(CI8*CH3)))+(CI8*DV5)+'  '!B35))","v":{"$error":"#DIV/0!"}},{"$f":"(IF(L26=DN6,2,1))*((IF(OR(L26=DN4,L26=DN5,L26=DN6),(IF(L25=DO9,2,1)*((DK1*((DO33*DO34*CH1*CF6)+(DO35*CH2)+(CI8*CH3)))+(CI8*DV5)+'  '!B35)),)))","v":{"$error":"#DIV/0!"}},{"$f":"(IF(OR(L26=DN5,L26=DN6),(IF(L25=DO9,2,1)*((DK1*((DP33*DP34*CH1*CF6)+(DP35*CH2)+(CI8*CH3)))+(CI8*DV5)+'  '!B35)),))","v":{"$error":"#DIV/0!"}},{"$f":"(IF(L26=DN2,0,IF(L25=DO9,2,1)*((DK1*((DQ33*DQ34*CH1*CF6)+(DQ35*CH2)+(CI8*CH3)))+(CI8*DV5)+'  '!B35)))","v":{"$error":"#DIV/0!"}},{"$f":"2*((IF(OR(L28=DO6,L28=DO6),((DK2*((DR33*DR34*CH1*CF7)+(DR35*CH2)+(3*CH3)))+(3*DV5)+'  '!B35),)))","v":{"$error":"#DIV/0!"}},{"$f":"IF(L25=DO9,2,1)*(((((IF(L28=DO6,((DK2*((DS33*DS34*CH1*CF7)+(DS35*CH2)+(3*CH3)))+(3*DV5)+'  '!B35),)*IF(L28=DO6,L26-1,0))))))","v":{"$error":"#DIV/0!"}}]
[null,null,null,"Max length of sail",{"$f":"(MAX(CH33:CL33))*1000","v":{"$error":"#DIV/0!"}},null,null,"Max length of sail",{"$f":"(MAX(CW33:DA33))*1000","v":{"$error":"#DIV/0!"}},null,"Max length of sail",{"$f":"(MAX(DM33:DQ33))*1000","v":{"$error":"#DIV/0!"}},null,null,null,null,null,null,null,null,null,null,null,null,null,null,null,null,null,null,null,null,null,null,null,null,null,null,null,null,null,null,null,null,null,null,null,null,null,null,null,null,null,null,null,null,null,null,null,null,null,null,null,null,null,null,null,null,null,null,null,null,null,null,null,null,null,null,null,null,null,null,"Length/Width Ratio",{"$f":"CF29/(CF28/2)","v":{"$error":"#DIV/0!"}},null,null,null,null,null,null,null,null,null,null,null,null,null,"Length/Width Ratio",{"$f":"CU29/(CU28/2)","v":{"$error":"#DIV/0!"}},null,null,null,null,null,null,null,null,null,null,null,null,null,null,"Length/Width Ratio",{"$f":"DK29/(DK28/2)","v":{"$error":"#DIV/0!"}}]
[null,null,null,"Max width of sail",{"$f":"(MAX(CH34:CL34))*1000","v":{"$error":"#DIV/0!"}},null,null,"Max width of sail",{"$f":"(MAX(CW34:DA34))*1000","v":{"$error":"#DIV/0!"}},null,"Max width of sail",{"$f":"(MAX(DM34:DQ34))*1000","v":{"$error":"#DIV/0!"}},null,null,null,null,null,null,null,null,null,null,null,null,null,null,null,null,null,null,null,null,null,null,null,null,null,null,null,null,null,null,null,null,null,null,null,null,null,null,null,null,null,null,null,null,null,null,null,null,null,null,null,null,null,null,null,null,null,null,null,null,null,null,null,null,null,null,null,null,null,null,"Low Length/Width Ratio",{"$f":"CF27/CF28","v":{"$error":"#DIV/0!"}},null,null,null,null,null,null,null,null,null,null,null,null,null,"Low Length/Width Ratio",{"$f":"CU27/CU28","v":{"$error":"#DIV/0!"}},null,null,null,null,null,null,null,null,null,null,null,null,null,null,"Low Length/Width Ratio",{"$f":"DK27/DK28","v":{"$error":"#DIV/0!"}}]
[null,null,null,null,"Sails +2100mm in both directions require seams",null,null,null,"Sails +2100mm in both directions require seams",null,null,"Sails +2100mm in both directions require seams"]
[null,null,null,null,null,null,null,null,null,null,null,null,null,null,null,null,null,null,null,null,null,null,null,null,null,null,null,null,null,null,null,null,null,null,null,null,null,null,null,null,null,null,null,null,null,null,null,null,null,null,null,null,null,null,null,null,null,null,null,null,null,null,null,null,null,null,null,null,null,null,null,null,null,null,null,null,null,null,null,null,null,null,null,null,null,null,null,null,null,null,null,"Overlaps","Triangles"]
[null,null,null,null,null,null,null,null,null,null,null,null,null,null,null,null,null,null,null,null,null,null,null,null,null,null,null,null,null,null,null,null,null,null,null,null,null,null,null,null,null,null,null,null,null,null,null,null,null,null,null,null,null,null,null,null,null,null,null,null,null,null,null,null,null,null,null,null,null,null,null,null,null,null,null,null,null,null,null,null,null,null,null,null,null,null,null,null,null,null,null,0,"No"]
[null,null,null,null,null,null,null,null,null,null,null,null,null,null,null,null,null,null,null,null,null,null,null,null,null,null,null,null,null,null,null,null,null,null,null,null,null,null,null,null,null,null,null,null,null,null,null,null,null,null,null,null,null,null,null,null,null,null,null,null,null,null,null,null,null,null,null,null,null,null,null,null,null,null,null,null,null,null,null,null,null,null,null,null,null,null,null,null,null,null,null,0.5,"Yes"]
[null,null,null,null,null,null,null,null,null,null,null,null,null,null,null,null,null,null,null,null,null,null,null,null,null,null,null,null,null,null,null,null,null,null,null,null,null,null,null,null,null,null,null,null,null,null,null,null,null,null,null,null,null,null,null,null,null,null,null,null,null,null,null,null,null,null,null,null,null,null,null,null,null,null,null,null,null,null,null,null,null,null,null,null,null,null,null,null,null,null,null,1]
[null,null,null,"x","y","x","y","x","y","x","y","x","y",null,null,null,null,null,null,null,null,null,null,null,null,null,"x","y","x","y","x","y","x","y","x","y",null,null,null,null,null,null,null,null,null,null,null,null,null,null,null,null,null,null,null,null,null,null,null,null,null,null,null,null,null,null,null,null,"x","y","x","y","x","y","x","y","x","y"]
["mid left bott tri",null,"centre bott tri",null,"mid right bott tri",null,"10 sBl design",null,"left tri",null,"x","y","x","y","x","y","x","y","x","y","x","y",null,"Roof plan"," ",null,"mid left bott tri",null,"centre bott tri",null,"mid right bott tri",null,"10 sBl design",null,"left tri",null,"x","y","x","y","x","y","x","y","x","y","x","y",null,"Roof plan"," ",null,"mid left bott tri",null,"centre bott tri",null,"mid right bott tri",null,"10 sBl design",null,"left tri",null,"x","y","x","y","x","y","x","y","x","y","x","y",null,"Roof plan"," "]
[{"$f":"IF(E28=CJ6,A48-(CN31/2),)","v":0},{"$f":"IF(E28=CJ6,CH25,)","v":0},{"$f":"IF(AND($E$26>3,$E$28=CJ6),A46+($CF$29/($E$26-2)),)","v":{"$error":"#DIV/0!"}},{"$f":"IF(AND($E$26>3,$E$28=CJ6),B46)","v":{"$error":"#DIV/0!"}},{"$f":"IF(AND($E$26>2,$E$28=$CJ$6),A46+$CF$29,)","v":{"$error":"#DIV/0!"}},{"$f":"IF(AND($E$26>2,$E$28=$CJ$6),B46,)","v":{"$error":"#DIV/0!"}},{"$f":"IF(AND($E$26=5,$E$28=CJ6),A46+(($CF$29/3)*2),)","v":{"$error":"#DIV/0!"}},{"$f":"IF(AND($E$26=5,$E$28=CJ6),B46,)","v":{"$error":"#DIV/0!"}},{"$f":"IF(E28=CJ6,CH25,)","v":0},{"$f":"IF(E28=CJ6,Y52+(CO31/2),)","v":0},"left 6 sided",null,"down front",null,"down mid left",null,"down centre",null,"down mid right",null,"down left",null,null,"x-axis","y-axis",null,{"$f":"IF(I28=CY6,AA48-(DC31/2),)","v":0},{"$f":"IF(I28=CY6,CW25,)","v":0},{"$f":"IF(AND($I$26>3,$I$28=CJ6),AA46+($CF$29/($I$26-2)),)","v":{"$error":"#DIV/0!"}},{"$f":"IF(AND($I$26>3,$I$28=CJ6),AB46)","v":{"$error":"#DIV/0!"}},{"$f":"IF(AND($I$26>2,$I$28=$CJ$6),AA46+$CF$29,)","v":{"$error":"#DIV/0!"}},{"$f":"IF(AND($I$26>2,$I$28=$CJ$6),AB46,)","v":{"$error":"#DIV/0!"}},{"$f":"IF(AND($I$26=5,$I$28=CJ6),AA46+(($CF$29/3)*2),)","v":{"$error":"#DIV/0!"}},{"$f":"IF(AND($I$26=5,$I$28=CJ6),AB46,)","v":{"$error":"#DIV/0!"}},{"$f":"IF(I28=CY6,CW25,)","v":0},{"$f":"IF(I28=CY6,AY52+(DD31/2),)","v":0},"left 6 sided",null,"down front",null,"down mid left",null,"down centre",null,"doBCn mid right",null,"down left",null,null,"x-axis","y-axis",null,{"$f":"IF(L28=DO6,BA48-(DS31/2),)","v":{"$error":"#DIV/0!"}},{"$f":"IF(L28=DO6,DM25,)","v":{"$error":"#DIV/0!"}},{"$f":"IF(AND($L$26>3,$L$28=CJ6),BA46+($CF$29/($L$26-2)),)","v":{"$error":"#DIV/0!"}},{"$f":"IF(AND($L$26>3,$L$28=CJ6),BB46)","v":{"$error":"#DIV/0!"}},{"$f":"IF(AND($L$26>2,$L$28=$CJ$6),BA46+$CF$29,)","v":{"$error":"#DIV/0!"}},{"$f":"IF(AND($L$26>2,$L$28=$CJ$6),BB46,)","v":{"$error":"#DIV/0!"}},{"$f":"IF(AND($L$26=5,$L$28=CJ6),BA46+(($CF$29/3)*2),)","v":{"$error":"#DIV/0!"}},{"$f":"IF(AND($L$26=5,$L$28=CJ6),BB46,)","v":{"$error":"#DIV/0!"}},{"$f":"IF(L28=DO6,DM25,)","v":{"$error":"#DIV/0!"}},{"$f":"IF(L28=DO6,BY52+(DT31/2),)","v":{"$error":"#DIV/0!"}},"left 6 sided",null,"down front",null,"down mid left",null,"down centre",null,"down mid right",null,"down left",null,null,"x-axis","y-axis"]
[{"$f":"IF(E28=CJ6,A48-(CN31/4),)","v":0},{"$f":"IF(E28=CJ6,CK24,)","v":0},{"$f":"IF(AND($E$26>3,$E$28=CJ6),A47+($CF$29/($E$26-2)),)","v":{"$error":"#DIV/0!"}},{"$f":"IF(AND($E$26>3,$E$28=CJ6),B47)","v":{"$error":"#DIV/0!"}},{"$error":"#DIV/0!"},{"$error":"#DIV/0!"},{"$f":"IF(AND($E$26=5,$E$28=CJ6),A47+(($CF$29/3)*2),)","v":{"$error":"#DIV/0!"}},{"$f":"IF(AND($E$26=5,$E$28=CJ6),B47,)","v":{"$error":"#DIV/0!"}},{"$f":"IF(E28=CJ6,CK25,)","v":0},{"$f":"IF(E28=CJ6,J46-(CO31/4),)","v":0},{"$f":"IF(E26=1,CH25,0)","v":{"$error":"#DIV/0!"}},{"$f":"IF(E26=1,CH25,0)","v":{"$error":"#DIV/0!"}},{"$f":"IF(E26=CI2,0,CH25)","v":{"$error":"#DIV/0!"}},{"$f":"CH25","v":{"$error":"#DIV/0!"}},{"$f":"IF(E26=CI4,CF27/2-(CI31/2),IF(OR(E26=CI5,E26=CI6),X52+CH25-CF18,))","v":{"$error":"#DIV/0!"}},{"$f":"IF(OR(E26=CI4,E26=CI5,E26=CI6),CH25,)","v":{"$error":"#DIV/0!"}},{"$f":"IF($E$26=$CI$6,O47+$CH$31,0)","v":{"$error":"#DIV/0!"}},{"$f":"IF($E$26=$CI$6,P47,)","v":{"$error":"#DIV/0!"}},{"$f":"IF(E26=CI5,CF27/2-CF23,IF($E$26=$CI$6,O47+($CH$31*2)))","v":{"$error":"#DIV/0!"}},{"$f":"IF(OR(E26=CI5,E26=CI6),CH25,)","v":{"$error":"#DIV/0!"}},{"$f":"IF(E26<>CI2,U51-CK28,)","v":{"$error":"#DIV/0!"}},{"$f":"IF(E26<>CI2,CH25,)","v":{"$error":"#DIV/0!"}},null,0,0,null,{"$f":"IF(I28=CY6,AA48-(DC31/4),)","v":0},{"$f":"IF(I28=CY6,CZ24,)","v":0},{"$f":"IF(AND($I$26>3,$I$28=CJ6),AA47+($CF$29/($I$26-2)),)","v":{"$error":"#DIV/0!"}},{"$f":"IF(AND($I$26>3,$I$28=CJ6),AB47)","v":{"$error":"#DIV/0!"}},{"$error":"#DIV/0!"},{"$error":"#DIV/0!"},{"$f":"IF(AND($I$26=5,$I$28=CJ6),AA47+(($CF$29/3)*2),)","v":{"$error":"#DIV/0!"}},{"$f":"IF(AND($I$26=5,$I$28=CJ6),AB47,)","v":{"$error":"#DIV/0!"}},{"$f":"IF(I28=CY6,CZ25,)","v":0},{"$f":"IF(I28=CY6,AJ46-(DD31/4),)","v":0},{"$f":"IF(I26=1,CW25,0)","v":{"$error":"#DIV/0!"}},{"$f":"IF(I26=1,CW25,0)","v":{"$error":"#DIV/0!"}},{"$f":"IF(I26=CX2,0,CW25)","v":{"$error":"#DIV/0!"}},{"$f":"CW25","v":{"$error":"#DIV/0!"}},{"$f":"IF(I26=CX4,CU27/2-(CX31/2),IF(OR(I26=CX5,I26=CX6),AX52+CW25-CU18,))","v":{"$error":"#DIV/0!"}},{"$f":"IF(OR(I26=CX4,I26=CX5,I26=CX6),CW25,)","v":{"$error":"#DIV/0!"}},{"$f":"IF($I$26=$CI$6,AO47+$CW$31,0)","v":{"$error":"#DIV/0!"}},{"$f":"IF($I$26=$CI$6,AP47,)","v":{"$error":"#DIV/0!"}},{"$f":"IF(I26=CX5,CU27/2-CU22,IF($I$26=$CX$6,AO47+($CW$31*2)))","v":{"$error":"#DIV/0!"}},{"$f":"IF(OR(I26=CX5,I26=CX6),DH25,)","v":{"$error":"#DIV/0!"}},{"$f":"IF(I26<>CX2,AU51-CZ28,)","v":{"$error":"#DIV/0!"}},{"$f":"IF(I26<>CX2,CW25,)","v":{"$error":"#DIV/0!"}},null,0,0,null,{"$f":"IF(L28=DO6,BA48-(DS31/4),)","v":{"$error":"#DIV/0!"}},{"$f":"IF(L28=DO6,DP24,)","v":{"$error":"#DIV/0!"}},{"$f":"IF(AND($L$26>3,$L$28=CJ6),BA47+($CF$29/($L$26-2)),)","v":{"$error":"#DIV/0!"}},{"$f":"IF(AND($L$26>3,$L$28=CJ6),BB47)","v":{"$error":"#DIV/0!"}},{"$error":"#DIV/0!"},{"$error":"#DIV/0!"},{"$f":"IF(AND($L$26=5,$L$28=CJ6),BA47+(($CF$29/3)*2),)","v":{"$error":"#DIV/0!"}},{"$f":"IF(AND($L$26=5,$L$28=CJ6),BB47,)","v":{"$error":"#DIV/0!"}},{"$f":"IF(L28=DO6,DP25,)","v":{"$error":"#DIV/0!"}},{"$f":"IF(L28=DO6,BJ46-(DT31/4),)","v":{"$error":"#DIV/0!"}},{"$f":"IF(L26=1,DM25,0)","v":{"$error":"#DIV/0!"}},{"$f":"IF(L26=1,DM25,0)","v":{"$error":"#DIV/0!"}},{"$f":"IF(L26=DN2,0,DM25)","v":{"$error":"#DIV/0!"}},{"$f":"DM25","v":{"$error":"#DIV/0!"}},{"$f":"IF(L26=DN4,DK27/2-(DN31/2),IF(OR(L26=DN5,L26=DN6),BX52+DM25-DK18,))","v":{"$error":"#DIV/0!"}},{"$f":"IF(OR(L26=DN4,L26=DN5,L26=DN6),DM25,)","v":{"$error":"#DIV/0!"}},{"$f":"IF($L$26=$CI$6,BO47+$DM$31,0)","v":{"$error":"#DIV/0!"}},{"$f":"IF($L$26=$CI$6,BP47,)","v":{"$error":"#DIV/0!"}},{"$f":"IF($L$26=DN5,DK27/2-DK22,IF($L$26=$CX$6,BO47+($DM$31*2)))","v":{"$error":"#DIV/0!"}},{"$f":"IF(OR(L26=DN5,L26=DN6),DM25,)","v":{"$error":"#DIV/0!"}},{"$f":"IF(L26<>DN2,BU51-DP28,)","v":{"$error":"#DIV/0!"}},{"$f":"IF(L26<>DN2,DM25,)","v":{"$error":"#DIV/0!"}},null,0,0]
[{"$f":"IF(E28=CJ6,A54,)","v":0},{"$f":"IF(E28=CJ6,CJ24,)","v":0},{"$f":"IF(AND($E$26>3,$E$28=CJ6),A48+($CF$29/($E$26-2)),)","v":{"$error":"#DIV/0!"}},{"$f":"IF(AND($E$26>3,$E$28=CJ6),B48)","v":{"$error":"#DIV/0!"}},{"$error":"#DIV/0!"},{"$error":"#DIV/0!"},{"$f":"IF(AND($E$26=5,$E$28=CJ6),A48+(($CF$29/3)*2),)","v":{"$error":"#DIV/0!"}},{"$f":"IF(AND($E$26=5,$E$28=CJ6),B48,)","v":{"$error":"#DIV/0!"}},{"$f":"IF(E28=CJ6,CJ25,)","v":0},{"$f":"IF(E28=CJ6,J47-(CO31/4),)","v":0},{"$f":"IF(E26=1,K49/2,0)","v":{"$error":"#DIV/0!"}},{"$f":"IF(E26=1,(K49*0.126)+CH25,0)","v":{"$error":"#DIV/0!"}},{"$f":"IF(E26=CI2,0,M47+(CI28/4))","v":{"$error":"#DIV/0!"}},{"$f":"N49*0.75","v":{"$error":"#DIV/0!"}},{"$f":"IF(E26=CI4,O47+(MAX(CI31:CJ31)/4),IF(OR(E26=CI5,E26=CI6),O47+((O51-O47)/4),))","v":{"$error":"#DIV/0!"}},{"$f":"IF(OR(E26=CI4,E26=CI5,E26=CI6),CJ20,)","v":{"$error":"#DIV/0!"}},{"$error":"#DIV/0!"},{"$error":"#DIV/0!"},{"$f":"IF(E26=CI5,S47+((S51-S47)/4),IF($E$26=$CI$6,O48+($CH$31*2)))","v":{"$error":"#DIV/0!"}},{"$f":"IF(OR(E26=CI5,E26=CI6),CM20,)","v":{"$error":"#DIV/0!"}},{"$f":"IF(E26<>CI2,U47+(CK28/4),0)","v":{"$error":"#DIV/0!"}},{"$f":"IF(E26<>CI2,CM15,)","v":{"$error":"#DIV/0!"}},null,{"$f":"CF27","v":{"$error":"#DIV/0!"}},0,null,{"$f":"IF(I28=CY6,AA54,)","v":0},{"$f":"IF(I28=CY6,CY24,)","v":0},{"$f":"IF(AND($I$26>3,$I$28=CJ6),AA48+($CF$29/($I$26-2)),)","v":{"$error":"#DIV/0!"}},{"$f":"IF(AND($I$26>3,$I$28=CJ6),AB48)","v":{"$error":"#DIV/0!"}},{"$error":"#DIV/0!"},{"$error":"#DIV/0!"},{"$f":"IF(AND($I$26=5,$I$28=CJ6),AA48+(($CF$29/3)*2),)","v":{"$error":"#DIV/0!"}},{"$f":"IF(AND($I$26=5,$I$28=CJ6),AB48,)","v":{"$error":"#DIV/0!"}},{"$f":"IF(I28=CY6,CY25,)","v":0},{"$f":"IF(I28=CY6,AJ47-(DD31/4),)","v":0},{"$f":"IF(I26=1,AK49/2,0)","v":{"$error":"#DIV/0!"}},{"$f":"IF(I26=1,(AK49*0.126)+CW25,0)","v":{"$error":"#DIV/0!"}},{"$f":"IF(I26=CX2,0,AM47+(CX28/4))","v":{"$error":"#DIV/0!"}},{"$f":"AN49*0.75","v":{"$error":"#DIV/0!"}},{"$f":"IF(I26=CX4,AO47+(MAX(CX31:CY31)/4),IF(OR(I26=CX5,I26=CX6),AO47+((AO51-AO47)/4),))","v":{"$error":"#DIV/0!"}},{"$f":"IF(OR(I26=CX4,I26=CX5,I26=CX6),CY20,)","v":{"$error":"#DIV/0!"}},{"$error":"#DIV/0!"},{"$error":"#DIV/0!"},{"$f":"IF(I26=CX5,AS47+((AS51-AS47)/4),IF($I$26=$CI$6,AO48+($CW$31*2)))","v":{"$error":"#DIV/0!"}},{"$f":"IF(OR(I26=CX5,I26=CX6),CY20,)","v":{"$error":"#DIV/0!"}},{"$f":"IF(I26<>CX2,AU47+(CZ28/4),0)","v":{"$error":"#DIV/0!"}},{"$f":"IF(I26<>CX2,DB15,)","v":{"$error":"#DIV/0!"}},null,{"$f":"CU27","v":{"$error":"#DIV/0!"}},0,null,{"$f":"IF(L28=DO6,BA54,)","v":{"$error":"#DIV/0!"}},{"$f":"IF(L28=DO6,DO24,)","v":{"$error":"#DIV/0!"}},{"$f":"IF(AND($L$26>3,$L$28=CJ6),BA48+($CF$29/($L$26-2)),)","v":{"$error":"#DIV/0!"}},{"$f":"IF(AND($L$26>3,$L$28=CJ6),BB48)","v":{"$error":"#DIV/0!"}},{"$error":"#DIV/0!"},{"$error":"#DIV/0!"},{"$f":"IF(AND($L$26=5,$L$28=CJ6),BA48+(($CF$29/3)*2),)","v":{"$error":"#DIV/0!"}},{"$f":"IF(AND($L$26=5,$L$28=CJ6),BB48,)","v":{"$error":"#DIV/0!"}},{"$f":"IF(L28=DO6,DO25,)","v":{"$error":"#DIV/0!"}},{"$f":"IF(L28=DO6,BJ47-(DT31/4),)","v":{"$error":"#DIV/0!"}},{"$f":"IF(L26=1,BK49/2,0)","v":{"$error":"#DIV/0!"}},{"$f":"IF(L26=1,(BK49*0.126)+DM25,0)","v":{"$error":"#DIV/0!"}},{"$f":"IF(L26=DN2,0,BM47+(DN28/4))","v":{"$error":"#DIV/0!"}},{"$f":"BN49*0.75","v":{"$error":"#DIV/0!"}},{"$f":"IF(L26=DN4,BO47+(MAX(DN31:DO31)/4),IF(OR(L26=DN5,L26=DN6),BO47+((BO51-BO47)/4),))","v":{"$error":"#DIV/0!"}},{"$f":"IF(OR(L26=DN4,L26=DN5,L26=DN6),DO20,)","v":{"$error":"#DIV/0!"}},{"$error":"#DIV/0!"},{"$error":"#DIV/0!"},{"$f":"IF($L$26=DN5,BS47+((BS51-BS47)/4),IF($L$26=$CI$6,BO48+($DM$31*2)))","v":{"$error":"#DIV/0!"}},{"$f":"IF(OR(L26=DN5,L26=DN6),DR20,)","v":{"$error":"#DIV/0!"}},{"$f":"IF(L26<>DN2,BU47+(DP28/4),0)","v":{"$error":"#DIV/0!"}},{"$f":"IF(L26<>DN2,DR15,)","v":{"$error":"#DIV/0!"}},null,{"$f":"DK27","v":{"$error":"#DIV/0!"}},0]
[{"$f":"IF(E28=CJ6,A48+(CN31/4),)","v":0},{"$f":"IF(E28=CJ6,CK24,)","v":0},{"$f":"IF(AND($E$26>3,$E$28=CJ6),A49+($CF$29/($E$26-2)),)","v":{"$error":"#DIV/0!"}},{"$f":"IF(AND($E$26>3,$E$28=CJ6),B49)","v":{"$error":"#DIV/0!"}},{"$error":"#DIV/0!"},{"$error":"#DIV/0!"},{"$f":"IF(AND($E$26=5,$E$28=CJ6),A49+(($CF$29/3)*2),)","v":{"$error":"#DIV/0!"}},{"$f":"IF(AND($E$26=5,$E$28=CJ6),B49,)","v":{"$error":"#DIV/0!"}},{"$f":"IF(E28=CJ6,I47,)","v":0},{"$f":"IF(E28=CJ6,J48-(CO31/4),)","v":0},{"$f":"IF(E26=1,CF27/2+CF18,0)","v":{"$error":"#DIV/0!"}},{"$f":"L47","v":{"$error":"#DIV/0!"}},{"$f":"IF(E26=CI2,0,M47+(CI28/2))","v":{"$error":"#DIV/0!"}},{"$f":"CI15","v":{"$error":"#DIV/0!"}},{"$f":"IF(OR(E26=CI4,E26=CI5,E26=CI6),O51-(O51-O47)/2,)","v":{"$error":"#DIV/0!"}},{"$f":"IF(OR(E26=CI4,E26=CI5,E26=CI6),CI20,)","v":{"$error":"#DIV/0!"}},{"$error":"#DIV/0!"},{"$error":"#DIV/0!"},{"$f":"IF(E26=CI5,S51+(S47-S51)/2,IF($E$26=$CI$6,O49+($CH$31*2)))","v":{"$error":"#DIV/0!"}},{"$f":"IF(OR(E26=CI5,E26=CI6),CL20,)","v":{"$error":"#DIV/0!"}},{"$f":"IF(E26<>CI2,U47+(CK28/2),0)","v":{"$error":"#DIV/0!"}},{"$f":"IF(E26<>CI2,CL15,)","v":{"$error":"#DIV/0!"}},null,{"$f":"CF27","v":{"$error":"#DIV/0!"}},{"$f":"CF28","v":{"$error":"#DIV/0!"}},null,{"$f":"IF(I28=CY6,AA48+(DC31/4),)","v":0},{"$f":"IF(I28=CY6,CZ24,)","v":0},{"$f":"IF(AND($I$26>3,$I$28=CJ6),AA49+($CF$29/($I$26-2)),)","v":{"$error":"#DIV/0!"}},{"$f":"IF(AND($I$26>3,$I$28=CJ6),AB49)","v":{"$error":"#DIV/0!"}},{"$error":"#DIV/0!"},{"$error":"#DIV/0!"},{"$f":"IF(AND($I$26=5,$I$28=CJ6),AA49+(($CF$29/3)*2),)","v":{"$error":"#DIV/0!"}},{"$f":"IF(AND($I$26=5,$I$28=CJ6),AB49,)","v":{"$error":"#DIV/0!"}},{"$f":"IF(I28=CY6,AI47,)","v":0},{"$f":"IF(I28=CY6,AJ48-(DD31/4),)","v":0},{"$f":"IF(I26=1,CU27/2+CU18,0)","v":{"$error":"#DIV/0!"}},{"$f":"AL47","v":{"$error":"#DIV/0!"}},{"$f":"IF(I26=CX2,0,AM47+(CX28/2))","v":{"$error":"#DIV/0!"}},{"$f":"CX15","v":{"$error":"#DIV/0!"}},{"$f":"IF(OR(I26=CX4,I26=CX5,I26=CX6),AO51-(AO51-AO47)/2,)","v":{"$error":"#DIV/0!"}},{"$f":"IF(OR(I26=CX4,I26=CX5,I26=CX6),CX20,)","v":{"$error":"#DIV/0!"}},{"$error":"#DIV/0!"},{"$error":"#DIV/0!"},{"$f":"IF(I26=CX5,AS51+(AS47-AS51)/2,IF($I$26=$CI$6,AO49+($CW$31*2)))","v":{"$error":"#DIV/0!"}},{"$f":"IF(OR(I26=CX5,I26=CX6),CX20,)","v":{"$error":"#DIV/0!"}},{"$f":"IF(I26<>CX2,AU47+(CZ28/2),0)","v":{"$error":"#DIV/0!"}},{"$f":"IF(I26<>CX2,DA15,)","v":{"$error":"#DIV/0!"}},null,{"$f":"CU27","v":{"$error":"#DIV/0!"}},{"$f":"CU28","v":{"$error":"#DIV/0!"}},null,{"$f":"IF(L28=DO6,BA48+(DS31/4),)","v":{"$error":"#DIV/0!"}},{"$f":"IF(L28=DO6,DP24,)","v":{"$error":"#DIV/0!"}},{"$f":"IF(AND($L$26>3,$L$28=CJ6),BA49+($CF$29/($L$26-2)),)","v":{"$error":"#DIV/0!"}},{"$f":"IF(AND($L$26>3,$L$28=CJ6),BB49)","v":{"$error":"#DIV/0!"}},{"$error":"#DIV/0!"},{"$error":"#DIV/0!"},{"$f":"IF(AND($L$26=5,$L$28=CJ6),BA49+(($CF$29/3)*2),)","v":{"$error":"#DIV/0!"}},{"$f":"IF(AND($L$26=5,$L$28=CJ6),BB49,)","v":{"$error":"#DIV/0!"}},{"$f":"IF(L28=DO6,BI47,)","v":{"$error":"#DIV/0!"}},{"$f":"IF(L28=DO6,BJ48-(DT31/4),)","v":{"$error":"#DIV/0!"}},{"$f":"IF(L26=1,DK27/2+DK18,0)","v":{"$error":"#DIV/0!"}},{"$f":"BL47","v":{"$error":"#DIV/0!"}},{"$f":"IF(L26=DN2,0,BM47+(DN28/2))","v":{"$error":"#DIV/0!"}},{"$f":"DN15","v":{"$error":"#DIV/0!"}},{"$f":"IF(OR(L26=DN4,L26=DN5,L26=DN6),BO51-(BO51-BO47)/2,)","v":{"$error":"#DIV/0!"}},{"$f":"IF(OR(L26=DN4,L26=DN5,L26=DN6),DN20,)","v":{"$error":"#DIV/0!"}},{"$error":"#DIV/0!"},{"$error":"#DIV/0!"},{"$f":"IF($L$26=DN5,BS51+(BS47-BS51)/2,IF($L$26=$CI$6,BO49+($DM$31*2)))","v":{"$error":"#DIV/0!"}},{"$f":"IF(OR(L26=DN5,L26=DN6),DQ20,)","v":{"$error":"#DIV/0!"}},{"$f":"IF(L26<>DN2,BU47+(DP28/2),0)","v":{"$error":"#DIV/0!"}},{"$f":"IF(L26<>DN2,DQ15,)","v":{"$error":"#DIV/0!"}},null,{"$f":"DK27","v":{"$error":"#DIV/0!"}},{"$f":"DK28","v":{"$error":"#DIV/0!"}}]
[{"$f":"IF(E28=CJ6,A48+(CN31/2),)","v":0},{"$f":"B46","v":0},{"$f":"IF(AND($E$26>3,$E$28=CJ6),A50+($CF$29/($E$26-2)),)","v":{"$error":"#DIV/0!"}},{"$f":"IF(AND($E$26>3,$E$28=CJ6),B50)","v":{"$error":"#DIV/0!"}},{"$error":"#DIV/0!"},{"$error":"#DIV/0!"},{"$f":"IF(AND($E$26=5,$E$28=CJ6),A50+(($CF$29/3)*2),)","v":{"$error":"#DIV/0!"}},{"$f":"IF(AND($E$26=5,$E$28=CJ6),B50,)","v":{"$error":"#DIV/0!"}},{"$f":"I46","v":0},{"$f":"IF(E28=CJ6,Y52-(CO31/2),)","v":0},{"$f":"IF(E26=1,K51-(CF18/1.6),0)","v":{"$error":"#DIV/0!"}},{"$f":"IF(E26=1,Y52/2,0)","v":{"$error":"#DIV/0!"}},{"$f":"IF(E26=CI2,0,M49+(CI28/4))","v":{"$error":"#DIV/0!"}},{"$f":"N48","v":{"$error":"#DIV/0!"}},{"$f":"IF(E26=CI4,O51-(MAX(CI31:CJ31)/4),IF(OR(E26=CI5,E26=CI6),O51-((O51-O47)/4)))","v":{"$error":"#DIV/0!"}},{"$f":"IF(OR(E26=CI4,E26=CI5,E26=CI6),P48,)","v":{"$error":"#DIV/0!"}},{"$error":"#DIV/0!"},{"$error":"#DIV/0!"},{"$f":"IF(E26=CI5,S51-((S51-S47)/4),IF($E$26=$CI$6,O50+($CH$31*2)))","v":{"$error":"#DIV/0!"}},{"$f":"IF(OR(E26=CI5,E26=CI6),T48,)","v":{"$error":"#DIV/0!"}},{"$f":"IF(E26<>CI2,U49+(CK28/4),0)","v":{"$error":"#DIV/0!"}},{"$f":"IF(E26<>CI2,V48,)","v":{"$error":"#DIV/0!"}},null,0,{"$f":"CF28","v":{"$error":"#DIV/0!"}},null,{"$f":"IF(I28=CY6,AA48+(DC31/2),)","v":0},{"$f":"AB46","v":0},{"$f":"IF(AND($I$26>3,$I$28=CJ6),AA50+($CF$29/($I$26-2)),)","v":{"$error":"#DIV/0!"}},{"$f":"IF(AND($I$26>3,$I$28=CJ6),AB50)","v":{"$error":"#DIV/0!"}},{"$error":"#DIV/0!"},{"$error":"#DIV/0!"},{"$f":"IF(AND($I$26=5,$I$28=CJ6),AA50+(($CF$29/3)*2),)","v":{"$error":"#DIV/0!"}},{"$f":"IF(AND($I$26=5,$I$28=CJ6),AB50,)","v":{"$error":"#DIV/0!"}},{"$f":"AI46","v":0},{"$f":"IF(I28=CY6,AY52-(DD31/2),)","v":0},{"$f":"IF(I26=1,AK51-(CU18/1.6),0)","v":{"$error":"#DIV/0!"}},{"$f":"IF(I26=1,AY52/2,0)","v":{"$error":"#DIV/0!"}},{"$f":"IF(I26=CX2,0,AM49+(CX28/4))","v":{"$error":"#DIV/0!"}},{"$f":"AN48","v":{"$error":"#DIV/0!"}},{"$f":"IF(I26=CX4,AO51-(MAX(CX31:CY31)/4),IF(OR(I26=CX5,I26=CX6),AO51-((AO51-AO47)/4)))","v":{"$error":"#DIV/0!"}},{"$f":"IF(OR(I26=CX4,I26=CX5,I26=CX6),AP48,)","v":{"$error":"#DIV/0!"}},{"$error":"#DIV/0!"},{"$error":"#DIV/0!"},{"$f":"IF(I26=CX5,AS51-((AS51-AS47)/4),IF($I$26=$CI$6,AO50+($CW$31*2)))","v":{"$error":"#DIV/0!"}},{"$f":"IF(OR(I26=CX5,I26=CX6),AT48,)","v":{"$error":"#DIV/0!"}},{"$f":"IF(I26<>CX2,AU49+(CZ28/4),0)","v":{"$error":"#DIV/0!"}},{"$f":"IF(I26<>CX2,AV48,)","v":{"$error":"#DIV/0!"}},null,0,{"$f":"CU28","v":{"$error":"#DIV/0!"}},null,{"$f":"IF(L28=DO6,BA48+(DS31/2),)","v":{"$error":"#DIV/0!"}},{"$f":"BB46","v":{"$error":"#DIV/0!"}},{"$f":"IF(AND($L$26>3,$L$28=CJ6),BA50+($CF$29/($L$26-2)),)","v":{"$error":"#DIV/0!"}},{"$f":"IF(AND($L$26>3,$L$28=CJ6),BB50)","v":{"$error":"#DIV/0!"}},{"$error":"#DIV/0!"},{"$error":"#DIV/0!"},{"$f":"IF(AND($L$26=5,$L$28=CJ6),BA50+(($CF$29/3)*2),)","v":{"$error":"#DIV/0!"}},{"$f":"IF(AND($L$26=5,$L$28=CJ6),BB50,)","v":{"$error":"#DIV/0!"}},{"$f":"BI46","v":{"$error":"#DIV/0!"}},{"$f":"IF(L28=DO6,BY52-(DT31/2),)","v":{"$error":"#DIV/0!"}},{"$f":"IF(L26=1,BK51-(DK18/1.6),0)","v":{"$error":"#DIV/0!"}},{"$f":"IF(L26=1,BY52/2,0)","v":{"$error":"#DIV/0!"}},{"$f":"IF(L26=DN2,0,BM49+(DN28/4))","v":{"$error":"#DIV/0!"}},{"$f":"BN48","v":{"$error":"#DIV/0!"}},{"$f":"IF(L26=DN4,BO51-(MAX(DN31:DO31)/4),IF(OR(L26=DN5,L26=DN6),BO51-((BO51-BO47)/4)))","v":{"$error":"#DIV/0!"}},{"$f":"IF(OR(L26=DN4,L26=DN5,L26=DN6),BP48,)","v":{"$error":"#DIV/0!"}},{"$error":"#DIV/0!"},{"$error":"#DIV/0!"},{"$f":"IF($L$26=DN5,BS51-((BS51-BS47)/4),IF($L$26=$CI$6,BO50+($DM$31*2)))","v":{"$error":"#DIV/0!"}},{"$f":"IF(OR(L26=DN5,L26=DN6),BT48,)","v":{"$error":"#DIV/0!"}},{"$f":"IF(L26<>DN2,BU49+(DP28/4),0)","v":{"$error":"#DIV/0!"}},{"$f":"IF(L26<>DN2,BV48,)","v":{"$error":"#DIV/0!"}},null,0,{"$f":"DK28","v":{"$error":"#DIV/0!"}}]
[{"$f":"IF(E28=CJ6,A50-((A50-A54)/1.8),)","v":0},{"$f":"IF(E28=CJ6,B52-(CN30/4),)","v":0},{"$f":"IF(AND($E$26>3,$E$28=CJ6),A51+($CF$29/($E$26-2)),)","v":{"$error":"#DIV/0!"}},{"$f":"IF(AND($E$26>3,$E$28=CJ6),B51)","v":{"$error":"#DIV/0!"}},{"$error":"#DIV/0!"},{"$error":"#DIV/0!"},{"$f":"IF(AND($E$26=5,$E$28=CJ6),A51+(($CF$29/3)*2),)","v":{"$error":"#DIV/0!"}},{"$f":"IF(AND($E$26=5,$E$28=CJ6),B51,)","v":{"$error":"#DIV/0!"}},{"$f":"IF(E28=CJ6,I52-(CO30/4),)","v":0},{"$f":"IF(E28=CJ6,J50+((J54-J50)/1.8),)","v":0},{"$f":"IF(E26=1,CF27/2-CH25,0)","v":{"$error":"#DIV/0!"}},{"$f":"IF(E26=1,Y52,0)","v":{"$error":"#DIV/0!"}},{"$f":"IF(E26=CI2,0,M47+CI28)","v":{"$error":"#DIV/0!"}},{"$f":"CH25","v":{"$error":"#DIV/0!"}},{"$f":"IF(E26=CI4,CF27/2+(CJ31/2),IF(E26=CI5,CF27/2+CF23,IF(E26=CI6,CL28+CF18,)))","v":{"$error":"#DIV/0!"}},{"$f":"IF(OR(E26=CI4,E26=CI5,E26=CI6),CH25,)","v":{"$error":"#DIV/0!"}},{"$error":"#DIV/0!"},{"$error":"#DIV/0!"},{"$f":"IF(E26=CI5,S47+CK31+CF23+CF22,IF($E$26=$CI$6,O51+($CH$31*2)))","v":{"$error":"#DIV/0!"}},{"$f":"IF(OR(E26=CI5,E26=CI6),CH25,)","v":{"$error":"#DIV/0!"}},{"$f":"IF(E26<>CI2,CF27-CH25,0)","v":{"$error":"#DIV/0!"}},{"$f":"V47","v":{"$error":"#DIV/0!"}},null,0,0,null,{"$f":"IF(I28=CY6,AA50-((AA50-AA54)/1.8),)","v":0},{"$f":"IF(I28=CY6,AB52-(DC30/4),)","v":0},{"$f":"IF(AND($I$26>3,$I$28=CJ6),AA51+($CF$29/($I$26-2)),)","v":{"$error":"#DIV/0!"}},{"$f":"IF(AND($I$26>3,$I$28=CJ6),AB51)","v":{"$error":"#DIV/0!"}},{"$error":"#DIV/0!"},{"$error":"#DIV/0!"},{"$f":"IF(AND($I$26=5,$I$28=CJ6),AA51+(($CF$29/3)*2),)","v":{"$error":"#DIV/0!"}},{"$f":"IF(AND($I$26=5,$I$28=CJ6),AB51,)","v":{"$error":"#DIV/0!"}},{"$f":"IF(I28=CY6,AI52-(DD30/4),)","v":0},{"$f":"IF(I28=CY6,AJ50+((AJ54-AJ50)/1.8),)","v":0},{"$f":"IF(I26=1,CU27/2-CW25,0)","v":{"$error":"#DIV/0!"}},{"$f":"IF(I26=1,AY52,0)","v":{"$error":"#DIV/0!"}},{"$f":"IF(I26=CX2,0,AM47+CX28)","v":{"$error":"#DIV/0!"}},{"$f":"CW25","v":{"$error":"#DIV/0!"}},{"$f":"IF(I26=CX4,CU27/2+(CY31/2),IF(I26=CX5,CU27/2+CU23,IF(I26=CX6,DA28+CU18,)))","v":{"$error":"#DIV/0!"}},{"$f":"IF(OR(I26=CX4,I26=CX5,I26=CX6),CW25,)","v":{"$error":"#DIV/0!"}},{"$error":"#DIV/0!"},{"$error":"#DIV/0!"},{"$f":"IF(I26=CX5,AS47+CW31+CU23+CU22,IF($I$26=$CI$6,AO51+($CW$31*2)))","v":{"$error":"#DIV/0!"}},{"$f":"IF(OR(I26=CX5,I26=CX6),DH25,)","v":{"$error":"#DIV/0!"}},{"$f":"IF(I26<>CX2,CU27-CW25,0)","v":{"$error":"#DIV/0!"}},{"$f":"AV47","v":{"$error":"#DIV/0!"}},null,0,0,null,{"$f":"IF(L28=DO6,BA50-((BA50-BA54)/1.8),)","v":{"$error":"#DIV/0!"}},{"$f":"IF(L28=DO6,BB52-(DS30/4),)","v":{"$error":"#DIV/0!"}},{"$f":"IF(AND($L$26>3,$L$28=CJ6),BA51+($CF$29/($L$26-2)),)","v":{"$error":"#DIV/0!"}},{"$f":"IF(AND($L$26>3,$L$28=CJ6),BB51)","v":{"$error":"#DIV/0!"}},{"$error":"#DIV/0!"},{"$error":"#DIV/0!"},{"$f":"IF(AND($L$26=5,$L$28=CJ6),BA51+(($CF$29/3)*2),)","v":{"$error":"#DIV/0!"}},{"$f":"IF(AND($L$26=5,$L$28=CJ6),BB51,)","v":{"$error":"#DIV/0!"}},{"$f":"IF(L28=DO6,BI52-(DT30/4),)","v":{"$error":"#DIV/0!"}},{"$f":"IF(L28=DO6,BJ50+((BJ54-BJ50)/1.8),)","v":{"$error":"#DIV/0!"}},{"$f":"IF(L26=1,DK27/2-DM25,0)","v":{"$error":"#DIV/0!"}},{"$f":"IF(L26=1,BY52,0)","v":{"$error":"#DIV/0!"}},{"$f":"IF(L26=DN2,0,BM47+DN28)","v":{"$error":"#DIV/0!"}},{"$f":"DM25","v":{"$error":"#DIV/0!"}},{"$f":"IF(L26=DN4,DK27/2+(DO31/2),IF(L26=DN5,DK27/2+DK23,IF(L26=DN6,DQ28+DK18,)))","v":{"$error":"#DIV/0!"}},{"$f":"IF(OR(L26=DN4,L26=DN5,L26=DN6),DM25,)","v":{"$error":"#DIV/0!"}},{"$error":"#DIV/0!"},{"$error":"#DIV/0!"},{"$f":"IF($L$26=DN5,BS47+DM31+DK23+DK22,IF($L$26=$CI$6,BO51+($DM$31*2)))","v":{"$error":"#DIV/0!"}},{"$f":"IF(OR(L26=DN5,L26=DN6),DM25,)","v":{"$error":"#DIV/0!"}},{"$f":"IF(L26<>DN2,DK27-DM25,0)","v":{"$error":"#DIV/0!"}},{"$f":"BV47","v":{"$error":"#DIV/0!"}},null,0,0]
[{"$f":"IF(E28=CJ6,A50-((A50-A54)*0.85),)","v":0},{"$f":"IF(E28=CJ6,(CF28/2)-(CF28/4),)","v":0},{"$f":"IF(AND($E$26>3,$E$28=CJ6),A52+($CF$29/($E$26-2)),)","v":{"$error":"#DIV/0!"}},{"$f":"IF(AND($E$26>3,$E$28=CJ6),B52)","v":{"$error":"#DIV/0!"}},{"$error":"#DIV/0!"},{"$error":"#DIV/0!"},{"$f":"IF(AND($E$26=5,$E$28=CJ6),A52+(($CF$29/3)*2),)","v":{"$error":"#DIV/0!"}},{"$f":"IF(AND($E$26=5,$E$28=CJ6),B52,)","v":{"$error":"#DIV/0!"}},{"$f":"IF(E28=CJ6,I53-(CO30/4),)","v":0},{"$f":"IF(E28=CJ6,J50+((J54-J50)*0.85),)","v":0},{"$f":"K50","v":{"$error":"#DIV/0!"}},{"$f":"IF(E26=1,L50+Y52,0)","v":{"$error":"#DIV/0!"}},{"$f":"IF(E26=CI2,0,M51-CJ12-(CF18/2.75))","v":{"$error":"#DIV/0!"}},{"$f":"CH27/4","v":{"$error":"#DIV/0!"}},{"$f":"IF(E26=CI4,O51-CJ18-(CF22/2.75),IF(OR(E26=CI6,E26=CI5),O51-CJ18-(CF18/2.75),))","v":{"$error":"#DIV/0!"}},{"$f":"IF(OR(E26=CI4,E26=CI5,E26=CI6),N52,)","v":{"$error":"#DIV/0!"}},{"$error":"#DIV/0!"},{"$error":"#DIV/0!"},{"$f":"IF(E26=CI5,S51-CJ18-(CF22/2.75),IF($E$26=$CI$6,O52+($CH$31*2)))","v":{"$error":"#DIV/0!"}},{"$f":"IF(OR(E26=CI5,E26=CI6),CF28/8,)","v":{"$error":"#DIV/0!"}},{"$f":"IF(E26<>CI2,U51-CM13,)","v":{"$error":"#DIV/0!"}},{"$f":"IF(E26<>CI2,V53-(CK27/4),)","v":{"$error":"#DIV/0!"}},null,{"$f":"(CF27/2)-(CF29/2)","v":{"$error":"#DIV/0!"}},{"$f":"CF28/2","v":{"$error":"#DIV/0!"}},null,{"$f":"IF(I28=CY6,AA50-((AA50-AA54)*0.85),)","v":0},{"$f":"IF(I28=CY6,(CU28/2)-(CU28/4),)","v":0},{"$f":"IF(AND($I$26>3,$I$28=CJ6),AA52+($CF$29/($I$26-2)),)","v":{"$error":"#DIV/0!"}},{"$f":"IF(AND($I$26>3,$I$28=CJ6),AB52)","v":{"$error":"#DIV/0!"}},{"$error":"#DIV/0!"},{"$error":"#DIV/0!"},{"$f":"IF(AND($I$26=5,$I$28=CJ6),AA52+(($CF$29/3)*2),)","v":{"$error":"#DIV/0!"}},{"$f":"IF(AND($I$26=5,$I$28=CJ6),AB52,)","v":{"$error":"#DIV/0!"}},{"$f":"IF(I28=CY6,AI53-(DD30/4),)","v":0},{"$f":"IF(I28=CY6,AJ50+((AJ54-AJ50)*0.85),)","v":0},{"$f":"AK50","v":{"$error":"#DIV/0!"}},{"$f":"IF(I26=1,AL50+AY52,0)","v":{"$error":"#DIV/0!"}},{"$f":"IF(I26=CX2,0,AM51-CY12-(CU18/2.75))","v":{"$error":"#DIV/0!"}},{"$f":"CW27/4","v":{"$error":"#DIV/0!"}},{"$f":"IF(I26=CX4,AO51-CY18-(CU22/2.75),IF(OR(I26=CX6,I26=CX5),AO51-CY18-(CU18/2.75),))","v":{"$error":"#DIV/0!"}},{"$f":"IF(OR(I26=CX4,I26=CX5,I26=CX6),AN52,)","v":{"$error":"#DIV/0!"}},{"$error":"#DIV/0!"},{"$error":"#DIV/0!"},{"$f":"IF(I26=CX5,AS51-CY18-(CU22/2.75),IF($I$26=$CI$6,AO52+($CW$31*2)))","v":{"$error":"#DIV/0!"}},{"$f":"IF(OR(I26=CX5,I26=CX6),CU28/8,)","v":{"$error":"#DIV/0!"}},{"$f":"IF(I26<>CX2,AU51-DB13,)","v":{"$error":"#DIV/0!"}},{"$f":"IF(I26<>CX2,AV53-(CZ27/4),)","v":{"$error":"#DIV/0!"}},null,{"$f":"(CU27/2)-(CU29/2)","v":{"$error":"#DIV/0!"}},{"$f":"CU28/2","v":{"$error":"#DIV/0!"}},null,{"$f":"IF(L28=DO6,BA50-((BA50-BA54)*0.85),)","v":{"$error":"#DIV/0!"}},{"$f":"IF(L28=DO6,(DK28/2)-(DK28/4),)","v":{"$error":"#DIV/0!"}},{"$f":"IF(AND($L$26>3,$L$28=CJ6),BA52+($CF$29/($L$26-2)),)","v":{"$error":"#DIV/0!"}},{"$f":"IF(AND($L$26>3,$L$28=CJ6),BB52)","v":{"$error":"#DIV/0!"}},{"$error":"#DIV/0!"},{"$error":"#DIV/0!"},{"$f":"IF(AND($L$26=5,$L$28=CJ6),BA52+(($CF$29/3)*2),)","v":{"$error":"#DIV/0!"}},{"$f":"IF(AND($L$26=5,$L$28=CJ6),BB52,)","v":{"$error":"#DIV/0!"}},{"$f":"IF(L28=DO6,BI53-(DT30/4),)","v":{"$error":"#DIV/0!"}},{"$f":"IF(L28=DO6,BJ50+((BJ54-BJ50)*0.85),)","v":{"$error":"#DIV/0!"}},{"$f":"BK50","v":{"$error":"#DIV/0!"}},{"$f":"IF(L26=1,BL50+BY52,0)","v":{"$error":"#DIV/0!"}},{"$f":"IF(L26=DN2,0,BM51-DO12-(DK18/2.75))","v":{"$error":"#DIV/0!"}},{"$f":"DM27/4","v":{"$error":"#DIV/0!"}},{"$f":"IF(L26=DN4,BO51-DO18-(DK22/2.75),IF(OR(L26=DN6,L26=DN5),BO51-DO18-(DK18/2.75),))","v":{"$error":"#DIV/0!"}},{"$f":"IF(OR(L26=DN4,L26=DN5,L26=DN6),BN52,)","v":{"$error":"#DIV/0!"}},{"$error":"#DIV/0!"},{"$error":"#DIV/0!"},{"$f":"IF($L$26=DN5,BS51-DO18-(DK22/2.75),IF($L$26=$CI$6,BO52+($CW$31*2)))","v":{"$error":"#DIV/0!"}},{"$f":"IF(OR(L26=DN5,L26=DN6),DK28/8,)","v":{"$error":"#DIV/0!"}},{"$f":"IF(L26<>DN2,BU51-DR13,)","v":{"$error":"#DIV/0!"}},{"$f":"IF(L26<>DN2,BV53-(DP27/4),)","v":{"$error":"#DIV/0!"}},null,{"$f":"(DK27/2)-(DK29/2)","v":{"$error":"#DIV/0!"}},{"$f":"DK28/2","v":{"$error":"#DIV/0!"}}]
[{"$f":"IF(E28=CJ6,A54+((A50-A54)*0.05),)","v":0},{"$f":"IF(E28=CJ6,B52+(CN30/4),)","v":0},{"$f":"IF(AND($E$26>3,$E$28=CJ6),A53+($CF$29/($E$26-2)),)","v":{"$error":"#DIV/0!"}},{"$f":"IF(AND($E$26>3,$E$28=CJ6),B53)","v":{"$error":"#DIV/0!"}},{"$error":"#DIV/0!"},{"$error":"#DIV/0!"},{"$f":"IF(AND($E$26=5,$E$28=CJ6),A53+(($CF$29/3)*2),)","v":{"$error":"#DIV/0!"}},{"$f":"IF(AND($E$26=5,$E$28=CJ6),B53,)","v":{"$error":"#DIV/0!"}},{"$f":"IF(E28=CJ6,I54-(CO30/4),)","v":0},{"$f":"IF(E28=CJ6,J54-((J54-J50)*0.05),)","v":0},{"$f":"K49","v":{"$error":"#DIV/0!"}},{"$f":"IF(E26=1,Y59-L47,0)","v":{"$error":"#DIV/0!"}},{"$f":"IF(E26=CI2,0,M51-CI12-(CF18/1.6))","v":{"$error":"#DIV/0!"}},{"$f":"CF28/4","v":{"$error":"#DIV/0!"}},{"$f":"IF(E26=CI4,O51-CI18-(CF22/1.6),IF(OR(E26=CI5,E26=CI6),O51-CI18-(CF18/1.6),))","v":{"$error":"#DIV/0!"}},{"$f":"IF(OR(E26=CI4,E26=CI5,E26=CI6),N53,)","v":{"$error":"#DIV/0!"}},{"$error":"#DIV/0!"},{"$error":"#DIV/0!"},{"$f":"IF(E26=CI5,S51-CI18-(CF22/1.6),IF($E$26=$CI$6,O53+($CH$31*2)))","v":{"$error":"#DIV/0!"}},{"$f":"IF(OR(E26=CI5,E26=CI6),CF28/4,)","v":{"$error":"#DIV/0!"}},{"$f":"IF(E26<>CI2,U51-CL13,)","v":{"$error":"#DIV/0!"}},{"$f":"IF(E26<>CI2,V54-(CK27/4),)","v":{"$error":"#DIV/0!"}},null,{"$f":"(CF27/2)+(CF29/2)","v":{"$error":"#DIV/0!"}},{"$f":"Y52","v":{"$error":"#DIV/0!"}},null,{"$f":"IF(I28=CY6,AA54+((AA50-AA54)*0.05),)","v":0},{"$f":"IF(I28=CY6,AB52+(DC30/4),)","v":0},{"$f":"IF(AND($I$26>3,$I$28=CJ6),AA53+($CF$29/($I$26-2)),)","v":{"$error":"#DIV/0!"}},{"$f":"IF(AND($I$26>3,$I$28=CJ6),AB53)","v":{"$error":"#DIV/0!"}},{"$error":"#DIV/0!"},{"$error":"#DIV/0!"},{"$f":"IF(AND($I$26=5,$I$28=CJ6),AA53+(($CF$29/3)*2),)","v":{"$error":"#DIV/0!"}},{"$f":"IF(AND($I$26=5,$I$28=CJ6),AB53,)","v":{"$error":"#DIV/0!"}},{"$f":"IF(I28=CY6,AI54-(DD30/4),)","v":0},{"$f":"IF(I28=CY6,AJ54-((AJ54-AJ50)*0.05),)","v":0},{"$f":"AK49","v":{"$error":"#DIV/0!"}},{"$f":"IF(I26=1,AY59-AL47,0)","v":{"$error":"#DIV/0!"}},{"$f":"IF(I26=CX2,0,AM51-CX12-(CU18/1.6))","v":{"$error":"#DIV/0!"}},{"$f":"CU28/4","v":{"$error":"#DIV/0!"}},{"$f":"IF(I26=CX4,AO51-CX18-(CU22/1.6),IF(OR(I26=CX5,I26=CX6),AO51-CX18-(CU18/1.6),))","v":{"$error":"#DIV/0!"}},{"$f":"IF(OR(I26=CX4,I26=CX5,I26=CX6),AN53,)","v":{"$error":"#DIV/0!"}},{"$error":"#DIV/0!"},{"$error":"#DIV/0!"},{"$f":"IF(I26=CX5,AS51-CX18-(CU22/1.6),IF($I$26=$CI$6,AO53+($CW$31*2)))","v":{"$error":"#DIV/0!"}},{"$f":"IF(OR(I26=CX5,I26=CX6),CU28/4,)","v":{"$error":"#DIV/0!"}},{"$f":"IF(I26<>CX2,AU51-DA13,)","v":{"$error":"#DIV/0!"}},{"$f":"IF(I26<>CX2,AV54-(CZ27/4),)","v":{"$error":"#DIV/0!"}},null,{"$f":"(CU27/2)+(CU29/2)","v":{"$error":"#DIV/0!"}},{"$f":"AY52","v":{"$error":"#DIV/0!"}},null,{"$f":"IF(L28=DO6,BA54+((BA50-BA54)*0.05),)","v":{"$error":"#DIV/0!"}},{"$f":"IF(L28=DO6,BB52+(DS30/4),)","v":{"$error":"#DIV/0!"}},{"$f":"IF(AND($L$26>3,$L$28=CJ6),BA53+($CF$29/($L$26-2)),)","v":{"$error":"#DIV/0!"}},{"$f":"IF(AND($L$26>3,$L$28=CJ6),BB53)","v":{"$error":"#DIV/0!"}},{"$error":"#DIV/0!"},{"$error":"#DIV/0!"},{"$f":"IF(AND($L$26=5,$L$28=CJ6),BA53+(($CF$29/3)*2),)","v":{"$error":"#DIV/0!"}},{"$f":"IF(AND($L$26=5,$L$28=CJ6),BB53,)","v":{"$error":"#DIV/0!"}},{"$f":"IF(L28=DO6,BI54-(DT30/4),)","v":{"$error":"#DIV/0!"}},{"$f":"IF(L28=DO6,BJ54-((BJ54-BJ50)*0.05),)","v":{"$error":"#DIV/0!"}},{"$f":"BK49","v":{"$error":"#DIV/0!"}},{"$f":"IF(L26=1,BY59-BL47,0)","v":{"$error":"#DIV/0!"}},{"$f":"IF(L26=DN2,0,BM51-DN12-(DK18/1.6))","v":{"$error":"#DIV/0!"}},{"$f":"DK28/4","v":{"$error":"#DIV/0!"}},{"$f":"IF(L26=DN4,BO51-DN18-(DK22/1.6),IF(OR(L26=DN5,L26=DN6),BO51-DN18-(DK18/1.6),))","v":{"$error":"#DIV/0!"}},{"$f":"IF(OR(L26=DN4,L26=DN5,L26=DN6),BN53,)","v":{"$error":"#DIV/0!"}},{"$error":"#DIV/0!"},{"$error":"#DIV/0!"},{"$f":"IF($L$26=DN5,BS51-DN18-(DK22/1.6),IF($L$26=$CI$6,BO53+($CW$31*2)))","v":{"$error":"#DIV/0!"}},{"$f":"IF(OR(L26=DN5,L26=DN6),DK28/4,)","v":{"$error":"#DIV/0!"}},{"$f":"IF(L26<>DN2,BU51-DQ13,)","v":{"$error":"#DIV/0!"}},{"$f":"IF(L26<>DN2,BV54-(DP27/4),)","v":{"$error":"#DIV/0!"}},null,{"$f":"(DK27/2)+(DK29/2)","v":{"$error":"#DIV/0!"}},{"$f":"BY52","v":{"$error":"#DIV/0!"}}]
[{"$f":"IF(E28=CJ6,X52+IF(E26=CI3,CF29/2,),)","v":0},{"$f":"IF(E28=CJ6,Y52-CH25,)","v":0},{"$f":"IF(AND($E$26>3,$E$28=CJ6),A54+($CF$29/($E$26-2)),)","v":{"$error":"#DIV/0!"}},{"$f":"IF(AND($E$26>3,$E$28=CJ6),B54)","v":{"$error":"#DIV/0!"}},{"$error":"#DIV/0!"},{"$error":"#DIV/0!"},{"$f":"IF(AND($E$26=5,$E$28=CJ6),A54+(($CF$29/3)*2),)","v":{"$error":"#DIV/0!"}},{"$f":"IF(AND($E$26=5,$E$28=CJ6),B54,)","v":{"$error":"#DIV/0!"}},{"$f":"IF(E28=CJ6,X52-CH25,)","v":0},{"$f":"IF(E28=CJ6,Y52,)","v":0},{"$f":"K48","v":{"$error":"#DIV/0!"}},{"$f":"IF(E26=1,Y59-L48,0)","v":{"$error":"#DIV/0!"}},{"$f":"IF(E26=CI2,0,M55-CJ12+(CF18/5.5))","v":{"$error":"#DIV/0!"}},{"$f":"CH27*0.75","v":{"$error":"#DIV/0!"}},{"$f":"IF(E26=CI4,O55-CJ18+(CF22/5),IF(OR(E26=CI5,E26=CI6),O55-CJ18+(CF18/5),))","v":{"$error":"#DIV/0!"}},{"$f":"IF(OR(E26=CI4,E26=CI5,E26=CI6),N54,)","v":{"$error":"#DIV/0!"}},{"$error":"#DIV/0!"},{"$error":"#DIV/0!"},{"$f":"IF(E26=CI5,S55-CJ18+(CF22/5),IF($E$26=$CI$6,O54+($CH$31*2)))","v":{"$error":"#DIV/0!"}},{"$f":"IF(OR(E26=CI5,E26=CI6),(CF28/8)*3,)","v":{"$error":"#DIV/0!"}},{"$f":"IF(E26<>CI2,U51-CM13,)","v":{"$error":"#DIV/0!"}},{"$f":"IF(E26<>CI2,V55-(CK27/4),)","v":{"$error":"#DIV/0!"}},null,0,0,null,{"$f":"IF(I28=CY6,AX52+IF(I26=CX3,CU29/2,),)","v":0},{"$f":"IF(I28=CY6,AY52-CW25,)","v":0},{"$f":"IF(AND($I$26>3,$I$28=CJ6),AA54+($CF$29/($I$26-2)),)","v":{"$error":"#DIV/0!"}},{"$f":"IF(AND($I$26>3,$I$28=CJ6),AB54)","v":{"$error":"#DIV/0!"}},{"$error":"#DIV/0!"},{"$error":"#DIV/0!"},{"$f":"IF(AND($I$26=5,$I$28=CJ6),AA54+(($CF$29/3)*2),)","v":{"$error":"#DIV/0!"}},{"$f":"IF(AND($I$26=5,$I$28=CJ6),AB54,)","v":{"$error":"#DIV/0!"}},{"$f":"IF(I28=CY6,AX52-CW25,)","v":0},{"$f":"IF(I28=CY6,AY52,)","v":0},{"$f":"AK48","v":{"$error":"#DIV/0!"}},{"$f":"IF(I26=1,AY59-AL48,0)","v":{"$error":"#DIV/0!"}},{"$f":"IF(I26=CX2,0,AM55-CY12+(CU18/5.5))","v":{"$error":"#DIV/0!"}},{"$f":"CW27*0.75","v":{"$error":"#DIV/0!"}},{"$f":"IF(I26=CX4,AO55-CY18+(CU22/5),IF(OR(I26=CX5,I26=CX6),AO55-CY18+(CU18/5),))","v":{"$error":"#DIV/0!"}},{"$f":"IF(OR(I26=CX4,I26=CX5,I26=CX6),AN54,)","v":{"$error":"#DIV/0!"}},{"$error":"#DIV/0!"},{"$error":"#DIV/0!"},{"$f":"IF(I26=CX5,AS55-CY18+(CU22/5),IF($I$26=$CI$6,AO54+($CW$31*2)))","v":{"$error":"#DIV/0!"}},{"$f":"IF(OR(I26=CX5,I26=CX6),(CU28/8)*3,)","v":{"$error":"#DIV/0!"}},{"$f":"IF(I26<>CX2,AU51-DB13,)","v":{"$error":"#DIV/0!"}},{"$f":"IF(I26<>CX2,AV55-(CZ27/4),)","v":{"$error":"#DIV/0!"}},null,0,0,null,{"$f":"IF(L28=DO6,BX52+IF(L26=DN3,DK29/2,),)","v":{"$error":"#DIV/0!"}},{"$f":"IF(L28=DO6,BY52-DM25,)","v":{"$error":"#DIV/0!"}},{"$f":"IF(AND($L$26>3,$L$28=CJ6),BA54+($CF$29/($L$26-2)),)","v":{"$error":"#DIV/0!"}},{"$f":"IF(AND($L$26>3,$L$28=CJ6),BB54)","v":{"$error":"#DIV/0!"}},{"$error":"#DIV/0!"},{"$error":"#DIV/0!"},{"$f":"IF(AND($L$26=5,$L$28=CJ6),BA54+(($CF$29/3)*2),)","v":{"$error":"#DIV/0!"}},{"$f":"IF(AND($L$26=5,$L$28=CJ6),BB54,)","v":{"$error":"#DIV/0!"}},{"$f":"IF(L28=DO6,BX52-DM25,)","v":{"$error":"#DIV/0!"}},{"$f":"IF(L28=DO6,BY52,)","v":{"$error":"#DIV/0!"}},{"$f":"BK48","v":{"$error":"#DIV/0!"}},{"$f":"IF(L26=1,BY59-BL48,0)","v":{"$error":"#DIV/0!"}},{"$f":"IF(L26=DN2,0,BM55-DO12+(DK18/5.5))","v":{"$error":"#DIV/0!"}},{"$f":"DM27*0.75","v":{"$error":"#DIV/0!"}},{"$f":"IF(L26=DN4,BO55-DO18+(DK22/5),IF(OR(L26=DN5,L26=DN6),BO55-DO18+(DK18/5),))","v":{"$error":"#DIV/0!"}},{"$f":"IF(OR(L26=DN4,L26=DN5,L26=DN6),BN54,)","v":{"$error":"#DIV/0!"}},{"$error":"#DIV/0!"},{"$error":"#DIV/0!"},{"$f":"IF($L$26=DN5,BS55-DO18+(DK22/5),IF($L$26=$CI$6,BO54+($CW$31*2)))","v":{"$error":"#DIV/0!"}},{"$f":"IF(OR(L26=DN5,L26=DN6),(DK28/8)*3,)","v":{"$error":"#DIV/0!"}},{"$f":"IF(L26<>DN2,BU51-DR13,)","v":{"$error":"#DIV/0!"}},{"$f":"IF(L26<>DN2,BV55-(DP27/4),)","v":{"$error":"#DIV/0!"}},null,0,0]
[{"$f":"IF(E28=CJ6,A54-((A50-A54)*0.05),)","v":0},{"$f":"B53","v":0},{"$f":"IF(AND($E$26>3,$E$28=CJ6),A55+($CF$29/($E$26-2)),)","v":{"$error":"#DIV/0!"}},{"$f":"IF(AND($E$26>3,$E$28=CJ6),B55)","v":{"$error":"#DIV/0!"}},{"$error":"#DIV/0!"},{"$error":"#DIV/0!"},{"$f":"IF(AND($E$26=5,$E$28=CJ6),A55+(($CF$29/3)*2),)","v":{"$error":"#DIV/0!"}},{"$f":"IF(AND($E$26=5,$E$28=CJ6),B55,)","v":{"$error":"#DIV/0!"}},{"$f":"I53","v":0},{"$f":"J54+((J54-J50)*0.05)","v":0},{"$f":"K47","v":{"$error":"#DIV/0!"}},{"$f":"IF(E26=1,Y59-L47,0)","v":{"$error":"#DIV/0!"}},{"$f":"IF(E26=CI2,0,CH28+M47)","v":{"$error":"#DIV/0!"}},{"$f":"CF28/2-CH25","v":{"$error":"#DIV/0!"}},{"$f":"IF(E26=CI4,X58-CH25,IF(E26=CI5,CF27/2-CH25,IF(E26=CI6,CL28,)))","v":{"$error":"#DIV/0!"}},{"$f":"IF(OR(E26=CI4,E26=CI5,E26=CI6),CF28/2-CH25,)","v":{"$error":"#DIV/0!"}},{"$error":"#DIV/0!"},{"$error":"#DIV/0!"},{"$f":"IF(E26=CI5,(CF27/2)+CK31,IF($E$26=$CI$6,O55+($CH$31*2)))","v":{"$error":"#DIV/0!"}},{"$f":"IF(OR(E26=CI5,E26=CI6),CF28/2-CH25,)","v":{"$error":"#DIV/0!"}},{"$f":"IF(E26<>CI2,U51,0)","v":{"$error":"#DIV/0!"}},{"$f":"IF(E26<>CI2,V51+CK27,)","v":{"$error":"#DIV/0!"}},null,{"$f":"(CF27/2)-(CF29/2)","v":{"$error":"#DIV/0!"}},{"$f":"Y53","v":{"$error":"#DIV/0!"}},null,{"$f":"IF(I28=CY6,AA54-((AA50-AA54)*0.05),)","v":0},{"$f":"AB53","v":0},{"$f":"IF(AND($I$26>3,$I$28=CJ6),AA55+($CF$29/($I$26-2)),)","v":{"$error":"#DIV/0!"}},{"$f":"IF(AND($I$26>3,$I$28=CJ6),AB55)","v":{"$error":"#DIV/0!"}},{"$error":"#DIV/0!"},{"$error":"#DIV/0!"},{"$f":"IF(AND($I$26=5,$I$28=CJ6),AA55+(($CF$29/3)*2),)","v":{"$error":"#DIV/0!"}},{"$f":"IF(AND($I$26=5,$I$28=CJ6),AB55,)","v":{"$error":"#DIV/0!"}},{"$f":"AI53","v":0},{"$f":"AJ54+((AJ54-AJ50)*0.05)","v":0},{"$f":"AK47","v":{"$error":"#DIV/0!"}},{"$f":"IF(I26=1,AY59-AL47,0)","v":{"$error":"#DIV/0!"}},{"$f":"IF(I26=CX2,0,CW28+AM47)","v":{"$error":"#DIV/0!"}},{"$f":"CU28/2-CW25","v":{"$error":"#DIV/0!"}},{"$f":"IF(I26=CX4,AX58-CW25,IF(I26=CX5,CU27/2-CW25,IF(I26=CX6,DA28,)))","v":{"$error":"#DIV/0!"}},{"$f":"IF(OR(I26=CX4,I26=CX5,I26=CX6),CU28/2-CW25,)","v":{"$error":"#DIV/0!"}},{"$error":"#DIV/0!"},{"$error":"#DIV/0!"},{"$f":"IF(I26=CX5,(CU27/2)+CW31,IF($I$26=$CI$6,AO55+($CW$31*2)))","v":{"$error":"#DIV/0!"}},{"$f":"IF(OR(I26=CX5,I26=CX6),CU28/2-DH25,)","v":{"$error":"#DIV/0!"}},{"$f":"IF(I26<>CX2,AU51,0)","v":{"$error":"#DIV/0!"}},{"$f":"IF(I26<>CX2,AV51+CZ27,)","v":{"$error":"#DIV/0!"}},null,{"$f":"(CU27/2)-(CU29/2)","v":{"$error":"#DIV/0!"}},{"$f":"AY53","v":{"$error":"#DIV/0!"}},null,{"$f":"IF(L28=DO6,BA54-((BA50-BA54)*0.05),)","v":{"$error":"#DIV/0!"}},{"$f":"BB53","v":{"$error":"#DIV/0!"}},{"$f":"IF(AND($L$26>3,$L$28=CJ6),BA55+($CF$29/($L$26-2)),)","v":{"$error":"#DIV/0!"}},{"$f":"IF(AND($L$26>3,$L$28=CJ6),BB55)","v":{"$error":"#DIV/0!"}},{"$error":"#DIV/0!"},{"$error":"#DIV/0!"},{"$f":"IF(AND($L$26=5,$L$28=CJ6),BA55+(($CF$29/3)*2),)","v":{"$error":"#DIV/0!"}},{"$f":"IF(AND($L$26=5,$L$28=CJ6),BB55,)","v":{"$error":"#DIV/0!"}},{"$f":"BI53","v":{"$error":"#DIV/0!"}},{"$f":"BJ54+((BJ54-BJ50)*0.05)","v":{"$error":"#DIV/0!"}},{"$f":"BK47","v":{"$error":"#DIV/0!"}},{"$f":"IF(L26=1,BY59-BL47,0)","v":{"$error":"#DIV/0!"}},{"$f":"IF(L26=DN2,0,DM28+BM47)","v":{"$error":"#DIV/0!"}},{"$f":"DK28/2-DM25","v":{"$error":"#DIV/0!"}},{"$f":"IF(L26=DN4,BX58-DM25,IF(L26=DN5,DK27/2-DM25,IF(L26=DN6,DQ28,)))","v":{"$error":"#DIV/0!"}},{"$f":"IF(OR(L26=DN4,L26=DN5,L26=DN6),DK28/2-DM25,)","v":{"$error":"#DIV/0!"}},{"$error":"#DIV/0!"},{"$error":"#DIV/0!"},{"$f":"IF($L$26=DN5,(DK27/2)+DM31,IF($L$26=$CI$6,BO55+($DM$31*2)))","v":{"$error":"#DIV/0!"}},{"$f":"IF(OR(L26=DN5,L26=DN6),DK28/2-DM25,)","v":{"$error":"#DIV/0!"}},{"$f":"IF(L26<>DN2,BU51,0)","v":{"$error":"#DIV/0!"}},{"$f":"IF(L26<>DN2,BV51+DP27,)","v":{"$error":"#DIV/0!"}},null,{"$f":"(DK27/2)-(DK29/2)","v":{"$error":"#DIV/0!"}},{"$f":"BY53","v":{"$error":"#DIV/0!"}}]
[{"$f":"IF(E28=CJ6,A58+((A54-A58)*0.85),)","v":0},{"$f":"B52","v":0},{"$f":"IF(AND($E$26>3,$E$28=CJ6),A56+($CF$29/($E$26-2)),)","v":{"$error":"#DIV/0!"}},{"$f":"IF(AND($E$26>3,$E$28=CJ6),B56)","v":{"$error":"#DIV/0!"}},{"$error":"#DIV/0!"},{"$error":"#DIV/0!"},{"$f":"IF(AND($E$26=5,$E$28=CJ6),A56+(($CF$29/3)*2),)","v":{"$error":"#DIV/0!"}},{"$f":"IF(AND($E$26=5,$E$28=CJ6),B56,)","v":{"$error":"#DIV/0!"}},{"$f":"I52","v":0},{"$f":"J58-((J54-J50)*0.85)","v":0},{"$f":"IF(E26=1,K58,0)","v":{"$error":"#DIV/0!"}},{"$f":"IF(E26=1,(Y59/4)*3,0)","v":{"$error":"#DIV/0!"}},{"$f":"IF(E26=CI2,0,M55-(CH28/4))","v":{"$error":"#DIV/0!"}},{"$f":"N55-CJ14+(CF10/4)","v":{"$error":"#DIV/0!"}},{"$f":"IF(OR(E26=CI4,E26=CI5,E26=CI6),O55-(CH31/4),)","v":{"$error":"#DIV/0!"}},{"$f":"IF(OR(E26=CI4,E26=CI5,E26=CI6),CF28/2-CJ19,)","v":{"$error":"#DIV/0!"}},{"$error":"#DIV/0!"},{"$error":"#DIV/0!"},{"$f":"IF(E26=CI5,S55-((S55-S59)/4),IF($E$26=$CI$6,O56+($CH$31*2)))","v":{"$error":"#DIV/0!"}},{"$f":"IF(OR(E26=CI5,E26=CI6),CF28/2-CM19,)","v":{"$error":"#DIV/0!"}},{"$f":"IF(E26<>CI2,U55-(CH28/4),)","v":{"$error":"#DIV/0!"}},{"$f":"IF(E26<>CI2,V55-CM14-(CF14/4),)","v":{"$error":"#DIV/0!"}},null,0,{"$f":"Y50","v":{"$error":"#DIV/0!"}},null,{"$f":"IF(I28=CY6,AA58+((AA54-AA58)*0.85),)","v":0},{"$f":"AB52","v":0},{"$f":"IF(AND($I$26>3,$I$28=CJ6),AA56+($CF$29/($I$26-2)),)","v":{"$error":"#DIV/0!"}},{"$f":"IF(AND($I$26>3,$I$28=CJ6),AB56)","v":{"$error":"#DIV/0!"}},{"$error":"#DIV/0!"},{"$error":"#DIV/0!"},{"$f":"IF(AND($I$26=5,$I$28=CJ6),AA56+(($CF$29/3)*2),)","v":{"$error":"#DIV/0!"}},{"$f":"IF(AND($I$26=5,$I$28=CJ6),AB56,)","v":{"$error":"#DIV/0!"}},{"$f":"AI52","v":0},{"$f":"AJ58-((AJ54-AJ50)*0.85)","v":0},{"$f":"IF(I26=1,AK58,0)","v":{"$error":"#DIV/0!"}},{"$f":"IF(I26=1,(AY59/4)*3,0)","v":{"$error":"#DIV/0!"}},{"$f":"IF(I26=CX2,0,AM55-(CW28/4))","v":{"$error":"#DIV/0!"}},{"$f":"AN55-CY14+(CU10/4)","v":{"$error":"#DIV/0!"}},{"$f":"IF(OR(I26=CX4,I26=CX5,I26=CX6),AO55-(CW31/4),)","v":{"$error":"#DIV/0!"}},{"$f":"IF(OR(I26=CX4,I26=CX5,I26=CX6),CU28/2-CY19,)","v":{"$error":"#DIV/0!"}},{"$error":"#DIV/0!"},{"$error":"#DIV/0!"},{"$f":"IF(I26=CX5,AS55-((AS55-AS59)/4),IF($I$26=$CI$6,AO56+($CW$31*2)))","v":{"$error":"#DIV/0!"}},{"$f":"IF(OR(I26=CX5,I26=CX6),CU28/2-CY19,)","v":{"$error":"#DIV/0!"}},{"$f":"IF(I26<>CX2,AU55-(CW28/4),)","v":{"$error":"#DIV/0!"}},{"$f":"IF(I26<>CX2,AV55-DB14-(CU14/4),)","v":{"$error":"#DIV/0!"}},null,0,{"$f":"AY50","v":{"$error":"#DIV/0!"}},null,{"$f":"IF(L28=DO6,BA58+((BA54-BA58)*0.85),)","v":{"$error":"#DIV/0!"}},{"$f":"BB52","v":{"$error":"#DIV/0!"}},{"$f":"IF(AND($L$26>3,$L$28=CJ6),BA56+($CF$29/($L$26-2)),)","v":{"$error":"#DIV/0!"}},{"$f":"IF(AND($L$26>3,$L$28=CJ6),BB56)","v":{"$error":"#DIV/0!"}},{"$error":"#DIV/0!"},{"$error":"#DIV/0!"},{"$f":"IF(AND($L$26=5,$L$28=CJ6),BA56+(($CF$29/3)*2),)","v":{"$error":"#DIV/0!"}},{"$f":"IF(AND($L$26=5,$L$28=CJ6),BB56,)","v":{"$error":"#DIV/0!"}},{"$f":"BI52","v":{"$error":"#DIV/0!"}},{"$f":"BJ58-((BJ54-BJ50)*0.85)","v":{"$error":"#DIV/0!"}},{"$f":"IF(L26=1,BK58,0)","v":{"$error":"#DIV/0!"}},{"$f":"IF(L26=1,(BY59/4)*3,0)","v":{"$error":"#DIV/0!"}},{"$f":"IF(L26=DN2,0,BM55-(DM28/4))","v":{"$error":"#DIV/0!"}},{"$f":"BN55-DO14+(DK10/4)","v":{"$error":"#DIV/0!"}},{"$f":"IF(OR(L26=DN4,L26=DN5,L26=DN6),BO55-(DM31/4),)","v":{"$error":"#DIV/0!"}},{"$f":"IF(OR(L26=DN4,L26=DN5,L26=DN6),DK28/2-DO19,)","v":{"$error":"#DIV/0!"}},{"$error":"#DIV/0!"},{"$error":"#DIV/0!"},{"$f":"IF($L$26=DN5,BS55-((BS55-BS59)/4),IF($L$26=$CI$6,BO56+($CW$31*2)))","v":{"$error":"#DIV/0!"}},{"$f":"IF(OR(L26=DN5,L26=DN6),DK28/2-DR19,)","v":{"$error":"#DIV/0!"}},{"$f":"IF(L26<>DN2,BU55-(DM28/4),)","v":{"$error":"#DIV/0!"}},{"$f":"IF(L26<>DN2,BV55-DR14-(DK14/4),)","v":{"$error":"#DIV/0!"}},null,0,{"$f":"BY50","v":{"$error":"#DIV/0!"}}]
[{"$f":"A58+((A54-A58)/1.8)","v":0},{"$f":"B51","v":0},{"$f":"IF(AND($E$26>3,$E$28=CJ6),A57+($CF$29/($E$26-2)),)","v":{"$error":"#DIV/0!"}},{"$f":"IF(AND($E$26>3,$E$28=CJ6),B57)","v":{"$error":"#DIV/0!"}},{"$error":"#DIV/0!"},{"$error":"#DIV/0!"},{"$f":"IF(AND($E$26=5,$E$28=CJ6),A57+(($CF$29/3)*2),)","v":{"$error":"#DIV/0!"}},{"$f":"IF(AND($E$26=5,$E$28=CJ6),B57,)","v":{"$error":"#DIV/0!"}},{"$f":"I51","v":0},{"$f":"J58-((J54-J50)/1.8)","v":0},{"$f":"K47","v":{"$error":"#DIV/0!"}},{"$f":"IF(E26=1,Y52,0)","v":{"$error":"#DIV/0!"}},{"$f":"IF(E26=CI2,0,M56-(CH28/4))","v":{"$error":"#DIV/0!"}},{"$f":"N59-CI14-(CF10/2)","v":{"$error":"#DIV/0!"}},{"$f":"IF(E26=CI4,CF27/2,IF(OR(E26=CI5,E26=CI6),O55-((O55-O59)/2),))","v":{"$error":"#DIV/0!"}},{"$f":"IF(OR(E26=CI4,E26=CI5,E26=CI6),CF28/2-CI19,)","v":{"$error":"#DIV/0!"}},{"$error":"#DIV/0!"},{"$error":"#DIV/0!"},{"$f":"IF(E26=CI5,S55-((S55-S59)/2),IF($E$26=$CI$6,O57+($CH$31*2)))","v":{"$error":"#DIV/0!"}},{"$f":"IF(OR(E26=CI5,E26=CI6),CF28/2-CL19,)","v":{"$error":"#DIV/0!"}},{"$f":"IF(E26<>CI2,U55-(CH28/2),0)","v":{"$error":"#DIV/0!"}},{"$f":"IF(E26<>CI2,V55-CL14-(CF14/2),)","v":{"$error":"#DIV/0!"}},null,{"$f":"CF27","v":{"$error":"#DIV/0!"}},0,null,{"$f":"AA58+((AA54-AA58)/1.8)","v":0},{"$f":"AB51","v":0},{"$f":"IF(AND($I$26>3,$I$28=CJ6),AA57+($CF$29/($I$26-2)),)","v":{"$error":"#DIV/0!"}},{"$f":"IF(AND($I$26>3,$I$28=CJ6),AB57)","v":{"$error":"#DIV/0!"}},{"$error":"#DIV/0!"},{"$error":"#DIV/0!"},{"$f":"IF(AND($I$26=5,$I$28=CJ6),AA57+(($CF$29/3)*2),)","v":{"$error":"#DIV/0!"}},{"$f":"IF(AND($I$26=5,$I$28=CJ6),AB57,)","v":{"$error":"#DIV/0!"}},{"$f":"AI51","v":0},{"$f":"AJ58-((AJ54-AJ50)/1.8)","v":0},{"$f":"AK47","v":{"$error":"#DIV/0!"}},{"$f":"IF(I26=1,AY52,0)","v":{"$error":"#DIV/0!"}},{"$f":"IF(I26=CX2,0,AM56-(CW28/4))","v":{"$error":"#DIV/0!"}},{"$f":"AN59-CX14-(CU10/2)","v":{"$error":"#DIV/0!"}},{"$f":"IF(I26=CX4,CU27/2,IF(OR(I26=CX5,I26=CX6),AO55-((AO55-AO59)/2),))","v":{"$error":"#DIV/0!"}},{"$f":"IF(OR(I26=CX4,I26=CX5,I26=CX6),CU28/2-CX19,)","v":{"$error":"#DIV/0!"}},{"$error":"#DIV/0!"},{"$error":"#DIV/0!"},{"$f":"IF(I26=CX5,AS55-((AS55-AS59)/2),IF($I$26=$CI$6,AO57+($CW$31*2)))","v":{"$error":"#DIV/0!"}},{"$f":"IF(OR(I26=CX5,I26=CX6),CU28/2-CX19,)","v":{"$error":"#DIV/0!"}},{"$f":"IF(I26<>CX2,AU55-(CW28/2),0)","v":{"$error":"#DIV/0!"}},{"$f":"IF(I26<>CX2,AV55-DA14-(CU14/2),)","v":{"$error":"#DIV/0!"}},null,{"$f":"CU27","v":{"$error":"#DIV/0!"}},0,null,{"$f":"BA58+((BA54-BA58)/1.8)","v":{"$error":"#DIV/0!"}},{"$f":"BB51","v":{"$error":"#DIV/0!"}},{"$f":"IF(AND($L$26>3,$L$28=CJ6),BA57+($CF$29/($L$26-2)),)","v":{"$error":"#DIV/0!"}},{"$f":"IF(AND($L$26>3,$L$28=CJ6),BB57)","v":{"$error":"#DIV/0!"}},{"$error":"#DIV/0!"},{"$error":"#DIV/0!"},{"$f":"IF(AND($L$26=5,$L$28=CJ6),BA57+(($CF$29/3)*2),)","v":{"$error":"#DIV/0!"}},{"$f":"IF(AND($L$26=5,$L$28=CJ6),BB57,)","v":{"$error":"#DIV/0!"}},{"$f":"BI51","v":{"$error":"#DIV/0!"}},{"$f":"BJ58-((BJ54-BJ50)/1.8)","v":{"$error":"#DIV/0!"}},{"$f":"BK47","v":{"$error":"#DIV/0!"}},{"$f":"IF(L26=1,BY52,0)","v":{"$error":"#DIV/0!"}},{"$f":"IF(L26=DN2,0,BM56-(DM28/4))","v":{"$error":"#DIV/0!"}},{"$f":"BN59-DN14-(DK10/2)","v":{"$error":"#DIV/0!"}},{"$f":"IF(L26=DN4,DK27/2,IF(OR(L26=DN5,L26=DN6),BO55-((BO55-BO59)/2),))","v":{"$error":"#DIV/0!"}},{"$f":"IF(OR(L26=DN4,L26=DN5,L26=DN6),DK28/2-DN19,)","v":{"$error":"#DIV/0!"}},{"$error":"#DIV/0!"},{"$error":"#DIV/0!"},{"$f":"IF($L$26=DN5,BS55-((BS55-BS59)/2),IF($L$26=$CI$6,BO57+($CW$31*2)))","v":{"$error":"#DIV/0!"}},{"$f":"IF(OR(L26=DN5,L26=DN6),DK28/2-DQ19,)","v":{"$error":"#DIV/0!"}},{"$f":"IF(L26<>DN2,BU55-(DM28/2),0)","v":{"$error":"#DIV/0!"}},{"$f":"IF(L26<>DN2,BV55-DQ14-(DK14/2),)","v":{"$error":"#DIV/0!"}},null,{"$f":"DK27","v":{"$error":"#DIV/0!"}},0]
[{"$f":"A46","v":0},{"$f":"B46","v":0},{"$f":"IF(AND($E$26>3,$E$28=CJ6),A58+($CF$29/($E$26-2)),)","v":{"$error":"#DIV/0!"}},{"$f":"IF(AND($E$26>3,$E$28=CJ6),B58)","v":{"$error":"#DIV/0!"}},{"$error":"#DIV/0!"},{"$error":"#DIV/0!"},{"$f":"IF(AND($E$26=5,$E$28=CJ6),A58+(($CF$29/3)*2),)","v":{"$error":"#DIV/0!"}},{"$f":"IF(AND($E$26=5,$E$28=CJ6),B58,)","v":{"$error":"#DIV/0!"}},{"$f":"I46","v":0},{"$f":"J46","v":0},{"$f":"IF(E26=1,(Y55*0.126)+CH25,0)","v":{"$error":"#DIV/0!"}},{"$f":"IF(E26=1,Y58/2,0)","v":{"$error":"#DIV/0!"}},{"$f":"IF(E26=CI2,0,M57-(CH28/4))","v":{"$error":"#DIV/0!"}},{"$f":"N59-CJ14-(CF10/4)","v":{"$error":"#DIV/0!"}},{"$f":"IF(OR(E26=CI4,E26=CI5,E26=CI6),O57-((O55-O59)/4),)","v":{"$error":"#DIV/0!"}},{"$f":"IF(OR(E26=CI4,E26=CI5,E26=CI6),CF28/2-CJ19,)","v":{"$error":"#DIV/0!"}},{"$error":"#DIV/0!"},{"$error":"#DIV/0!"},{"$f":"IF(E26=CI5,S57-((S55-S59)/4),IF($E$26=$CI$6,O58+($CH$31*2)))","v":{"$error":"#DIV/0!"}},{"$f":"IF(OR(E26=CI5,E26=CI6),CF28/2-CM19,)","v":{"$error":"#DIV/0!"}},{"$f":"IF(E26<>CI2,U59+(CH28/4),0)","v":{"$error":"#DIV/0!"}},{"$f":"IF(E26<>CI2,V59-CM14+(CF14/4),)","v":{"$error":"#DIV/0!"}},null,{"$f":"(CF27/2)+(CF29/2)","v":{"$error":"#DIV/0!"}},{"$f":"Y52","v":{"$error":"#DIV/0!"}},null,{"$f":"AA46","v":0},{"$f":"AB46","v":0},{"$f":"IF(AND($I$26>3,$I$28=CJ6),AA58+($CF$29/($I$26-2)),)","v":{"$error":"#DIV/0!"}},{"$f":"IF(AND($I$26>3,$I$28=CJ6),AB58)","v":{"$error":"#DIV/0!"}},{"$error":"#DIV/0!"},{"$error":"#DIV/0!"},{"$f":"IF(AND($I$26=5,$I$28=CJ6),AA58+(($CF$29/3)*2),)","v":{"$error":"#DIV/0!"}},{"$f":"IF(AND($I$26=5,$I$28=CJ6),AB58,)","v":{"$error":"#DIV/0!"}},{"$f":"AI46","v":0},{"$f":"AJ46","v":0},{"$f":"IF(I26=1,(AY55*0.126)+CW25,0)","v":{"$error":"#DIV/0!"}},{"$f":"IF(I26=1,AY58/2,0)","v":{"$error":"#DIV/0!"}},{"$f":"IF(I26=CX2,0,AM57-(CW28/4))","v":{"$error":"#DIV/0!"}},{"$f":"AN59-CY14-(CU10/4)","v":{"$error":"#DIV/0!"}},{"$f":"IF(OR(I26=CX4,I26=CX5,I26=CX6),AO57-((AO55-AO59)/4),)","v":{"$error":"#DIV/0!"}},{"$f":"IF(OR(I26=CX4,I26=CX5,I26=CX6),CU28/2-CY19,)","v":{"$error":"#DIV/0!"}},{"$error":"#DIV/0!"},{"$error":"#DIV/0!"},{"$f":"IF(I26=CX5,AS57-((AS55-AS59)/4),IF($I$26=$CI$6,AO58+($CW$31*2)))","v":{"$error":"#DIV/0!"}},{"$f":"IF(OR(I26=CX5,I26=CX6),CU28/2-CY19,)","v":{"$error":"#DIV/0!"}},{"$f":"IF(I26<>CX2,AU59+(CW28/4),0)","v":{"$error":"#DIV/0!"}},{"$f":"IF(I26<>CX2,AV59-DB14+(CU14/4),)","v":{"$error":"#DIV/0!"}},null,{"$f":"(CU27/2)+(CU29/2)","v":{"$error":"#DIV/0!"}},{"$f":"AY52","v":{"$error":"#DIV/0!"}},null,{"$f":"BA46","v":{"$error":"#DIV/0!"}},{"$f":"BB46","v":{"$error":"#DIV/0!"}},{"$f":"IF(AND($L$26>3,$L$28=CJ6),BA58+($CF$29/($L$26-2)),)","v":{"$error":"#DIV/0!"}},{"$f":"IF(AND($L$26>3,$L$28=CJ6),BB58)","v":{"$error":"#DIV/0!"}},{"$error":"#DIV/0!"},{"$error":"#DIV/0!"},{"$f":"IF(AND($L$26=5,$L$28=CJ6),BA58+(($CF$29/3)*2),)","v":{"$error":"#DIV/0!"}},{"$f":"IF(AND($L$26=5,$L$28=CJ6),BB58,)","v":{"$error":"#DIV/0!"}},{"$f":"BI46","v":{"$error":"#DIV/0!"}},{"$f":"BJ46","v":{"$error":"#DIV/0!"}},{"$f":"IF(L26=1,(BY55*0.126)+DM25,0)","v":{"$error":"#DIV/0!"}},{"$f":"IF(L26=1,BY58/2,0)","v":{"$error":"#DIV/0!"}},{"$f":"IF(L26=DN2,0,BM57-(DM28/4))","v":{"$error":"#DIV/0!"}},{"$f":"BN59-DO14-(DK10/4)","v":{"$error":"#DIV/0!"}},{"$f":"IF(OR(L26=DN4,L26=DN5,L26=DN6),BO57-((BO55-BO59)/4),)","v":{"$error":"#DIV/0!"}},{"$f":"IF(OR(L26=DN4,L26=DN5,L26=DN6),DK28/2-DO19,)","v":{"$error":"#DIV/0!"}},{"$error":"#DIV/0!"},{"$error":"#DIV/0!"},{"$f":"IF($L$26=DN5,BS57-((BS55-BS59)/4),IF($L$26=$CI$6,BO58+($CW$31*2)))","v":{"$error":"#DIV/0!"}},{"$f":"IF(OR(L26=DN5,L26=DN6),DK28/2-DR19,)","v":{"$error":"#DIV/0!"}},{"$f":"IF(L26<>DN2,BU59+(DM28/4),0)","v":{"$error":"#DIV/0!"}},{"$f":"IF(L26<>DN2,BV59-DR14+(DK14/4),)","v":{"$error":"#DIV/0!"}},null,{"$f":"(DK27/2)+(DK29/2)","v":{"$error":"#DIV/0!"}},{"$f":"BY52","v":{"$error":"#DIV/0!"}}]
["x","y","x","y","x","y","x","y","x","y",{"$f":"K47","v":{"$error":"#DIV/0!"}},{"$f":"L47","v":{"$error":"#DIV/0!"}},{"$f":"M47","v":{"$error":"#DIV/0!"}},{"$f":"N47+CI27","v":{"$error":"#DIV/0!"}},{"$f":"IF(E26=CI4,O55-CH31,IF(OR(E26=CI5,E26=CI6),X52+CH25,))","v":{"$error":"#DIV/0!"}},{"$f":"IF(OR(E26=CI4,E26=CI5,E26=CI6),P55,)","v":{"$error":"#DIV/0!"}},{"$error":"#DIV/0!"},{"$error":"#DIV/0!"},{"$f":"IF(E26=CI5,CF27/2+CH25,IF($E$26=$CI$6,O59+($CH$31*2)))","v":{"$error":"#DIV/0!"}},{"$f":"IF(OR(E26=CI5,E26=CI6),T55,)","v":{"$error":"#DIV/0!"}},{"$f":"IF(E26=CI3,X55+(CF29/2)+CH25,IF(E26<>CI2,X58+CH25,))","v":{"$error":"#DIV/0!"}},{"$f":"IF(E26<>CI2,Y55-CH25,)","v":{"$error":"#DIV/0!"}},null,{"$f":"CF27","v":{"$error":"#DIV/0!"}},{"$f":"Y56","v":{"$error":"#DIV/0!"}},null,"x","y","x","y","x","y","x","y","x","y",{"$f":"AK47","v":{"$error":"#DIV/0!"}},{"$f":"AL47","v":{"$error":"#DIV/0!"}},{"$f":"AM47","v":{"$error":"#DIV/0!"}},{"$f":"AN47+CX27","v":{"$error":"#DIV/0!"}},{"$f":"IF(I26=CX4,AO55-CW31,IF(OR(I26=CX5,I26=CX6),AX52+CW25,))","v":{"$error":"#DIV/0!"}},{"$f":"IF(OR(I26=CX4,I26=CX5,I26=CX6),AP55,)","v":{"$error":"#DIV/0!"}},{"$error":"#DIV/0!"},{"$error":"#DIV/0!"},{"$f":"IF(I26=CX5,CU27/2+DH25,IF($I$26=$CI$6,AO59+($CW$31*2)))","v":{"$error":"#DIV/0!"}},{"$f":"IF(OR(I26=CX5,I26=CX6),AT55,)","v":{"$error":"#DIV/0!"}},{"$f":"IF(I26=CX3,AX55+(CU29/2)+CW25,IF(I26<>CX2,AX58+CW25,))","v":{"$error":"#DIV/0!"}},{"$f":"IF(I26<>CX2,AY55-CW25,)","v":{"$error":"#DIV/0!"}},null,{"$f":"CU27","v":{"$error":"#DIV/0!"}},{"$f":"AY56","v":{"$error":"#DIV/0!"}},null,"x","y","x","y","x","y","x","y","x","y",{"$f":"BK47","v":{"$error":"#DIV/0!"}},{"$f":"BL47","v":{"$error":"#DIV/0!"}},{"$f":"BM47","v":{"$error":"#DIV/0!"}},{"$f":"BN47+DN27","v":{"$error":"#DIV/0!"}},{"$f":"IF(L26=DN4,BO55-DM31,IF(OR(L26=DN5,L26=DN6),BX52+DM25,))","v":{"$error":"#DIV/0!"}},{"$f":"IF(OR(L26=DN4,L26=DN5,L26=DN6),BP55,)","v":{"$error":"#DIV/0!"}},{"$error":"#DIV/0!"},{"$error":"#DIV/0!"},{"$f":"IF($L$26=DN5,DK27/2+EH25,IF($L$26=$CI$6,BO59+($CW$31*2)))","v":{"$error":"#DIV/0!"}},{"$f":"IF(OR(L26=DN5,L26=DN6),BT55,)","v":{"$error":"#DIV/0!"}},{"$f":"IF(L26=DN3,BX55+(DK29/2)+DM25,IF(L26<>DN2,BX58+DM25,))","v":{"$error":"#DIV/0!"}},{"$f":"IF(L26<>DN2,BY55-DM25,)","v":{"$error":"#DIV/0!"}},null,{"$f":"DK27","v":{"$error":"#DIV/0!"}},{"$f":"BY56","v":{"$error":"#DIV/0!"}}]
["mid left top tri",null,"centre top tri",null,"mid right top tri",null,"10 sBl design",null,"right tri",null,null,null,{"$f":"IF(E26=CI2,0,M47+CJ13)","v":{"$error":"#DIV/0!"}},{"$f":"N59-(CI27/4)","v":{"$error":"#DIV/0!"}},{"$f":"IF(E26=CI4,O59+CJ18-(CF18/5),IF(OR(E26=CI5,E26=CI6),O59+CJ18-(CF18/5),))","v":{"$error":"#DIV/0!"}},{"$f":"P54","v":{"$error":"#DIV/0!"}},{"$error":"#DIV/0!"},{"$error":"#DIV/0!"},{"$f":"IF(E26=CI5,S59+CJ18-(CF22/5),IF($E$26=$CI$6,O60+($CH$31*2)))","v":{"$error":"#DIV/0!"}},{"$f":"T54","v":{"$error":"#DIV/0!"}},{"$f":"IF(E26<>CI2,U59+CJ12-(CF22/5.5),)","v":{"$error":"#DIV/0!"}},{"$f":"IF(E26<>CI2,(CH27*0.75),)","v":{"$error":"#DIV/0!"}},null,null,null,null,"mid left top tri",null,"centre top tri",null,"mid right top tri",null,"10 sBl design",null,"right tri",null,null,null,{"$f":"IF(I26=CX2,0,AM47+CY13)","v":{"$error":"#DIV/0!"}},{"$f":"AN59-(CX27/4)","v":{"$error":"#DIV/0!"}},{"$f":"IF(I26=CX4,AO59+CY18-(CU18/5),IF(OR(I26=CX5,I26=CX6),AO59+CY18-(CU18/5),))","v":{"$error":"#DIV/0!"}},{"$f":"AP54","v":{"$error":"#DIV/0!"}},{"$error":"#DIV/0!"},{"$error":"#DIV/0!"},{"$f":"IF(I26=CX5,AS59+CY18-(CU22/5),IF($I$26=$CI$6,AO60+($CW$31*2)))","v":{"$error":"#DIV/0!"}},{"$f":"AT54","v":{"$error":"#DIV/0!"}},{"$f":"IF(I26<>CX2,AU59+CY12-(CU22/5.5),)","v":{"$error":"#DIV/0!"}},{"$f":"IF(I26<>CX2,(CW27*0.75),)","v":{"$error":"#DIV/0!"}},null,null,null,null,"mid left top tri",null,"centre top tri",null,"mid right top tri",null,"10 sBl design",null,"right tri",null,null,null,{"$f":"IF(L26=DN2,0,BM47+DO13)","v":{"$error":"#DIV/0!"}},{"$f":"BN59-(DN27/4)","v":{"$error":"#DIV/0!"}},{"$f":"IF(L26=DN4,BO59+DO18-(DK18/5),IF(OR(L26=DN5,L26=DN6),BO59+DO18-(DK18/5),))","v":{"$error":"#DIV/0!"}},{"$f":"BP54","v":{"$error":"#DIV/0!"}},{"$error":"#DIV/0!"},{"$error":"#DIV/0!"},{"$f":"IF($L$26=DN5,BS59+DO18-(DK22/5),IF($L$26=$CI$6,BO60+($CW$31*2)))","v":{"$error":"#DIV/0!"}},{"$f":"BT54","v":{"$error":"#DIV/0!"}},{"$f":"IF(L26<>DN2,BU59+DO12-(DK22/5.5),)","v":{"$error":"#DIV/0!"}},{"$f":"IF(L26<>DN2,(DM27*0.75),)","v":{"$error":"#DIV/0!"}}]
[{"$f":"IF(AND(E28=CJ6,E25<>CJ8),A48-(CN31/2),)","v":0},{"$f":"IF(AND(E28=CJ6,E25<>CJ8),Y49-CH25,)","v":0},{"$f":"IF(AND($E$26>3,$E$28=CJ6,$E$25=$CJ$9),C46,)","v":{"$error":"#DIV/0!"}},{"$f":"IF(AND($E$26>3,$E$28=CJ6,$E$25=$CJ$9),B61,)","v":{"$error":"#DIV/0!"}},{"$f":"IF(OR(E26=CI2,E26=CI3),0,IF(AND(E28=CJ6,E25<>CJ8),E48-(CN31/2),))","v":{"$error":"#DIV/0!"}},{"$f":"IF(OR(E26=CI2,E26=CI3),0,IF(AND(E28=CJ6,E25<>CJ8),Y49-CH25,))","v":{"$error":"#DIV/0!"}},{"$f":"IF(AND($E$26=5,$E$28=CJ6,$E$25=$CJ$9),G46,)","v":{"$error":"#DIV/0!"}},{"$f":"IF(AND($E$26=5,$E$28=CJ6,$E$25=$CJ$9),B61,)","v":{"$error":"#DIV/0!"}},{"$f":"IF(E26=CI2,0,IF(AND(E28=CJ6,E25<>CJ10),X49-CH25,))","v":{"$error":"#DIV/0!"}},{"$f":"IF(E26=CI2,0,IF(AND(E28=CJ6,E25<>CJ10),Y52+(CO31/2),))","v":{"$error":"#DIV/0!"}},null,null,{"$f":"IF(E26=CI2,0,M47+CI13)","v":{"$error":"#DIV/0!"}},{"$f":"N60-(CI27/4)","v":{"$error":"#DIV/0!"}},{"$f":"IF(E26=CI4,O63+CI18+(CF18/1.6),IF(OR(E26=CI5,E26=CI6),O63+CI18+(CF18/1.6),))","v":{"$error":"#DIV/0!"}},{"$f":"IF(OR(E26=CI4,E26=CI5,E26=CI6),P53,)","v":{"$error":"#DIV/0!"}},{"$error":"#DIV/0!"},{"$error":"#DIV/0!"},{"$f":"IF(E26=CI5,S63+CI18+(CF22/1.6),IF($E$26=$CI$6,O61+($CH$31*2)))","v":{"$error":"#DIV/0!"}},{"$f":"IF(OR(E26=CI5,E26=CI6),T53,)","v":{"$error":"#DIV/0!"}},{"$f":"IF(E26<>CI2,U63+CI12+(CF22/1.6),)","v":{"$error":"#DIV/0!"}},{"$f":"IF(E26<>CI2,CF28/4,)","v":{"$error":"#DIV/0!"}},null,null,null,null,{"$f":"IF(AND(I28=CY6,I25<>CY8),AA48-(DC31/2),)","v":0},{"$f":"IF(AND(I28=CY6,I25<>CY8),AY49-CW25,)","v":0},{"$f":"IF(AND($I$26>3,$I$28=CJ6,$L$25=$CJ$9),AC46,)","v":{"$error":"#DIV/0!"}},{"$f":"IF(AND($I$26>3,$I$28=CJ6,$L$25=$CJ$9),AB61,)","v":{"$error":"#DIV/0!"}},{"$f":"IF(OR(I26=CX2,I26=CX3),0,IF(AND(I28=CY6,I25<>CY8),AE48-(DC31/2),))","v":{"$error":"#DIV/0!"}},{"$f":"IF(OR(I26=CX2,I26=CX3),0,IF(AND(I28=CY6,I25<>CY8),AY49-CW25,))","v":{"$error":"#DIV/0!"}},{"$f":"IF(AND($I$26=5,$I$28=CJ6,$L$25=$CJ$9),AG46,)","v":{"$error":"#DIV/0!"}},{"$f":"IF(AND($I$26=5,$I$28=CJ6,$L$25=$CJ$9),AB61,)","v":{"$error":"#DIV/0!"}},{"$f":"IF(I26=CX2,0,IF(AND(I28=CY6,I25<>CY10),AX49-CW25,))","v":{"$error":"#DIV/0!"}},{"$f":"IF(I26=CX2,0,IF(AND(I28=CY6,I25<>CY10),AY52+(DD31/2),))","v":{"$error":"#DIV/0!"}},null,null,{"$f":"IF(I26=CX2,0,AM47+CX13)","v":{"$error":"#DIV/0!"}},{"$f":"AN60-(CX27/4)","v":{"$error":"#DIV/0!"}},{"$f":"IF(I26=CX4,AO63+CX18+(CU18/1.6),IF(OR(I26=CX5,I26=CX6),AO63+CX18+(CU18/1.6),))","v":{"$error":"#DIV/0!"}},{"$f":"IF(OR(I26=CX4,I26=CX5,I26=CX6),AP53,)","v":{"$error":"#DIV/0!"}},{"$error":"#DIV/0!"},{"$error":"#DIV/0!"},{"$f":"IF(I26=CX5,AS63+CX18+(CU22/1.6),IF($I$26=$CI$6,AO61+($CW$31*2)))","v":{"$error":"#DIV/0!"}},{"$f":"IF(OR(I26=CX5,I26=CX6),AT53,)","v":{"$error":"#DIV/0!"}},{"$f":"IF(I26<>CX2,AU63+CX12+(CU22/1.6),)","v":{"$error":"#DIV/0!"}},{"$f":"IF(I26<>CX2,CU28/4,)","v":{"$error":"#DIV/0!"}},null,null,null,null,{"$f":"IF(AND(L28=DO6,L25<>DO8),BA48-(DS31/2),)","v":{"$error":"#DIV/0!"}},{"$f":"IF(AND(L28=DO6,L25<>DO8),BY49-DM25,)","v":{"$error":"#DIV/0!"}},{"$f":"IF(AND($L$26>3,$L$28=CJ6,$L$25=$CJ$9),BC46,)","v":{"$error":"#DIV/0!"}},{"$f":"IF(AND($L$26>3,$L$28=CJ6,$L$25=$CJ$9),BB61,)","v":{"$error":"#DIV/0!"}},{"$f":"IF(OR(L26=DN2,L26=DN3),0,IF(AND(L28=DO6,L25<>DO8),BE48-(DS31/2),))","v":{"$error":"#DIV/0!"}},{"$f":"IF(OR(L26=DN2,L26=DN3),0,IF(AND(L28=DO6,L25<>DO8),BY49-DM25,))","v":{"$error":"#DIV/0!"}},{"$f":"IF(AND($L$26=5,$L$28=CJ6,$L$25=$CJ$9),BG46,)","v":{"$error":"#DIV/0!"}},{"$f":"IF(AND($L$26=5,$L$28=CJ6,$L$25=$CJ$9),BB61,)","v":{"$error":"#DIV/0!"}},{"$f":"IF(L26=DN2,0,IF(AND(L28=DO6,L25<>DO10),BX49-DM25,))","v":{"$error":"#DIV/0!"}},{"$f":"IF(L26=DN2,0,IF(AND(L28=DO6,L25<>DO10),BY52+(DT31/2),))","v":{"$error":"#DIV/0!"}},null,null,{"$f":"IF(L26=DN2,0,BM47+DN13)","v":{"$error":"#DIV/0!"}},{"$f":"BN60-(DN27/4)","v":{"$error":"#DIV/0!"}},{"$f":"IF(L26=DN4,BO63+DN18+(DK18/1.6),IF(OR(L26=DN5,L26=DN6),BO63+DN18+(DK18/1.6),))","v":{"$error":"#DIV/0!"}},{"$f":"IF(OR(L26=DN4,L26=DN5,L26=DN6),BP53,)","v":{"$error":"#DIV/0!"}},{"$error":"#DIV/0!"},{"$error":"#DIV/0!"},{"$f":"IF($L$26=DN5,BS63+DN18+(DK22/1.6),IF($L$26=$CI$6,BO61+($CW$31*2)))","v":{"$error":"#DIV/0!"}},{"$f":"IF(OR(L26=DN5,L26=DN6),BT53,)","v":{"$error":"#DIV/0!"}},{"$f":"IF(L26<>DN2,BU63+DN12+(DK22/1.6),)","v":{"$error":"#DIV/0!"}},{"$f":"IF(L26<>DN2,DK28/4,)","v":{"$error":"#DIV/0!"}}]
[{"$f":"IF(AND(E28=CJ6,E25<>CJ8),A48-(CN31/4),)","v":0},{"$f":"IF(AND(E28=CJ6,E25<>CJ8),Y49-CK24,)","v":0},{"$f":"IF(AND($E$26>3,$E$28=CJ6,$E$25=$CJ$9),C47,)","v":{"$error":"#DIV/0!"}},{"$f":"IF(AND($E$26>3,$E$28=CJ6,$E$25=$CJ$9),B62,)","v":{"$error":"#DIV/0!"}},{"$f":"IF(OR(E26=CI2,E26=CI3),0,IF(AND(E28=CJ6,E25<>CJ8),E48-(CN31/4),))","v":{"$error":"#DIV/0!"}},{"$f":"IF(OR(E26=CI2,E26=CI3),0,IF(AND(E28=CJ6,E25<>CJ8),Y49-CK24,))","v":{"$error":"#DIV/0!"}},{"$f":"IF(AND($E$26=5,$E$28=CJ6,$E$25=$CJ$9),G47,)","v":{"$error":"#DIV/0!"}},{"$f":"IF(AND($E$26=5,$E$28=CJ6,$E$25=$CJ$9),B62,)","v":{"$error":"#DIV/0!"}},{"$f":"IF(E26=CI2,0,IF(AND(E28=CJ6,E25<>CJ10),X49-CK25,))","v":{"$error":"#DIV/0!"}},{"$f":"IF(E26=CI2,0,IF(AND(E28=CJ6,E25<>CJ10),J61-(CO31/4),))","v":{"$error":"#DIV/0!"}},null,null,{"$f":"M60","v":{"$error":"#DIV/0!"}},{"$f":"N61-(CI27/4)","v":{"$error":"#DIV/0!"}},{"$f":"IF(E26=CI4,O63+CJ18+(CF18/2.75),IF(OR(E26=CI5,E26=CI6),O63+CJ18+(CF18/2.75),))","v":{"$error":"#DIV/0!"}},{"$f":"P52","v":{"$error":"#DIV/0!"}},{"$error":"#DIV/0!"},{"$error":"#DIV/0!"},{"$f":"IF(E26=CI5,S63+CJ18+(CF22/2.75),IF($E$26=$CI$6,O62+($CH$31*2)))","v":{"$error":"#DIV/0!"}},{"$f":"T52","v":{"$error":"#DIV/0!"}},{"$f":"IF(E26<>CI2,U63+CJ12+(CF22/2.75),)","v":{"$error":"#DIV/0!"}},{"$f":"IF(E26<>CI2,CH27/4,)","v":{"$error":"#DIV/0!"}},null,null,null,null,{"$f":"IF(AND(I28=CY6,I25<>CY8),AA48-(DC31/4),)","v":0},{"$f":"IF(AND(I28=CY6,I25<>CY8),AY49-CZ24,)","v":0},{"$f":"IF(AND($I$26>3,$I$28=CJ6,$L$25=$CJ$9),AC47,)","v":{"$error":"#DIV/0!"}},{"$f":"IF(AND($I$26>3,$I$28=CJ6,$L$25=$CJ$9),AB62,)","v":{"$error":"#DIV/0!"}},{"$f":"IF(OR(I26=CX2,I26=CX3),0,IF(AND(I28=CY6,I25<>CY8),AE48-(DC31/4),))","v":{"$error":"#DIV/0!"}},{"$f":"IF(OR(I26=CX2,I26=CX3),0,IF(AND(I28=CY6,I25<>CY8),AY49-CZ24,))","v":{"$error":"#DIV/0!"}},{"$f":"IF(AND($I$26=5,$I$28=CJ6,$L$25=$CJ$9),AG47,)","v":{"$error":"#DIV/0!"}},{"$f":"IF(AND($I$26=5,$I$28=CJ6,$L$25=$CJ$9),AB62,)","v":{"$error":"#DIV/0!"}},{"$f":"IF(I26=CX2,0,IF(AND(I28=CY6,I25<>CY10),AX49-CZ25,))","v":{"$error":"#DIV/0!"}},{"$f":"IF(I26=CX2,0,IF(AND(I28=CY6,I25<>CY10),AJ61-(DD31/4),))","v":{"$error":"#DIV/0!"}},null,null,{"$f":"AM60","v":{"$error":"#DIV/0!"}},{"$f":"AN61-(CX27/4)","v":{"$error":"#DIV/0!"}},{"$f":"IF(I26=CX4,AO63+CY18+(CU18/2.75),IF(OR(I26=CX5,I26=CX6),AO63+CY18+(CU18/2.75),))","v":{"$error":"#DIV/0!"}},{"$f":"AP52","v":{"$error":"#DIV/0!"}},{"$error":"#DIV/0!"},{"$error":"#DIV/0!"},{"$f":"IF(I26=CX5,AS63+CY18+(CU22/2.75),IF($I$26=$CI$6,AO62+($CW$31*2)))","v":{"$error":"#DIV/0!"}},{"$f":"AT52","v":{"$error":"#DIV/0!"}},{"$f":"IF(I26<>CX2,AU63+CY12+(CU22/2.75),)","v":{"$error":"#DIV/0!"}},{"$f":"IF(I26<>CX2,CW27/4,)","v":{"$error":"#DIV/0!"}},null,null,null,null,{"$f":"IF(AND(L28=DO6,L25<>DO8),BA48-(DS31/4),)","v":{"$error":"#DIV/0!"}},{"$f":"IF(AND(L28=DO6,L25<>DO8),BY49-DP24,)","v":{"$error":"#DIV/0!"}},{"$f":"IF(AND($L$26>3,$L$28=CJ6,$L$25=$CJ$9),BC47,)","v":{"$error":"#DIV/0!"}},{"$f":"IF(AND($L$26>3,$L$28=CJ6,$L$25=$CJ$9),BB62,)","v":{"$error":"#DIV/0!"}},{"$f":"IF(OR(L26=DN2,L26=DN3),0,IF(AND(L28=DO6,L25<>DO8),BE48-(DS31/4),))","v":{"$error":"#DIV/0!"}},{"$f":"IF(OR(L26=DN2,L26=DN3),0,IF(AND(L28=DO6,L25<>DO8),BY49-DP24,))","v":{"$error":"#DIV/0!"}},{"$f":"IF(AND($L$26=5,$L$28=CJ6,$L$25=$CJ$9),BG47,)","v":{"$error":"#DIV/0!"}},{"$f":"IF(AND($L$26=5,$L$28=CJ6,$L$25=$CJ$9),BB62,)","v":{"$error":"#DIV/0!"}},{"$f":"IF(L26=DN2,0,IF(AND(L28=DO6,L25<>DO10),BX49-DP25,))","v":{"$error":"#DIV/0!"}},{"$f":"IF(L26=DN2,0,IF(AND(L28=DO6,L25<>DO10),BJ61-(DT31/4),))","v":{"$error":"#DIV/0!"}},null,null,{"$f":"BM60","v":{"$error":"#DIV/0!"}},{"$f":"BN61-(DN27/4)","v":{"$error":"#DIV/0!"}},{"$f":"IF(L26=DN4,BO63+DO18+(DK18/2.75),IF(OR(L26=DN5,L26=DN6),BO63+DO18+(DK18/2.75),))","v":{"$error":"#DIV/0!"}},{"$f":"BP52","v":{"$error":"#DIV/0!"}},{"$error":"#DIV/0!"},{"$error":"#DIV/0!"},{"$f":"IF($L$26=DN5,BS63+DO18+(DK22/2.75),IF($L$26=$CI$6,BO62+($CW$31*2)))","v":{"$error":"#DIV/0!"}},{"$f":"BT52","v":{"$error":"#DIV/0!"}},{"$f":"IF(L26<>DN2,BU63+DO12+(DK22/2.75),)","v":{"$error":"#DIV/0!"}},{"$f":"IF(L26<>DN2,DM27/4,)","v":{"$error":"#DIV/0!"}}]
[{"$f":"IF(AND(E28=CJ6,E25<>CJ8),A54,)","v":0},{"$f":"IF(AND(E28=CJ6,E25<>CJ8),Y50-CJ24,)","v":0},{"$f":"IF(AND($E$26>3,$E$28=CJ6,$E$25=$CJ$9),C48,)","v":{"$error":"#DIV/0!"}},{"$f":"IF(AND($E$26>3,$E$28=CJ6,$E$25=$CJ$9),B63,)","v":{"$error":"#DIV/0!"}},{"$f":"IF(OR(E26=CI2,E26=CI3),0,IF(AND(E28=CJ6,E25<>CJ8),E54,))","v":{"$error":"#DIV/0!"}},{"$f":"IF(OR(E26=CI2,E26=CI3),0,IF(AND(E28=CJ6,E25<>CJ8),Y50-CJ24,))","v":{"$error":"#DIV/0!"}},{"$f":"IF(AND($E$26=5,$E$28=CJ6,$E$25=$CJ$9),G48,)","v":{"$error":"#DIV/0!"}},{"$f":"IF(AND($E$26=5,$E$28=CJ6,$E$25=$CJ$9),B63,)","v":{"$error":"#DIV/0!"}},{"$f":"IF(E26=CI2,0,IF(AND(E28=CJ6,E25<>CJ10),X49-CJ25,))","v":{"$error":"#DIV/0!"}},{"$f":"IF(E26=CI2,0,IF(AND(E28=CJ6,E25<>CJ10),J62-(CO31/4),))","v":{"$error":"#DIV/0!"}},null,null,{"$f":"M47","v":{"$error":"#DIV/0!"}},{"$f":"CH25","v":{"$error":"#DIV/0!"}},{"$f":"IF(OR(E26=CI4,E26=CI5,E26=CI6),O47,)","v":{"$error":"#DIV/0!"}},{"$f":"IF(OR(E26=CI4,E26=CI5,E26=CI6),CH25,)","v":{"$error":"#DIV/0!"}},{"$error":"#DIV/0!"},{"$error":"#DIV/0!"},{"$f":"IF(E26=CI5,S47,IF($E$26=$CI$6,O63+($CH$31*2)))","v":{"$error":"#DIV/0!"}},{"$f":"IF(OR(E26=CI5,E26=CI6),CH25,)","v":{"$error":"#DIV/0!"}},{"$f":"U47","v":{"$error":"#DIV/0!"}},{"$f":"V47","v":{"$error":"#DIV/0!"}},null,null,null,null,{"$f":"IF(AND(I28=CY6,I25<>CY8),AA54,)","v":0},{"$f":"IF(AND(I28=CY6,I25<>CY8),AY50-CY24,)","v":0},{"$f":"IF(AND($I$26>3,$I$28=CJ6,$L$25=$CJ$9),AC48,)","v":{"$error":"#DIV/0!"}},{"$f":"IF(AND($I$26>3,$I$28=CJ6,$L$25=$CJ$9),AB63,)","v":{"$error":"#DIV/0!"}},{"$f":"IF(OR(I26=CX2,I26=CX3),0,IF(AND(I28=CY6,I25<>CY8),AE54,))","v":{"$error":"#DIV/0!"}},{"$f":"IF(OR(I26=CX2,I26=CX3),0,IF(AND(I28=CY6,I25<>CY8),AY50-CY24,))","v":{"$error":"#DIV/0!"}},{"$f":"IF(AND($I$26=5,$I$28=CJ6,$L$25=$CJ$9),AG48,)","v":{"$error":"#DIV/0!"}},{"$f":"IF(AND($I$26=5,$I$28=CJ6,$L$25=$CJ$9),AB63,)","v":{"$error":"#DIV/0!"}},{"$f":"IF(I26=CX2,0,IF(AND(I28=CY6,I25<>CY10),AX49-CY25,))","v":{"$error":"#DIV/0!"}},{"$f":"IF(I26=CX2,0,IF(AND(I28=CY6,I25<>CY10),AJ62-(DD31/4),))","v":{"$error":"#DIV/0!"}},null,null,{"$f":"AM47","v":{"$error":"#DIV/0!"}},{"$f":"CW25","v":{"$error":"#DIV/0!"}},{"$f":"IF(OR(I26=CX4,I26=CX5,I26=CX6),AO47,)","v":{"$error":"#DIV/0!"}},{"$f":"IF(OR(I26=CX4,I26=CX5,I26=CX6),CW25,)","v":{"$error":"#DIV/0!"}},{"$error":"#DIV/0!"},{"$error":"#DIV/0!"},{"$f":"IF(I26=CX5,AS47,IF($I$26=$CI$6,AO63+($CW$31*2)))","v":{"$error":"#DIV/0!"}},{"$f":"IF(OR(I26=CX5,I26=CX6),DH25,)","v":{"$error":"#DIV/0!"}},{"$f":"AU47","v":{"$error":"#DIV/0!"}},{"$f":"AV47","v":{"$error":"#DIV/0!"}},null,null,null,null,{"$f":"IF(AND(L28=DO6,L25<>DO8),BA54,)","v":{"$error":"#DIV/0!"}},{"$f":"IF(AND(L28=DO6,L25<>DO8),BY50-DO24,)","v":{"$error":"#DIV/0!"}},{"$f":"IF(AND($L$26>3,$L$28=CJ6,$L$25=$CJ$9),BC48,)","v":{"$error":"#DIV/0!"}},{"$f":"IF(AND($L$26>3,$L$28=CJ6,$L$25=$CJ$9),BB63,)","v":{"$error":"#DIV/0!"}},{"$f":"IF(OR(L26=DN2,L26=DN3),0,IF(AND(L28=DO6,L25<>DO8),BE54,))","v":{"$error":"#DIV/0!"}},{"$f":"IF(OR(L26=DN2,L26=DN3),0,IF(AND(L28=DO6,L25<>DO8),BY50-DO24,))","v":{"$error":"#DIV/0!"}},{"$f":"IF(AND($L$26=5,$L$28=CJ6,$L$25=$CJ$9),BG48,)","v":{"$error":"#DIV/0!"}},{"$f":"IF(AND($L$26=5,$L$28=CJ6,$L$25=$CJ$9),BB63,)","v":{"$error":"#DIV/0!"}},{"$f":"IF(L26=DN2,0,IF(AND(L28=DO6,L25<>DO10),BX49-DO25,))","v":{"$error":"#DIV/0!"}},{"$f":"IF(L26=DN2,0,IF(AND(L28=DO6,L25<>DO10),BJ62-(DT31/4),))","v":{"$error":"#DIV/0!"}},null,null,{"$f":"BM47","v":{"$error":"#DIV/0!"}},{"$f":"DM25","v":{"$error":"#DIV/0!"}},{"$f":"IF(OR(L26=DN4,L26=DN5,L26=DN6),BO47,)","v":{"$error":"#DIV/0!"}},{"$f":"IF(OR(L26=DN4,L26=DN5,L26=DN6),DM25,)","v":{"$error":"#DIV/0!"}},{"$error":"#DIV/0!"},{"$error":"#DIV/0!"},{"$f":"IF($L$26=DN5,BS47,IF($L$26=$CI$6,BO63+($CW$31*2)))","v":{"$error":"#DIV/0!"}},{"$f":"IF(OR(L26=DN5,L26=DN6),DM25,)","v":{"$error":"#DIV/0!"}},{"$f":"BU47","v":{"$error":"#DIV/0!"}},{"$f":"BV47","v":{"$error":"#DIV/0!"}}]
[{"$f":"IF(AND(E28=CJ6,E25<>CJ8),A48+(CN31/4),)","v":0},{"$f":"IF(AND(E28=CJ6,E25<>CJ8),Y50-CK24,)","v":0},{"$f":"IF(AND($E$26>3,$E$28=CJ6,$E$25=$CJ$9),C49,)","v":{"$error":"#DIV/0!"}},{"$f":"IF(AND($E$26>3,$E$28=CJ6,$E$25=$CJ$9),B64,)","v":{"$error":"#DIV/0!"}},{"$f":"IF(OR(E26=CI2,E26=CI3),0,IF(AND(E28=CJ6,E25<>CJ8),E48+(CN31/4),))","v":{"$error":"#DIV/0!"}},{"$f":"IF(OR(E26=CI2,E26=CI3),0,IF(AND(E28=CJ6,E25<>CJ8),Y50-CK24,))","v":{"$error":"#DIV/0!"}},{"$f":"IF(AND($E$26=5,$E$28=CJ6,$E$25=$CJ$9),G49,)","v":{"$error":"#DIV/0!"}},{"$f":"IF(AND($E$26=5,$E$28=CJ6,$E$25=$CJ$9),B64,)","v":{"$error":"#DIV/0!"}},{"$f":"IF(E26=CI2,0,IF(AND(E28=CJ6,E25<>CJ10),X49-CK25,))","v":{"$error":"#DIV/0!"}},{"$f":"IF(E26=CI2,0,IF(AND(E28=CJ6,E25<>CJ10),J63-(CO31/4),))","v":{"$error":"#DIV/0!"}},null,null,null,null,null,null,null,null,null,null,null,null,null,null,null,null,{"$f":"IF(AND(I28=CY6,I25<>CY8),AA48+(DC31/4),)","v":0},{"$f":"IF(AND(I28=CY6,I25<>CY8),AY50-CZ24,)","v":0},{"$f":"IF(AND($I$26>3,$I$28=CJ6,$L$25=$CJ$9),AC49,)","v":{"$error":"#DIV/0!"}},{"$f":"IF(AND($I$26>3,$I$28=CJ6,$L$25=$CJ$9),AB64,)","v":{"$error":"#DIV/0!"}},{"$f":"IF(OR(I26=CX2,I26=CX3),0,IF(AND(I28=CY6,I25<>CY8),AE48+(DC31/4),))","v":{"$error":"#DIV/0!"}},{"$f":"IF(OR(I26=CX2,I26=CX3),0,IF(AND(I28=CY6,I25<>CY8),AY50-CZ24,))","v":{"$error":"#DIV/0!"}},{"$f":"IF(AND($I$26=5,$I$28=CJ6,$L$25=$CJ$9),AG49,)","v":{"$error":"#DIV/0!"}},{"$f":"IF(AND($I$26=5,$I$28=CJ6,$L$25=$CJ$9),AB64,)","v":{"$error":"#DIV/0!"}},{"$f":"IF(I26=CX2,0,IF(AND(I28=CY6,I25<>CY10),AX49-CZ25,))","v":{"$error":"#DIV/0!"}},{"$f":"IF(I26=CX2,0,IF(AND(I28=CY6,I25<>CY10),AJ63-(DD31/4),))","v":{"$error":"#DIV/0!"}},null,null,null,null,null,null,null,null,null,null,null,null,null,null,null,null,{"$f":"IF(AND(L28=DO6,L25<>DO8),BA48+(DS31/4),)","v":{"$error":"#DIV/0!"}},{"$f":"IF(AND(L28=DO6,L25<>DO8),BY50-DP24,)","v":{"$error":"#DIV/0!"}},{"$f":"IF(AND($L$26>3,$L$28=CJ6,$L$25=$CJ$9),BC49,)","v":{"$error":"#DIV/0!"}},{"$f":"IF(AND($L$26>3,$L$28=CJ6,$L$25=$CJ$9),BB64,)","v":{"$error":"#DIV/0!"}},{"$f":"IF(OR(L26=DN2,L26=DN3),0,IF(AND(L28=DO6,L25<>DO8),BE48+(DS31/4),))","v":{"$error":"#DIV/0!"}},{"$f":"IF(OR(L26=DN2,L26=DN3),0,IF(AND(L28=DO6,L25<>DO8),BY50-DP24,))","v":{"$error":"#DIV/0!"}},{"$f":"IF(AND($L$26=5,$L$28=CJ6,$L$25=$CJ$9),BG49,)","v":{"$error":"#DIV/0!"}},{"$f":"IF(AND($L$26=5,$L$28=CJ6,$L$25=$CJ$9),BB64,)","v":{"$error":"#DIV/0!"}},{"$f":"IF(L26=DN2,0,IF(AND(L28=DO6,L25<>DO10),BX49-DP25,))","v":{"$error":"#DIV/0!"}},{"$f":"IF(L26=DN2,0,IF(AND(L28=DO6,L25<>DO10),BJ63-(DT31/4),))","v":{"$error":"#DIV/0!"}}]
[{"$f":"IF(AND(E28=CJ6,E25<>CJ8),A48+(CN31/2),)","v":0},{"$f":"IF(AND(E28=CJ6,E25<>CJ8),Y49-B46,)","v":0},{"$f":"IF(AND($E$26>3,$E$28=CJ6,$E$25=$CJ$9),C50,)","v":{"$error":"#DIV/0!"}},{"$f":"IF(AND($E$26>3,$E$28=CJ6,$E$25=$CJ$9),B65,)","v":{"$error":"#DIV/0!"}},{"$f":"IF(OR(E26=CI2,E26=CI3),0,IF(AND(E28=CJ6,E25<>CJ8),E48+(CN31/2),))","v":{"$error":"#DIV/0!"}},{"$f":"IF(OR(E26=CI2,E26=CI3),0,IF(AND(E28=CJ6,E25<>CJ8),Y49-F46,))","v":{"$error":"#DIV/0!"}},{"$f":"IF(AND($E$26=5,$E$28=CJ6,$E$25=$CJ$9),G50,)","v":{"$error":"#DIV/0!"}},{"$f":"IF(AND($E$26=5,$E$28=CJ6,$E$25=$CJ$9),B65,)","v":{"$error":"#DIV/0!"}},{"$f":"IF(E26=CI2,0,IF(AND(E28=CJ6,E25<>CJ10),I61,))","v":{"$error":"#DIV/0!"}},{"$f":"IF(E26=CI2,0,IF(AND(E28=CJ6,E25<>CJ10),Y52-(CO31/2),))","v":{"$error":"#DIV/0!"}},"x","y","x","y","x","y","x","y","x","y","x","y",null,null,null,null,{"$f":"IF(AND(I28=CY6,I25<>CY8),AA48+(DC31/2),)","v":0},{"$f":"IF(AND(I28=CY6,I25<>CY8),AY49-AB46,)","v":0},{"$f":"IF(AND($I$26>3,$I$28=CJ6,$L$25=$CJ$9),AC50,)","v":{"$error":"#DIV/0!"}},{"$f":"IF(AND($I$26>3,$I$28=CJ6,$L$25=$CJ$9),AB65,)","v":{"$error":"#DIV/0!"}},{"$f":"IF(OR(I26=CX2,I26=CX3),0,IF(AND(I28=CY6,I25<>CY8),AE48+(DC31/2),))","v":{"$error":"#DIV/0!"}},{"$f":"IF(OR(I26=CX2,I26=CX3),0,IF(AND(I28=CY6,I25<>CY8),AY49-AF46,))","v":{"$error":"#DIV/0!"}},{"$f":"IF(AND($I$26=5,$I$28=CJ6,$L$25=$CJ$9),AG50,)","v":{"$error":"#DIV/0!"}},{"$f":"IF(AND($I$26=5,$I$28=CJ6,$L$25=$CJ$9),AB65,)","v":{"$error":"#DIV/0!"}},{"$f":"IF(I26=CX2,0,IF(AND(I28=CY6,I25<>CY10),AI61,))","v":{"$error":"#DIV/0!"}},{"$f":"IF(I26=CX2,0,IF(AND(I28=CY6,I25<>CY10),AY52-(DD31/2),))","v":{"$error":"#DIV/0!"}},"x","y","x","y","x","y","x","y","x","y","x","y",null,null,null,null,{"$f":"IF(AND(L28=DO6,L25<>DO8),BA48+(DS31/2),)","v":{"$error":"#DIV/0!"}},{"$f":"IF(AND(L28=DO6,L25<>DO8),BY49-BB46,)","v":{"$error":"#DIV/0!"}},{"$f":"IF(AND($L$26>3,$L$28=CJ6,$L$25=$CJ$9),BC50,)","v":{"$error":"#DIV/0!"}},{"$f":"IF(AND($L$26>3,$L$28=CJ6,$L$25=$CJ$9),BB65,)","v":{"$error":"#DIV/0!"}},{"$f":"IF(OR(L26=DN2,L26=DN3),0,IF(AND(L28=DO6,L25<>DO8),BE48+(DS31/2),))","v":{"$error":"#DIV/0!"}},{"$f":"IF(OR(L26=DN2,L26=DN3),0,IF(AND(L28=DO6,L25<>DO8),BY49-BF46,))","v":{"$error":"#DIV/0!"}},{"$f":"IF(AND($L$26=5,$L$28=CJ6,$L$25=$CJ$9),BG50,)","v":{"$error":"#DIV/0!"}},{"$f":"IF(AND($L$26=5,$L$28=CJ6,$L$25=$CJ$9),BB65,)","v":{"$error":"#DIV/0!"}},{"$f":"IF(L26=DN2,0,IF(AND(L28=DO6,L25<>DO10),BI61,))","v":{"$error":"#DIV/0!"}},{"$f":"IF(L26=DN2,0,IF(AND(L28=DO6,L25<>DO10),BY52-(DT31/2),))","v":{"$error":"#DIV/0!"}},"x","y","x","y","x","y","x","y","x","y","x","y"]
[{"$f":"IF(AND(E28=CJ6,E25<>CJ8),A50-((A50-A54)/1.8),)","v":0},{"$f":"IF(AND(E28=CJ6,E25<>CJ8),B67+(CN30/4),)","v":0},{"$f":"IF(AND($E$26>3,$E$28=CJ6,$E$25=$CJ$9),C51,)","v":{"$error":"#DIV/0!"}},{"$f":"IF(AND($E$26>3,$E$28=CJ6,$E$25=$CJ$9),B66,)","v":{"$error":"#DIV/0!"}},{"$f":"IF(OR(E26=CI2,E26=CI3),0,IF(AND(E28=CJ6,E25<>CJ8),E50-((E50-E54)/1.8),))","v":{"$error":"#DIV/0!"}},{"$f":"IF(OR(E26=CI2,E26=CI3),0,IF(AND(E28=CJ6,E25<>CJ8),F67+(CN30/4),))","v":{"$error":"#DIV/0!"}},{"$f":"IF(AND($E$26=5,$E$28=CJ6,$E$25=$CJ$9),G51,)","v":{"$error":"#DIV/0!"}},{"$f":"IF(AND($E$26=5,$E$28=CJ6,$E$25=$CJ$9),B66,)","v":{"$error":"#DIV/0!"}},{"$f":"IF(E26=CI2,0,IF(AND(E28=CJ6,E25<>CJ10),I65-(CO30/4),))","v":{"$error":"#DIV/0!"}},{"$f":"IF(AND(E28=CJ6,E25<>CJ10),J65+((J69-J65)/1.8),)","v":0},"right 6 sided",null,"up front",null,"up mid left",null,"up centre",null,"up mid right",null,"up left",null,null,null,null,null,{"$f":"IF(AND(I28=CY6,I25<>CY8),AA50-((AA50-AA54)/1.8),)","v":0},{"$f":"IF(AND(I28=CY6,I25<>CY8),AB67+(DC30/4),)","v":0},{"$f":"IF(AND($I$26>3,$I$28=CJ6,$L$25=$CJ$9),AC51,)","v":{"$error":"#DIV/0!"}},{"$f":"IF(AND($I$26>3,$I$28=CJ6,$L$25=$CJ$9),AB66,)","v":{"$error":"#DIV/0!"}},{"$f":"IF(OR(I26=CX2,I26=CX3),0,IF(AND(I28=CY6,I25<>CY8),AE50-((AE50-AE54)/1.8),))","v":{"$error":"#DIV/0!"}},{"$f":"IF(OR(I26=CX2,I26=CX3),0,IF(AND(I28=CY6,I25<>CY8),AF67+(DC30/4),))","v":{"$error":"#DIV/0!"}},{"$f":"IF(AND($I$26=5,$I$28=CJ6,$L$25=$CJ$9),AG51,)","v":{"$error":"#DIV/0!"}},{"$f":"IF(AND($I$26=5,$I$28=CJ6,$L$25=$CJ$9),AB66,)","v":{"$error":"#DIV/0!"}},{"$f":"IF(I26=CX2,0,IF(AND(I28=CY6,I25<>CY10),AI65-(DD30/4),))","v":{"$error":"#DIV/0!"}},{"$f":"IF(AND(I28=CY6,I25<>CY10),AJ65+((AJ69-AJ65)/1.8),)","v":0},"right 6 sided",null,"up front",null,"up mid left",null,"up centre",null,"up mid right",null,"up left",null,null,null,null,null,{"$f":"IF(AND(L28=DO6,L25<>DO8),BA50-((BA50-BA54)/1.8),)","v":{"$error":"#DIV/0!"}},{"$f":"IF(AND(L28=DO6,L25<>DO8),BB67+(DS30/4),)","v":{"$error":"#DIV/0!"}},{"$f":"IF(AND($L$26>3,$L$28=CJ6,$L$25=$CJ$9),BC51,)","v":{"$error":"#DIV/0!"}},{"$f":"IF(AND($L$26>3,$L$28=CJ6,$L$25=$CJ$9),BB66,)","v":{"$error":"#DIV/0!"}},{"$f":"IF(OR(L26=DN2,L26=DN3),0,IF(AND(L28=DO6,L25<>DO8),BE50-((BE50-BE54)/1.8),))","v":{"$error":"#DIV/0!"}},{"$f":"IF(OR(L26=DN2,L26=DN3),0,IF(AND(L28=DO6,L25<>DO8),BF67+(DS30/4),))","v":{"$error":"#DIV/0!"}},{"$f":"IF(AND($L$26=5,$L$28=CJ6,$L$25=$CJ$9),BG51,)","v":{"$error":"#DIV/0!"}},{"$f":"IF(AND($L$26=5,$L$28=CJ6,$L$25=$CJ$9),BB66,)","v":{"$error":"#DIV/0!"}},{"$f":"IF(L26=DN2,0,IF(AND(L28=DO6,L25<>DO10),BI65-(DT30/4),))","v":{"$error":"#DIV/0!"}},{"$f":"IF(AND(L28=DO6,L25<>DO10),BJ65+((BJ69-BJ65)/1.8),)","v":{"$error":"#DIV/0!"}},"right 6 sided",null,"up front",null,"up mid left",null,"up centre",null,"up mid right",null,"up left"]
[{"$f":"IF(AND(E28=CJ6,E25<>CJ8),A50-((A50-A54)*0.85),)","v":0},{"$f":"IF(AND(E28=CJ6,E25<>CJ8),Y49-(CF28/4),)","v":0},{"$f":"IF(AND($E$26>3,$E$28=CJ6,$E$25=$CJ$9),C52,)","v":{"$error":"#DIV/0!"}},{"$f":"IF(AND($E$26>3,$E$28=CJ6,$E$25=$CJ$9),B67,)","v":{"$error":"#DIV/0!"}},{"$f":"IF(OR(E26=CI2,E26=CI3),0,IF(AND(E28=CJ6,E25<>CJ8),E50-((E50-E54)*0.85),))","v":{"$error":"#DIV/0!"}},{"$f":"IF(OR(E26=CI2,E26=CI3),0,IF(AND(E28=CJ6,E25<>CJ8),Y49-(CF28/4),))","v":{"$error":"#DIV/0!"}},{"$f":"IF(AND($E$26=5,$E$28=CJ6,$E$25=$CJ$9),G52,)","v":{"$error":"#DIV/0!"}},{"$f":"IF(AND($E$26=5,$E$28=CJ6,$E$25=$CJ$9),B67,)","v":{"$error":"#DIV/0!"}},{"$f":"IF(E26=CI2,0,IF(AND(E28=CJ6,E25<>CJ10),I65-(CO30/2),))","v":{"$error":"#DIV/0!"}},{"$f":"IF(AND(E28=CJ6,E25<>CJ10),J65+((J69-J65)*0.85),)","v":0},{"$f":"IF(AND(AND(E26=1,E25=CJ9),E25=CJ9),X57-CH25,0)","v":{"$error":"#DIV/0!"}},{"$f":"IF(AND(E26=1,E25=CJ9),CH25,0)","v":{"$error":"#DIV/0!"}},{"$f":"IF(OR(E26=CI2,E25=CJ8),0,CH25)","v":{"$error":"#DIV/0!"}},{"$f":"IF(E25=CJ8,0,Y49-CI27-CH25)","v":{"$error":"#DIV/0!"}},{"$f":"IF(E25=CJ8,0,IF(E26=CI2,0,O59))","v":{"$error":"#DIV/0!"}},{"$f":"IF(OR(E26=CI4,E26=CI5,E26=CI6),N71,)","v":{"$error":"#DIV/0!"}},{"$f":"IF(AND($E$26=$CI$6,$E$25=$CJ$9),O67+$CH$31,)","v":{"$error":"#DIV/0!"}},{"$f":"IF(AND($E$26=$CI$6,$E$25=$CJ$9),P67,)","v":{"$error":"#DIV/0!"}},{"$f":"IF(E25=CJ8,0,IF(E26=CI2,0,S59))","v":{"$error":"#DIV/0!"}},{"$f":"IF(OR(E26=CI5,E26=CI6),N71,)","v":{"$error":"#DIV/0!"}},{"$f":"IF(E25=CJ8,0,IF(E26=CI3,X55+(CF29/2)+CH25,IF(E26<>CI2,X58+CH25,)))","v":{"$error":"#DIV/0!"}},{"$f":"IF(E26<>CI2,N71,)","v":{"$error":"#DIV/0!"}},null,null,null,null,{"$f":"IF(AND(I28=CY6,I25<>CY8),AA50-((AA50-AA54)*0.85),)","v":0},{"$f":"IF(AND(I28=CY6,I25<>CY8),AY49-(CU28/4),)","v":0},{"$f":"IF(AND($I$26>3,$I$28=CJ6,$L$25=$CJ$9),AC52,)","v":{"$error":"#DIV/0!"}},{"$f":"IF(AND($I$26>3,$I$28=CJ6,$L$25=$CJ$9),AB67,)","v":{"$error":"#DIV/0!"}},{"$f":"IF(OR(I26=CX2,I26=CX3),0,IF(AND(I28=CY6,I25<>CY8),AE50-((AE50-AE54)*0.85),))","v":{"$error":"#DIV/0!"}},{"$f":"IF(OR(I26=CX2,I26=CX3),0,IF(AND(I28=CY6,I25<>CY8),AY49-(CU28/4),))","v":{"$error":"#DIV/0!"}},{"$f":"IF(AND($I$26=5,$I$28=CJ6,$L$25=$CJ$9),AG52,)","v":{"$error":"#DIV/0!"}},{"$f":"IF(AND($I$26=5,$I$28=CJ6,$L$25=$CJ$9),AB67,)","v":{"$error":"#DIV/0!"}},{"$f":"IF(I26=CX2,0,IF(AND(I28=CY6,I25<>CY10),AI65-(DD30/2),))","v":{"$error":"#DIV/0!"}},{"$f":"IF(AND(I28=CY6,I25<>CY10),AJ65+((AJ69-AJ65)*0.85),)","v":0},{"$f":"IF(AND(I25=CJ9,AND(I25=CJ9,I26=1)),AX57-CW25,0)","v":{"$error":"#DIV/0!"}},{"$f":"IF(AND(I25=CJ9,I26=1),CW25,0)","v":{"$error":"#DIV/0!"}},{"$f":"IF(OR(I26=CX2,I25=CY8),0,CW25)","v":{"$error":"#DIV/0!"}},{"$f":"IF(I25=CY8,0,AY49-CX27-CW25)","v":{"$error":"#DIV/0!"}},{"$f":"IF(I25=CY8,0,IF(I26=CX2,0,AO59))","v":{"$error":"#DIV/0!"}},{"$f":"IF(OR(I26=CX4,I26=CX5,I26=CX6),AN71,)","v":{"$error":"#DIV/0!"}},{"$f":"IF(AND($I$26=$CI$6,$L$25=$CJ$9),AO67+$CW$31,)","v":{"$error":"#DIV/0!"}},{"$f":"IF(AND($I$26=$CI$6,$L$25=$CJ$9),AP67,)","v":{"$error":"#DIV/0!"}},{"$f":"IF(I25=CU8,0,IF(I26=CX2,0,AS59))","v":{"$error":"#DIV/0!"}},{"$f":"IF(OR(I26=CX5,I26=CX6),AN71,)","v":{"$error":"#DIV/0!"}},{"$f":"IF(I25=CY8,0,IF(I26=CX3,AX55+(CU29/2)+CW25,IF(I26<>CX2,AX58+CW25,)))","v":{"$error":"#DIV/0!"}},{"$f":"IF(I26<>CX2,AN71,)","v":{"$error":"#DIV/0!"}},null,null,null,null,{"$f":"IF(AND(L28=DO6,L25<>DO8),BA50-((BA50-BA54)*0.85),)","v":{"$error":"#DIV/0!"}},{"$f":"IF(AND(L28=DO6,L25<>DO8),BY49-(DK28/4),)","v":{"$error":"#DIV/0!"}},{"$f":"IF(AND($L$26>3,$L$28=CJ6,$L$25=$CJ$9),BC52,)","v":{"$error":"#DIV/0!"}},{"$f":"IF(AND($L$26>3,$L$28=CJ6,$L$25=$CJ$9),BB67,)","v":{"$error":"#DIV/0!"}},{"$f":"IF(OR(L26=DN2,L26=DN3),0,IF(AND(L28=DO6,L25<>DO8),BE50-((BE50-BE54)*0.85),))","v":{"$error":"#DIV/0!"}},{"$f":"IF(OR(L26=DN2,L26=DN3),0,IF(AND(L28=DO6,L25<>DO8),BY49-(DK28/4),))","v":{"$error":"#DIV/0!"}},{"$f":"IF(AND($L$26=5,$L$28=CJ6,$L$25=$CJ$9),BG52,)","v":{"$error":"#DIV/0!"}},{"$f":"IF(AND($L$26=5,$L$28=CJ6,$L$25=$CJ$9),BB67,)","v":{"$error":"#DIV/0!"}},{"$f":"IF(L26=DN2,0,IF(AND(L28=DO6,L25<>DO10),BI65-(DT30/2),))","v":{"$error":"#DIV/0!"}},{"$f":"IF(AND(L28=DO6,L25<>DO10),BJ65+((BJ69-BJ65)*0.85),)","v":{"$error":"#DIV/0!"}},{"$f":"IF(AND(L25=DO9,AND(L25=DO9,L26=1)),BX57-DM25,0)","v":{"$error":"#DIV/0!"}},{"$f":"IF(AND(L25=DO9,L26=1),DM25,0)","v":{"$error":"#DIV/0!"}},{"$f":"IF(OR(L26=DN2,L25=DO8),0,DM25)","v":{"$error":"#DIV/0!"}},{"$f":"IF(L25=DO8,0,BY49-DN27-DM25)","v":{"$error":"#DIV/0!"}},{"$f":"IF(L25=DO8,0,IF(L26=DN2,0,BO59))","v":{"$error":"#DIV/0!"}},{"$f":"IF(OR(L26=DN4,L26=DN5,L26=DN6),BN71,)","v":{"$error":"#DIV/0!"}},{"$f":"IF(AND($L$26=$CI$6,$L$25=$CJ$9),BO67+$DM$31,)","v":{"$error":"#DIV/0!"}},{"$f":"IF(AND($L$26=$CI$6,$L$25=$CJ$9),BP67,)","v":{"$error":"#DIV/0!"}},{"$f":"IF(L25=DO8,0,IF($L$26=DN2,0,BS59))","v":{"$error":"#DIV/0!"}},{"$f":"IF(OR(L26=DN5,L26=DN6),BN71,)","v":{"$error":"#DIV/0!"}},{"$f":"IF(L25=DO8,0,IF(L26=DN3,BX55+(DK29/2)+DM25,IF(L26<>DN2,BX58+DM25,)))","v":{"$error":"#DIV/0!"}},{"$f":"IF(L26<>DN2,BN71,)","v":{"$error":"#DIV/0!"}}]
[{"$f":"IF(AND(E28=CJ6,E25<>CJ8),A54+((A50-A54)*0.05),)","v":0},{"$f":"IF(AND(E28=CJ6,E25<>CJ8),B67-(CN30/4),)","v":0},{"$f":"IF(AND($E$26>3,$E$28=CJ6,$E$25=$CJ$9),C53,)","v":{"$error":"#DIV/0!"}},{"$f":"IF(AND($E$26>3,$E$28=CJ6,$E$25=$CJ$9),B68,)","v":{"$error":"#DIV/0!"}},{"$f":"IF(OR(E26=CI2,E26=CI3),0,IF(AND(E28=CJ6,E25<>CJ8),E54+((E50-E54)*0.05),))","v":{"$error":"#DIV/0!"}},{"$f":"IF(OR(E26=CI2,E26=CI3),0,IF(AND(E28=CJ6,E25<>CJ8),F67-(CN30/4),))","v":{"$error":"#DIV/0!"}},{"$f":"IF(AND($E$26=5,$E$28=CJ6,$E$25=$CJ$9),G53,)","v":{"$error":"#DIV/0!"}},{"$f":"IF(AND($E$26=5,$E$28=CJ6,$E$25=$CJ$9),B68,)","v":{"$error":"#DIV/0!"}},{"$f":"IF(E26=CI2,0,IF(AND(E28=CJ6,E25<>CJ10),I69+(CO30/4),))","v":{"$error":"#DIV/0!"}},{"$f":"IF(AND(E28=CJ6,E25<>CJ10),J69-((J69-J65)*0.05),)","v":0},{"$f":"IF(AND(E26=1,E25=CJ9),AVERAGE(K67,K69),0)","v":{"$error":"#DIV/0!"}},{"$f":"L48","v":{"$error":"#DIV/0!"}},{"$f":"IF(E25=CJ8,0,M58)","v":{"$error":"#DIV/0!"}},{"$f":"IF(E25=CJ8,0,N67+CJ14+(CF10/4))","v":{"$error":"#DIV/0!"}},{"$f":"IF(E25=CJ8,0,IF(E26=CI2,0,O58))","v":{"$error":"#DIV/0!"}},{"$f":"IF(E25=CJ8,0,IF(OR(E26=CI4,E26=CI5,E26=CI6),P67+CJ19,))","v":{"$error":"#DIV/0!"}},{"$error":"#DIV/0!"},{"$error":"#DIV/0!"},{"$f":"IF(E25=CJ8,0,IF(E26=CI2,0,S58))","v":{"$error":"#DIV/0!"}},{"$f":"IF(E25=CJ8,0,IF(OR(E26=CI5,E26=CI6),P67+CJ19,))","v":{"$error":"#DIV/0!"}},{"$f":"IF(E25=CJ8,0,IF(E26<>CI2,U59+(CH28/4),0))","v":{"$error":"#DIV/0!"}},{"$f":"IF(E25=CJ8,0,IF(E26<>CI2,V67+CM14-(CF14/4),))","v":{"$error":"#DIV/0!"}},null,null,null,null,{"$f":"IF(AND(I28=CY6,I25<>CY8),AA54+((AA50-AA54)*0.05),)","v":0},{"$f":"IF(AND(I28=CY6,I25<>CY8),AB67-(DC30/4),)","v":0},{"$f":"IF(AND($I$26>3,$I$28=CJ6,$L$25=$CJ$9),AC53,)","v":{"$error":"#DIV/0!"}},{"$f":"IF(AND($I$26>3,$I$28=CJ6,$L$25=$CJ$9),AB68,)","v":{"$error":"#DIV/0!"}},{"$f":"IF(OR(I26=CX2,I26=CX3),0,IF(AND(I28=CY6,I25<>CY8),AE54+((AE50-AE54)*0.05),))","v":{"$error":"#DIV/0!"}},{"$f":"IF(OR(I26=CX2,I26=CX3),0,IF(AND(I28=CY6,I25<>CY8),AF67-(DC30/4),))","v":{"$error":"#DIV/0!"}},{"$f":"IF(AND($I$26=5,$I$28=CJ6,$L$25=$CJ$9),AG53,)","v":{"$error":"#DIV/0!"}},{"$f":"IF(AND($I$26=5,$I$28=CJ6,$L$25=$CJ$9),AB68,)","v":{"$error":"#DIV/0!"}},{"$f":"IF(I26=CX2,0,IF(AND(I28=CY6,I25<>CY10),AI69+(DD30/4),))","v":{"$error":"#DIV/0!"}},{"$f":"IF(AND(I28=CY6,I25<>CY10),AJ69-((AJ69-AJ65)*0.05),)","v":0},{"$f":"IF(AND(I25=CJ9,I26=1),AVERAGE(AK67,AK69),0)","v":{"$error":"#DIV/0!"}},{"$f":"AL48","v":{"$error":"#DIV/0!"}},{"$f":"IF(I25=CY8,0,AM58)","v":{"$error":"#DIV/0!"}},{"$f":"IF(I25=CY8,0,AN67+CY14+(CU10/4))","v":{"$error":"#DIV/0!"}},{"$f":"IF(I25=CY8,0,IF(I26=CX2,0,AO58))","v":{"$error":"#DIV/0!"}},{"$f":"IF(I25=CY8,0,IF(OR(I26=CX4,I26=CX5,I26=CX6),AP67+CY19,))","v":{"$error":"#DIV/0!"}},{"$error":"#DIV/0!"},{"$error":"#DIV/0!"},{"$f":"IF(I25=CU8,0,IF(I26=CX2,0,AS58))","v":{"$error":"#DIV/0!"}},{"$f":"IF(I25=CU8,0,IF(OR(I26=CX5,I26=CX6),AP67+CY19,))","v":{"$error":"#DIV/0!"}},{"$f":"IF(I25=CY8,0,IF(I26<>CX2,AU59+(CW28/4),0))","v":{"$error":"#DIV/0!"}},{"$f":"IF(I25=CY8,0,IF(I26<>CX2,AV67+DB14-(CU14/4),))","v":{"$error":"#DIV/0!"}},null,null,null,null,{"$f":"IF(AND(L28=DO6,L25<>DO8),BA54+((BA50-BA54)*0.05),)","v":{"$error":"#DIV/0!"}},{"$f":"IF(AND(L28=DO6,L25<>DO8),BB67-(DS30/4),)","v":{"$error":"#DIV/0!"}},{"$f":"IF(AND($L$26>3,$L$28=CJ6,$L$25=$CJ$9),BC53,)","v":{"$error":"#DIV/0!"}},{"$f":"IF(AND($L$26>3,$L$28=CJ6,$L$25=$CJ$9),BB68,)","v":{"$error":"#DIV/0!"}},{"$f":"IF(OR(L26=DN2,L26=DN3),0,IF(AND(L28=DO6,L25<>DO8),BE54+((BE50-BE54)*0.05),))","v":{"$error":"#DIV/0!"}},{"$f":"IF(OR(L26=DN2,L26=DN3),0,IF(AND(L28=DO6,L25<>DO8),BF67-(DS30/4),))","v":{"$error":"#DIV/0!"}},{"$f":"IF(AND($L$26=5,$L$28=CJ6,$L$25=$CJ$9),BG53,)","v":{"$error":"#DIV/0!"}},{"$f":"IF(AND($L$26=5,$L$28=CJ6,$L$25=$CJ$9),BB68,)","v":{"$error":"#DIV/0!"}},{"$f":"IF(L26=DN2,0,IF(AND(L28=DO6,L25<>DO10),BI69+(DT30/4),))","v":{"$error":"#DIV/0!"}},{"$f":"IF(AND(L28=DO6,L25<>DO10),BJ69-((BJ69-BJ65)*0.05),)","v":{"$error":"#DIV/0!"}},{"$f":"IF(AND(L25=DO9,L26=1),AVERAGE(BK67,BK69),0)","v":{"$error":"#DIV/0!"}},{"$f":"BL48","v":{"$error":"#DIV/0!"}},{"$f":"IF(L25=DO8,0,BM58)","v":{"$error":"#DIV/0!"}},{"$f":"IF(L25=DO8,0,BN67+DO14+(DK10/4))","v":{"$error":"#DIV/0!"}},{"$f":"IF(L25=DO8,0,IF(L26=DN2,0,BO58))","v":{"$error":"#DIV/0!"}},{"$f":"IF(L25=DO8,0,IF(OR(L26=DN4,L26=DN5,L26=DN6),BP67+DO19,))","v":{"$error":"#DIV/0!"}},{"$error":"#DIV/0!"},{"$error":"#DIV/0!"},{"$f":"IF(L25=DO8,0,IF($L$26=DN2,0,BS58))","v":{"$error":"#DIV/0!"}},{"$f":"IF(L25=DO8,0,IF(OR(L26=DN5,L26=DN6),BP67+DO19,))","v":{"$error":"#DIV/0!"}},{"$f":"IF(L25=DO8,0,IF(L26<>DN2,BU59+(DM28/4),0))","v":{"$error":"#DIV/0!"}},{"$f":"IF(L25=DO8,0,IF(L26<>DN2,BV67+DR14-(DK14/4),))","v":{"$error":"#DIV/0!"}}]
[{"$f":"IF(AND(E28=CJ6,E25<>CJ8),X52+IF(E26=CI3,CF29/2,),)","v":0},{"$f":"IF(AND(E28=CJ6,E25<>CJ8),Y52+CH25,)","v":0},{"$f":"IF(AND($E$26>3,$E$28=CJ6,$E$25=$CJ$9),C54,)","v":{"$error":"#DIV/0!"}},{"$f":"IF(AND($E$26>3,$E$28=CJ6,$E$25=$CJ$9),B69,)","v":{"$error":"#DIV/0!"}},{"$f":"IF(OR(E26=CI2,E26=CI3),0,IF(AND(E28=CJ6,E25<>CJ8),E54,))","v":{"$error":"#DIV/0!"}},{"$f":"IF(OR(E26=CI2,E26=CI3),0,IF(AND(E28=CJ6,E25<>CJ8),Y52+CH25,))","v":{"$error":"#DIV/0!"}},{"$f":"IF(AND($E$26=5,$E$28=CJ6,$E$25=$CJ$9),G54,)","v":{"$error":"#DIV/0!"}},{"$f":"IF(AND($E$26=5,$E$28=CJ6,$E$25=$CJ$9),B69,)","v":{"$error":"#DIV/0!"}},{"$f":"IF(E26=CI2,0,IF(AND(E28=CJ6,E25<>CJ10),X58+CH25,))","v":{"$error":"#DIV/0!"}},{"$f":"IF(E26=CI2,0,IF(AND(E28=CJ6,E25<>CJ10),Y52,))","v":{"$error":"#DIV/0!"}},{"$f":"IF(AND(E26=1,E25=CJ9),X57-K49,0)","v":{"$error":"#DIV/0!"}},{"$f":"L67","v":{"$error":"#DIV/0!"}},{"$f":"IF(OR(E26=CI2,E25=CJ8),0,M57)","v":{"$error":"#DIV/0!"}},{"$f":"IF(E25=CJ8,0,N67+CI14+(CF10/2))","v":{"$error":"#DIV/0!"}},{"$f":"IF(E25=CJ8,0,IF(E26=CI2,0,O57))","v":{"$error":"#DIV/0!"}},{"$f":"IF(E25=CJ8,0,IF(OR(E26=CI4,E26=CI5,E26=CI6),P67+CI19,))","v":{"$error":"#DIV/0!"}},{"$error":"#DIV/0!"},{"$error":"#DIV/0!"},{"$f":"IF(E25=CJ8,0,IF(E26=CI2,0,S57))","v":{"$error":"#DIV/0!"}},{"$f":"IF(E25=CJ8,0,IF(OR(E26=CI5,E26=CI6),P67+CI19,))","v":{"$error":"#DIV/0!"}},{"$f":"IF(E25=CJ8,0,IF(E26<>CI2,U55-(CH28/2),0))","v":{"$error":"#DIV/0!"}},{"$f":"IF(E25=CJ8,0,IF(E26<>CI2,V71+CL14+(CF14/2),))","v":{"$error":"#DIV/0!"}},null,null,null,null,{"$f":"IF(AND(I28=CY6,I25<>CY8),AX52+IF(I26=CX3,CU29/2,),)","v":0},{"$f":"IF(AND(I28=CY6,I25<>CY8),AY52+CW25,)","v":0},{"$f":"IF(AND($I$26>3,$I$28=CJ6,$L$25=$CJ$9),AC54,)","v":{"$error":"#DIV/0!"}},{"$f":"IF(AND($I$26>3,$I$28=CJ6,$L$25=$CJ$9),AB69,)","v":{"$error":"#DIV/0!"}},{"$f":"IF(OR(I26=CX2,I26=CX3),0,IF(AND(I28=CY6,I25<>CY8),AE54,))","v":{"$error":"#DIV/0!"}},{"$f":"IF(OR(I26=CX2,I26=CX3),0,IF(AND(I28=CY6,I25<>CY8),AY52+CW25,))","v":{"$error":"#DIV/0!"}},{"$f":"IF(AND($I$26=5,$I$28=CJ6,$L$25=$CJ$9),AG54,)","v":{"$error":"#DIV/0!"}},{"$f":"IF(AND($I$26=5,$I$28=CJ6,$L$25=$CJ$9),AB69,)","v":{"$error":"#DIV/0!"}},{"$f":"IF(I26=CX2,0,IF(AND(I28=CY6,I25<>CY10),AX58+CW25,))","v":{"$error":"#DIV/0!"}},{"$f":"IF(I26=CX2,0,IF(AND(I28=CY6,I25<>CY10),AY52,))","v":{"$error":"#DIV/0!"}},{"$f":"IF(AND(I25=CJ9,I26=1),AX57-AK49,0)","v":{"$error":"#DIV/0!"}},{"$f":"AL67","v":{"$error":"#DIV/0!"}},{"$f":"IF(OR(I26=CX2,I25=CY8),0,AM57)","v":{"$error":"#DIV/0!"}},{"$f":"IF(I25=CY8,0,AN67+CX14+(CU10/2))","v":{"$error":"#DIV/0!"}},{"$f":"IF(I25=CY8,0,IF(I26=CX2,0,AO57))","v":{"$error":"#DIV/0!"}},{"$f":"IF(I25=CY8,0,IF(OR(I26=CX4,I26=CX5,I26=CX6),AP67+CX19,))","v":{"$error":"#DIV/0!"}},{"$error":"#DIV/0!"},{"$error":"#DIV/0!"},{"$f":"IF(I25=CU8,0,IF(I26=CX2,0,AS57))","v":{"$error":"#DIV/0!"}},{"$f":"IF(I25=CU8,0,IF(OR(I26=CX5,I26=CX6),AP67+CX19,))","v":{"$error":"#DIV/0!"}},{"$f":"IF(I25=CY8,0,IF(I26<>CX2,AU55-(CW28/2),0))","v":{"$error":"#DIV/0!"}},{"$f":"IF(I25=CY8,0,IF(I26<>CX2,AV71+DA14+(CU14/2),))","v":{"$error":"#DIV/0!"}},null,null,null,null,{"$f":"IF(AND(L28=DO6,L25<>DO8),BX52+IF(L26=DN3,DK29/2,),)","v":{"$error":"#DIV/0!"}},{"$f":"IF(AND(L28=DO6,L25<>DO8),BY52+DM25,)","v":{"$error":"#DIV/0!"}},{"$f":"IF(AND($L$26>3,$L$28=CJ6,$L$25=$CJ$9),BC54,)","v":{"$error":"#DIV/0!"}},{"$f":"IF(AND($L$26>3,$L$28=CJ6,$L$25=$CJ$9),BB69,)","v":{"$error":"#DIV/0!"}},{"$f":"IF(OR(L26=DN2,L26=DN3),0,IF(AND(L28=DO6,L25<>DO8),BE54,))","v":{"$error":"#DIV/0!"}},{"$f":"IF(OR(L26=DN2,L26=DN3),0,IF(AND(L28=DO6,L25<>DO8),BY52+DM25,))","v":{"$error":"#DIV/0!"}},{"$f":"IF(AND($L$26=5,$L$28=CJ6,$L$25=$CJ$9),BG54,)","v":{"$error":"#DIV/0!"}},{"$f":"IF(AND($L$26=5,$L$28=CJ6,$L$25=$CJ$9),BB69,)","v":{"$error":"#DIV/0!"}},{"$f":"IF(L26=DN2,0,IF(AND(L28=DO6,L25<>DO10),BX58+DM25,))","v":{"$error":"#DIV/0!"}},{"$f":"IF(L26=DN2,0,IF(AND(L28=DO6,L25<>DO10),BY52,))","v":{"$error":"#DIV/0!"}},{"$f":"IF(AND(L25=DO9,L26=1),BX57-BK49,0)","v":{"$error":"#DIV/0!"}},{"$f":"BL67","v":{"$error":"#DIV/0!"}},{"$f":"IF(OR(L26=DN2,L25=DO8),0,BM57)","v":{"$error":"#DIV/0!"}},{"$f":"IF(L25=DO8,0,BN67+DN14+(DK10/2))","v":{"$error":"#DIV/0!"}},{"$f":"IF(L25=DO8,0,IF(L26=DN2,0,BO57))","v":{"$error":"#DIV/0!"}},{"$f":"IF(L25=DO8,0,IF(OR(L26=DN4,L26=DN5,L26=DN6),BP67+DN19,))","v":{"$error":"#DIV/0!"}},{"$error":"#DIV/0!"},{"$error":"#DIV/0!"},{"$f":"IF(L25=DO8,0,IF($L$26=DN2,0,BS57))","v":{"$error":"#DIV/0!"}},{"$f":"IF(L25=DO8,0,IF(OR(L26=DN5,L26=DN6),BP67+DN19,))","v":{"$error":"#DIV/0!"}},{"$f":"IF(L25=DO8,0,IF(L26<>DN2,BU55-(DM28/2),0))","v":{"$error":"#DIV/0!"}},{"$f":"IF(L25=DO8,0,IF(L26<>DN2,BV71+DQ14+(DK14/2),))","v":{"$error":"#DIV/0!"}}]
[{"$f":"IF(AND(E28=CJ6,E25<>CJ8),A54-((A50-A54)*0.05),)","v":0},{"$f":"B68","v":0},{"$f":"IF(AND($E$26>3,$E$28=CJ6,$E$25=$CJ$9),C55,)","v":{"$error":"#DIV/0!"}},{"$f":"IF(AND($E$26>3,$E$28=CJ6,$E$25=$CJ$9),B70,)","v":{"$error":"#DIV/0!"}},{"$f":"IF(OR(E26=CI2,E26=CI3),0,IF(AND(E28=CJ6,E25<>CJ8),E54-((E50-E54)*0.05),))","v":{"$error":"#DIV/0!"}},{"$f":"IF(OR(E26=CI2,E26=CI3),0,F68)","v":{"$error":"#DIV/0!"}},{"$f":"IF(AND($E$26=5,$E$28=CJ6,$E$25=$CJ$9),G55,)","v":{"$error":"#DIV/0!"}},{"$f":"IF(AND($E$26=5,$E$28=CJ6,$E$25=$CJ$9),B70,)","v":{"$error":"#DIV/0!"}},{"$f":"I68","v":{"$error":"#DIV/0!"}},{"$f":"IF(AND(E28=CJ6,E25<>CJ10),J69+((J69-J65)*0.05),)","v":0},{"$f":"IF(AND(E26=1,E25=CJ9),(X59/2)+CF18,0)","v":{"$error":"#DIV/0!"}},{"$f":"L50","v":{"$error":"#DIV/0!"}},{"$f":"IF(E25=CJ8,0,M56)","v":{"$error":"#DIV/0!"}},{"$f":"IF(E25=CJ8,0,N71+CJ14-(CF10/4))","v":{"$error":"#DIV/0!"}},{"$f":"O69+(O69-O68)","v":{"$error":"#DIV/0!"}},{"$f":"IF(OR(E26=CI4,E26=CI5,E26=CI6),P68,)","v":{"$error":"#DIV/0!"}},{"$error":"#DIV/0!"},{"$error":"#DIV/0!"},{"$f":"IF(E25=CJ8,0,IF(E26=CI2,0,S56))","v":{"$error":"#DIV/0!"}},{"$f":"IF(OR(E26=CI5,E26=CI6),P68,)","v":{"$error":"#DIV/0!"}},{"$f":"IF(E25=CJ8,0,IF(E26<>CI2,U55-(CH28/4),))","v":{"$error":"#DIV/0!"}},{"$f":"IF(E25=CJ8,0,IF(E26<>CI2,V71+CM14+(CF14/4),))","v":{"$error":"#DIV/0!"}},null,null,null,null,{"$f":"IF(AND(I28=CY6,I25<>CY8),AA54-((AA50-AA54)*0.05),)","v":0},{"$f":"AB68","v":0},{"$f":"IF(AND($I$26>3,$I$28=CJ6,$L$25=$CJ$9),AC55,)","v":{"$error":"#DIV/0!"}},{"$f":"IF(AND($I$26>3,$I$28=CJ6,$L$25=$CJ$9),AB70,)","v":{"$error":"#DIV/0!"}},{"$f":"IF(OR(I26=CX2,I26=CX3),0,IF(AND(I28=CY6,I25<>CY8),AE54-((AE50-AE54)*0.05),))","v":{"$error":"#DIV/0!"}},{"$f":"IF(OR(I26=CX2,I26=CX3),0,AF68)","v":{"$error":"#DIV/0!"}},{"$f":"IF(AND($I$26=5,$I$28=CJ6,$L$25=$CJ$9),AG55,)","v":{"$error":"#DIV/0!"}},{"$f":"IF(AND($I$26=5,$I$28=CJ6,$L$25=$CJ$9),AB70,)","v":{"$error":"#DIV/0!"}},{"$f":"AI68","v":{"$error":"#DIV/0!"}},{"$f":"IF(AND(I28=CY6,I25<>CY10),AJ69+((AJ69-AJ65)*0.05),)","v":0},{"$f":"IF(AND(I25=CJ9,I26=1),(AX59/2)+CU18,0)","v":{"$error":"#DIV/0!"}},{"$f":"AL50","v":{"$error":"#DIV/0!"}},{"$f":"IF(I25=CY8,0,AM56)","v":{"$error":"#DIV/0!"}},{"$f":"IF(I25=CY8,0,AN71+CY14-(CU10/4))","v":{"$error":"#DIV/0!"}},{"$f":"AO69+(AO69-AO68)","v":{"$error":"#DIV/0!"}},{"$f":"IF(OR(I26=CX4,I26=CX5,I26=CX6),AP68,)","v":{"$error":"#DIV/0!"}},{"$error":"#DIV/0!"},{"$error":"#DIV/0!"},{"$f":"IF(I25=CU8,0,IF(I26=CX2,0,AS56))","v":{"$error":"#DIV/0!"}},{"$f":"IF(OR(I26=CX5,I26=CX6),AP68,)","v":{"$error":"#DIV/0!"}},{"$f":"IF(I25=CY8,0,IF(I26<>CX2,AU55-(CW28/4),))","v":{"$error":"#DIV/0!"}},{"$f":"IF(I25=CY8,0,IF(I26<>CX2,AV71+DB14+(CU14/4),))","v":{"$error":"#DIV/0!"}},null,null,null,null,{"$f":"IF(AND(L28=DO6,L25<>DO8),BA54-((BA50-BA54)*0.05),)","v":{"$error":"#DIV/0!"}},{"$f":"BB68","v":{"$error":"#DIV/0!"}},{"$f":"IF(AND($L$26>3,$L$28=CJ6,$L$25=$CJ$9),BC55,)","v":{"$error":"#DIV/0!"}},{"$f":"IF(AND($L$26>3,$L$28=CJ6,$L$25=$CJ$9),BB70,)","v":{"$error":"#DIV/0!"}},{"$f":"IF(OR(L26=DN2,L26=DN3),0,IF(AND(L28=DO6,L25<>DO8),BE54-((BE50-BE54)*0.05),))","v":{"$error":"#DIV/0!"}},{"$f":"IF(OR(L26=DN2,L26=DN3),0,BF68)","v":{"$error":"#DIV/0!"}},{"$f":"IF(AND($L$26=5,$L$28=CJ6,$L$25=$CJ$9),BG55,)","v":{"$error":"#DIV/0!"}},{"$f":"IF(AND($L$26=5,$L$28=CJ6,$L$25=$CJ$9),BB70,)","v":{"$error":"#DIV/0!"}},{"$f":"BI68","v":{"$error":"#DIV/0!"}},{"$f":"IF(AND(L28=DO6,L25<>DO10),BJ69+((BJ69-BJ65)*0.05),)","v":{"$error":"#DIV/0!"}},{"$f":"IF(AND(L25=DO9,L26=1),(BX59/2)+DK18,0)","v":{"$error":"#DIV/0!"}},{"$f":"BL50","v":{"$error":"#DIV/0!"}},{"$f":"IF(L25=DO8,0,BM56)","v":{"$error":"#DIV/0!"}},{"$f":"IF(L25=DO8,0,BN71+DO14-(DK10/4))","v":{"$error":"#DIV/0!"}},{"$f":"BO69+(BO69-BO68)","v":{"$error":"#DIV/0!"}},{"$f":"IF(OR(L26=DN4,L26=DN5,L26=DN6),BP68,)","v":{"$error":"#DIV/0!"}},{"$error":"#DIV/0!"},{"$error":"#DIV/0!"},{"$f":"IF(L25=DO8,0,IF($L$26=DN2,0,BS56))","v":{"$error":"#DIV/0!"}},{"$f":"IF(OR(L26=DN5,L26=DN6),BP68,)","v":{"$error":"#DIV/0!"}},{"$f":"IF(L25=DO8,0,IF(L26<>DN2,BU55-(DM28/4),))","v":{"$error":"#DIV/0!"}},{"$f":"IF(L25=DO8,0,IF(L26<>DN2,BV71+DR14+(DK14/4),))","v":{"$error":"#DIV/0!"}}]
[{"$f":"IF(AND(E28=CJ6,E25<>CJ8),A58+((A54-A58)*0.85),)","v":0},{"$f":"B67","v":0},{"$f":"IF(AND($E$26>3,$E$28=CJ6,$E$25=$CJ$9),C56,)","v":{"$error":"#DIV/0!"}},{"$f":"IF(AND($E$26>3,$E$28=CJ6,$E$25=$CJ$9),B71,)","v":{"$error":"#DIV/0!"}},{"$f":"IF(OR(E26=CI2,E26=CI3),0,IF(AND(E28=CJ6,E25<>CJ8),E58+((E54-E58)*0.85),))","v":{"$error":"#DIV/0!"}},{"$f":"IF(OR(E26=CI2,E26=CI3),0,F67)","v":{"$error":"#DIV/0!"}},{"$f":"IF(AND($E$26=5,$E$28=CJ6,$E$25=$CJ$9),G56,)","v":{"$error":"#DIV/0!"}},{"$f":"IF(AND($E$26=5,$E$28=CJ6,$E$25=$CJ$9),B71,)","v":{"$error":"#DIV/0!"}},{"$f":"I67","v":{"$error":"#DIV/0!"}},{"$f":"IF(AND(E28=CJ6,E25<>CJ10),J73-((J69-J65)*0.85),)","v":0},{"$f":"IF(AND(E26=1,E25=CJ9),K51+(2*CH25),0)","v":{"$error":"#DIV/0!"}},{"$error":"#DIV/0!"},{"$f":"IF(OR(E26=CI2,E25=CJ8),0,IF(E26=CI2,M47+CI28,CH28+M47))","v":{"$error":"#DIV/0!"}},{"$f":"IF(E25=CJ8,0,Y50-CH27-CH25)","v":{"$error":"#DIV/0!"}},{"$f":"IF(E25=CJ8,0,IF(E26=CI4,X58-CH25,IF(E26=CI5,CF27/2,IF(E26=CI6,O55,))))","v":{"$error":"#DIV/0!"}},{"$f":"IF(OR(E26=CI4,E26=CI5,E26=CI6),P67,)","v":{"$error":"#DIV/0!"}},{"$error":"#DIV/0!"},{"$error":"#DIV/0!"},{"$f":"IF(E25=CJ8,0,IF(E26=CI2,0,S55))","v":{"$error":"#DIV/0!"}},{"$f":"IF(OR(E26=CI5,E26=CI6),P67,)","v":{"$error":"#DIV/0!"}},{"$f":"IF(E25=CJ8,0,IF(E26<>CI2,CF27-CH25,0))","v":{"$error":"#DIV/0!"}},{"$f":"IF(E25=CJ8,0,IF(E26<>CI2,Y49-CK27-CH25,))","v":{"$error":"#DIV/0!"}},null,null,null,null,{"$f":"IF(AND(I28=CY6,I25<>CY8),AA58+((AA54-AA58)*0.85),)","v":0},{"$f":"AB67","v":0},{"$f":"IF(AND($I$26>3,$I$28=CJ6,$L$25=$CJ$9),AC56,)","v":{"$error":"#DIV/0!"}},{"$f":"IF(AND($I$26>3,$I$28=CJ6,$L$25=$CJ$9),AB71,)","v":{"$error":"#DIV/0!"}},{"$f":"IF(OR(I26=CX2,I26=CX3),0,IF(AND(I28=CY6,I25<>CY8),AE58+((AE54-AE58)*0.85),))","v":{"$error":"#DIV/0!"}},{"$f":"IF(OR(I26=CX2,I26=CX3),0,AF67)","v":{"$error":"#DIV/0!"}},{"$f":"IF(AND($I$26=5,$I$28=CJ6,$L$25=$CJ$9),AG56,)","v":{"$error":"#DIV/0!"}},{"$f":"IF(AND($I$26=5,$I$28=CJ6,$L$25=$CJ$9),AB71,)","v":{"$error":"#DIV/0!"}},{"$f":"AI67","v":{"$error":"#DIV/0!"}},{"$f":"IF(AND(I28=CY6,I25<>CY10),AJ73-((AJ69-AJ65)*0.85),)","v":0},{"$f":"IF(AND(I25=CJ9,I26=1),AK51+(2*CW25),0)","v":{"$error":"#DIV/0!"}},{"$error":"#DIV/0!"},{"$f":"IF(OR(I26=CX2,I25=CY8),0,IF(I26=CX2,AM47+CX28,CW28+AM47))","v":{"$error":"#DIV/0!"}},{"$f":"IF(I25=CY8,0,AY50-CW27-CW25)","v":{"$error":"#DIV/0!"}},{"$f":"IF(I25=CY8,0,IF(I26=CX4,AX58-CW25,IF(I26=CX5,CU27/2,IF(I26=CX6,AO55,))))","v":{"$error":"#DIV/0!"}},{"$f":"IF(OR(I26=CX4,I26=CX5,I26=CX6),AP67,)","v":{"$error":"#DIV/0!"}},{"$error":"#DIV/0!"},{"$error":"#DIV/0!"},{"$f":"IF(I25=CU8,0,IF(I26=CX2,0,AS55))","v":{"$error":"#DIV/0!"}},{"$f":"IF(OR(I26=CX5,I26=CX6),AP67,)","v":{"$error":"#DIV/0!"}},{"$f":"IF(I25=CY8,0,IF(I26<>CX2,CU27-CW25,0))","v":{"$error":"#DIV/0!"}},{"$f":"IF(I25=CY8,0,IF(I26<>CX2,AY49-CZ27-CW25,))","v":{"$error":"#DIV/0!"}},null,null,null,null,{"$f":"IF(AND(L28=DO6,L25<>DO8),BA58+((BA54-BA58)*0.85),)","v":{"$error":"#DIV/0!"}},{"$f":"BB67","v":{"$error":"#DIV/0!"}},{"$f":"IF(AND($L$26>3,$L$28=CJ6,$L$25=$CJ$9),BC56,)","v":{"$error":"#DIV/0!"}},{"$f":"IF(AND($L$26>3,$L$28=CJ6,$L$25=$CJ$9),BB71,)","v":{"$error":"#DIV/0!"}},{"$f":"IF(OR(L26=DN2,L26=DN3),0,IF(AND(L28=DO6,L25<>DO8),BE58+((BE54-BE58)*0.85),))","v":{"$error":"#DIV/0!"}},{"$f":"IF(OR(L26=DN2,L26=DN3),0,BF67)","v":{"$error":"#DIV/0!"}},{"$f":"IF(AND($L$26=5,$L$28=CJ6,$L$25=$CJ$9),BG56,)","v":{"$error":"#DIV/0!"}},{"$f":"IF(AND($L$26=5,$L$28=CJ6,$L$25=$CJ$9),BB71,)","v":{"$error":"#DIV/0!"}},{"$f":"BI67","v":{"$error":"#DIV/0!"}},{"$f":"IF(AND(L28=DO6,L25<>DO10),BJ73-((BJ69-BJ65)*0.85),)","v":{"$error":"#DIV/0!"}},{"$f":"IF(AND(L25=DO9,L26=1),BK51+(2*DM25),0)","v":{"$error":"#DIV/0!"}},{"$error":"#DIV/0!"},{"$f":"IF(OR(L26=DN2,L25=DO8),0,IF(L26=DN2,BM47+DN28,DM28+BM47))","v":{"$error":"#DIV/0!"}},{"$f":"IF(L25=DO8,0,BY50-DM27-DM25)","v":{"$error":"#DIV/0!"}},{"$f":"IF(L25=DO8,0,IF(L26=DN4,BX58-DM25,IF(L26=DN5,DK27/2,IF(L26=DN6,BO55,))))","v":{"$error":"#DIV/0!"}},{"$f":"IF(OR(L26=DN4,L26=DN5,L26=DN6),BP67,)","v":{"$error":"#DIV/0!"}},{"$error":"#DIV/0!"},{"$error":"#DIV/0!"},{"$f":"IF(L25=DO8,0,IF($L$26=DN2,0,BS55))","v":{"$error":"#DIV/0!"}},{"$f":"IF(OR(L26=DN5,L26=DN6),BP67,)","v":{"$error":"#DIV/0!"}},{"$f":"IF(L25=DO8,0,IF(L26<>DN2,DK27-DM25,0))","v":{"$error":"#DIV/0!"}},{"$f":"IF(L25=DO8,0,IF(L26<>DN2,BY49-DP27-DM25,))","v":{"$error":"#DIV/0!"}}]
[{"$f":"IF(AND(E28=CJ6,E25<>CJ8),A58+((A54-A58)/1.8),)","v":0},{"$f":"B66","v":0},{"$f":"IF(AND($E$26>3,$E$28=CJ6,$E$25=$CJ$9),C57,)","v":{"$error":"#DIV/0!"}},{"$f":"IF(AND($E$26>3,$E$28=CJ6,$E$25=$CJ$9),B72,)","v":{"$error":"#DIV/0!"}},{"$f":"IF(OR(E26=CI2,E26=CI3),0,IF(AND(E28=CJ6,E25<>CJ8),E58+((E54-E58)/1.8),))","v":{"$error":"#DIV/0!"}},{"$f":"IF(OR(E26=CI2,E26=CI3),0,F66)","v":{"$error":"#DIV/0!"}},{"$f":"IF(AND($E$26=5,$E$28=CJ6,$E$25=$CJ$9),G57,)","v":{"$error":"#DIV/0!"}},{"$f":"IF(AND($E$26=5,$E$28=CJ6,$E$25=$CJ$9),B72,)","v":{"$error":"#DIV/0!"}},{"$f":"I66","v":{"$error":"#DIV/0!"}},{"$f":"IF(AND(E28=CJ6,E25<>CJ10),J73-((J69-J65)/1.8),)","v":0},{"$f":"K70","v":{"$error":"#DIV/0!"}},{"$error":"#DIV/0!"},{"$f":"IF(E25=CJ8,0,M54)","v":{"$error":"#DIV/0!"}},{"$f":"IF(E25=CJ8,0,(CH27/4)+CF28/2)","v":{"$error":"#DIV/0!"}},{"$f":"IF(E25=CJ8,0,IF(E26=CI2,0,O54))","v":{"$error":"#DIV/0!"}},{"$f":"IF(OR(E26=CI4,E26=CI5,E26=CI6),N72,)","v":{"$error":"#DIV/0!"}},{"$error":"#DIV/0!"},{"$error":"#DIV/0!"},{"$f":"IF(E25=CJ8,0,IF(E26=CI2,0,S54))","v":{"$error":"#DIV/0!"}},{"$f":"IF(OR(E26=CI5,E26=CI6),N72,)","v":{"$error":"#DIV/0!"}},{"$f":"IF(E25=CJ8,0,IF(E26<>CI2,U51-CM13,))","v":{"$error":"#DIV/0!"}},{"$f":"IF(E25=CJ8,0,IF(E26<>CI2,V73-(CK27/4),))","v":{"$error":"#DIV/0!"}},null,null,null,null,{"$f":"IF(AND(I28=CY6,I25<>CY8),AA58+((AA54-AA58)/1.8),)","v":0},{"$f":"AB66","v":0},{"$f":"IF(AND($I$26>3,$I$28=CJ6,$L$25=$CJ$9),AC57,)","v":{"$error":"#DIV/0!"}},{"$f":"IF(AND($I$26>3,$I$28=CJ6,$L$25=$CJ$9),AB72,)","v":{"$error":"#DIV/0!"}},{"$f":"IF(OR(I26=CX2,I26=CX3),0,IF(AND(I28=CY6,I25<>CY8),AE58+((AE54-AE58)/1.8),))","v":{"$error":"#DIV/0!"}},{"$f":"IF(OR(I26=CX2,I26=CX3),0,AF66)","v":{"$error":"#DIV/0!"}},{"$f":"IF(AND($I$26=5,$I$28=CJ6,$L$25=$CJ$9),AG57,)","v":{"$error":"#DIV/0!"}},{"$f":"IF(AND($I$26=5,$I$28=CJ6,$L$25=$CJ$9),AB72,)","v":{"$error":"#DIV/0!"}},{"$f":"AI66","v":{"$error":"#DIV/0!"}},{"$f":"IF(AND(I28=CY6,I25<>CY10),AJ73-((AJ69-AJ65)/1.8),)","v":0},{"$f":"AK70","v":{"$error":"#DIV/0!"}},{"$error":"#DIV/0!"},{"$f":"IF(I25=CY8,0,AM54)","v":{"$error":"#DIV/0!"}},{"$f":"IF(I25=CY8,0,(CW27/4)+CU28/2)","v":{"$error":"#DIV/0!"}},{"$f":"IF(I25=CY8,0,IF(I26=CX2,0,AO54))","v":{"$error":"#DIV/0!"}},{"$f":"IF(OR(I26=CX4,I26=CX5,I26=CX6),AN72,)","v":{"$error":"#DIV/0!"}},{"$error":"#DIV/0!"},{"$error":"#DIV/0!"},{"$f":"IF(I25=CU8,0,IF(I26=CX2,0,AS54))","v":{"$error":"#DIV/0!"}},{"$f":"IF(OR(I26=CX5,I26=CX6),AN72,)","v":{"$error":"#DIV/0!"}},{"$f":"IF(I25=CY8,0,IF(I26<>CX2,AU51-DB13,))","v":{"$error":"#DIV/0!"}},{"$f":"IF(I25=CY8,0,IF(I26<>CX2,AV73-(CZ27/4),))","v":{"$error":"#DIV/0!"}},null,null,null,null,{"$f":"IF(AND(L28=DO6,L25<>DO8),BA58+((BA54-BA58)/1.8),)","v":{"$error":"#DIV/0!"}},{"$f":"BB66","v":{"$error":"#DIV/0!"}},{"$f":"IF(AND($L$26>3,$L$28=CJ6,$L$25=$CJ$9),BC57,)","v":{"$error":"#DIV/0!"}},{"$f":"IF(AND($L$26>3,$L$28=CJ6,$L$25=$CJ$9),BB72,)","v":{"$error":"#DIV/0!"}},{"$f":"IF(OR(L26=DN2,L26=DN3),0,IF(AND(L28=DO6,L25<>DO8),BE58+((BE54-BE58)/1.8),))","v":{"$error":"#DIV/0!"}},{"$f":"IF(OR(L26=DN2,L26=DN3),0,BF66)","v":{"$error":"#DIV/0!"}},{"$f":"IF(AND($L$26=5,$L$28=CJ6,$L$25=$CJ$9),BG57,)","v":{"$error":"#DIV/0!"}},{"$f":"IF(AND($L$26=5,$L$28=CJ6,$L$25=$CJ$9),BB72,)","v":{"$error":"#DIV/0!"}},{"$f":"BI66","v":{"$error":"#DIV/0!"}},{"$f":"IF(AND(L28=DO6,L25<>DO10),BJ73-((BJ69-BJ65)/1.8),)","v":{"$error":"#DIV/0!"}},{"$f":"BK70","v":{"$error":"#DIV/0!"}},{"$error":"#DIV/0!"},{"$f":"IF(L25=DO8,0,BM54)","v":{"$error":"#DIV/0!"}},{"$f":"IF(L25=DO8,0,(DM27/4)+DK28/2)","v":{"$error":"#DIV/0!"}},{"$f":"IF(L25=DO8,0,IF(L26=DN2,0,BO54))","v":{"$error":"#DIV/0!"}},{"$f":"IF(OR(L26=DN4,L26=DN5,L26=DN6),BN72,)","v":{"$error":"#DIV/0!"}},{"$error":"#DIV/0!"},{"$error":"#DIV/0!"},{"$f":"IF(L25=DO8,0,IF($L$26=DN2,0,BS54))","v":{"$error":"#DIV/0!"}},{"$f":"IF(OR(L26=DN5,L26=DN6),BN72,)","v":{"$error":"#DIV/0!"}},{"$f":"IF(L25=DO8,0,IF(L26<>DN2,BU51-DR13,))","v":{"$error":"#DIV/0!"}},{"$f":"IF(L25=DO8,0,IF(L26<>DN2,BV73-(DP27/4),))","v":{"$error":"#DIV/0!"}}]
[{"$f":"IF(AND(E28=CJ6,E25<>CJ8),A46,)","v":0},{"$f":"B65","v":0},{"$f":"IF(AND($E$26>3,$E$28=CJ6,$E$25=$CJ$9),C58,)","v":{"$error":"#DIV/0!"}},{"$f":"IF(AND($E$26>3,$E$28=CJ6,$E$25=$CJ$9),B73,)","v":{"$error":"#DIV/0!"}},{"$f":"IF(OR(E26=CI2,E26=CI3),0,IF(AND(E28=CJ6,E25<>CJ8),E46,))","v":{"$error":"#DIV/0!"}},{"$f":"IF(OR(E26=CI2,E26=CI3),0,F65)","v":{"$error":"#DIV/0!"}},{"$f":"IF(AND($E$26=5,$E$28=CJ6,$E$25=$CJ$9),G58,)","v":{"$error":"#DIV/0!"}},{"$f":"IF(AND($E$26=5,$E$28=CJ6,$E$25=$CJ$9),B73,)","v":{"$error":"#DIV/0!"}},{"$f":"I65","v":{"$error":"#DIV/0!"}},{"$f":"IF(AND(E28=CJ6,E25<>CJ10),J61,)","v":0},{"$f":"K69","v":{"$error":"#DIV/0!"}},{"$error":"#DIV/0!"},{"$f":"IF(E25=CJ8,0,M53)","v":{"$error":"#DIV/0!"}},{"$f":"IF(E25=CJ8,0,(CF28/4)+CF28/2)","v":{"$error":"#DIV/0!"}},{"$f":"IF(E25=CJ8,0,IF(E26=CI2,0,O53))","v":{"$error":"#DIV/0!"}},{"$f":"IF(OR(E26=CI4,E26=CI5,E26=CI6),N73,)","v":{"$error":"#DIV/0!"}},{"$error":"#DIV/0!"},{"$error":"#DIV/0!"},{"$f":"IF(E25=CJ8,0,IF(E26=CI2,0,S53))","v":{"$error":"#DIV/0!"}},{"$f":"IF(OR(E26=CI5,E26=CI6),N73,)","v":{"$error":"#DIV/0!"}},{"$f":"IF(E25=CJ8,0,IF(E26<>CI2,U51-CL13,))","v":{"$error":"#DIV/0!"}},{"$f":"IF(E25=CJ8,0,IF(E26<>CI2,V74-(CK27/4),))","v":{"$error":"#DIV/0!"}},null,null,null,null,{"$f":"IF(AND(I28=CY6,I25<>CY8),AA46,)","v":0},{"$f":"AB65","v":0},{"$f":"IF(AND($I$26>3,$I$28=CJ6,$L$25=$CJ$9),AC58,)","v":{"$error":"#DIV/0!"}},{"$f":"IF(AND($I$26>3,$I$28=CJ6,$L$25=$CJ$9),AB73,)","v":{"$error":"#DIV/0!"}},{"$f":"IF(OR(I26=CX2,I26=CX3),0,IF(AND(I28=CY6,I25<>CY8),AE46,))","v":{"$error":"#DIV/0!"}},{"$f":"IF(OR(I26=CX2,I26=CX3),0,AF65)","v":{"$error":"#DIV/0!"}},{"$f":"IF(AND($I$26=5,$I$28=CJ6,$L$25=$CJ$9),AG58,)","v":{"$error":"#DIV/0!"}},{"$f":"IF(AND($I$26=5,$I$28=CJ6,$L$25=$CJ$9),AB73,)","v":{"$error":"#DIV/0!"}},{"$f":"AI65","v":{"$error":"#DIV/0!"}},{"$f":"IF(AND(I28=CY6,I25<>CY10),AJ61,)","v":0},{"$f":"AK69","v":{"$error":"#DIV/0!"}},{"$error":"#DIV/0!"},{"$f":"IF(I25=CY8,0,AM53)","v":{"$error":"#DIV/0!"}},{"$f":"IF(I25=CY8,0,(CU28/4)+CU28/2)","v":{"$error":"#DIV/0!"}},{"$f":"IF(I25=CY8,0,IF(I26=CX2,0,AO53))","v":{"$error":"#DIV/0!"}},{"$f":"IF(OR(I26=CX4,I26=CX5,I26=CX6),AN73,)","v":{"$error":"#DIV/0!"}},{"$error":"#DIV/0!"},{"$error":"#DIV/0!"},{"$f":"IF(I25=CU8,0,IF(I26=CX2,0,AS53))","v":{"$error":"#DIV/0!"}},{"$f":"IF(OR(I26=CX5,I26=CX6),AN73,)","v":{"$error":"#DIV/0!"}},{"$f":"IF(I25=CY8,0,IF(I26<>CX2,AU51-DA13,))","v":{"$error":"#DIV/0!"}},{"$f":"IF(I25=CY8,0,IF(I26<>CX2,AV74-(CZ27/4),))","v":{"$error":"#DIV/0!"}},null,null,null,null,{"$f":"IF(AND(L28=DO6,L25<>DO8),BA46,)","v":{"$error":"#DIV/0!"}},{"$f":"BB65","v":{"$error":"#DIV/0!"}},{"$f":"IF(AND($L$26>3,$L$28=CJ6,$L$25=$CJ$9),BC58,)","v":{"$error":"#DIV/0!"}},{"$f":"IF(AND($L$26>3,$L$28=CJ6,$L$25=$CJ$9),BB73,)","v":{"$error":"#DIV/0!"}},{"$f":"IF(OR(L26=DN2,L26=DN3),0,IF(AND(L28=DO6,L25<>DO8),BE46,))","v":{"$error":"#DIV/0!"}},{"$f":"IF(OR(L26=DN2,L26=DN3),0,BF65)","v":{"$error":"#DIV/0!"}},{"$f":"IF(AND($L$26=5,$L$28=CJ6,$L$25=$CJ$9),BG58,)","v":{"$error":"#DIV/0!"}},{"$f":"IF(AND($L$26=5,$L$28=CJ6,$L$25=$CJ$9),BB73,)","v":{"$error":"#DIV/0!"}},{"$f":"BI65","v":{"$error":"#DIV/0!"}},{"$f":"IF(AND(L28=DO6,L25<>DO10),BJ61,)","v":{"$error":"#DIV/0!"}},{"$f":"BK69","v":{"$error":"#DIV/0!"}},{"$error":"#DIV/0!"},{"$f":"IF(L25=DO8,0,BM53)","v":{"$error":"#DIV/0!"}},{"$f":"IF(L25=DO8,0,(DK28/4)+DK28/2)","v":{"$error":"#DIV/0!"}},{"$f":"IF(L25=DO8,0,IF(L26=DN2,0,BO53))","v":{"$error":"#DIV/0!"}},{"$f":"IF(OR(L26=DN4,L26=DN5,L26=DN6),BN73,)","v":{"$error":"#DIV/0!"}},{"$error":"#DIV/0!"},{"$error":"#DIV/0!"},{"$f":"IF(L25=DO8,0,IF($L$26=DN2,0,BS53))","v":{"$error":"#DIV/0!"}},{"$f":"IF(OR(L26=DN5,L26=DN6),BN73,)","v":{"$error":"#DIV/0!"}},{"$f":"IF(L25=DO8,0,IF(L26<>DN2,BU51-DQ13,))","v":{"$error":"#DIV/0!"}},{"$f":"IF(L25=DO8,0,IF(L26<>DN2,BV74-(DP27/4),))","v":{"$error":"#DIV/0!"}}]
[null,null,null,null,null,null,null,null,null,null,{"$f":"K68","v":{"$error":"#DIV/0!"}},{"$error":"#DIV/0!"},{"$f":"IF(E25=CJ8,0,M52)","v":{"$error":"#DIV/0!"}},{"$f":"IF(E25=CJ8,0,(CH27*0.75)+CF28/2)","v":{"$error":"#DIV/0!"}},{"$f":"IF(E25=CJ8,0,O52)","v":{"$error":"#DIV/0!"}},{"$f":"IF(OR(E26=CI4,E26=CI5,E26=CI6),N74,)","v":{"$error":"#DIV/0!"}},{"$error":"#DIV/0!"},{"$error":"#DIV/0!"},{"$f":"IF(E25=CJ8,0,S52)","v":{"$error":"#DIV/0!"}},{"$f":"IF(OR(E26=CI5,E26=CI6),N74,)","v":{"$error":"#DIV/0!"}},{"$f":"IF(E25=CJ8,0,IF(E26<>CI2,U51-CM13,))","v":{"$error":"#DIV/0!"}},{"$f":"IF(E25=CJ8,0,IF(E26<>CI2,V75-(CK27/4),))","v":{"$error":"#DIV/0!"}},null,null,null,null,null,null,null,null,null,null,null,null,null,null,{"$f":"AK68","v":{"$error":"#DIV/0!"}},{"$error":"#DIV/0!"},{"$f":"IF(I25=CY8,0,AM52)","v":{"$error":"#DIV/0!"}},{"$f":"IF(I25=CY8,0,(CW27*0.75)+CU28/2)","v":{"$error":"#DIV/0!"}},{"$f":"IF(I25=CY8,0,AO52)","v":{"$error":"#DIV/0!"}},{"$f":"IF(OR(I26=CX4,I26=CX5,I26=CX6),AN74,)","v":{"$error":"#DIV/0!"}},{"$error":"#DIV/0!"},{"$error":"#DIV/0!"},{"$f":"IF(I25=CU8,0,AS52)","v":{"$error":"#DIV/0!"}},{"$f":"IF(OR(I26=CX5,I26=CX6),AN74,)","v":{"$error":"#DIV/0!"}},{"$f":"IF(I25=CY8,0,IF(I26<>CX2,AU51-DB13,))","v":{"$error":"#DIV/0!"}},{"$f":"IF(I25=CY8,0,IF(I26<>CX2,AV75-(CZ27/4),))","v":{"$error":"#DIV/0!"}},null,null,null,null,null,null,null,null,null,null,null,null,null,null,{"$f":"BK68","v":{"$error":"#DIV/0!"}},{"$error":"#DIV/0!"},{"$f":"IF(L25=DO8,0,BM52)","v":{"$error":"#DIV/0!"}},{"$f":"IF(L25=DO8,0,(DM27*0.75)+DK28/2)","v":{"$error":"#DIV/0!"}},{"$f":"IF(L25=DO8,0,BO52)","v":{"$error":"#DIV/0!"}},{"$f":"IF(OR(L26=DN4,L26=DN5,L26=DN6),BN74,)","v":{"$error":"#DIV/0!"}},{"$error":"#DIV/0!"},{"$error":"#DIV/0!"},{"$f":"IF(L25=DO8,0,BS52)","v":{"$error":"#DIV/0!"}},{"$f":"IF(OR(L26=DN5,L26=DN6),BN74,)","v":{"$error":"#DIV/0!"}},{"$f":"IF(L25=DO8,0,IF(L26<>DN2,BU51-DR13,))","v":{"$error":"#DIV/0!"}},{"$f":"IF(L25=DO8,0,IF(L26<>DN2,BV75-(DP27/4),))","v":{"$error":"#DIV/0!"}}]
[null,null,null,null,null,null,null,null,null,null,{"$f":"K67","v":{"$error":"#DIV/0!"}},{"$error":"#DIV/0!"},{"$f":"IF(E25=CJ8,0,M51)","v":{"$error":"#DIV/0!"}},{"$f":"IF(E25=CJ8,0,(CF28)-CH25)","v":{"$error":"#DIV/0!"}},{"$f":"IF(OR(E26=CI2,E25=CJ8),0,O51)","v":{"$error":"#DIV/0!"}},{"$f":"IF(OR(E26=CI4,E26=CI5,E26=CI6),N79,)","v":{"$error":"#DIV/0!"}},{"$error":"#DIV/0!"},{"$error":"#DIV/0!"},{"$f":"IF(OR(E26=CI2,E25=CJ8),0,S51)","v":{"$error":"#DIV/0!"}},{"$f":"IF(OR(E26=CI5,E26=CI6),N79,)","v":{"$error":"#DIV/0!"}},{"$f":"IF(E25=CJ8,0,IF(E26<>CI2,U51,0))","v":{"$error":"#DIV/0!"}},{"$f":"IF(E26<>CI2,N79,)","v":{"$error":"#DIV/0!"}},null,null,null,null,null,null,null,null,null,null,null,null,null,null,{"$f":"AK67","v":{"$error":"#DIV/0!"}},{"$error":"#DIV/0!"},{"$f":"IF(I25=CY8,0,AM51)","v":{"$error":"#DIV/0!"}},{"$f":"IF(I25=CY8,0,(CU28)-CW25)","v":{"$error":"#DIV/0!"}},{"$f":"IF(OR(I26=CX2,I25=CY8),0,AO51)","v":{"$error":"#DIV/0!"}},{"$f":"IF(OR(I26=CX4,I26=CX5,I26=CX6),AN79,)","v":{"$error":"#DIV/0!"}},{"$error":"#DIV/0!"},{"$error":"#DIV/0!"},{"$f":"IF(OR(I26=CX2,I25=CU8),0,AS51)","v":{"$error":"#DIV/0!"}},{"$f":"IF(OR(I26=CX5,I26=CX6),AN79,)","v":{"$error":"#DIV/0!"}},{"$f":"IF(I25=CY8,0,IF(I26<>CX2,AU51,0))","v":{"$error":"#DIV/0!"}},{"$f":"IF(I26<>CX2,AN79,)","v":{"$error":"#DIV/0!"}},null,null,null,null,null,null,null,null,null,null,null,null,null,null,{"$f":"BK67","v":{"$error":"#DIV/0!"}},{"$error":"#DIV/0!"},{"$f":"IF(L25=DO8,0,BM51)","v":{"$error":"#DIV/0!"}},{"$f":"IF(L25=DO8,0,(DK28)-DM25)","v":{"$error":"#DIV/0!"}},{"$f":"IF(OR(L26=DN2,L25=DO8),0,BO51)","v":{"$error":"#DIV/0!"}},{"$f":"IF(OR(L26=DN4,L26=DN5,L26=DN6),BN79,)","v":{"$error":"#DIV/0!"}},{"$error":"#DIV/0!"},{"$error":"#DIV/0!"},{"$f":"IF(OR($L$26=DN2,L25=DO8),0,BS51)","v":{"$error":"#DIV/0!"}},{"$f":"IF(OR(L26=DN5,L26=DN6),BN79,)","v":{"$error":"#DIV/0!"}},{"$f":"IF(L25=DO8,0,IF(L26<>DN2,BU51,0))","v":{"$error":"#DIV/0!"}},{"$f":"IF(L26<>DN2,BN79,)","v":{"$error":"#DIV/0!"}}]
[null,null,null,null,null,null,null,null,null,null,{"$f":"IF(AND(E26=1,E25=CJ9),K78,0)","v":{"$error":"#DIV/0!"}},{"$error":"#DIV/0!"},{"$f":"IF(E25=CJ8,0,M50)","v":{"$error":"#DIV/0!"}},{"$f":"IF(E25=CJ8,0,(CF28/2-N48)+CF28/2)","v":{"$error":"#DIV/0!"}},{"$f":"IF(E25=CJ8,0,IF(E26=CI2,0,O50))","v":{"$error":"#DIV/0!"}},{"$f":"IF(E25=CJ8,0,IF(E26=CI4,P75-CJ20,IF(OR(E26=CI5,E26=CI6),P75-CJ19,)))","v":{"$error":"#DIV/0!"}},{"$error":"#DIV/0!"},{"$error":"#DIV/0!"},{"$f":"IF(E25=CJ8,0,IF(E26=CI2,0,S50))","v":{"$error":"#DIV/0!"}},{"$f":"IF(E25=CJ8,0,IF(OR(E26=CI5,E26=CI6),T75-CM19,))","v":{"$error":"#DIV/0!"}},{"$f":"IF(E25=CJ8,0,IF(E26<>CI2,U49+(CK28/4),0))","v":{"$error":"#DIV/0!"}},{"$f":"IF(E25=CJ8,0,IF(E26<>CI2,Y50-CM15,))","v":{"$error":"#DIV/0!"}},null,null,null,null,null,null,null,null,null,null,null,null,null,null,{"$f":"IF(AND(I25=CJ9,I26=1),AK78,0)","v":{"$error":"#DIV/0!"}},{"$error":"#DIV/0!"},{"$f":"IF(I25=CY8,0,AM50)","v":{"$error":"#DIV/0!"}},{"$f":"IF(I25=CY8,0,(CU28/2-AN48)+CU28/2)","v":{"$error":"#DIV/0!"}},{"$f":"IF(I25=CY8,0,IF(I26=CX2,0,AO50))","v":{"$error":"#DIV/0!"}},{"$f":"IF(I25=CY8,0,IF(I26=CX4,AP75-CY20,IF(OR(I26=CX5,I26=CX6),AP75-CY19,)))","v":{"$error":"#DIV/0!"}},{"$error":"#DIV/0!"},{"$error":"#DIV/0!"},{"$f":"IF(I25=CU8,0,IF(I26=CX2,0,AS50))","v":{"$error":"#DIV/0!"}},{"$f":"IF(I25=CU8,0,IF(OR(I26=CX5,I26=CX6),AT75-CY19,))","v":{"$error":"#DIV/0!"}},{"$f":"IF(I25=CY8,0,IF(I26<>CX2,AU49+(CZ28/4),0))","v":{"$error":"#DIV/0!"}},{"$f":"IF(I25=CY8,0,IF(I26<>CX2,AY50-DB15,))","v":{"$error":"#DIV/0!"}},null,null,null,null,null,null,null,null,null,null,null,null,null,null,{"$f":"IF(AND(L25=DO9,L26=1),BK78,0)","v":{"$error":"#DIV/0!"}},{"$error":"#DIV/0!"},{"$f":"IF(L25=DO8,0,BM50)","v":{"$error":"#DIV/0!"}},{"$f":"IF(L25=DO8,0,(DK28/2-BN48)+DK28/2)","v":{"$error":"#DIV/0!"}},{"$f":"IF(L25=DO8,0,IF(L26=DN2,0,BO50))","v":{"$error":"#DIV/0!"}},{"$f":"IF(L25=DO8,0,IF(L26=DN4,BP75-DO20,IF(OR(L26=DN5,L26=DN6),BP75-DO19,)))","v":{"$error":"#DIV/0!"}},{"$error":"#DIV/0!"},{"$error":"#DIV/0!"},{"$f":"IF(L25=DO8,0,IF($L$26=DN2,0,BS50))","v":{"$error":"#DIV/0!"}},{"$f":"IF(L25=DO8,0,IF(OR(L26=DN5,L26=DN6),BT75-DR19,))","v":{"$error":"#DIV/0!"}},{"$f":"IF(L25=DO8,0,IF(L26<>DN2,BU49+(DP28/4),0))","v":{"$error":"#DIV/0!"}},{"$f":"IF(L25=DO8,0,IF(L26<>DN2,BY50-DR15,))","v":{"$error":"#DIV/0!"}}]
[null,null,null,null,null,null,null,null,null,null,{"$f":"K67","v":{"$error":"#DIV/0!"}},{"$error":"#DIV/0!"},{"$f":"IF(E25=CJ8,0,M49)","v":{"$error":"#DIV/0!"}},{"$f":"IF(E25=CJ8,0,(CF28/2-N49)+CF28/2)","v":{"$error":"#DIV/0!"}},{"$f":"IF(E25=CJ8,0,IF(E26=CI2,0,O49))","v":{"$error":"#DIV/0!"}},{"$f":"IF(E25=CJ8,0,IF(E26=CI4,P75-CI20,IF(OR(E26=CI5,E26=CI6),P75-CI19,)))","v":{"$error":"#DIV/0!"}},{"$error":"#DIV/0!"},{"$error":"#DIV/0!"},{"$f":"IF(E25=CJ8,0,IF(E26=CI2,0,S49))","v":{"$error":"#DIV/0!"}},{"$f":"IF(E25=CJ8,0,IF(OR(E26=CI5,E26=CI6),T75-CL19,))","v":{"$error":"#DIV/0!"}},{"$f":"IF(E25=CJ8,0,IF(E26<>CI2,U47+(CK28/2),0))","v":{"$error":"#DIV/0!"}},{"$f":"IF(E25=CJ8,0,IF(E26<>CI2,Y50-CL15,))","v":{"$error":"#DIV/0!"}},null,null,null,null,null,null,null,null,null,null,null,null,null,null,{"$f":"AK67","v":{"$error":"#DIV/0!"}},{"$error":"#DIV/0!"},{"$f":"IF(I25=CY8,0,AM49)","v":{"$error":"#DIV/0!"}},{"$f":"IF(I25=CY8,0,(CU28/2-AN49)+CU28/2)","v":{"$error":"#DIV/0!"}},{"$f":"IF(I25=CY8,0,IF(I26=CX2,0,AO49))","v":{"$error":"#DIV/0!"}},{"$f":"IF(I25=CY8,0,IF(I26=CX4,AP75-CX20,IF(OR(I26=CX5,I26=CX6),AP75-CX19,)))","v":{"$error":"#DIV/0!"}},{"$error":"#DIV/0!"},{"$error":"#DIV/0!"},{"$f":"IF(I25=CU8,0,IF(I26=CX2,0,AS49))","v":{"$error":"#DIV/0!"}},{"$f":"IF(I25=CU8,0,IF(OR(I26=CX5,I26=CX6),AT75-CX19,))","v":{"$error":"#DIV/0!"}},{"$f":"IF(I25=CY8,0,IF(I26<>CX2,AU47+(CZ28/2),0))","v":{"$error":"#DIV/0!"}},{"$f":"IF(I25=CY8,0,IF(I26<>CX2,AY50-DA15,))","v":{"$error":"#DIV/0!"}},null,null,null,null,null,null,null,null,null,null,null,null,null,null,{"$f":"BK67","v":{"$error":"#DIV/0!"}},{"$error":"#DIV/0!"},{"$f":"IF(L25=DO8,0,BM49)","v":{"$error":"#DIV/0!"}},{"$f":"IF(L25=DO8,0,(DK28/2-BN49)+DK28/2)","v":{"$error":"#DIV/0!"}},{"$f":"IF(L25=DO8,0,IF(L26=DN2,0,BO49))","v":{"$error":"#DIV/0!"}},{"$f":"IF(L25=DO8,0,IF(L26=DN4,BP75-DN20,IF(OR(L26=DN5,L26=DN6),BP75-DN19,)))","v":{"$error":"#DIV/0!"}},{"$error":"#DIV/0!"},{"$error":"#DIV/0!"},{"$f":"IF(L25=DO8,0,IF($L$26=DN2,0,BS49))","v":{"$error":"#DIV/0!"}},{"$f":"IF(L25=DO8,0,IF(OR(L26=DN5,L26=DN6),BT75-DQ19,))","v":{"$error":"#DIV/0!"}},{"$f":"IF(L25=DO8,0,IF(L26<>DN2,BU47+(DP28/2),0))","v":{"$error":"#DIV/0!"}},{"$f":"IF(L25=DO8,0,IF(L26<>DN2,BY50-DQ15,))","v":{"$error":"#DIV/0!"}}]
[null,null,null,null,null,null,null,null,null,null,{"$f":"IF(AND(E26=1,E25=CJ9),X59-(Y55*0.126)-CH25,0)","v":{"$error":"#DIV/0!"}},{"$error":"#DIV/0!"},{"$f":"IF(E25=CJ8,0,M48)","v":{"$error":"#DIV/0!"}},{"$f":"N76","v":{"$error":"#DIV/0!"}},{"$f":"IF(E25=CJ8,0,IF(E26=CI2,0,O48))","v":{"$error":"#DIV/0!"}},{"$f":"IF(OR(E26=CI4,E26=CI5,E26=CI6),P76,)","v":{"$error":"#DIV/0!"}},{"$error":"#DIV/0!"},{"$error":"#DIV/0!"},{"$f":"IF(E25=CJ8,0,IF(E26=CI2,0,S48))","v":{"$error":"#DIV/0!"}},{"$f":"IF(OR(E26=CI5,E26=CI6),T76,)","v":{"$error":"#DIV/0!"}},{"$f":"IF(E25=CJ8,0,IF(E26<>CI2,U47+(CK28/4),0))","v":{"$error":"#DIV/0!"}},{"$f":"V76","v":{"$error":"#DIV/0!"}},null,null,null,null,null,null,null,null,null,null,null,null,null,null,{"$f":"IF(AND(I25=CJ9,I26=1),AX59-(AY55*0.126)-CW25,0)","v":{"$error":"#DIV/0!"}},{"$error":"#DIV/0!"},{"$f":"IF(I25=CY8,0,AM48)","v":{"$error":"#DIV/0!"}},{"$f":"AN76","v":{"$error":"#DIV/0!"}},{"$f":"IF(I25=CY8,0,IF(I26=CX2,0,AO48))","v":{"$error":"#DIV/0!"}},{"$f":"IF(OR(I26=CX4,I26=CX5,I26=CX6),AP76,)","v":{"$error":"#DIV/0!"}},{"$error":"#DIV/0!"},{"$error":"#DIV/0!"},{"$f":"IF(I25=CU8,0,IF(I26=CX2,0,AS48))","v":{"$error":"#DIV/0!"}},{"$f":"IF(OR(I26=CX5,I26=CX6),AT76,)","v":{"$error":"#DIV/0!"}},{"$f":"IF(I25=CY8,0,IF(I26<>CX2,AU47+(CZ28/4),0))","v":{"$error":"#DIV/0!"}},{"$f":"AV76","v":{"$error":"#DIV/0!"}},null,null,null,null,null,null,null,null,null,null,null,null,null,null,{"$f":"IF(AND(L25=DO9,L26=1),BX59-(BY55*0.126)-DM25,0)","v":{"$error":"#DIV/0!"}},{"$error":"#DIV/0!"},{"$f":"IF(L25=DO8,0,BM48)","v":{"$error":"#DIV/0!"}},{"$f":"BN76","v":{"$error":"#DIV/0!"}},{"$f":"IF(L25=DO8,0,IF(L26=DN2,0,BO48))","v":{"$error":"#DIV/0!"}},{"$f":"IF(OR(L26=DN4,L26=DN5,L26=DN6),BP76,)","v":{"$error":"#DIV/0!"}},{"$error":"#DIV/0!"},{"$error":"#DIV/0!"},{"$f":"IF(L25=DO8,0,IF($L$26=DN2,0,BS48))","v":{"$error":"#DIV/0!"}},{"$f":"IF(OR(L26=DN5,L26=DN6),BT76,)","v":{"$error":"#DIV/0!"}},{"$f":"IF(L25=DO8,0,IF(L26<>DN2,BU47+(DP28/4),0))","v":{"$error":"#DIV/0!"}},{"$f":"BV76","v":{"$error":"#DIV/0!"}}]
[null,null,null,null,null,null,null,null,null,null,{"$f":"K67","v":{"$error":"#DIV/0!"}},{"$error":"#DIV/0!"},{"$f":"IF(E25=CJ8,0,M47)","v":{"$error":"#DIV/0!"}},{"$f":"N75","v":{"$error":"#DIV/0!"}},{"$f":"IF(E25=CJ8,0,IF(E26=CI2,0,O63))","v":{"$error":"#DIV/0!"}},{"$f":"IF(OR(E26=CI4,E26=CI5,E26=CI6),P75,)","v":{"$error":"#DIV/0!"}},{"$error":"#DIV/0!"},{"$error":"#DIV/0!"},{"$f":"IF(E25=CJ8,0,IF(E26=CI2,0,S63))","v":{"$error":"#DIV/0!"}},{"$f":"IF(OR(E26=CI5,E26=CI6),T75,)","v":{"$error":"#DIV/0!"}},{"$f":"IF(E25=CJ8,0,IF(E26<>CI2,U51-CK28,))","v":{"$error":"#DIV/0!"}},{"$f":"V75","v":{"$error":"#DIV/0!"}},null,null,null,null,null,null,null,null,null,null,null,null,null,null,{"$f":"AK67","v":{"$error":"#DIV/0!"}},{"$error":"#DIV/0!"},{"$f":"IF(I25=CY8,0,AM47)","v":{"$error":"#DIV/0!"}},{"$f":"AN75","v":{"$error":"#DIV/0!"}},{"$f":"IF(I25=CY8,0,IF(I26=CX2,0,AO63))","v":{"$error":"#DIV/0!"}},{"$f":"IF(OR(I26=CX4,I26=CX5,I26=CX6),AP75,)","v":{"$error":"#DIV/0!"}},{"$error":"#DIV/0!"},{"$error":"#DIV/0!"},{"$f":"IF(I25=CU8,0,IF(I26=CX2,0,AS63))","v":{"$error":"#DIV/0!"}},{"$f":"IF(OR(I26=CX5,I26=CX6),AT75,)","v":{"$error":"#DIV/0!"}},{"$f":"IF(I25=CY8,0,IF(I26<>CX2,AU51-CZ28,))","v":{"$error":"#DIV/0!"}},{"$f":"AV75","v":{"$error":"#DIV/0!"}},null,null,null,null,null,null,null,null,null,null,null,null,null,null,{"$f":"BK67","v":{"$error":"#DIV/0!"}},{"$error":"#DIV/0!"},{"$f":"IF(L25=DO8,0,BM47)","v":{"$error":"#DIV/0!"}},{"$f":"BN75","v":{"$error":"#DIV/0!"}},{"$f":"IF(L25=DO8,0,IF(L26=DN2,0,BO63))","v":{"$error":"#DIV/0!"}},{"$f":"IF(OR(L26=DN4,L26=DN5,L26=DN6),BP75,)","v":{"$error":"#DIV/0!"}},{"$error":"#DIV/0!"},{"$error":"#DIV/0!"},{"$f":"IF(L25=DO8,0,IF($L$26=DN2,0,BS63))","v":{"$error":"#DIV/0!"}},{"$f":"IF(OR(L26=DN5,L26=DN6),BT75,)","v":{"$error":"#DIV/0!"}},{"$f":"IF(L25=DO8,0,IF(L26<>DN2,BU51-DP28,))","v":{"$error":"#DIV/0!"}},{"$f":"BV75","v":{"$error":"#DIV/0!"}}]
[null,null,null,null,null,null,null,null,null,null,null,null,{"$f":"IF(OR(E26=CI2,E25=CJ8),0,M47+CJ13)","v":{"$error":"#DIV/0!"}},{"$f":"IF(E25=CJ8,0,N79-(CI27/4))","v":{"$error":"#DIV/0!"}},{"$f":"IF(E25=CJ8,0,IF(E26=CI2,0,O62))","v":{"$error":"#DIV/0!"}},{"$f":"P74","v":{"$error":"#DIV/0!"}},{"$error":"#DIV/0!"},{"$error":"#DIV/0!"},{"$f":"IF(E25=CJ8,0,IF(E26=CI2,0,S62))","v":{"$error":"#DIV/0!"}},{"$f":"T74","v":{"$error":"#DIV/0!"}},{"$f":"IF(E25=CJ8,0,U62)","v":{"$error":"#DIV/0!"}},{"$f":"IF(E26<>CI2,N74,)","v":{"$error":"#DIV/0!"}},null,null,null,null,null,null,null,null,null,null,null,null,null,null,null,null,{"$f":"IF(OR(I26=CX2,I25=CY8),0,AM47+CY13)","v":{"$error":"#DIV/0!"}},{"$f":"IF(I25=CY8,0,AN79-(CX27/4))","v":{"$error":"#DIV/0!"}},{"$f":"IF(I25=CY8,0,IF(I26=CX2,0,AO62))","v":{"$error":"#DIV/0!"}},{"$f":"AP74","v":{"$error":"#DIV/0!"}},{"$error":"#DIV/0!"},{"$error":"#DIV/0!"},{"$f":"IF(I25=CU8,0,IF(I26=CX2,0,AS62))","v":{"$error":"#DIV/0!"}},{"$f":"AT74","v":{"$error":"#DIV/0!"}},{"$f":"IF(I25=CY8,0,AU62)","v":{"$error":"#DIV/0!"}},{"$f":"IF(I26<>CX2,AN74,)","v":{"$error":"#DIV/0!"}},null,null,null,null,null,null,null,null,null,null,null,null,null,null,null,null,{"$f":"IF(OR(L26=DN2,L25=DO8),0,BM47+DO13)","v":{"$error":"#DIV/0!"}},{"$f":"IF(L25=DO8,0,BN79-(DN27/4))","v":{"$error":"#DIV/0!"}},{"$f":"IF(L25=DO8,0,IF(L26=DN2,0,BO62))","v":{"$error":"#DIV/0!"}},{"$f":"BP74","v":{"$error":"#DIV/0!"}},{"$error":"#DIV/0!"},{"$error":"#DIV/0!"},{"$f":"IF(L25=DO8,0,IF($L$26=DN2,0,BS62))","v":{"$error":"#DIV/0!"}},{"$f":"BT74","v":{"$error":"#DIV/0!"}},{"$f":"IF(L25=DO8,0,BU62)","v":{"$error":"#DIV/0!"}},{"$f":"IF(L26<>DN2,BN74,)","v":{"$error":"#DIV/0!"}}]
[null,null,null,null,null,null,null,null,null,null,null,null,{"$f":"IF(OR(E26=CI2,E25=CJ8),0,M47+CI13)","v":{"$error":"#DIV/0!"}},{"$f":"IF(E25=CJ8,0,N80-(CI27/4))","v":{"$error":"#DIV/0!"}},{"$f":"IF(E25=CJ8,0,IF(E26=CI2,0,O61))","v":{"$error":"#DIV/0!"}},{"$f":"IF(OR(E26=CI4,E26=CI5,E26=CI6),P73,)","v":{"$error":"#DIV/0!"}},{"$error":"#DIV/0!"},{"$error":"#DIV/0!"},{"$f":"IF(E25=CJ8,0,IF(E26=CI2,0,S61))","v":{"$error":"#DIV/0!"}},{"$f":"IF(OR(E26=CI5,E26=CI6),P73,)","v":{"$error":"#DIV/0!"}},{"$f":"IF(E25=CJ8,0,U61)","v":{"$error":"#DIV/0!"}},{"$f":"IF(E26<>CI2,N73,)","v":{"$error":"#DIV/0!"}},null,null,null,null,null,null,null,null,null,null,null,null,null,null,null,null,{"$f":"IF(OR(I26=CX2,I25=CY8),0,AM47+CX13)","v":{"$error":"#DIV/0!"}},{"$f":"IF(I25=CY8,0,AN80-(CX27/4))","v":{"$error":"#DIV/0!"}},{"$f":"IF(I25=CY8,0,IF(I26=CX2,0,AO61))","v":{"$error":"#DIV/0!"}},{"$f":"IF(OR(I26=CX4,I26=CX5,I26=CX6),AP73,)","v":{"$error":"#DIV/0!"}},{"$error":"#DIV/0!"},{"$error":"#DIV/0!"},{"$f":"IF(I25=CU8,0,IF(I26=CX2,0,AS61))","v":{"$error":"#DIV/0!"}},{"$f":"IF(OR(I26=CX5,I26=CX6),AP73,)","v":{"$error":"#DIV/0!"}},{"$f":"IF(I25=CY8,0,AU61)","v":{"$error":"#DIV/0!"}},{"$f":"IF(I26<>CX2,AN73,)","v":{"$error":"#DIV/0!"}},null,null,null,null,null,null,null,null,null,null,null,null,null,null,null,null,{"$f":"IF(OR(L26=DN2,L25=DO8),0,BM47+DN13)","v":{"$error":"#DIV/0!"}},{"$f":"IF(L25=DO8,0,BN80-(DN27/4))","v":{"$error":"#DIV/0!"}},{"$f":"IF(L25=DO8,0,IF(L26=DN2,0,BO61))","v":{"$error":"#DIV/0!"}},{"$f":"IF(OR(L26=DN4,L26=DN5,L26=DN6),BP73,)","v":{"$error":"#DIV/0!"}},{"$error":"#DIV/0!"},{"$error":"#DIV/0!"},{"$f":"IF(L25=DO8,0,IF($L$26=DN2,0,BS61))","v":{"$error":"#DIV/0!"}},{"$f":"IF(OR(L26=DN5,L26=DN6),BP73,)","v":{"$error":"#DIV/0!"}},{"$f":"IF(L25=DO8,0,BU61)","v":{"$error":"#DIV/0!"}},{"$f":"IF(L26<>DN2,BN73,)","v":{"$error":"#DIV/0!"}}]
[null,null,null,null,null,null,null,null,null,null,null,null,{"$f":"IF(E25=CJ8,0,M80)","v":{"$error":"#DIV/0!"}},{"$f":"IF(E25=CJ8,0,N81-(CI27/4))","v":{"$error":"#DIV/0!"}},{"$f":"IF(E25=CJ8,0,IF(E26=CI2,0,O60))","v":{"$error":"#DIV/0!"}},{"$f":"P72","v":{"$error":"#DIV/0!"}},{"$error":"#DIV/0!"},{"$error":"#DIV/0!"},{"$f":"IF(E25=CJ8,0,IF(E26=CI2,0,S60))","v":{"$error":"#DIV/0!"}},{"$f":"T72","v":{"$error":"#DIV/0!"}},{"$f":"IF(E25=CJ8,0,U60)","v":{"$error":"#DIV/0!"}},{"$f":"IF(E26<>CI2,N72,)","v":{"$error":"#DIV/0!"}},null,null,null,null,null,null,null,null,null,null,null,null,null,null,null,null,{"$f":"IF(I25=CY8,0,AM80)","v":{"$error":"#DIV/0!"}},{"$f":"IF(I25=CY8,0,AN81-(CX27/4))","v":{"$error":"#DIV/0!"}},{"$f":"IF(I25=CY8,0,IF(I26=CX2,0,AO60))","v":{"$error":"#DIV/0!"}},{"$f":"AP72","v":{"$error":"#DIV/0!"}},{"$error":"#DIV/0!"},{"$error":"#DIV/0!"},{"$f":"IF(I25=CU8,0,IF(I26=CX2,0,AS60))","v":{"$error":"#DIV/0!"}},{"$f":"AT72","v":{"$error":"#DIV/0!"}},{"$f":"IF(I25=CY8,0,AU60)","v":{"$error":"#DIV/0!"}},{"$f":"IF(I26<>CX2,AN72,)","v":{"$error":"#DIV/0!"}},null,null,null,null,null,null,null,null,null,null,null,null,null,null,null,null,{"$f":"IF(L25=DO8,0,BM80)","v":{"$error":"#DIV/0!"}},{"$f":"IF(L25=DO8,0,BN81-(DN27/4))","v":{"$error":"#DIV/0!"}},{"$f":"IF(L25=DO8,0,IF(L26=DN2,0,BO60))","v":{"$error":"#DIV/0!"}},{"$f":"BP72","v":{"$error":"#DIV/0!"}},{"$error":"#DIV/0!"},{"$error":"#DIV/0!"},{"$f":"IF(L25=DO8,0,IF($L$26=DN2,0,BS60))","v":{"$error":"#DIV/0!"}},{"$f":"BT72","v":{"$error":"#DIV/0!"}},{"$f":"IF(L25=DO8,0,BU60)","v":{"$error":"#DIV/0!"}},{"$f":"IF(L26<>DN2,BN72,)","v":{"$error":"#DIV/0!"}}]
[null,null,null,null,null,null,null,null,null,null,null,null,{"$f":"IF(E25=CJ8,0,M47)","v":{"$error":"#DIV/0!"}},{"$f":"N67","v":{"$error":"#DIV/0!"}},{"$f":"IF(E26=CI2,0,O67)","v":{"$error":"#DIV/0!"}},{"$f":"IF(OR(E26=CI4,E26=CI5,E26=CI6),P67,)","v":{"$error":"#DIV/0!"}},{"$error":"#DIV/0!"},{"$error":"#DIV/0!"},{"$f":"IF(E26=CI2,0,S67)","v":{"$error":"#DIV/0!"}},{"$f":"IF(OR(E26=CI5,E26=CI6),P67,)","v":{"$error":"#DIV/0!"}},{"$f":"U67","v":{"$error":"#DIV/0!"}},{"$f":"V67","v":{"$error":"#DIV/0!"}},null,null,null,null,null,null,null,null,null,null,null,null,null,null,null,null,{"$f":"IF(I25=CY8,0,AM47)","v":{"$error":"#DIV/0!"}},{"$f":"AN67","v":{"$error":"#DIV/0!"}},{"$f":"IF(I26=CX2,0,AO67)","v":{"$error":"#DIV/0!"}},{"$f":"IF(OR(I26=CX4,I26=CX5,I26=CX6),AP67,)","v":{"$error":"#DIV/0!"}},{"$error":"#DIV/0!"},{"$error":"#DIV/0!"},{"$f":"IF(I26=CX2,0,AS67)","v":{"$error":"#DIV/0!"}},{"$f":"IF(OR(I26=CX5,I26=CX6),AP67,)","v":{"$error":"#DIV/0!"}},{"$f":"AU67","v":{"$error":"#DIV/0!"}},{"$f":"AV67","v":{"$error":"#DIV/0!"}},null,null,null,null,null,null,null,null,null,null,null,null,null,null,null,null,{"$f":"IF(L25=DO8,0,BM47)","v":{"$error":"#DIV/0!"}},{"$f":"BN67","v":{"$error":"#DIV/0!"}},{"$f":"IF(L26=DN2,0,BO67)","v":{"$error":"#DIV/0!"}},{"$f":"IF(OR(L26=DN4,L26=DN5,L26=DN6),BP67,)","v":{"$error":"#DIV/0!"}},{"$error":"#DIV/0!"},{"$error":"#DIV/0!"},{"$f":"IF($L$26=DN2,0,BS67)","v":{"$error":"#DIV/0!"}},{"$f":"IF(OR(L26=DN5,L26=DN6),BP67,)","v":{"$error":"#DIV/0!"}},{"$f":"BU67","v":{"$error":"#DIV/0!"}},{"$f":"BV67","v":{"$error":"#DIV/0!"}}]

{"sheet":"Victorian","index":8,"n_rows":90,"n_cols":106,"rows_kept":90,"cut":false,"hidden":false,"merged":[[21,3,22,3],[21,7,22,7],[21,10,22,10]]}
[null,null,null,null,null,null,null,null,null,null,null,null,null,null,null,null,null,null,null,null,null,null,null,null,null,null,null,null,null,null,null,null,null,null,null,null,null,null,null,null,null,null,null,null,null,null,null,null,null,null,null,null,null,null,null,null,null,"Main material",{"$f":"IF(OR(E32=BQ2,E32=BQ3,E32=BQ4,E32=BQ5,E32=BQ6),'  '!B6,IF(OR(E32=BQ7,E32=BQ8,E32=BQ9,E32=BQ10,E32=BQ11,E32=BQ12,E32=BQ13,E32=BQ14,E32=BQ15),'  '!B7,IF(OR(E32=BQ16,E32=BQ17,E32=BQ18,E32=BQ19,E32=BQ20),'  '!B8,)))","v":4.54},"Material cost",{"$f":"'  '!$B$10","v":13.25},"Sails","Warning 1","Warning: Sail too narrow, increase no. of sails, add additional fitting points or reduce gap size","Coverage",null,null,null,"Fabric Colour",null,"Fittings Colours",null,null,null,"Main material",{"$f":"IF(OR(I32=CH2,I32=CH3,I32=CH4,I32=CH5,I32=CH6),'  '!B6,IF(OR(I32=CH7,I32=CH8,I32=CH9,I32=CH10,I32=CH11,I32=CH12,I32=CH13,I32=CH14,I32=CH15),'  '!B7,IF(OR(I32=CH16,I32=CH17,I32=CH18,I32=CH19,I32=CH20),'  '!B8,)))","v":4.54},null,null,"Sails","Warning 1","Warning: Sail too narrow, increase no. of sails, add additional fitting points or reduce gap size","Coverage",null,null,null,"Fabric Colour",null,"Fittings Colours",null,null,null,"Main material",{"$f":"IF(OR(L32=CY2,L32=CY3,L32=CY4,L32=CY5,L32=CY6),'  '!B6,IF(OR(L32=CY7,L32=CY8,L32=CY9,L32=CY10,L32=CY11,L32=CY12,L32=CY13,L32=CY14,L32=CY15),'  '!B7,IF(OR(L32=CY16,L32=CY17,L32=CY18,L32=CY19,L32=CY20),'  '!B8,)))","v":4.54},null,null,"Sails","Warning 1","Warning: Sail too narrow, increase no. of sails, add additional fitting points or reduce gap size","Coverage",null,null,null,"Fabric Colour",null,"Fittings Colours"]
[null,null,null,null,null,null,null,null,null,null,null,null,null,null,null,null,null,null,null,null,null,null,null,null,null,null,null,null,null,null,null,null,null,null,null,null,null,null,null,null,null,null,null,null,null,null,null,null,null,null,null,null,null,null,null,null,null,"Tri material",{"$f":"IF(OR(E33=BQ2,E33=BQ3,E33=BQ4,E33=BQ5,E33=BQ6),'  '!B6,IF(OR(E33=BQ7,E33=BQ8,E33=BQ9,E33=BQ10,E33=BQ11,E33=BQ12,E33=BQ13,E33=BQ14,E33=BQ15),'  '!B7,IF(OR(E33=BQ16,E33=BQ17,E33=BQ18,E33=BQ19,E33=BQ20),'  '!B8,)))","v":4.54},"PE",{"$f":"'  '!$B$11","v":3},1,"Warning 2","Warning: Sail too narrow, decrease no. of sails, add additional fitting points or increase gap size","One Side",null,null,null,"ISX Solid",null,"Stainless steel",null,null,null,"Tri material",{"$f":"IF(OR(I33=CH2,I33=CH3,I33=CH4,I33=CH5,I33=CH6),'  '!B6,IF(OR(I33=CH7,I33=CH8,I33=CH9,I33=CH10,I33=CH11,I33=CH12,I33=CH13,I33=CH14,I33=CH15),'  '!B7,IF(OR(I33=CH16,I33=CH17,I33=CH18,I33=CH19,I33=CH20),'  '!B8,)))","v":4.54},null,null,1,"Warning 2","Warning: Sail too narrow, decrease no. of sails, add additional fitting points or increase gap size","One Side",null,null,null,"ISX Solid",null,"Stainless steel",null,null,null,"Tri material",{"$f":"IF(OR(L33=CY2,L33=CY3,L33=CY4,L33=CY5,L33=CY6),'  '!B6,IF(OR(L33=CY7,L33=CY8,L33=CY9,L33=CY10,L33=CY11,L33=CY12,L33=CY13,L33=CY14,L33=CY15),'  '!B7,IF(OR(L33=CY16,L33=CY17,L33=CY18,L33=CY19,L33=CY20),'  '!B8,)))","v":4.54},null,null,1,"Warning 2","Warning: Sail too narrow, decrease no. of sails, add additional fitting points or increase gap size","One Side",null,null,null,"ISX Solid",null,"Stainless steel"]
[null,null,null,null,null,null,null,null,null,null,null,null,null,null,null,null,null,null,null,null,null,null,null,null,null,null,null,null,null,null,null,null,null,null,null,null,null,null,null,null,null,null,null,null,null,null,null,null,null,null,null,null,null,null,null,null,null,null,null,"PN",{"$f":"'  '!$B$19","v":4.25},2,"Warning 3","Warning: Sail too wide for standard fabric, please add more sails or increase gap size","Both Sides",null,null,null,"ISX White",null,"White",null,null,null,null,null,null,null,2,"Warning 3","Warning: Sail too wide for standard fabric, please add more sails or increase gap size","Both Sides",null,null,null,"ISX White",null,"White",null,null,null,null,null,null,null,2,"Warning 3","Warning: Sail too wide for standard fabric, please add more sails or increase gap size","Both Sides",null,null,null,"ISX White",null,"White"]
[null,null,null,null,null,null,null,null,null,null,null,null,null,null,null,null,null,null,null,null,null,null,null,null,null,null,null,null,null,null,null,null,null,null,null,null,null,null,null,null,null,null,null,null,null,null,null,null,null,null,null,null,null,null,null,null,null,null,null,"IP",{"$f":"'  '!#REF!","v":{"$error":"#REF!"}},3,"Warning 4","Warning: Conservatory too long for standard fabric, contact office for more detailed price",null,null,null,null,"ISX Solid Ivory",null,"Gold",null,null,null,null,null,null,null,3,"Warning 4","Warning: Conservatory too long for standard fabric, contact office for more detailed price",null,null,null,null,"ISX Solid Ivory",null,"Gold",null,null,null,null,null,null,null,3,"Warning 4","Warning: Conservatory too long for standard fabric, contact office for more detailed price",null,null,null,null,"ISX Solid Ivory",null,"Gold"]
[null,{"$f":"'  '!A46","v":"v2023.2"},null,null,null,null,null,null,null,null,null,null,null,null,null,null,null,null,null,null,null,null,null,null,null,null,null,null,null,null,null,null,null,null,null,null,null,null,null,null,null,null,null,null,null,null,null,null,null,null,null,null,null,null,null,null,null,null,null,"No. of vents",null,4,"Warning 5","Warning: Front triangular sails are too thin for this conservatory",null,null,null,null,"ISX Solid Oyster",null,"Cost",{"$f":"IF(E34=BS2, '  '!B24, '  '!B25)","v":7},null,null,null,null,"No. of vents",null,4,"Warning 5","Warning: Front triangular sails are too thin for this conservatory",null,null,null,null,"ISX Solid Oyster",null,"Cost",{"$f":"IF(I34=BS2, '  '!B24, '  '!B25)","v":7},null,null,null,null,"No. of vents",null,4,"Warning 5","Warning: Front triangular sails are too thin for this conservatory",null,null,null,null,"ISX Solid Oyster",null,"Cost",{"$f":"IF(L34=BS2, '  '!B24, '  '!B25)","v":7}]
[null,null,null,null,null,null,null,null,null,null,null,null,null,null,null,null,null,null,null,null,null,null,null,null,null,null,null,null,null,null,null,null,null,null,null,null,null,null,null,null,null,null,null,null,null,null,null,null,null,null,null,null,null,null,null,null,null,"Standard",{"$f":"'  '!B14","v":1},0,null,null,"Warning 6","Warning: Middle triangular sails are too thin for this conservatory",null,null,null,null,"ISX Solid Stone",null,null,null,null,null,null,null,0,null,null,"Warning 6","Warning: Middle triangular sails are too thin for this conservatory",null,null,null,null,"ISX Solid Stone",null,null,null,null,null,null,null,0,null,null,"Warning 6","Warning: Middle triangular sails are too thin for this conservatory",null,null,null,null,"ISX Solid Stone"]
[null,null,null,null,null,null,null,null,null,null,null,null,null,null,null,null,null,null,null,null,null,null,null,null,null,null,null,null,null,null,null,null,null,null,null,null,null,null,null,null,null,null,null,null,null,null,null,null,null,null,null,null,null,null,null,null,null,"Triangle",{"$f":"'  '!B15","v":0.75},1,null,null,"Warning 7","Warning: Ridge is too short for a 3 sails per side solution, reduce no. of sails",null,null,null,null,"ISX Duplex",null,null,null,null,null,null,null,1,null,null,"Warning 7","Warning: Ridge is too short for a 3 sails per side solution, reduce no. of sails",null,null,null,null,"ISX Duplex",null,null,null,null,null,null,null,1,null,null,"Warning 7","Warning: Ridge is too short for a 3 sails per side solution, reduce no. of sails",null,null,null,null,"ISX Duplex"]
[null,null,null,null,null,null,null,null,null,null,null,null,null,null,null,null,null,null,null,null,null,null,null,null,null,null,null,null,null,null,null,null,null,null,null,null,null,null,null,null,null,null,null,null,null,null,null,null,null,null,null,null,null,null,null,null,null,"Victorian",{"$f":"'  '!B16","v":0.85},2,"No. of corners",4,"Warnings front","Warnings mid","Warnings right","Warnings front tri","Warnings mid tri","Warnings mid tri","ISX Duplex Ocean",null,null,null,null,null,null,null,2,null,null,"Warnings front","Warnings mid","Warnings right","Warnings front tri","Warnings mid tri","Warnings mid tri","ISX Duplex Ocean",null,null,null,null,null,null,null,2,null,null,"Warnings front","Warnings mid","Warnings right","Warnings front tri","Warnings mid tri","Warnings mid tri","ISX Duplex Ocean"]
[null,null,null,null,null,null,null,null,null,null," ",null," ",null,null,null,null,null,null,null,null,null," ",null,null,null,null,null,null,null,null,null,null,null,null,null,null,null,null,null,null,null,null,null,null,null,null,null,null," ",null," ",null,null,null,null,null,null,null,3,null,null,{"$f":"BI27","v":{"$error":"#DIV/0!"}},{"$f":"BJ27","v":{"$error":"#DIV/0!"}},{"$f":"BK27","v":{"$error":"#DIV/0!"}},{"$f":"IF(E28=BL12,1,0.0001)*BL27","v":{"$error":"#DIV/0!"}},{"$f":"IF(OR(E28=BL12,E28=BL12),1,0.00001)*BM27","v":{"$error":"#DIV/0!"}},{"$f":"IF(OR(E28=BL12,E28=BL12),1,0.00001)*BN27","v":{"$error":"#DIV/0!"}},"ISX Duplex Stone",null,null,null,null,null,null,null,3,null,null,{"$f":"BZ27","v":{"$error":"#DIV/0!"}},{"$f":"CA27","v":{"$error":"#DIV/0!"}},{"$f":"CB27","v":{"$error":"#DIV/0!"}},{"$f":"IF(I28=CC12,1,0.0001)*CC27","v":{"$error":"#DIV/0!"}},{"$f":"IF(OR(I28=CC12,I28=CC12),1,0.00001)*CD27","v":{"$error":"#DIV/0!"}},{"$f":"IF(OR(I28=CC12,I28=CC12),1,0.00001)*CE27","v":{"$error":"#DIV/0!"}},"ISX Duplex Stone",null,null,null,null," ",null,null,3,null,null,{"$f":"CQ27","v":{"$error":"#DIV/0!"}},{"$f":"CR27","v":{"$error":"#DIV/0!"}},{"$f":"CS27","v":{"$error":"#DIV/0!"}},{"$f":"IF(L28=CT12,1,0.0001)*CT27","v":{"$error":"#DIV/0!"}},{"$f":"IF(OR(L28=CT12,L28=CT12),1,0.00001)*CU27","v":{"$error":"#DIV/0!"}},{"$f":"IF(OR(L28=CT12,L28=CT12),1,0.00001)*CV27","v":{"$error":"#DIV/0!"}},"ISX Duplex Stone"]
[null,null,null,null,null,null,null,null,null,null,null,null,null,null,null,null,null,null,null,null,null,null," ",null,null,null,null,null,null,null,null,null,null,null,null,null,null,null,null,null,null,null,null,null,null,null,null,null,null,null,null,null,null,null,null,null,null,"Overlap front",{"$f":"IF(E27=BF11,BG11,IF(E27=BF12,BG12,IF(E27=BF13,BG13,)))","v":{"$error":"#DIV/0!"}},4,"Curve allowance",0.5,{"$f":"BI28","v":{"$error":"#DIV/0!"}},{"$f":"BJ28*IF(E26=BJ2,100000,1)","v":{"$error":"#DIV/0!"}},{"$f":"BK28*IF(E26<>BJ4,100000,1)","v":{"$error":"#DIV/0!"}},{"$f":"BL28","v":{"$error":"#DIV/0!"}},{"$f":"IF(E28=BL12,BM28,BM28*BO9)","v":{"$error":"#DIV/0!"}},{"$f":"BN28+(BG32*2)","v":{"$error":"#DIV/0!"}},"ISX Duplex Slate",null,null,null,null,null,"Overlap front",{"$f":"IF(I27=BW11,BX11,IF(I27=BW12,BX12,IF(I27=BW13,BX13,)))","v":{"$error":"#DIV/0!"}},4,"Curve allowance",0.5,{"$f":"BZ28","v":{"$error":"#DIV/0!"}},{"$f":"CA28*IF(I26=CA2,100000,1)","v":{"$error":"#DIV/0!"}},{"$f":"CB28*IF(I26<>CA4,100000,1)","v":{"$error":"#DIV/0!"}},{"$f":"CC28","v":{"$error":"#DIV/0!"}},{"$f":"IF(I28=CC12,CD28,CD28*CF9)","v":{"$error":"#DIV/0!"}},{"$f":"CE28+(BX32*2)","v":{"$error":"#DIV/0!"}},"ISX Duplex Slate",null,null,null,null,null,"Overlap front",{"$f":"IF(L27=CN11,CO11,IF(L27=CN12,CO12,IF(L27=CN13,CO13,)))","v":0},4,"Curve allowance",0.5,{"$f":"CQ28","v":{"$error":"#DIV/0!"}},{"$f":"CR28*IF(L26=CR2,100000,1)","v":{"$error":"#DIV/0!"}},{"$f":"CS28*IF(L26<>CR4,100000,1)","v":{"$error":"#DIV/0!"}},{"$f":"CT28","v":{"$error":"#DIV/0!"}},{"$f":"IF(L28=CT12,CU28,CU28*CW9)","v":{"$error":"#DIV/0!"}},{"$f":"CV28+(CO32*2)","v":{"$error":"#DIV/0!"}},"ISX Duplex Slate"]
[null,null,null,null,null,null,null,null,null,null," ",null,null,null,null,null,null,null,null,null,null,null,null,null,null,null,null,null,null,null,null,null,null,null,null,null,null,null,null,null,null,null,null,null,null,null,null,null,null," ",null,null,null,null,null,null,null,0,0,"Front","Mid","Quarters","Triangles","No",null,null,null,null,"ISX Duplex Graphite",null,null,null,null,null,0,0,"Front","Mid","Quarters","Triangles","No",null,null,null,null,"ISX Duplex Graphite",null,null,null,null," ",0,0,"Front","Mid","Quarters","Triangles","No",null,null,null,null,"ISX Duplex Graphite"]
[null,null,null,null,null,null,null,null,null,null,null,null,null,null,null,null,null,null,null,null,null,null,null,null,null,null,null,null,null,null,null,null,null,null,null,null,null,null,null,null,null,null,null,null,null,null,null,null,null,null,null,null,null,null,null,null,null,0.5,{"$f":"IF((BI12*2+(0.035/(IF(B24>B26,B24,B26)/1000)))>(BG27/3),BG27/3,(BI12*2+(0.035/(IF(B24>B26,B24,B26)/1000)))*0.8)","v":{"$error":"#DIV/0!"}},"Horizontal long side",{"$f":"((BI21+(0.07/(IF(B24>IF(B24>B26,B24,B26),B24,IF(B24>B26,B24,B26))/1000)))*0.1)+BG32","v":{"$error":"#DIV/0!"}},{"$f":"(BI12)*0.75","v":{"$error":"#DIV/0!"}},null,"Yes",null,null,null,null,"ISXFR Solid",null,null,null,null,null,0.5,{"$f":"IF((BZ12*2+(0.035/(IF(B24>B26,B24,B26)/1000)))>(BX27/3),BX27/3,(BZ12*2+(0.035/(IF(B24>B26,B24,B26)/1000)))*0.8)","v":{"$error":"#DIV/0!"}},"Horizontal long side",{"$f":"((BZ21+(0.07/(IF(B24>IF(B24>B26,B24,B26),B24,IF(B24>B26,B24,B26))/1000)))*0.1)+BX32","v":{"$error":"#DIV/0!"}},{"$f":"(BZ12)*0.75","v":{"$error":"#DIV/0!"}},null,"Yes",null,null,null,null,"ISXFR Solid",null,null,null,null,null,0.5,{"$f":"IF((CQ12*2+(0.035/(IF(B24>B26,B24,B26)/1000)))>(CO27/3),CO27/3,(CQ12*2+(0.035/(IF(B24>B26,B24,B26)/1000)))*0.8)","v":{"$error":"#DIV/0!"}},"Horizontal long side",{"$f":"((CQ21+(0.07/(IF(B24>IF(B24>B26,B24,B26),B24,IF(B24>B26,B24,B26))/1000)))*0.1)+CO32","v":{"$error":"#DIV/0!"}},{"$f":"(CQ12)*0.75","v":{"$error":"#DIV/0!"}},null,"Yes",null,null,null,null,"ISXFR Solid"]
[null,null,null,null,null,null,null,null,null,null," ",null," ",null,null,null,null,null,null,null,null,null," ",null,null,null,null,null,null,null,null,null,null,null,null,null,null,null,null,null,null,null,null,null,null,null,null,null,null," ",null," ",null,null,null,null,null,1,{"$f":"IF((BI13*2+(0.035/(IF(B24>B26,B24,B26)/1000)))>(BG27/2),BG27/2,(BI13*2+(0.035/(IF(B24>B26,B24,B26)/1000))))","v":{"$error":"#DIV/0!"}},"Vertical long",{"$f":"IF(E26=BJ2,((BI21+(0.07/(IF(B24>IF(B24>B26,B24,B26),B24,IF(B24>B26,B24,B26))/1000)))*0.13)+BG32,((BI21+(0.07/(IF(B24>IF(B24>B26,B24,B26),B24,IF(B24>B26,B24,B26))/1000)))*0.13)+BG32)","v":{"$error":"#DIV/0!"}},{"$f":"BI13*0.75","v":{"$error":"#DIV/0!"}},"Tri","Mid","Quarters",null,null,null,"ISXFR White",null,null,null,null,null,1,{"$f":"IF((BZ13*2+(0.035/(IF(B24>B26,B24,B26)/1000)))>(BX27/2),BX27/2,(BZ13*2+(0.035/(IF(B24>B26,B24,B26)/1000))))","v":{"$error":"#DIV/0!"}},"Vertical long",{"$f":"IF(I26=CA2,((BZ21+(0.07/(IF(B24>IF(B24>B26,B24,B26),B24,IF(B24>B26,B24,B26))/1000)))*0.13)+BX32,((BZ21+(0.07/(IF(B24>IF(B24>B26,B24,B26),B24,IF(B24>B26,B24,B26))/1000)))*0.13)+BX32)","v":{"$error":"#DIV/0!"}},{"$f":"BZ13*0.75","v":{"$error":"#DIV/0!"}},"Tri","Mid","Quarters",null,null,null,"ISXFR White",null,null,null,null," ",1,{"$f":"IF((CQ13*2+(0.035/(IF(B24>B26,B24,B26)/1000)))>(CO27/2),CO27/2,(CQ13*2+(0.035/(IF(B24>B26,B24,B26)/1000))))","v":{"$error":"#DIV/0!"}},"Vertical long",{"$f":"IF(L26=CR2,((CQ21+(0.07/(IF(B24>IF(B24>B26,B24,B26),B24,IF(B24>B26,B24,B26))/1000)))*0.13)+CO32,((CQ21+(0.07/(IF(B24>IF(B24>B26,B24,B26),B24,IF(B24>B26,B24,B26))/1000)))*0.13)+CO32)","v":{"$error":"#DIV/0!"}},{"$f":"CQ13*0.75","v":{"$error":"#DIV/0!"}},"Tri","Mid","Quarters",null,null,null,"ISXFR White"]
[null,null,null,null,null,null,null,null,null,null,null,null,null,null,null,null,null,null,null,null,null,null," ",null,null,null,null,null,null,null,null,null,null,null,null,null,null,null,null,null,null,null,null,null,null,null,null,null,null,null,null,null,null,null,null,null,null,"Overlap middle",{"$f":"IF(E26=1,0,IF(E27=BF15,BG15,IF(E27=BF16,BG16,IF(E27=BF17,BG17,))))","v":{"$error":"#DIV/0!"}},"V short side",{"$f":"(((A74-A70)+(BG32*2))*0.13)+BG32","v":{"$error":"#DIV/0!"}},{"$f":"BI14*0.75","v":{"$error":"#DIV/0!"}},"Vertical back",{"$f":"((BK25+(BG32*2))*0.13)+BG32","v":{"$error":"#DIV/0!"}},{"$f":"BL14*0.75","v":{"$error":"#DIV/0!"}},null,null,null,"ISXFR Solid Ivory",null,null,null,null,null,"Overlap middle",{"$f":"IF(I26=1,0,IF(I27=BW15,BX15,IF(I27=BW16,BX16,IF(I27=BW17,BX17,))))","v":{"$error":"#DIV/0!"}},"V short side",{"$f":"(((T74-T70)+(BX32*2))*0.13)+BX32","v":{"$error":"#DIV/0!"}},{"$f":"BZ14*0.75","v":{"$error":"#DIV/0!"}},"Vertical back",{"$f":"((CB25+(BX32*2))*0.13)+BX32","v":{"$error":"#DIV/0!"}},{"$f":"CC14*0.75","v":{"$error":"#DIV/0!"}},null,null,null,"ISXFR Solid Ivory",null,null,null,null,null,"Overlap middle",{"$f":"IF(L26=1,0,IF(L27=CN15,CO15,IF(L27=CN16,CO16,IF(L27=CN17,CO17,))))","v":{"$error":"#DIV/0!"}},"V short side",{"$f":"(((AM74-AM70)+(CO32*2))*0.13)+CO32","v":{"$error":"#DIV/0!"}},{"$f":"CQ14*0.75","v":{"$error":"#DIV/0!"}},"Vertical back",{"$f":"((CS25+(CO32*2))*0.13)+CO32","v":{"$error":"#DIV/0!"}},{"$f":"CT14*0.75","v":{"$error":"#DIV/0!"}},null,null,null,"ISXFR Solid Ivory"]
[null,null,null,null,null,null,null,null,null,null,null,null," ",null,null,null,null,null,null,null,null,null,null,null,null,null,null,null,null,null,null,null,null,null,null,null,null,null,null,null,null,null,null,null,null,null,null,null,null,null,null," ",null,null,null,null,null,0,0,"H short side",{"$f":"(((BG27/2)+BG10)*0.13)+BG32","v":{"$error":"#DIV/0!"}},{"$f":"BI15*0.75","v":{"$error":"#DIV/0!"}},"Vertical middle",{"$f":"((BJ25+(BG32*2))*0.13)+BG32","v":{"$error":"#DIV/0!"}},{"$f":"BL15*0.75","v":{"$error":"#DIV/0!"}},null,null,null,"ISXFR Solid Oyster",null,null,null,null,null,0,0,"H short side",{"$f":"(((BX27/2)+BX10)*0.13)+BX32","v":{"$error":"#DIV/0!"}},{"$f":"BZ15*0.75","v":{"$error":"#DIV/0!"}},"Vertical middle",{"$f":"((CA25+(BX32*2))*0.13)+BX32","v":{"$error":"#DIV/0!"}},{"$f":"CC15*0.75","v":{"$error":"#DIV/0!"}},null,null,null,"ISXFR Solid Oyster",null,null,null,null,null,0,0,"H short side",{"$f":"(((CO27/2)+CO10)*0.13)+CO32","v":{"$error":"#DIV/0!"}},{"$f":"CQ15*0.75","v":{"$error":"#DIV/0!"}},"Vertical middle",{"$f":"((CR25+(CO32*2))*0.13)+CO32","v":{"$error":"#DIV/0!"}},{"$f":"CT15*0.75","v":{"$error":"#DIV/0!"}},null,null,null,"ISXFR Solid Oyster"]
[null,null,null,null,null,null,null,null,null,null,null,null,null,null,null,null,null,null,null,null,null,null,null,null,null,null,null,null,null,null,null,null,null,null,null,null,null,null,null,null,null,null,null,null,null,null,null,null,null,null,null,null,null,null,null,null,null,0.5,{"$f":"BG17/2","v":{"$error":"#DIV/0!"}},"Mid","Mid","Quarters","Vertical Front",{"$f":"((BI25+(BG32*2))*0.13)+BG32","v":{"$error":"#DIV/0!"}},{"$f":"BL16*0.75","v":{"$error":"#DIV/0!"}},null,null,null,"ISXFR Duplex",null,null,null,null,null,0.5,{"$f":"BX17/2","v":{"$error":"#DIV/0!"}},"Mid","Mid","Quarters","Vertical Front",{"$f":"((BZ25+(BX32*2))*0.13)+BX32","v":{"$error":"#DIV/0!"}},{"$f":"CC16*0.75","v":{"$error":"#DIV/0!"}},null,null,null,"ISXFR Duplex",null,null,null,null,null,0.5,{"$f":"CO17/2","v":{"$error":"#DIV/0!"}},"Mid","Mid","Quarters","Vertical Front",{"$f":"((CQ25+(CO32*2))*0.13)+CO32","v":{"$error":"#DIV/0!"}},{"$f":"CT16*0.75","v":{"$error":"#DIV/0!"}},null,null,null,"ISXFR Duplex"]
[null,null,null,null,null,null,null,null,null,null,null,null,null,null,null,null,null,null,null,null,null,null,null,null,null,null,null,null,null,null,null,null,null,null,null,null,null,null,null,null,null,null,null,null,null,null,null,null,null,null,null,null,null,null,null,null,null,1,{"$f":"Q78-Q70","v":{"$error":"#DIV/0!"}},"Horizontal",{"$f":"((BK21+(BG32*2))*0.13)+BG32","v":{"$error":"#DIV/0!"}},{"$f":"(BI17)*0.75","v":{"$error":"#DIV/0!"}},"Back","Mid","Quarters",null,null,null,"ISXFR Duplex Ocean",null,null,null,null,null,1,{"$f":"AJ78-AJ70","v":{"$error":"#DIV/0!"}},"Horizontal",{"$f":"((CB21+(BX32*2))*0.13)+BX32","v":{"$error":"#DIV/0!"}},{"$f":"(BZ17)*0.75","v":{"$error":"#DIV/0!"}},"Back","Mid","Quarters",null,null,null,"ISXFR Duplex Ocean",null,null,null,null,null,1,{"$f":"BC78-BC70","v":{"$error":"#DIV/0!"}},"Horizontal",{"$f":"((CS21+(CO32*2))*0.13)+CO32","v":{"$error":"#DIV/0!"}},{"$f":"(CQ17)*0.75","v":{"$error":"#DIV/0!"}},"Back","Mid","Quarters",null,null,null,"ISXFR Duplex Ocean"]
[null,null,null,null,null,null,null,null,null,null,null,null," ",null,null,null,null,null,null,null,null,null," ",null,null,null,null,null,null,null,null,null,null,null,null,null,null,null,null,null,null,null,null,null,null,null,null,null,null,null,null," ",null,null,null,null,null,"Overlap back",{"$f":"IF(OR(E26=BJ2,E26=BJ3),0,IF(E27=BF15,BG19,IF(E27=BF16,BG20,IF(E27=BF17,BG21,))))","v":{"$error":"#DIV/0!"}},"Vertical ridge",{"$f":"((BK22+(BG32*2))*0.13)+BG32","v":{"$error":"#DIV/0!"}},{"$f":"BI18*0.75","v":{"$error":"#DIV/0!"}},"Horizontal",{"$f":"((BN21+(BG32*2))*0.13)+BG32","v":{"$error":"#DIV/0!"}},{"$f":"BL18*0.75","v":{"$error":"#DIV/0!"}},null,null,null,"ISXFR Duplex Stone",null,null,null,null,null,"Overlap back",{"$f":"IF(OR(I26=CA2,I26=CA3),0,IF(I27=BW15,BX19,IF(I27=BW16,BX20,IF(I27=BW17,BX21,))))","v":{"$error":"#DIV/0!"}},"Vertical ridge",{"$f":"((CB22+(BX32*2))*0.13)+BX32","v":{"$error":"#DIV/0!"}},{"$f":"BZ18*0.75","v":{"$error":"#DIV/0!"}},"Horizontal",{"$f":"((CE21+(BX32*2))*0.13)+BX32","v":{"$error":"#DIV/0!"}},{"$f":"CC18*0.75","v":{"$error":"#DIV/0!"}},null,null,null,"ISXFR Duplex Stone",null,null,null,null,null,"Overlap back",{"$f":"IF(OR(L26=CR2,L26=CR3),0,IF(L27=CN15,CO19,IF(L27=CN16,CO20,IF(L27=CN17,CO21,))))","v":{"$error":"#DIV/0!"}},"Vertical ridge",{"$f":"((CS22+(CO32*2))*0.13)+CO32","v":{"$error":"#DIV/0!"}},{"$f":"CQ18*0.75","v":{"$error":"#DIV/0!"}},"Horizontal",{"$f":"((CV21+(CO32*2))*0.13)+CO32","v":{"$error":"#DIV/0!"}},{"$f":"CT18*0.75","v":{"$error":"#DIV/0!"}},null,null,null,"ISXFR Duplex Stone"]
[null,null,null,null,null,null,null,null,null,null,null,null,null,null,null,null,null,null,null,null,null,null,null,null,null,null,null,null,null,null,null,null,null,null,null,null,null,null,null,null,null,null,null,null,null,null,null,null,null,null,null,null,null,null,null,null,null,0,0,"Vertical fascia",{"$f":"((AVERAGE(BL22:BM22)+(BG32*2))*0.13)+BG32","v":{"$error":"#DIV/0!"}},{"$f":"BI19*0.75","v":{"$error":"#DIV/0!"}},"Vertical",{"$f":"((BN22+(BG32*2))*0.13)+BG32","v":{"$error":"#DIV/0!"}},{"$f":"BL19*0.75","v":{"$error":"#DIV/0!"}},null,null,null,"ISXFR Duplex Slate",null,null,null,null,null,0,0,"Vertical fascia",{"$f":"((AVERAGE(CC22:CD22)+(BX32*2))*0.13)+BX32","v":{"$error":"#DIV/0!"}},{"$f":"BZ19*0.75","v":{"$error":"#DIV/0!"}},"Vertical",{"$f":"((CE22+(BX32*2))*0.13)+BX32","v":{"$error":"#DIV/0!"}},{"$f":"CC19*0.75","v":{"$error":"#DIV/0!"}},null,null,null,"ISXFR Duplex Slate",null,null,null,null,null,0,0,"Vertical fascia",{"$f":"((AVERAGE(CT22:CU22)+(CO32*2))*0.13)+CO32","v":{"$error":"#DIV/0!"}},{"$f":"CQ19*0.75","v":{"$error":"#DIV/0!"}},"Vertical",{"$f":"((CV22+(CO32*2))*0.13)+CO32","v":{"$error":"#DIV/0!"}},{"$f":"CT19*0.75","v":{"$error":"#DIV/0!"}},null,null,null,"ISXFR Duplex Slate"]
[null,null,null,null,"Plan view - looking from above          ",null,null,null,"Plan view - looking from above          ",null,null,"Plan view - looking from above          ",null,null,null,null,null,null,null,null,null,null,null,null,null,null,null,null,null,null,null,null,null,null,null,null,null,null,null,null,null,null,null,null,null,null,null,null,null,null,null,null,null,null,null,null,null,0.5,{"$f":"IF(OR(E26=BJ3,E26=BJ4,E26=BJ5),BI17+(0.035/(IF(B24>B26,B24,B26)/1000)))","v":{"$error":"#DIV/0!"}},null,"front + overlaped",null,"mid + overlaped",null,null,"back bot",null,null,"ISXFR Duplex Graphite",null,null,null,null,null,0.5,{"$f":"IF(OR(I26=CA3,I26=CA4,I26=CA5),BZ17+(0.035/(IF(B24>B26,B24,B26)/1000)))","v":{"$error":"#DIV/0!"}},null,"front + overlaped",null,"mid + overlaped",null,null,"back bot",null,null,"ISXFR Duplex Graphite",null,null,null,null,null,0.5,{"$f":"IF(OR(L26=CR3,L26=CR4,L26=CR5),CQ17+(0.035/(IF(B24>B26,B24,B26)/1000)))","v":{"$error":"#DIV/0!"}},null,"front + overlaped",null,"mid + overlaped",null,null,"back bot",null,null,"ISXFR Duplex Graphite"]
[null,null,null,null,null,null,null,null,null,null,null,null,null,null,null,null,null,null,null,null,null,null,null,null,null,null,null,null,null,null,null,null,null,null,null,null,null,null,null,null,null,null,null,null,null,null,null,null,null,null,null,null,null,null,null,null,null,1,{"$f":"IF(OR(E26=BJ3,E26=BJ4,E26=BJ5),(BI17*2)+(0.035/(IF(B24>B26,B24,B26)/1000)))","v":{"$error":"#DIV/0!"}},"Sail length",{"$f":"(BG28/2)-(0.07/(IF(B24>B26,B24,B26)/1000))","v":{"$error":"#DIV/0!"}},{"$f":"BI21+BG10","v":{"$error":"#DIV/0!"}},{"$f":"BI21","v":{"$error":"#DIV/0!"}},"<-"," ->",{"$f":"BK21","v":{"$error":"#DIV/0!"}},null,null,null,null,null,null,null,null,1,{"$f":"IF(OR(I26=CA3,I26=CA4,I26=CA5),(BZ17*2)+(0.035/(IF(B24>B26,B24,B26)/1000)))","v":{"$error":"#DIV/0!"}},"Sail length",{"$f":"(BX28/2)-(0.07/(IF(B24>B26,B24,B26)/1000))","v":{"$error":"#DIV/0!"}},{"$f":"BZ21+BX10","v":{"$error":"#DIV/0!"}},{"$f":"BZ21","v":{"$error":"#DIV/0!"}},"<-"," ->",{"$f":"CB21","v":{"$error":"#DIV/0!"}},null,null,null,null,null,null,null,null,1,{"$f":"IF(OR(L26=CR3,L26=CR4,L26=CR5),(CQ17*2)+(0.035/(IF(B24>B26,B24,B26)/1000)))","v":{"$error":"#DIV/0!"}},"Sail length",{"$f":"(CO28/2)-(0.07/(IF(B24>B26,B24,B26)/1000))","v":{"$error":"#DIV/0!"}},{"$f":"CQ21+CO10","v":{"$error":"#DIV/0!"}},{"$f":"CQ21","v":{"$error":"#DIV/0!"}},"<-"," ->",{"$f":"CS21","v":{"$error":"#DIV/0!"}}]
[null,null,null,{"$f":"'  '!$A$42","v":"Starting Cost incl. Installation"},{"$f":"(((((E35*'  '!B29)+BI32+BJ30+BK30+BL30+BM30+BN30)+('  '!B21*E29)+IF(E34<>BS2,E29*'  '!B26,0)))+(E30*'  '!B30)+(E31*'  '!B31))","v":{"$error":"#DIV/0!"}},null,null,{"$f":"'  '!$A$43","v":"Average Cost incl. Installation"},{"$f":"(((((I35*'  '!B29)+BZ32+CA30+CB30+CC30+CD30+CE30)+('  '!B21*I29)+IF(I34<>CJ2,I29*'  '!B26,0)))+(I30*'  '!B30)+(I31*'  '!B31))","v":{"$error":"#DIV/0!"}},null,{"$f":"'  '!$A$44","v":"High End Cost incl. Installation"},{"$f":"(((((L35*'  '!B29)+CQ32+CR30+CS30+CT30+CU30+CV30)+('  '!B21*L29)+IF(L34<>DA2,L29*'  '!B26,0)))+(L30*'  '!B30)+(L31*'  '!B31))","v":{"$error":"#DIV/0!"}},null,null,null,null,null,null,null,null,null,null,null,null,null,null,null,null,null,null,null,null,null,null,null,null,null,null,null,null,null,null,null,null,null,null,null,null,null,null,null,null,null,null,null,null,null,null,"Dims in m","Sail width",{"$f":"A74","v":{"$error":"#DIV/0!"}},{"$f":"BI22","v":{"$error":"#DIV/0!"}},{"$f":"((BG29/IF(E26=BJ3,1,IF(E26=BJ4,2,3)))-(0.07/(IF(B24>B26,B24,B26)/1000)))","v":{"$error":"#DIV/0!"}},{"$f":"BK22+BG14","v":{"$error":"#DIV/0!"}},{"$f":"BK22+BG18","v":{"$error":"#DIV/0!"}},{"$f":"((BG29)/IF(E26=BJ4,2,3))-(0.07/(IF(B24>B26,B24,B26)/1000))+BG18","v":{"$error":"#DIV/0!"}},null,null,null,null,null,null,null,null,null,"Dims in m","Sail width",{"$f":"T74","v":{"$error":"#DIV/0!"}},{"$f":"BZ22","v":{"$error":"#DIV/0!"}},{"$f":"((BX29/IF(I26=CA3,1,IF(I26=CA4,2,3)))-(0.07/(IF(B24>B26,B24,B26)/1000)))","v":{"$error":"#DIV/0!"}},{"$f":"CB22+BX14","v":{"$error":"#DIV/0!"}},{"$f":"CB22+BX18","v":{"$error":"#DIV/0!"}},{"$f":"((BX29)/IF(I26=CA4,2,3))-(0.07/(IF(B24>B26,B24,B26)/1000))+BX18","v":{"$error":"#DIV/0!"}},null,null,null,null,null,null,null,null,null,"Dims in m","Sail width",{"$f":"AM74","v":{"$error":"#DIV/0!"}},{"$f":"CQ22","v":{"$error":"#DIV/0!"}},{"$f":"((CO29/IF(L26=CR3,1,IF(L26=CR4,2,3)))-(0.07/(IF(B24>B26,B24,B26)/1000)))","v":{"$error":"#DIV/0!"}},{"$f":"CS22+CO14","v":{"$error":"#DIV/0!"}},{"$f":"CS22+CO18","v":{"$error":"#DIV/0!"}},{"$f":"((CO29)/IF(L26=CR4,2,3))-(0.07/(IF(B24>B26,B24,B26)/1000))+CO18","v":{"$error":"#DIV/0!"}}]
[null,"All dims in mm",null,null,{"$f":"'   '!U8+'  '!B33","v":{"$error":"#DIV/0!"}},null,null,null,{"$f":"'   '!AG8+'  '!B33","v":{"$error":"#DIV/0!"}},null,null,{"$f":"'   '!AS8+'  '!B33","v":{"$error":"#DIV/0!"}},null,null,null,null,null,null,null,null,null,null,null,null,null,null,null,null,null,null,null,null,null,null,null,null,null,null,null,null,null,null,null,null,null,null,null,null,null,null,null,null,null,null,null,null,null,"h1",{"$f":"B28/IF(B24>B26,B24,B26)","v":{"$error":"#DIV/0!"}},null,"tri front","tri mid","tri back",null,null,null,null,null,null,null,null,null,null,null,"h1",{"$f":"B28/IF(B24>B26,B24,B26)","v":{"$error":"#DIV/0!"}},null,"tri front","tri mid","tri back",null,null,null,null,null,null,null,null,null,null,null,"h1",{"$f":"B28/IF(B24>B26,B24,B26)","v":{"$error":"#DIV/0!"}},null,"tri front","tri mid","tri back"]
["X1",null,null,null,null,null,null,null,null,null,null,null,null,null,null,null,null,null,null,null,null,null,null,null,null,null,null,null,null,null,null,null,null,null,null,null,null,null,null,null,null,null,null,null,null,null,null,null,null,null,null,null,null,null,null,null,null,"h2",{"$f":"B29/IF(B24>B26,B24,B26)","v":{"$error":"#DIV/0!"}},"Sail length",{"$f":"Q78-(0.07/(IF(B24>B26,B24,B26)/1000))","v":{"$error":"#DIV/0!"}},{"$f":"R78-(0.07/(IF(B24>B26,B24,B26)/1000))","v":{"$error":"#DIV/0!"}},{"$f":"BJ24","v":{"$error":"#DIV/0!"}},null,null,null,null,null,null,null,null,null,null,null,"h2",{"$f":"B29/IF(B24>B26,B24,B26)","v":{"$error":"#DIV/0!"}},"Sail length",{"$f":"AJ78-(0.07/(IF(B24>B26,B24,B26)/1000))","v":{"$error":"#DIV/0!"}},{"$f":"AK78-(0.07/(IF(B24>B26,B24,B26)/1000))","v":{"$error":"#DIV/0!"}},{"$f":"CA24","v":{"$error":"#DIV/0!"}},null,null,null,null,null,null,null,null,null,null,null,"h2",{"$f":"B29/IF(B24>B26,B24,B26)","v":{"$error":"#DIV/0!"}},"Sail length",{"$f":"BC78-(0.07/(IF(B24>B26,B24,B26)/1000))","v":{"$error":"#DIV/0!"}},{"$f":"BD78-(0.07/(IF(B24>B26,B24,B26)/1000))","v":{"$error":"#DIV/0!"}},{"$f":"CR24","v":{"$error":"#DIV/0!"}}]
["X2",null,null,"Select coverage","Both Sides",null,null,"Select coverage","Both Sides",null,"Select coverage","Both Sides",null,null,null,null,null,null,null,null,null,null,null,null,null,null,null,null,null,null,null,null,null,null,null,null,null,null,null,null,null,null,null,null,null,null,null,null,null,null,null,null,null,null,null,null,null,"y2",{"$f":"B27/IF(B24>B26,B24,B26)","v":{"$error":"#DIV/0!"}},"Sail width",{"$f":"IF(BI24*0.8<BG27,BI24*0.8,BG27-(2*BG32))","v":{"$error":"#DIV/0!"}},{"$f":"IF(BJ24*0.8<(BG25-BG29)*2,BJ24*0.8,((BG25-BG29)*2)-(2*BG32))","v":{"$error":"#DIV/0!"}},{"$f":"IF(BK24*0.8<BG29,BK24*0.8,BG29-(BG32*2))","v":{"$error":"#DIV/0!"}},null,null,null,null,null,null,null,null,null,null,null,"y2",{"$f":"B27/IF(B24>B26,B24,B26)","v":{"$error":"#DIV/0!"}},"Sail width",{"$f":"IF(BZ24*0.8<BX27,BZ24*0.8,BX27-(2*BX32))","v":{"$error":"#DIV/0!"}},{"$f":"IF(CA24*0.8<(BX25-BX29)*2,CA24*0.8,((BX25-BX29)*2)-(2*BX32))","v":{"$error":"#DIV/0!"}},{"$f":"IF(CB24*0.8<BX29,CB24*0.8,BX29-(BX32*2))","v":{"$error":"#DIV/0!"}},null,null,null,null,null,null,null,null,null,null,null,"y2",{"$f":"B27/IF(B24>B26,B24,B26)","v":{"$error":"#DIV/0!"}},"Sail width",{"$f":"IF(CQ24*0.8<CO27,CQ24*0.8,CO27-(2*CO32))","v":{"$error":"#DIV/0!"}},{"$f":"IF(CR24*0.8<(CO25-CO29)*2,CR24*0.8,((CO25-CO29)*2)-(2*CO32))","v":{"$error":"#DIV/0!"}},{"$f":"IF(CS24*0.8<CO29,CS24*0.8,CO29-(CO32*2))","v":{"$error":"#DIV/0!"}}]
["Y1",null,null,"Number of sails per side",{"$f":"BL33","v":{"$error":"#DIV/0!"}},null,null,"Number of sails per side",{"$f":"CC33","v":{"$error":"#DIV/0!"}},null,"Number of sails per side",{"$f":"CT33","v":{"$error":"#DIV/0!"}},null,null,null,null,null,null,null,null,null,null,null,null,null,null,null,null,null,null,null,null,null,null,null,null,null,null,null,null,null,null,null,null,null,null,null,null,null,null,null,null,null,null,null,null,null,"y1",{"$f":"B26/IF(B24>B26,B24,B26)","v":{"$error":"#DIV/0!"}},"Costs","front","mid","right","tri front","tri mid","tri back",null,null,null,null,null,null,null,null,"y1",{"$f":"B26/IF(B24>B26,B24,B26)","v":{"$error":"#DIV/0!"}},"Costs","front","mid","right","tri front","tri mid","tri back",null,null,null,null,null,null,null,null,"y1",{"$f":"B26/IF(B24>B26,B24,B26)","v":{"$error":"#DIV/0!"}},"Costs","front","mid","right","tri front","tri mid","tri back"]
["Y2",null,null,"Overlaps",0.5,null,null,"Overlaps",0.5,null,"Overlaps",0,null,null,null,null,null,null,null,null,null,null,null,null,null,null,null,null,null,null,null,null,null,null,null,null,null,null,null,null,null,null,null,null,null,null,null,null,null,null,null,null,null,null,null,null,null,"x2",{"$f":"B25/IF(B24>B26,B24,B26)","v":{"$error":"#DIV/0!"}},"length",{"$f":"((B82-B74)*(IF(B24>B26,B24,B26)/1000))+0.07","v":{"$error":"#DIV/0!"}},{"$f":"(BG31*(IF(B24>B26,B24,B26)/1000))","v":{"$error":"#DIV/0!"}},{"$f":"BG31*(IF(B24>B26,B24,B26)/1000)","v":{"$error":"#DIV/0!"}},{"$f":"(BI24*(IF(B24>B26,B24,B26)/1000))+0.07","v":{"$error":"#DIV/0!"}},{"$f":"(BG31*(IF(B24>B26,B24,B26)/1000))","v":{"$error":"#DIV/0!"}},{"$f":"(BG31*(IF(B24>B26,B24,B26)/1000))","v":{"$error":"#DIV/0!"}},null,null,null,null,null,null,null,null,"x2",{"$f":"B25/IF(B24>B26,B24,B26)","v":{"$error":"#DIV/0!"}},"length",{"$f":"((U82-U74)*(IF(B24>B26,B24,B26)/1000))+0.07","v":{"$error":"#DIV/0!"}},{"$f":"(BX31*(IF(B24>B26,B24,B26)/1000))","v":{"$error":"#DIV/0!"}},{"$f":"BX31*(IF(B24>B26,B24,B26)/1000)","v":{"$error":"#DIV/0!"}},{"$f":"(BZ24*(IF(B24>B26,B24,B26)/1000))+0.07","v":{"$error":"#DIV/0!"}},{"$f":"(BX31*(IF(B24>B26,B24,B26)/1000))","v":{"$error":"#DIV/0!"}},{"$f":"(BX31*(IF(B24>B26,B24,B26)/1000))","v":{"$error":"#DIV/0!"}},null,null,null,null,null,null,null,null,"x2",{"$f":"B25/IF(B24>B26,B24,B26)","v":{"$error":"#DIV/0!"}},"length",{"$f":"((AN82-AN74)*(IF(B24>B26,B24,B26)/1000))+0.07","v":{"$error":"#DIV/0!"}},{"$f":"(CO31*(IF(B24>B26,B24,B26)/1000))","v":{"$error":"#DIV/0!"}},{"$f":"CO31*(IF(B24>B26,B24,B26)/1000)","v":{"$error":"#DIV/0!"}},{"$f":"(CQ24*(IF(B24>B26,B24,B26)/1000))+0.07","v":{"$error":"#DIV/0!"}},{"$f":"(CO31*(IF(B24>B26,B24,B26)/1000))","v":{"$error":"#DIV/0!"}},{"$f":"(CO31*(IF(B24>B26,B24,B26)/1000))","v":{"$error":"#DIV/0!"}}]
["H1",null,null,"Triangles","No",null,null,"Triangles","No",null,"Triangles","Yes",null,null,null,null,null,null,null,null,null,null,null,null,null,null,null,null,null,null,null,null,null,null,null,null,null,null,null,null,null,null,null,null,null,null,null,null,null,null,null,null,null,null,null,null,null,"x1",{"$f":"B24/IF(B24>B26,B24,B26)","v":{"$error":"#DIV/0!"}},"width",{"$f":"(((A74-A82)*(IF(B24>B26,B24,B26)/1000))+0.07)*1.025","v":{"$error":"#DIV/0!"}},{"$f":"((C74-C70)*(IF(B24>B26,B24,B26)/1000))+0.07","v":{"$error":"#DIV/0!"}},{"$f":"IF(E26<>BJ4,MIN(BI28,BJ28),((M74-M70)*(IF(B24>B26,B24,B26)/1000))+0.07)","v":{"$error":"#DIV/0!"}},{"$f":"(BG27*(IF(B24>B26,B24,B26)/1000))","v":{"$error":"#DIV/0!"}},{"$f":"(BJ25*(IF(B24>B26,B24,B26)/1000))","v":{"$error":"#DIV/0!"}},{"$f":"(BK25*(IF(B24>B26,B24,B26)/1000))","v":{"$error":"#DIV/0!"}},null,null,null,null,null,null,null,null,"x1",{"$f":"B24/IF(B24>B26,B24,B26)","v":{"$error":"#DIV/0!"}},"width",{"$f":"(((T74-T82)*(IF(B24>B26,B24,B26)/1000))+0.07)*1.025","v":{"$error":"#DIV/0!"}},{"$f":"((V74-V70)*(IF(B24>B26,B24,B26)/1000))+0.07","v":{"$error":"#DIV/0!"}},{"$f":"IF(I26<>CA4,MIN(BZ28,CA28),((AF74-AF70)*(IF(B24>B26,B24,B26)/1000))+0.07)","v":{"$error":"#DIV/0!"}},{"$f":"(BX27*(IF(B24>B26,B24,B26)/1000))","v":{"$error":"#DIV/0!"}},{"$f":"(CA25*(IF(B24>B26,B24,B26)/1000))","v":{"$error":"#DIV/0!"}},{"$f":"(CB25*(IF(B24>B26,B24,B26)/1000))","v":{"$error":"#DIV/0!"}},null,null,null,null,null,null,null,null,"x1",{"$f":"B24/IF(B24>B26,B24,B26)","v":{"$error":"#DIV/0!"}},"width",{"$f":"(((AM74-AM82)*(IF(B24>B26,B24,B26)/1000))+0.07)*1.025","v":{"$error":"#DIV/0!"}},{"$f":"((AO74-AO70)*(IF(B24>B26,B24,B26)/1000))+0.07","v":{"$error":"#DIV/0!"}},{"$f":"IF(L26<>CR4,MIN(CQ28,CR28),((AY74-AY70)*(IF(B24>B26,B24,B26)/1000))+0.07)","v":{"$error":"#DIV/0!"}},{"$f":"(CO27*(IF(B24>B26,B24,B26)/1000))","v":{"$error":"#DIV/0!"}},{"$f":"(CR25*(IF(B24>B26,B24,B26)/1000))","v":{"$error":"#DIV/0!"}},{"$f":"(CS25*(IF(B24>B26,B24,B26)/1000))","v":{"$error":"#DIV/0!"}}]
["H2",null,null,"Total additional fittings",0,null,null,"Total additional fittings",0,null,"Total additional fittings",0,null,null,null,null,null,null,null,null,null,null,null,null,null,null,null,null,null,null,null,null,null,null,null,null,null,null,null,null,null,null,null,null,null,null,null,null,null,null,null,null,null,null,null,null,null,"r1",{"$f":"B30/IF(B24>B26,B24,B26)","v":{"$error":"#DIV/0!"}},"V diagonal",{"$f":"(SQRT(((IF(B24>B26,B24,B26)-B30)^2)+((B24/2)^2))/1000)-((SQRT((((IF(B24>B26,B24,B26)-B27)/2)^2)+(((B24-B25)/4)^2)))/1000)","v":0},{"$f":"(BJ28+(BJ27*2)+(((C78-C82)*(IF(B24>B26,B24,B26)/1000))+0.07))*1.05","v":{"$error":"#DIV/0!"}},{"$f":"((BK27*2)+(BK28*2))*1.05","v":{"$error":"#DIV/0!"}},{"$f":"((BL27*2)+BL28)*1.05","v":{"$error":"#DIV/0!"}},{"$f":"((BM27*2)+BM28)*1.05","v":{"$error":"#DIV/0!"}},{"$f":"((BN27*2)+BN28)*1.05","v":{"$error":"#DIV/0!"}},null,null,null,null,null,null,null,null,"r1",{"$f":"B30/IF(B24>B26,B24,B26)","v":{"$error":"#DIV/0!"}},"V diagonal",{"$f":"(SQRT(((IF(B24>B26,B24,B26)-B30)^2)+((B24/2)^2))/1000)-((SQRT((((IF(B24>B26,B24,B26)-B27)/2)^2)+(((B24-B25)/4)^2)))/1000)","v":0},{"$f":"(CA28+(CA27*2)+(((V78-V82)*(IF(B24>B26,B24,B26)/1000))+0.07))*1.05","v":{"$error":"#DIV/0!"}},{"$f":"((CB27*2)+(CB28*2))*1.05","v":{"$error":"#DIV/0!"}},{"$f":"((CC27*2)+CC28)*1.05","v":{"$error":"#DIV/0!"}},{"$f":"((CD27*2)+CD28)*1.05","v":{"$error":"#DIV/0!"}},{"$f":"((CE27*2)+CE28)*1.05","v":{"$error":"#DIV/0!"}},null,null,null,null,null,null,null,null,"r1",{"$f":"B30/IF(B24>B26,B24,B26)","v":{"$error":"#DIV/0!"}},"V diagonal",{"$f":"(SQRT(((IF(B24>B26,B24,B26)-B30)^2)+((B24/2)^2))/1000)-((SQRT((((IF(B24>B26,B24,B26)-B27)/2)^2)+(((B24-B25)/4)^2)))/1000)","v":0},{"$f":"(CR28+(CR27*2)+(((AO78-AO82)*(IF(B24>B26,B24,B26)/1000))+0.07))*1.05","v":{"$error":"#DIV/0!"}},{"$f":"((CS27*2)+(CS28*2))*1.05","v":{"$error":"#DIV/0!"}},{"$f":"((CT27*2)+CT28)*1.05","v":{"$error":"#DIV/0!"}},{"$f":"((CU27*2)+CU28)*1.05","v":{"$error":"#DIV/0!"}},{"$f":"((CV27*2)+CV28)*1.05","v":{"$error":"#DIV/0!"}}]
["R1",null,null,"Total tie-bar loops",0,null,null,"Total tie-bar loops",0,null,"Total tie-bar loops",0,null,null,null,null,null,null,null,null,null,null,null,null,null,null,null,null,null,null,null,null,null,null,null,null,null,null,null,null,null,null,null,null,null,null,null,null,null,null,null,null,null,null,null,null,null,"Roof area (m^2)",{"$f":"(BG28/2)*IF(B24>B26,B24,B26)","v":{"$error":"#DIV/0!"}},"H diagonal",{"$f":"SQRT((BI27^2)+(BI28^2))","v":{"$error":"#DIV/0!"}},{"$f":"IF(E26=BJ5,2,1)*((IF(E26=BJ2,0,IF(E25=BM3,2,1)*((BG1*((BJ27*BJ28*BI1*BG6)+(BJ29*BI2)+(BJ8*BI3)))+(BJ8*BT5)+'  '!B35))))","v":{"$error":"#DIV/0!"}},{"$f":"(IF(OR(E26=BJ2,E26=BJ3),0,IF(E25=BM3,2,1)*((BG1*((BK27*BK28*BI1*BG6)+(BK29*BI2)+(BJ8*BI3)))+(BJ8*BT5)+'  '!B35)))","v":{"$error":"#DIV/0!"}},{"$f":"(IF(E28=BL12,((BG2*((BL27*BL28*BI1*BG7)+(BL29*BI2)+(3*BI3)))+(3*BT5)+'  '!B35),))","v":0},{"$f":"((IF(E28=BL12,((BG2*((BM27*BM28*BI1*BG7)+(BM29*BI2)+(3*BI3)))+(3*BT5)+'  '!B35),))*IF(E28=BL12,E26-1,0))","v":0},{"$f":"IF(E25=BM3,BM30,0)","v":0},null,null,null,null,null,null,null,null,"Roof area (m^2)",{"$f":"(BX28/2)*IF(B24>B26,B24,B26)","v":{"$error":"#DIV/0!"}},"H diagonal",{"$f":"SQRT((BZ27^2)+(BZ28^2))","v":{"$error":"#DIV/0!"}},{"$f":"IF(I26=CA5,2,1)*((IF(I26=CA2,0,IF(I25=CD3,2,1)*((BX1*((CA27*CA28*BI1*BG6)+(CA29*BI2)+(BJ8*BI3)))+(BJ8*CK5)+'  '!B35))))","v":{"$error":"#DIV/0!"}},{"$f":"(IF(OR(I26=CA2,I26=CA3),0,IF(I25=CD3,2,1)*((BX1*((CB27*CB28*BI1*BG6)+(CB29*BI2)+(BJ8*BI3)))+(BJ8*CK5)+'  '!B35)))","v":{"$error":"#DIV/0!"}},{"$f":"(IF(I28=CC12,((BX2*((CC27*CC28*BI1*BG7)+(CC29*BI2)+(3*BI3)))+(3*CK5)+'  '!B35),))","v":0},{"$f":"((IF(I28=CC12,((BX2*((CD27*CD28*BI1*BG7)+(CD29*BI2)+(3*BI3)))+(3*CK5)+'  '!B35),))*IF(I28=CC12,I26-1,0))","v":0},{"$f":"IF(I25=CD3,CD30,0)","v":0},null,null,null,null,null,null,null,null,"Roof area (m^2)",{"$f":"(CO28/2)*IF(B24>B26,B24,B26)","v":{"$error":"#DIV/0!"}},"H diagonal",{"$f":"SQRT((CQ27^2)+(CQ28^2))","v":{"$error":"#DIV/0!"}},{"$f":"IF(L26=CR5,2,1)*((IF(L26=CR2,0,IF(L25=CU3,2,1)*((CO1*((CR27*CR28*BI1*BG6)+(CR29*BI2)+(BJ8*BI3)))+(BJ8*DB5)+'  '!B35))))","v":{"$error":"#DIV/0!"}},{"$f":"(IF(OR(L26=CR2,L26=CR3),0,IF(L25=CU3,2,1)*((CO1*((CS27*CS28*BI1*BG6)+(CS29*BI2)+(BJ8*BI3)))+(BJ8*DB5)+'  '!B35)))","v":{"$error":"#DIV/0!"}},{"$f":"(IF(L28=CT12,((CO2*((CT27*CT28*BI1*BG7)+(CT29*BI2)+(3*BI3)))+(3*DB5)+'  '!B35),))","v":{"$error":"#DIV/0!"}},{"$f":"((IF(L28=CT12,((CO2*((CU27*CU28*BI1*BG7)+(CU29*BI2)+(3*BI3)))+(3*DB5)+'  '!B35),))*IF(L28=CT12,L26-1,0))","v":{"$error":"#DIV/0!"}},{"$f":"IF(L25=CU3,CU30,0)","v":{"$error":"#DIV/0!"}}]
[null,null,null,"Total straight edges",0,null,null,"Total straight edges",0,null,"Total straight edges",0,null,null,null,null,null,null,null,null,null,null,null,null,null,null,null,null,null,null,null,null,null,null,null,null,null,null,null,null,null,null,null,null,null,null,null,null,null,null,null,null,null,null,null,null,null,"Glazing bar length",{"$f":"SQRT((BG24-BG23)^2+(BG28/2)^2)","v":{"$error":"#DIV/0!"}},"perimeter",{"$f":"((Q78+(BG28/2)+(A74-A70+(0.07/(IF(B24>B26,B24,B26)/1000)))+(B82-B86+(0.07/(IF(B24>B26,B24,B26)/1000)))+(Q70*1.5))*(IF(B24>B26,B24,B26)/1000))*1.05","v":{"$error":"#DIV/0!"}},null,null,null,null,null,null,null,null,null,null,null,null,null,"Glazing bar length",{"$f":"SQRT((BX24-BX23)^2+(BX28/2)^2)","v":{"$error":"#DIV/0!"}},"perimeter",{"$f":"((AJ78+(BX28/2)+(T74-T70+(0.07/(IF(B24>B26,B24,B26)/1000)))+(U82-U86+(0.07/(IF(B24>B26,B24,B26)/1000)))+(AJ70*1.5))*(IF(B24>B26,B24,B26)/1000))*1.05","v":{"$error":"#DIV/0!"}},null,null,null,null,null,null,null,null,null,null,null,null,null,"Glazing bar length",{"$f":"SQRT((CO24-CO23)^2+(CO28/2)^2)","v":{"$error":"#DIV/0!"}},"perimeter",{"$f":"((BC78+(CO28/2)+(AM74-AM70+(0.07/(IF(B24>B26,B24,B26)/1000)))+(AN82-AN86+(0.07/(IF(B24>B26,B24,B26)/1000)))+(BC70*1.5))*(IF(B24>B26,B24,B26)/1000))*1.05","v":{"$error":"#DIV/0!"}}]
[null,null,null,"Colour of main sails","ISX Solid",null,null,"Colour of main sails","ISX Solid",null,"Colour of main sails","ISX Solid",null,null,null,null,null,null,null,null,null,null,null,null,null,null,null,null,null,null,null,null,null,null,null,null,null,null,null,null,null,null,null,null,null,null,null,null,null,null,null,null,null,null,null,null,null,"50mm links",{"$f":"(0.035/(IF(B24>B26,B24,B26)/1000))","v":{"$error":"#DIV/0!"}},null,{"$f":"(IF(E25=BM3,2,1)*((BG1*((IF(E26=1,BI27,BI29)*IF(E26=1,BI28,BI30)*BI1*IF(E26=1,BG6,BG8))+(BI31*BI2)+(5*'  '!B20)))+(5*BT5)+'  '!B35))","v":{"$error":"#DIV/0!"}},null,null,"Low",null,null,null,null,null,"Overlaps","Triangles",null,null,null,"50mm links",{"$f":"(0.035/(IF(B24>B26,B24,B26)/1000))","v":{"$error":"#DIV/0!"}},null,{"$f":"(IF(I25=CD3,2,1)*((BX1*((IF(I26=1,BZ27,BZ29)*IF(I26=1,BZ28,BZ30)*BI1*IF(I26=1,BG6,BG8))+(BZ31*BI2)+(5*'  '!B20)))+(5*CK5)+'  '!B35))","v":{"$error":"#DIV/0!"}},null,null,"Mid",null,null,null,null,null,null,null,null,null,null,"50mm links",{"$f":"(0.035/(IF(B24>B26,B24,B26)/1000))","v":{"$error":"#DIV/0!"}},null,{"$f":"(IF(L25=CU3,2,1)*((CO1*((IF(I26=1,CQ27,CQ29)*IF(I26=1,CQ28,CQ30)*BI1*IF(I26=1,BG6,BG8))+(CQ31*BI2)+(5*'  '!B20)))+(5*DB5)+'  '!B35))","v":{"$error":"#DIV/0!"}},null,null,"Top"]
[null,null,null,"Colour of triangles","ISX Solid",null,null,"Colour of triangles","ISX Solid",null,"Colour of triangles","ISX Solid",null,null,null,null,null,null,null,null,null,null,null,null,null,null,null,null,null,null,null,null,null,null,null,null,null,null,null,null,null,null,null,null,null,null,null,null,null,null,null,null,null,null,null,null,null,null,null,null,null,null,"Number of sails per side",{"$f":"IF(BL37<1.25,1,IF(AND(BL37>=1.25,BL37<=2.25),2,IF(BL37>2.25,3)))","v":{"$error":"#DIV/0!"}},null,null,null,null,null,0,"No",null,null,null,null,null,null,null,null,"Number of sails per side",{"$f":"IF(CC37<1.25,2,IF(AND(CC37>=1.25,CC37<=2.25),3,IF(CC37>2.25,4)))","v":{"$error":"#DIV/0!"}},null,null,null,null,null,null,null,null,null,null,null,null,null,null,null,"Number of sails per side",{"$f":"IF(CT37<1.25,2,IF(AND(CT37>=1.25,CT37<=2.25),3,IF(CT37>2.25,4)))","v":{"$error":"#DIV/0!"}}]
[null,null,null,"Colour of fittings","Stainless steel",null,null,"Colour of fittings","Stainless steel",null,"Colour of fittings","Stainless steel",null,null,null,null,null,null,null,null,null,null,null,null,null,null,null,null,null,null,null,null,null,null,null,null,null,null,null,null,null,null,null,null,null,null,null,null,null,null,null,null,null,null,null,null,null,null,null,null,null,null,"Overlaps",0.5,null,null,null,null,null,0.5,"Yes",null,null,null,null,null,null,null,null,"Overlaps",0.5,null,null,null,null,null,null,null,null,null,null,null,null,null,null,null,"Overlaps",0]
[null,null,null,"Number of window vents",0,null,null,"Number of window vents",0,null,"Number of window vents",0,null,null,null,null,null,null,null,null,null,null,null,null,null,null,null,null,null,null,null,null,null,null,null,null,null,null,null,null,null,null,null,null,null,null,null,null,null,null,null,null,null,null,null,null,null,null,null,null,null,null,"Triangles","No",null,null,null,null,null,1,null,null,null,null,null,null,null,null,null,"Triangles","No",null,null,null,null,null,null,null,null,null,null,null,null,null,null,null,"Triangles","Yes"]
[null,null,null,null,null,null,null,null,null,null,null,null,null,null,null,null,null,null,null,null,null,null,null,null,null,null,null,null,null,null,null,null,null,null,null,null,null,null,null,null,null,null,null,null,null,null,null,null,null,null,null,null,null,null,null,null,null,null,null,null,null,null,"Total additional fittings",{"$f":"IF(E25=BM3,2,1)*E26*2","v":{"$error":"#DIV/0!"}},null,null,null,null,null,null,null,null,null,null,null,null,null,null,null,"Total additional fittings",0,null,null,null,null,null,null,null,null,null,null,null,null,null,null,null,"Total additional fittings",0]
[null,null,null,"Max length of sail",{"$f":"(MAX(BI27:BK27))*1000","v":{"$error":"#DIV/0!"}},null,null,"Max length of sail",{"$f":"(MAX(BZ27:CB27))*1000","v":{"$error":"#DIV/0!"}},null,"Max length of sail",{"$f":"(MAX(CQ27:CS27))*1000","v":{"$error":"#DIV/0!"}},null,null,null,null,null,null,null,null,null,null,null,null,null,null,null,null,null,null,null,null,null,null,null,null,null,null,null,null,null,null,null,null,null,null,null,null,null,null,null,null,null,null,null,null,null,null,null,null,null,null,"Length/Width Ratio",{"$f":"BG29/(BG28/2)","v":{"$error":"#DIV/0!"}},null,null,null,null,null,null,null,null,null,null,null,null,null,null,null,"Length/Width Ratio",{"$f":"BX29/(BX28/2)","v":{"$error":"#DIV/0!"}},null,null,null,null,null,null,null,null,null,null,null,null,null,null,null,"Length/Width Ratio",{"$f":"CO29/(CO28/2)","v":{"$error":"#DIV/0!"}}]
[null,null,null,"Max width of sail",{"$f":"(MAX(BI28:BK28))*1000","v":{"$error":"#DIV/0!"}},null,null,"Max width of sail",{"$f":"(MAX(BZ28:CB28))*1000","v":{"$error":"#DIV/0!"}},null,"Max width of sail",{"$f":"(MAX(CQ28:CS28))*1000","v":{"$error":"#DIV/0!"}}]
[null,null,null,null,"Sails +2100mm in both directions require seams",null,null,null,"Sails +2100mm in both directions require seams",null,null,"Sails +2100mm in both directions require seams"]
[]
[null,null,null,null,null,null,null,null,null,null," ",null,null,null,null,null,null,null,null,null,null,null,null,null,null,null,null,null,null,null,null,null,null,null,null,null,null,null,null,null,null,null,null,null,null,null,null,null,null," ",null,null,null,null,null,null,null,null,null,null,null,null,null,null,null,null,null,null,null,null,null,null,null,null,null,null,null,null,null,null,null,null,null,null,null,null,null,null,null,null," "]
[]
[]
[]
[]
[]
[]
[]
[]
[]
[]
["x","y","x","y","x","y","x","y","x","y","x","y","x","y",null,null,null,null,null,"x","y","x","y","x","y","x","y","x","y","x","y","x","y",null,null,null,null,null,"x","y","x","y","x","y","x","y","x","y","x","y","x","y"]
["front tri 1",null,"mid tri 2",null," mid tri 3",null,"back tri 4",null,"back tri 5",null,"back tri 6",null,"back tri 7",null,null,null,null,null,null,"front tri 1",null,"mid tri 2",null," mid tri 3",null,"back tri 4",null,"back tri 5",null,"back tri 6",null,"back tri 7",null,null,null,null,null,null,"front tri 1",null,"mid tri 2",null," mid tri 3",null,"back tri 4",null,"back tri 5",null,"back tri 6",null,"back tri 7"]
[{"$f":"IF(E28=BL12,BG32,)","v":0},{"$f":"IF(E28=BL12,R78+(BI25/2),)","v":0},{"$f":"IF(AND(E28=BL12,E26>1),C56-(BJ25/2)+BG32,)","v":{"$error":"#DIV/0!"}},{"$f":"IF(AND(E28=BL12,E26>1),BG32,)","v":{"$error":"#DIV/0!"}},{"$f":"IF(AND(E28=BL12,E26>1,E25<>BM2),C56-(BJ25/2)+BG32,)","v":{"$error":"#DIV/0!"}},{"$f":"IF(AND(E28=BL12,E26>1,E25<>BM2),R72-BG32,)","v":{"$error":"#DIV/0!"}},{"$f":"IF(AND(E26>2,E28=BL12),G56-(BK25/2),)","v":{"$error":"#DIV/0!"}},{"$f":"IF(AND(E26>2,E28=BL12),BG32,)","v":{"$error":"#DIV/0!"}},{"$f":"IF(AND(E26>2,E28=BL12,E25<>BM2),G56-(BK25/2),)","v":{"$error":"#DIV/0!"}},{"$f":"IF(AND(E26>2,E28=BL12,E25<>BM2),R72-BG32,)","v":{"$error":"#DIV/0!"}},{"$f":"IF(AND($E$26=4,$E$28=BL12),G54+($BG$29/3),)","v":{"$error":"#DIV/0!"}},{"$f":"IF(AND($E$26=4,$E$28=BL12),H54,)","v":{"$error":"#DIV/0!"}},{"$f":"IF(AND($E$26=4,$E$28=BL12,$E$25=$BM$3),I54+($BG$29/3),)","v":{"$error":"#DIV/0!"}},{"$f":"IF(AND($E$26=4,$E$28=BL12,$E$25=$BM$3),J54,)","v":{"$error":"#DIV/0!"}},null,null,null,null,null,{"$f":"IF(I28=CC12,BX32,)","v":0},{"$f":"IF(I28=CC12,AK78+(BZ25/2),)","v":0},{"$f":"IF(AND(I28=CC12,I26>1),V56-(CA25/2)+BX32,)","v":{"$error":"#DIV/0!"}},{"$f":"IF(AND(I28=CC12,I26>1),BX32,)","v":{"$error":"#DIV/0!"}},{"$f":"IF(AND(I28=CC12,I26>1,I25<>CD2),V56-(CA25/2)+BX32,)","v":{"$error":"#DIV/0!"}},{"$f":"IF(AND(I28=CC12,I26>1,I25<>CD2),AK72-BX32,)","v":{"$error":"#DIV/0!"}},{"$f":"IF(AND(I26>2,I28=CC12),Z56-(CB25/2),)","v":{"$error":"#DIV/0!"}},{"$f":"IF(AND(I26>2,I28=CC12),BX32,)","v":{"$error":"#DIV/0!"}},{"$f":"IF(AND(I26>2,I28=CC12,I25<>CD2),Z56-(CB25/2),)","v":{"$error":"#DIV/0!"}},{"$f":"IF(AND(I26>2,I28=CC12,I25<>CD2),AK72-BX32,)","v":{"$error":"#DIV/0!"}},{"$f":"IF(AND($I$26=4,$I$28=BL12),Z54+($BG$29/3),)","v":{"$error":"#DIV/0!"}},{"$f":"IF(AND($I$26=4,$I$28=BL12),AA54,)","v":{"$error":"#DIV/0!"}},{"$f":"IF(AND($I$26=4,$I$28=BL12,$I$25=$BM$3),AB54+($BG$29/3),)","v":{"$error":"#DIV/0!"}},{"$f":"IF(AND($I$26=4,$I$28=BL12,$I$25=$BM$3),AC54,)","v":{"$error":"#DIV/0!"}},null,null,null,null,null,{"$f":"IF(L28=CT12,CO32,)","v":{"$error":"#DIV/0!"}},{"$f":"IF(L28=CT12,BD78+(CQ25/2),)","v":{"$error":"#DIV/0!"}},{"$f":"IF(AND(L26>1,AND(L26>1,L28=CT12)),AO56-(CR25/2)+CO32,)","v":{"$error":"#DIV/0!"}},{"$f":"IF(AND(L26>1,L28=CT12),CO32,)","v":{"$error":"#DIV/0!"}},{"$f":"IF(AND(L26>1,L28=CT12,L25<>CU2),AO56-(CR25/2)+CO32,)","v":{"$error":"#DIV/0!"}},{"$f":"IF(AND(L26>1,L28=CT12,L25<>CU2),BD72-CO32,)","v":{"$error":"#DIV/0!"}},{"$f":"IF(AND(L26>2,L28=CT12),AS56-(CS25/2),)","v":{"$error":"#DIV/0!"}},{"$f":"IF(AND(L26>2,L28=CT12),CO32,)","v":{"$error":"#DIV/0!"}},{"$f":"IF(AND(L26>2,L28=CT12,L25<>CU2),AS56-(CS25/2),)","v":{"$error":"#DIV/0!"}},{"$f":"IF(AND(L26>2,L28=CT12,L25<>CU2),BD72-CO32,)","v":{"$error":"#DIV/0!"}},{"$f":"IF(AND($L$26=4,$L$28=BL12),AS54+($BG$29/3),)","v":{"$error":"#DIV/0!"}},{"$f":"IF(AND($L$26=4,$L$28=BL12),AT54,)","v":{"$error":"#DIV/0!"}},{"$f":"IF(AND($L$26=4,$L$28=BL12,$L$25=$BM$3),AU54+($BG$29/3),)","v":{"$error":"#DIV/0!"}},{"$f":"IF(AND($L$26=4,$L$28=BL12,$L$25=$BM$3),AV54,)","v":{"$error":"#DIV/0!"}}]
[{"$f":"IF(E28=BL12,BM16,)","v":0},{"$f":"IF(E28=BL12,B54-(BI25/4),)","v":0},{"$f":"IF(AND(E28=BL12,E26>1),C56-(BJ25/4),)","v":{"$error":"#DIV/0!"}},{"$f":"IF(AND(E28=BL12,E26>1),BM15,)","v":{"$error":"#DIV/0!"}},{"$f":"IF(AND(E28=BL12,E26>1,E25<>BM2),C56-(BJ25/4),)","v":{"$error":"#DIV/0!"}},{"$f":"IF(AND(E28=BL12,E26>1,E25<>BM2),R72-BM15,)","v":{"$error":"#DIV/0!"}},{"$f":"IF(AND(E26>2,E28=BL12),G56-(BK25/4),)","v":{"$error":"#DIV/0!"}},{"$f":"IF(AND(E26>2,E28=BL12),BM14,)","v":{"$error":"#DIV/0!"}},{"$f":"IF(AND(E26>2,E28=BL12,E25<>BM2),G56-(BK25/4),)","v":{"$error":"#DIV/0!"}},{"$f":"IF(AND(E26>2,E28=BL12,E25<>BM2),R72-BM15,)","v":{"$error":"#DIV/0!"}},{"$f":"IF(AND($E$26=4,$E$28=BL12),G55+($BG$29/3),)","v":{"$error":"#DIV/0!"}},{"$f":"IF(AND($E$26=4,$E$28=BL12),H55,)","v":{"$error":"#DIV/0!"}},{"$f":"IF(AND($E$26=4,$E$28=BL12,$E$25=$BM$3),I55+($BG$29/3),)","v":{"$error":"#DIV/0!"}},{"$f":"IF(AND($E$26=4,$E$28=BL12,$E$25=$BM$3),J55,)","v":{"$error":"#DIV/0!"}},null,null,null,null,null,{"$f":"IF(I28=CC12,CD16,)","v":0},{"$f":"IF(I28=CC12,U54-(BZ25/4),)","v":0},{"$f":"IF(AND(I28=CC12,I26>1),V56-(CA25/4),)","v":{"$error":"#DIV/0!"}},{"$f":"IF(AND(I28=CC12,I26>1),CD15,)","v":{"$error":"#DIV/0!"}},{"$f":"IF(AND(I28=CC12,I26>1,I25<>CD2),V56-(CA25/4),)","v":{"$error":"#DIV/0!"}},{"$f":"IF(AND(I28=CC12,I26>1,I25<>CD2),AK72-CD15,)","v":{"$error":"#DIV/0!"}},{"$f":"IF(AND(I26>2,I28=CC12),Z56-(CB25/4),)","v":{"$error":"#DIV/0!"}},{"$f":"IF(AND(I26>2,I28=CC12),CD14,)","v":{"$error":"#DIV/0!"}},{"$f":"IF(AND(I26>2,I28=CC12,I25<>CD2),Z56-(CB25/4),)","v":{"$error":"#DIV/0!"}},{"$f":"IF(AND(I26>2,I28=CC12,I25<>CD2),AK72-CD15,)","v":{"$error":"#DIV/0!"}},{"$f":"IF(AND($I$26=4,$I$28=BL12),Z55+($BG$29/3),)","v":{"$error":"#DIV/0!"}},{"$f":"IF(AND($I$26=4,$I$28=BL12),AA55,)","v":{"$error":"#DIV/0!"}},{"$f":"IF(AND($I$26=4,$I$28=BL12,$I$25=$BM$3),AB55+($BG$29/3),)","v":{"$error":"#DIV/0!"}},{"$f":"IF(AND($I$26=4,$I$28=BL12,$I$25=$BM$3),AC55,)","v":{"$error":"#DIV/0!"}},null,null,null,null,null,{"$f":"IF(L28=CT12,CU16,)","v":{"$error":"#DIV/0!"}},{"$f":"IF(L28=CT12,AN54-(CQ25/4),)","v":{"$error":"#DIV/0!"}},{"$f":"IF(AND(L26>1,L28=CT12),AO56-(CR25/4),)","v":{"$error":"#DIV/0!"}},{"$f":"IF(AND(L26>1,L28=CT12),CU15,)","v":{"$error":"#DIV/0!"}},{"$f":"IF(AND(L26>1,L28=CT12,L25<>CU2),AO56-(CR25/4),)","v":{"$error":"#DIV/0!"}},{"$f":"IF(AND(L26>1,L28=CT12,L25<>CU2),BD72-CU15,)","v":{"$error":"#DIV/0!"}},{"$f":"IF(AND(L26>2,L28=CT12),AS56-(CS25/4),)","v":{"$error":"#DIV/0!"}},{"$f":"IF(AND(L26>2,L28=CT12),CU14,)","v":{"$error":"#DIV/0!"}},{"$f":"IF(AND(L26>2,L28=CT12,L25<>CU2),AS56-(CS25/4),)","v":{"$error":"#DIV/0!"}},{"$f":"IF(AND(L26>2,L28=CT12,L25<>CU2),BD72-CU15,)","v":{"$error":"#DIV/0!"}},{"$f":"IF(AND($L$26=4,$L$28=BL12),AS55+($BG$29/3),)","v":{"$error":"#DIV/0!"}},{"$f":"IF(AND($L$26=4,$L$28=BL12),AT55,)","v":{"$error":"#DIV/0!"}},{"$f":"IF(AND($L$26=4,$L$28=BL12,$L$25=$BM$3),AU55+($BG$29/3),)","v":{"$error":"#DIV/0!"}},{"$f":"IF(AND($L$26=4,$L$28=BL12,$L$25=$BM$3),AV55,)","v":{"$error":"#DIV/0!"}}]
[{"$f":"IF(E28=BL12,BL16,)","v":0},{"$f":"IF(E28=BL12,B55-(BI25/4),)","v":0},{"$f":"IF(AND(E28=BL12,E26>1),C62,)","v":{"$error":"#DIV/0!"}},{"$f":"IF(AND(E28=BL12,E26>1),BL15,)","v":{"$error":"#DIV/0!"}},{"$f":"IF(AND(E28=BL12,E26>1,E25<>BM2),C62,)","v":{"$error":"#DIV/0!"}},{"$f":"IF(AND(E28=BL12,E26>1,E25<>BM2),R73-BL15,)","v":{"$error":"#DIV/0!"}},{"$f":"IF(AND(E26>2,E28=BL12),G62,)","v":{"$error":"#DIV/0!"}},{"$f":"IF(AND(E26>2,E28=BL12),BL14,)","v":{"$error":"#DIV/0!"}},{"$f":"IF(AND(E26>2,E28=BL12,E25<>BM2),G62,)","v":{"$error":"#DIV/0!"}},{"$f":"IF(AND(E26>2,E28=BL12,E25<>BM2),R72-BL15,)","v":{"$error":"#DIV/0!"}},{"$f":"IF(AND($E$26=4,$E$28=BL12),G56+($BG$29/3),)","v":{"$error":"#DIV/0!"}},{"$f":"IF(AND($E$26=4,$E$28=BL12),H56,)","v":{"$error":"#DIV/0!"}},{"$f":"IF(AND($E$26=4,$E$28=BL12,$E$25=$BM$3),I56+($BG$29/3),)","v":{"$error":"#DIV/0!"}},{"$f":"IF(AND($E$26=4,$E$28=BL12,$E$25=$BM$3),J56,)","v":{"$error":"#DIV/0!"}},null,null,null,null,null,{"$f":"IF(I28=CC12,CC16,)","v":0},{"$f":"IF(I28=CC12,U55-(BZ25/4),)","v":0},{"$f":"IF(AND(I28=CC12,I26>1),V62,)","v":{"$error":"#DIV/0!"}},{"$f":"IF(AND(I28=CC12,I26>1),CC15,)","v":{"$error":"#DIV/0!"}},{"$f":"IF(AND(I28=CC12,I26>1,I25<>CD2),V62,)","v":{"$error":"#DIV/0!"}},{"$f":"IF(AND(I28=CC12,I26>1,I25<>CD2),AK73-CC15,)","v":{"$error":"#DIV/0!"}},{"$f":"IF(AND(I26>2,I28=CC12),Z62,)","v":{"$error":"#DIV/0!"}},{"$f":"IF(AND(I26>2,I28=CC12),CC14,)","v":{"$error":"#DIV/0!"}},{"$f":"IF(AND(I26>2,I28=CC12,I25<>CD2),Z62,)","v":{"$error":"#DIV/0!"}},{"$f":"IF(AND(I26>2,I28=CC12,I25<>CD2),AK72-CC15,)","v":{"$error":"#DIV/0!"}},{"$f":"IF(AND($I$26=4,$I$28=BL12),Z56+($BG$29/3),)","v":{"$error":"#DIV/0!"}},{"$f":"IF(AND($I$26=4,$I$28=BL12),AA56,)","v":{"$error":"#DIV/0!"}},{"$f":"IF(AND($I$26=4,$I$28=BL12,$I$25=$BM$3),AB56+($BG$29/3),)","v":{"$error":"#DIV/0!"}},{"$f":"IF(AND($I$26=4,$I$28=BL12,$I$25=$BM$3),AC56,)","v":{"$error":"#DIV/0!"}},null,null,null,null,null,{"$f":"IF(L28=CT12,CT16,)","v":{"$error":"#DIV/0!"}},{"$f":"IF(L28=CT12,AN55-(CQ25/4),)","v":{"$error":"#DIV/0!"}},{"$f":"IF(AND(L26>1,L28=CT12),AO62,)","v":{"$error":"#DIV/0!"}},{"$f":"IF(AND(L26>1,L28=CT12),CT15,)","v":{"$error":"#DIV/0!"}},{"$f":"IF(AND(L26>1,L28=CT12,L25<>CU2),AO62,)","v":{"$error":"#DIV/0!"}},{"$f":"IF(AND(L26>1,L28=CT12,L25<>CU2),BD73-CT15,)","v":{"$error":"#DIV/0!"}},{"$f":"IF(AND(L26>2,L28=CT12),AS62,)","v":{"$error":"#DIV/0!"}},{"$f":"IF(AND(L26>2,L28=CT12),CT14,)","v":{"$error":"#DIV/0!"}},{"$f":"IF(AND(L26>2,L28=CT12,L25<>CU2),AS62,)","v":{"$error":"#DIV/0!"}},{"$f":"IF(AND(L26>2,L28=CT12,L25<>CU2),BD72-CT15,)","v":{"$error":"#DIV/0!"}},{"$f":"IF(AND($L$26=4,$L$28=BL12),AS56+($BG$29/3),)","v":{"$error":"#DIV/0!"}},{"$f":"IF(AND($L$26=4,$L$28=BL12),AT56,)","v":{"$error":"#DIV/0!"}},{"$f":"IF(AND($L$26=4,$L$28=BL12,$L$25=$BM$3),AU56+($BG$29/3),)","v":{"$error":"#DIV/0!"}},{"$f":"IF(AND($L$26=4,$L$28=BL12,$L$25=$BM$3),AV56,)","v":{"$error":"#DIV/0!"}}]
[{"$f":"IF(E28=BL12,A55,)","v":0},{"$f":"IF(E28=BL12,B56-(BI25/4),)","v":0},{"$f":"IF(AND(E28=BL12,E26>1),C56+(BJ25/4),)","v":{"$error":"#DIV/0!"}},{"$f":"IF(AND(E28=BL12,E26>1),BM15,)","v":{"$error":"#DIV/0!"}},{"$f":"IF(AND(E28=BL12,E26>1,E25<>BM2),C56+(BJ25/4),)","v":{"$error":"#DIV/0!"}},{"$f":"IF(AND(E28=BL12,E26>1,E25<>BM2),R73-BM15,)","v":{"$error":"#DIV/0!"}},{"$f":"IF(AND(E26>2,E28=BL12),G56+(BK25/4),)","v":{"$error":"#DIV/0!"}},{"$f":"IF(AND(E26>2,E28=BL12),BM14,)","v":{"$error":"#DIV/0!"}},{"$f":"IF(AND(E26>2,E28=BL12,E25<>BM2),G56+(BK25/4),)","v":{"$error":"#DIV/0!"}},{"$f":"IF(AND(E26>2,E28=BL12,E25<>BM2),R72-BM15,)","v":{"$error":"#DIV/0!"}},{"$f":"IF(AND($E$26=4,$E$28=BL12),G57+($BG$29/3),)","v":{"$error":"#DIV/0!"}},{"$f":"IF(AND($E$26=4,$E$28=BL12),H57,)","v":{"$error":"#DIV/0!"}},{"$f":"IF(AND($E$26=4,$E$28=BL12,$E$25=$BM$3),I57+($BG$29/3),)","v":{"$error":"#DIV/0!"}},{"$f":"IF(AND($E$26=4,$E$28=BL12,$E$25=$BM$3),J57,)","v":{"$error":"#DIV/0!"}},null,null,null,null,null,{"$f":"IF(I28=CC12,T55,)","v":0},{"$f":"IF(I28=CC12,U56-(BZ25/4),)","v":0},{"$f":"IF(AND(I28=CC12,I26>1),V56+(CA25/4),)","v":{"$error":"#DIV/0!"}},{"$f":"IF(AND(I28=CC12,I26>1),CD15,)","v":{"$error":"#DIV/0!"}},{"$f":"IF(AND(I28=CC12,I26>1,I25<>CD2),V56+(CA25/4),)","v":{"$error":"#DIV/0!"}},{"$f":"IF(AND(I28=CC12,I26>1,I25<>CD2),AK73-CD15,)","v":{"$error":"#DIV/0!"}},{"$f":"IF(AND(I26>2,I28=CC12),Z56+(CB25/4),)","v":{"$error":"#DIV/0!"}},{"$f":"IF(AND(I26>2,I28=CC12),CD14,)","v":{"$error":"#DIV/0!"}},{"$f":"IF(AND(I26>2,I28=CC12,I25<>CD2),Z56+(CB25/4),)","v":{"$error":"#DIV/0!"}},{"$f":"IF(AND(I26>2,I28=CC12,I25<>CD2),AK72-CD15,)","v":{"$error":"#DIV/0!"}},{"$f":"IF(AND($I$26=4,$I$28=BL12),Z57+($BG$29/3),)","v":{"$error":"#DIV/0!"}},{"$f":"IF(AND($I$26=4,$I$28=BL12),AA57,)","v":{"$error":"#DIV/0!"}},{"$f":"IF(AND($I$26=4,$I$28=BL12,$I$25=$BM$3),AB57+($BG$29/3),)","v":{"$error":"#DIV/0!"}},{"$f":"IF(AND($I$26=4,$I$28=BL12,$I$25=$BM$3),AC57,)","v":{"$error":"#DIV/0!"}},null,null,null,null,null,{"$f":"IF(L28=CT12,AM55,)","v":{"$error":"#DIV/0!"}},{"$f":"IF(L28=CT12,AN56-(CQ25/4),)","v":{"$error":"#DIV/0!"}},{"$f":"IF(AND(L26>1,L28=CT12),AO56+(CR25/4),)","v":{"$error":"#DIV/0!"}},{"$f":"IF(AND(L26>1,L28=CT12),CU15,)","v":{"$error":"#DIV/0!"}},{"$f":"IF(AND(L26>1,L28=CT12,L25<>CU2),AO56+(CR25/4),)","v":{"$error":"#DIV/0!"}},{"$f":"IF(AND(L26>1,L28=CT12,L25<>CU2),BD73-CU15,)","v":{"$error":"#DIV/0!"}},{"$f":"IF(AND(L26>2,L28=CT12),AS56+(CS25/4),)","v":{"$error":"#DIV/0!"}},{"$f":"IF(AND(L26>2,L28=CT12),CU14,)","v":{"$error":"#DIV/0!"}},{"$f":"IF(AND(L26>2,L28=CT12,L25<>CU2),AS56+(CS25/4),)","v":{"$error":"#DIV/0!"}},{"$f":"IF(AND(L26>2,L28=CT12,L25<>CU2),BD72-CU15,)","v":{"$error":"#DIV/0!"}},{"$f":"IF(AND($L$26=4,$L$28=BL12),AS57+($BG$29/3),)","v":{"$error":"#DIV/0!"}},{"$f":"IF(AND($L$26=4,$L$28=BL12),AT57,)","v":{"$error":"#DIV/0!"}},{"$f":"IF(AND($L$26=4,$L$28=BL12,$L$25=$BM$3),AU57+($BG$29/3),)","v":{"$error":"#DIV/0!"}},{"$f":"IF(AND($L$26=4,$L$28=BL12,$L$25=$BM$3),AV57,)","v":{"$error":"#DIV/0!"}}]
[{"$f":"A54","v":0},{"$f":"IF(E28=BL12,R78-(BI25/2),)","v":0},{"$f":"IF(AND(E28=BL12,E26>1),C56+(BJ25/2),)","v":{"$error":"#DIV/0!"}},{"$f":"D54","v":{"$error":"#DIV/0!"}},{"$f":"IF(AND(E28=BL12,E26>1,E25<>BM2),C56+(BJ25/2),)","v":{"$error":"#DIV/0!"}},{"$f":"IF(AND(E28=BL12,E26>1,E25<>BM2),R72-D54,)","v":{"$error":"#DIV/0!"}},{"$f":"IF(AND(E26>2,E28=BL12),G56+(BK25/2),)","v":{"$error":"#DIV/0!"}},{"$f":"H54","v":{"$error":"#DIV/0!"}},{"$f":"IF(AND(E26>2,E28=BL12,E25<>BM2),G56+(BK25/2),)","v":{"$error":"#DIV/0!"}},{"$f":"IF(AND(E26>2,E28=BL12,E25<>BM2),R72-BG32,)","v":{"$error":"#DIV/0!"}},{"$f":"IF(AND($E$26=4,$E$28=BL12),G58+($BG$29/3),)","v":{"$error":"#DIV/0!"}},{"$f":"IF(AND($E$26=4,$E$28=BL12),H58,)","v":{"$error":"#DIV/0!"}},{"$f":"IF(AND($E$26=4,$E$28=BL12,$E$25=$BM$3),I58+($BG$29/3),)","v":{"$error":"#DIV/0!"}},{"$f":"IF(AND($E$26=4,$E$28=BL12,$E$25=$BM$3),J58,)","v":{"$error":"#DIV/0!"}},null,null,null,null,null,{"$f":"T54","v":0},{"$f":"IF(I28=CC12,AK78-(BZ25/2),)","v":0},{"$f":"IF(AND(I28=CC12,I26>1),V56+(CA25/2),)","v":{"$error":"#DIV/0!"}},{"$f":"W54","v":{"$error":"#DIV/0!"}},{"$f":"IF(AND(I28=CC12,I26>1,I25<>CD2),V56+(CA25/2),)","v":{"$error":"#DIV/0!"}},{"$f":"IF(AND(I28=CC12,I26>1,I25<>CD2),AK72-W54,)","v":{"$error":"#DIV/0!"}},{"$f":"IF(AND(I26>2,I28=CC12),Z56+(CB25/2),)","v":{"$error":"#DIV/0!"}},{"$f":"AA54","v":{"$error":"#DIV/0!"}},{"$f":"IF(AND(I26>2,I28=CC12,I25<>CD2),Z56+(CB25/2),)","v":{"$error":"#DIV/0!"}},{"$f":"IF(AND(I26>2,I28=CC12,I25<>CD2),AK72-BX32,)","v":{"$error":"#DIV/0!"}},{"$f":"IF(AND($I$26=4,$I$28=BL12),Z58+($BG$29/3),)","v":{"$error":"#DIV/0!"}},{"$f":"IF(AND($I$26=4,$I$28=BL12),AA58,)","v":{"$error":"#DIV/0!"}},{"$f":"IF(AND($I$26=4,$I$28=BL12,$I$25=$BM$3),AB58+($BG$29/3),)","v":{"$error":"#DIV/0!"}},{"$f":"IF(AND($I$26=4,$I$28=BL12,$I$25=$BM$3),AC58,)","v":{"$error":"#DIV/0!"}},null,null,null,null,null,{"$f":"AM54","v":{"$error":"#DIV/0!"}},{"$f":"IF(L28=CT12,BD78-(CQ25/2),)","v":{"$error":"#DIV/0!"}},{"$f":"IF(AND(L26>1,L28=CT12),AO56+(CR25/2),)","v":{"$error":"#DIV/0!"}},{"$f":"AP54","v":{"$error":"#DIV/0!"}},{"$f":"IF(AND(L26>1,L28=CT12,L25<>CU2),AO56+(CR25/2),)","v":{"$error":"#DIV/0!"}},{"$f":"IF(AND(L26>1,L28=CT12,L25<>CU2),BD72-AP54,)","v":{"$error":"#DIV/0!"}},{"$f":"IF(AND(L26>2,L28=CT12),AS56+(CS25/2),)","v":{"$error":"#DIV/0!"}},{"$f":"AT54","v":{"$error":"#DIV/0!"}},{"$f":"IF(AND(L26>2,L28=CT12,L25<>CU2),AS56+(CS25/2),)","v":{"$error":"#DIV/0!"}},{"$f":"IF(AND(L26>2,L28=CT12,L25<>CU2),BD72-CO32,)","v":{"$error":"#DIV/0!"}},{"$f":"IF(AND($L$26=4,$L$28=BL12),AS58+($BG$29/3),)","v":{"$error":"#DIV/0!"}},{"$f":"IF(AND($L$26=4,$L$28=BL12),AT58,)","v":{"$error":"#DIV/0!"}},{"$f":"IF(AND($L$26=4,$L$28=BL12,$L$25=$BM$3),AU58+($BG$29/3),)","v":{"$error":"#DIV/0!"}},{"$f":"IF(AND($L$26=4,$L$28=BL12,$L$25=$BM$3),AV58,)","v":{"$error":"#DIV/0!"}}]
[{"$f":"IF(E28=BL12,A60-(BI24/4),)","v":0},{"$f":"IF(E28=BL12,B58+((B62-B58)/1.8),)","v":0},{"$f":"IF(AND(E28=BL12,E26>1),C58-((C58-C62)/1.8),)","v":{"$error":"#DIV/0!"}},{"$f":"IF(AND(E28=BL12,E26>1),D60-(BJ24/4),)","v":{"$error":"#DIV/0!"}},{"$f":"IF(AND(E28=BL12,E26>1,E25<>BM2),C58-((C58-C62)/1.8),)","v":{"$error":"#DIV/0!"}},{"$f":"IF(AND(E28=BL12,E26>1,E25<>BM2),F60+(BJ24/4),)","v":{"$error":"#DIV/0!"}},{"$f":"IF(AND(E26>2,E28=BL12),G58-((G58-G62)/1.8),)","v":{"$error":"#DIV/0!"}},{"$f":"IF(AND(E26>2,E28=BL12),H60-(BJ24/4),)","v":{"$error":"#DIV/0!"}},{"$f":"IF(AND(E28=BL12,E25<>BM2),G58-((G58-G62)/1.8),)","v":0},{"$f":"IF(AND(E26>2,E28=BL12,E25<>BM2),J60+(BJ24/4),)","v":{"$error":"#DIV/0!"}},{"$f":"IF(AND($E$26=4,$E$28=BL12),G59+($BG$29/3),)","v":{"$error":"#DIV/0!"}},{"$f":"IF(AND($E$26=4,$E$28=BL12),H59,)","v":{"$error":"#DIV/0!"}},{"$f":"IF(AND($E$26=4,$E$28=BL12,$E$25=$BM$3),I59+($BG$29/3),)","v":{"$error":"#DIV/0!"}},{"$f":"IF(AND($E$26=4,$E$28=BL12,$E$25=$BM$3),J59,)","v":{"$error":"#DIV/0!"}},null,null,null,null,null,{"$f":"IF(I28=CC12,T60-(BZ24/4),)","v":0},{"$f":"IF(I28=CC12,U58+((U62-U58)/1.8),)","v":0},{"$f":"IF(AND(I28=CC12,I26>1),V58-((V58-V62)/1.8),)","v":{"$error":"#DIV/0!"}},{"$f":"IF(AND(I28=CC12,I26>1),W60-(CA24/4),)","v":{"$error":"#DIV/0!"}},{"$f":"IF(AND(I28=CC12,I26>1,I25<>CD2),V58-((V58-V62)/1.8),)","v":{"$error":"#DIV/0!"}},{"$f":"IF(AND(I28=CC12,I26>1,I25<>CD2),Y60+(CA24/4),)","v":{"$error":"#DIV/0!"}},{"$f":"IF(AND(I26>2,I28=CC12),Z58-((Z58-Z62)/1.8),)","v":{"$error":"#DIV/0!"}},{"$f":"IF(AND(I26>2,I28=CC12),AA60-(CA24/4),)","v":{"$error":"#DIV/0!"}},{"$f":"IF(AND(I28=CC12,I26>1,I25<>CD2),Z58-((Z58-Z62)/1.8),)","v":{"$error":"#DIV/0!"}},{"$f":"IF(AND(I26>2,I28=CC12,I25<>CD2),AC60+(CA24/4),)","v":{"$error":"#DIV/0!"}},{"$f":"IF(AND($I$26=4,$I$28=BL12),Z59+($BG$29/3),)","v":{"$error":"#DIV/0!"}},{"$f":"IF(AND($I$26=4,$I$28=BL12),AA59,)","v":{"$error":"#DIV/0!"}},{"$f":"IF(AND($I$26=4,$I$28=BL12,$I$25=$BM$3),AB59+($BG$29/3),)","v":{"$error":"#DIV/0!"}},{"$f":"IF(AND($I$26=4,$I$28=BL12,$I$25=$BM$3),AC59,)","v":{"$error":"#DIV/0!"}},null,null,null,null,null,{"$f":"IF(L28=CT12,AM60-(CQ24/4),)","v":{"$error":"#DIV/0!"}},{"$f":"IF(L28=CT12,AN58+((AN62-AN58)/1.8),)","v":{"$error":"#DIV/0!"}},{"$f":"IF(AND(L26>1,L28=CT12),AO58-((AO58-AO62)/1.8),)","v":{"$error":"#DIV/0!"}},{"$f":"IF(AND(L26>1,L28=CT12),AP60-(CR24/4),)","v":{"$error":"#DIV/0!"}},{"$f":"IF(AND(L26>1,L28=CT12,L25<>CU2),AO58-((AO58-AO62)/1.8),)","v":{"$error":"#DIV/0!"}},{"$f":"IF(AND(L26>1,L28=CT12,L25<>CU2),AR60+(CR24/4),)","v":{"$error":"#DIV/0!"}},{"$f":"IF(AND(L26>2,L28=CT12),AS58-((AS58-AS62)/1.8),)","v":{"$error":"#DIV/0!"}},{"$f":"IF(AND(L26>2,L28=CT12),AT60-(CR24/4),)","v":{"$error":"#DIV/0!"}},{"$f":"IF(AND(L28=CT12,L25<>CU2),AS58-((AS58-AS62)/1.8),)","v":{"$error":"#DIV/0!"}},{"$f":"IF(AND(L26>2,L28=CT12,L25<>CU2),AV60+(CR24/4),)","v":{"$error":"#DIV/0!"}},{"$f":"IF(AND($L$26=4,$L$28=BL12),AS59+($BG$29/3),)","v":{"$error":"#DIV/0!"}},{"$f":"IF(AND($L$26=4,$L$28=BL12),AT59,)","v":{"$error":"#DIV/0!"}},{"$f":"IF(AND($L$26=4,$L$28=BL12,$L$25=$BM$3),AU59+($BG$29/3),)","v":{"$error":"#DIV/0!"}},{"$f":"IF(AND($L$26=4,$L$28=BL12,$L$25=$BM$3),AV59,)","v":{"$error":"#DIV/0!"}}]
[{"$f":"IF(E28=BL12,A61-(BI24/4),)","v":0},{"$f":"IF(E28=BL12,B58+((B62-B58)*0.85),)","v":0},{"$f":"IF(AND(E28=BL12,E26>1),C58-((C58-C62)*0.85),)","v":{"$error":"#DIV/0!"}},{"$f":"IF(AND(E28=BL12,E26>1),(BG28/2)-(BG28/4),)","v":{"$error":"#DIV/0!"}},{"$f":"IF(AND(E28=BL12,E26>1,E25<>BM2),C58-((C58-C62)*0.85),)","v":{"$error":"#DIV/0!"}},{"$f":"IF(AND(E28=BL12,E26>1,E25<>BM2),R72-(BG28/4),)","v":{"$error":"#DIV/0!"}},{"$f":"IF(AND(E26>2,E28=BL12),G58-((G58-G62)*0.85),)","v":{"$error":"#DIV/0!"}},{"$f":"IF(AND(E26>2,E28=BL12),(BG28/2)-(BG28/4),)","v":{"$error":"#DIV/0!"}},{"$f":"IF(AND(E28=BL12,E25<>BM2),G58-((G58-G62)*0.85),)","v":0},{"$f":"IF(AND(E26>2,E28=BL12,E25<>BM2),R72-(BG28/4),)","v":{"$error":"#DIV/0!"}},{"$f":"IF(AND($E$26=4,$E$28=BL12),G60+($BG$29/3),)","v":{"$error":"#DIV/0!"}},{"$f":"IF(AND($E$26=4,$E$28=BL12),H60,)","v":{"$error":"#DIV/0!"}},{"$f":"IF(AND($E$26=4,$E$28=BL12,$E$25=$BM$3),I60+($BG$29/3),)","v":{"$error":"#DIV/0!"}},{"$f":"IF(AND($E$26=4,$E$28=BL12,$E$25=$BM$3),J60,)","v":{"$error":"#DIV/0!"}},null,null,null,null,null,{"$f":"IF(I28=CC12,T61-(BZ24/4),)","v":0},{"$f":"IF(I28=CC12,U58+((U62-U58)*0.85),)","v":0},{"$f":"IF(AND(I28=CC12,I26>1),V58-((V58-V62)*0.85),)","v":{"$error":"#DIV/0!"}},{"$f":"IF(AND(I28=CC12,I26>1),(BX28/2)-(BX28/4),)","v":{"$error":"#DIV/0!"}},{"$f":"IF(AND(I28=CC12,I26>1,I25<>CD2),V58-((V58-V62)*0.85),)","v":{"$error":"#DIV/0!"}},{"$f":"IF(AND(I28=CC12,I26>1,I25<>CD2),AK72-(BX28/4),)","v":{"$error":"#DIV/0!"}},{"$f":"IF(AND(I26>2,I28=CC12),Z58-((Z58-Z62)*0.85),)","v":{"$error":"#DIV/0!"}},{"$f":"IF(AND(I26>2,I28=CC12),(BX28/2)-(BX28/4),)","v":{"$error":"#DIV/0!"}},{"$f":"IF(AND(I28=CC12,I26>1,I25<>CD2),Z58-((Z58-Z62)*0.85),)","v":{"$error":"#DIV/0!"}},{"$f":"IF(AND(I26>2,I28=CC12,I25<>CD2),AK72-(BX28/4),)","v":{"$error":"#DIV/0!"}},{"$f":"IF(AND($I$26=4,$I$28=BL12),Z60+($BG$29/3),)","v":{"$error":"#DIV/0!"}},{"$f":"IF(AND($I$26=4,$I$28=BL12),AA60,)","v":{"$error":"#DIV/0!"}},{"$f":"IF(AND($I$26=4,$I$28=BL12,$I$25=$BM$3),AB60+($BG$29/3),)","v":{"$error":"#DIV/0!"}},{"$f":"IF(AND($I$26=4,$I$28=BL12,$I$25=$BM$3),AC60,)","v":{"$error":"#DIV/0!"}},null,null,null,null,null,{"$f":"IF(L28=CT12,AM61-(CQ24/4),)","v":{"$error":"#DIV/0!"}},{"$f":"IF(L28=CT12,AN58+((AN62-AN58)*0.85),)","v":{"$error":"#DIV/0!"}},{"$f":"IF(AND(L26>1,L28=CT12),AO58-((AO58-AO62)*0.85),)","v":{"$error":"#DIV/0!"}},{"$f":"IF(AND(L26>1,L28=CT12),(CO28/2)-(CO28/4),)","v":{"$error":"#DIV/0!"}},{"$f":"IF(AND(L26>1,L28=CT12,L25<>CU2),AO58-((AO58-AO62)*0.85),)","v":{"$error":"#DIV/0!"}},{"$f":"IF(AND(L26>1,L28=CT12,L25<>CU2),BD72-(CO28/4),)","v":{"$error":"#DIV/0!"}},{"$f":"IF(AND(L26>2,L28=CT12),AS58-((AS58-AS62)*0.85),)","v":{"$error":"#DIV/0!"}},{"$f":"IF(AND(L26>2,L28=CT12),(CO28/2)-(CO28/4),)","v":{"$error":"#DIV/0!"}},{"$f":"IF(AND(L28=CT12,L25<>CU2),AS58-((AS58-AS62)*0.85),)","v":{"$error":"#DIV/0!"}},{"$f":"IF(AND(L26>2,L28=CT12,L25<>CU2),BD72-(CO28/4),)","v":{"$error":"#DIV/0!"}},{"$f":"IF(AND($L$26=4,$L$28=BL12),AS60+($BG$29/3),)","v":{"$error":"#DIV/0!"}},{"$f":"IF(AND($L$26=4,$L$28=BL12),AT60,)","v":{"$error":"#DIV/0!"}},{"$f":"IF(AND($L$26=4,$L$28=BL12,$L$25=$BM$3),AU60+($BG$29/3),)","v":{"$error":"#DIV/0!"}},{"$f":"IF(AND($L$26=4,$L$28=BL12,$L$25=$BM$3),AV60,)","v":{"$error":"#DIV/0!"}}]
[{"$f":"IF(E28=BL12,A62-(BI24/4),)","v":0},{"$f":"IF(E28=BL12,B62-((B62-B58)*0.05),)","v":0},{"$f":"IF(AND(E28=BL12,E26>1),C62+((C58-C62)*0.05),)","v":{"$error":"#DIV/0!"}},{"$f":"IF(AND(E28=BL12,E26>1),D60+(BJ24/4),)","v":{"$error":"#DIV/0!"}},{"$f":"IF(AND(E28=BL12,E26>1,E25<>BM2),C62+((C58-C62)*0.05),)","v":{"$error":"#DIV/0!"}},{"$f":"IF(AND(E28=BL12,E26>1,E25<>BM2),F60-(BJ24/4),)","v":{"$error":"#DIV/0!"}},{"$f":"IF(AND(E26>2,E28=BL12),G62+((G58-G62)*0.05),)","v":{"$error":"#DIV/0!"}},{"$f":"IF(AND(E26>2,E28=BL12),H60+(BJ24/4),)","v":{"$error":"#DIV/0!"}},{"$f":"IF(AND(E28=BL12,E25<>BM2),G62+((G58-G62)*0.05),)","v":0},{"$f":"IF(AND(E26>2,E28=BL12,E25<>BM2),J60-(BJ24/4),)","v":{"$error":"#DIV/0!"}},{"$f":"IF(AND($E$26=4,$E$28=BL12),G61+($BG$29/3),)","v":{"$error":"#DIV/0!"}},{"$f":"IF(AND($E$26=4,$E$28=BL12),H61,)","v":{"$error":"#DIV/0!"}},{"$f":"IF(AND($E$26=4,$E$28=BL12,$E$25=$BM$3),I61+($BG$29/3),)","v":{"$error":"#DIV/0!"}},{"$f":"IF(AND($E$26=4,$E$28=BL12,$E$25=$BM$3),J61,)","v":{"$error":"#DIV/0!"}},null,null,null,null,null,{"$f":"IF(I28=CC12,T62-(BZ24/4),)","v":0},{"$f":"IF(I28=CC12,U62-((U62-U58)*0.05),)","v":0},{"$f":"IF(AND(I28=CC12,I26>1),V62+((V58-V62)*0.05),)","v":{"$error":"#DIV/0!"}},{"$f":"IF(AND(I28=CC12,I26>1),W60+(CA24/4),)","v":{"$error":"#DIV/0!"}},{"$f":"IF(AND(I28=CC12,I26>1,I25<>CD2),V62+((V58-V62)*0.05),)","v":{"$error":"#DIV/0!"}},{"$f":"IF(AND(I28=CC12,I26>1,I25<>CD2),Y60-(CA24/4),)","v":{"$error":"#DIV/0!"}},{"$f":"IF(AND(I26>2,I28=CC12),Z62+((Z58-Z62)*0.05),)","v":{"$error":"#DIV/0!"}},{"$f":"IF(AND(I26>2,I28=CC12),AA60+(CA24/4),)","v":{"$error":"#DIV/0!"}},{"$f":"IF(AND(I28=CC12,I26>1,I25<>CD2),Z62+((Z58-Z62)*0.05),)","v":{"$error":"#DIV/0!"}},{"$f":"IF(AND(I26>2,I28=CC12,I25<>CD2),AC60-(CA24/4),)","v":{"$error":"#DIV/0!"}},{"$f":"IF(AND($I$26=4,$I$28=BL12),Z61+($BG$29/3),)","v":{"$error":"#DIV/0!"}},{"$f":"IF(AND($I$26=4,$I$28=BL12),AA61,)","v":{"$error":"#DIV/0!"}},{"$f":"IF(AND($I$26=4,$I$28=BL12,$I$25=$BM$3),AB61+($BG$29/3),)","v":{"$error":"#DIV/0!"}},{"$f":"IF(AND($I$26=4,$I$28=BL12,$I$25=$BM$3),AC61,)","v":{"$error":"#DIV/0!"}},null,null,null,null,null,{"$f":"IF(L28=CT12,AM62-(CQ24/4),)","v":{"$error":"#DIV/0!"}},{"$f":"IF(L28=CT12,AN62-((AN62-AN58)*0.05),)","v":{"$error":"#DIV/0!"}},{"$f":"IF(AND(L26>1,L28=CT12),AO62+((AO58-AO62)*0.05),)","v":{"$error":"#DIV/0!"}},{"$f":"IF(AND(L26>1,L28=CT12),AP60+(CR24/4),)","v":{"$error":"#DIV/0!"}},{"$f":"IF(AND(L26>1,L28=CT12,L25<>CU2),AO62+((AO58-AO62)*0.05),)","v":{"$error":"#DIV/0!"}},{"$f":"IF(AND(L26>1,L28=CT12,L25<>CU2),AR60-(CR24/4),)","v":{"$error":"#DIV/0!"}},{"$f":"IF(AND(L26>2,L28=CT12),AS62+((AS58-AS62)*0.05),)","v":{"$error":"#DIV/0!"}},{"$f":"IF(AND(L26>2,L28=CT12),AT60+(CR24/4),)","v":{"$error":"#DIV/0!"}},{"$f":"IF(AND(L28=CT12,L25<>CU2),AS62+((AS58-AS62)*0.05),)","v":{"$error":"#DIV/0!"}},{"$f":"IF(AND(L26>2,L28=CT12,L25<>CU2),AV60-(CR24/4),)","v":{"$error":"#DIV/0!"}},{"$f":"IF(AND($L$26=4,$L$28=BL12),AS61+($BG$29/3),)","v":{"$error":"#DIV/0!"}},{"$f":"IF(AND($L$26=4,$L$28=BL12),AT61,)","v":{"$error":"#DIV/0!"}},{"$f":"IF(AND($L$26=4,$L$28=BL12,$L$25=$BM$3),AU61+($BG$29/3),)","v":{"$error":"#DIV/0!"}},{"$f":"IF(AND($L$26=4,$L$28=BL12,$L$25=$BM$3),AV61,)","v":{"$error":"#DIV/0!"}}]
[{"$f":"IF(E28=BL12,Q78-BG32,)","v":0},{"$f":"IF(E28=BL12,R78,)","v":0},{"$f":"IF(AND(E28=BL12,E26>1),Q78,)","v":{"$error":"#DIV/0!"}},{"$f":"IF(AND(E28=BL12,E26>1),R78-BG32,)","v":{"$error":"#DIV/0!"}},{"$f":"IF(AND(E28=BL12,E26>1,E25<>BM2),Q78,)","v":{"$error":"#DIV/0!"}},{"$f":"IF(AND(E28=BL12,E26>1,E25<>BM2),R78+BG32,)","v":{"$error":"#DIV/0!"}},{"$f":"IF(AND(E26>2,E28=BL12),(1.5*B70)+C74,)","v":{"$error":"#DIV/0!"}},{"$f":"IF(AND(E26>2,E28=BL12),R78-BG32,)","v":{"$error":"#DIV/0!"}},{"$f":"IF(AND(E26>2,E28=BL12,E25<>BM2),G62,)","v":{"$error":"#DIV/0!"}},{"$f":"IF(AND(E26>2,E28=BL12,E25<>BM2),(BG28/2)+BG32,)","v":{"$error":"#DIV/0!"}},{"$f":"IF(AND($E$26=4,$E$28=BL12),G62+($BG$29/3),)","v":{"$error":"#DIV/0!"}},{"$f":"IF(AND($E$26=4,$E$28=BL12),H62,)","v":{"$error":"#DIV/0!"}},{"$f":"IF(AND($E$26=4,$E$28=BL12,$E$25=$BM$3),I62+($BG$29/3),)","v":{"$error":"#DIV/0!"}},{"$f":"IF(AND($E$26=4,$E$28=BL12,$E$25=$BM$3),J62,)","v":{"$error":"#DIV/0!"}},null,null,null,null,null,{"$f":"IF(I28=CC12,AJ78-BX32,)","v":0},{"$f":"IF(I28=CC12,AK78,)","v":0},{"$f":"IF(AND(I28=CC12,I26>1),AJ78,)","v":{"$error":"#DIV/0!"}},{"$f":"IF(AND(I28=CC12,I26>1),AK78-BX32,)","v":{"$error":"#DIV/0!"}},{"$f":"IF(AND(I28=CC12,I26>1,I25<>CD2),AJ78,)","v":{"$error":"#DIV/0!"}},{"$f":"IF(AND(I28=CC12,I26>1,I25<>CD2),AK78+BX32,)","v":{"$error":"#DIV/0!"}},{"$f":"IF(AND(I26>2,I28=CC12),(1.5*U70)+V74,)","v":{"$error":"#DIV/0!"}},{"$f":"IF(AND(I26>2,I28=CC12),AK78-BX32,)","v":{"$error":"#DIV/0!"}},{"$f":"IF(AND(I26>2,I28=CC12,I25<>CD2),Z62,)","v":{"$error":"#DIV/0!"}},{"$f":"IF(AND(I26>2,I28=CC12,I25<>CD2),(BX28/2)+BX32,)","v":{"$error":"#DIV/0!"}},{"$f":"IF(AND($I$26=4,$I$28=BL12),Z62+($BG$29/3),)","v":{"$error":"#DIV/0!"}},{"$f":"IF(AND($I$26=4,$I$28=BL12),AA62,)","v":{"$error":"#DIV/0!"}},{"$f":"IF(AND($I$26=4,$I$28=BL12,$I$25=$BM$3),AB62+($BG$29/3),)","v":{"$error":"#DIV/0!"}},{"$f":"IF(AND($I$26=4,$I$28=BL12,$I$25=$BM$3),AC62,)","v":{"$error":"#DIV/0!"}},null,null,null,null,null,{"$f":"IF(L28=CT12,BC78-CO32,)","v":{"$error":"#DIV/0!"}},{"$f":"IF(L28=CT12,BD78,)","v":{"$error":"#DIV/0!"}},{"$f":"IF(AND(L26>1,L28=CT12),BC78,)","v":{"$error":"#DIV/0!"}},{"$f":"IF(AND(L26>1,L28=CT12),BD78-CO32,)","v":{"$error":"#DIV/0!"}},{"$f":"IF(AND(L26>1,L28=CT12,L25<>CU2),BC78,)","v":{"$error":"#DIV/0!"}},{"$f":"IF(AND(L26>1,L28=CT12,L25<>CU2),BD78+CO32,)","v":{"$error":"#DIV/0!"}},{"$f":"IF(AND(L26>2,L28=CT12),(1.5*AN70)+AO74,)","v":{"$error":"#DIV/0!"}},{"$f":"IF(AND(L26>2,L28=CT12),BD78-CO32,)","v":{"$error":"#DIV/0!"}},{"$f":"IF(AND(L26>2,L28=CT12,L25<>CU2),AS62,)","v":{"$error":"#DIV/0!"}},{"$f":"IF(AND(L26>2,L28=CT12,L25<>CU2),(CO28/2)+CO32,)","v":{"$error":"#DIV/0!"}},{"$f":"IF(AND($L$26=4,$L$28=BL12),AS62+($BG$29/3),)","v":{"$error":"#DIV/0!"}},{"$f":"IF(AND($L$26=4,$L$28=BL12),AT62,)","v":{"$error":"#DIV/0!"}},{"$f":"IF(AND($L$26=4,$L$28=BL12,$L$25=$BM$3),AU62+($BG$29/3),)","v":{"$error":"#DIV/0!"}},{"$f":"IF(AND($L$26=4,$L$28=BL12,$L$25=$BM$3),AV62,)","v":{"$error":"#DIV/0!"}}]
[{"$f":"A61","v":0},{"$f":"B62+((B62-B58)*0.05)","v":0},{"$f":"IF(AND(E28=BL12,E26>1),C62-((C58-C62)*0.05),)","v":{"$error":"#DIV/0!"}},{"$f":"D61","v":{"$error":"#DIV/0!"}},{"$f":"IF(AND(E28=BL12,E26>1,E25<>BM2),C62-((C58-C62)*0.05),)","v":{"$error":"#DIV/0!"}},{"$f":"F61","v":{"$error":"#DIV/0!"}},{"$f":"IF(AND(E26>2,E28=BL12),G62-((G58-G62)*0.05),)","v":{"$error":"#DIV/0!"}},{"$f":"H61","v":{"$error":"#DIV/0!"}},{"$f":"IF(AND(E28=BL12,E25<>BM2),G62-((G58-G62)*0.05),)","v":0},{"$f":"J61","v":{"$error":"#DIV/0!"}},{"$f":"IF(AND($E$26=4,$E$28=BL12),G63+($BG$29/3),)","v":{"$error":"#DIV/0!"}},{"$f":"IF(AND($E$26=4,$E$28=BL12),H63,)","v":{"$error":"#DIV/0!"}},{"$f":"IF(AND($E$26=4,$E$28=BL12,$E$25=$BM$3),I63+($BG$29/3),)","v":{"$error":"#DIV/0!"}},{"$f":"IF(AND($E$26=4,$E$28=BL12,$E$25=$BM$3),J63,)","v":{"$error":"#DIV/0!"}},null,null,null,null,null,{"$f":"T61","v":0},{"$f":"U62+((U62-U58)*0.05)","v":0},{"$f":"IF(AND(I28=CC12,I26>1),V62-((V58-V62)*0.05),)","v":{"$error":"#DIV/0!"}},{"$f":"W61","v":{"$error":"#DIV/0!"}},{"$f":"IF(AND(I28=CC12,I26>1,I25<>CD2),V62-((V58-V62)*0.05),)","v":{"$error":"#DIV/0!"}},{"$f":"Y61","v":{"$error":"#DIV/0!"}},{"$f":"IF(AND(I26>2,I28=CC12),Z62-((Z58-Z62)*0.05),)","v":{"$error":"#DIV/0!"}},{"$f":"AA61","v":{"$error":"#DIV/0!"}},{"$f":"IF(AND(I28=CC12,I26>1,I25<>CD2),Z62-((Z58-Z62)*0.05),)","v":{"$error":"#DIV/0!"}},{"$f":"AC61","v":{"$error":"#DIV/0!"}},{"$f":"IF(AND($I$26=4,$I$28=BL12),Z63+($BG$29/3),)","v":{"$error":"#DIV/0!"}},{"$f":"IF(AND($I$26=4,$I$28=BL12),AA63,)","v":{"$error":"#DIV/0!"}},{"$f":"IF(AND($I$26=4,$I$28=BL12,$I$25=$BM$3),AB63+($BG$29/3),)","v":{"$error":"#DIV/0!"}},{"$f":"IF(AND($I$26=4,$I$28=BL12,$I$25=$BM$3),AC63,)","v":{"$error":"#DIV/0!"}},null,null,null,null,null,{"$f":"AM61","v":{"$error":"#DIV/0!"}},{"$f":"AN62+((AN62-AN58)*0.05)","v":{"$error":"#DIV/0!"}},{"$f":"IF(AND(L26>1,L28=CT12),AO62-((AO58-AO62)*0.05),)","v":{"$error":"#DIV/0!"}},{"$f":"AP61","v":{"$error":"#DIV/0!"}},{"$f":"IF(AND(L26>1,L28=CT12,L25<>CU2),AO62-((AO58-AO62)*0.05),)","v":{"$error":"#DIV/0!"}},{"$f":"AR61","v":{"$error":"#DIV/0!"}},{"$f":"IF(AND(L26>2,L28=CT12),AS62-((AS58-AS62)*0.05),)","v":{"$error":"#DIV/0!"}},{"$f":"AT61","v":{"$error":"#DIV/0!"}},{"$f":"IF(AND(L28=CT12,L25<>CU2),AS62-((AS58-AS62)*0.05),)","v":{"$error":"#DIV/0!"}},{"$f":"AV61","v":{"$error":"#DIV/0!"}},{"$f":"IF(AND($L$26=4,$L$28=BL12),AS63+($BG$29/3),)","v":{"$error":"#DIV/0!"}},{"$f":"IF(AND($L$26=4,$L$28=BL12),AT63,)","v":{"$error":"#DIV/0!"}},{"$f":"IF(AND($L$26=4,$L$28=BL12,$L$25=$BM$3),AU63+($BG$29/3),)","v":{"$error":"#DIV/0!"}},{"$f":"IF(AND($L$26=4,$L$28=BL12,$L$25=$BM$3),AV63,)","v":{"$error":"#DIV/0!"}}]
[{"$f":"A60","v":0},{"$f":"B66-((B62-B58)*0.85)","v":0},{"$f":"IF(AND(E28=BL12,E26>1),C66+((C62-C66)*0.85),)","v":{"$error":"#DIV/0!"}},{"$f":"D60","v":{"$error":"#DIV/0!"}},{"$f":"IF(AND(E28=BL12,E26>1,E25<>BM2),C66+((C62-C66)*0.85),)","v":{"$error":"#DIV/0!"}},{"$f":"F60","v":{"$error":"#DIV/0!"}},{"$f":"IF(AND(E26>2,E28=BL12),G66+((G62-G66)*0.85),)","v":{"$error":"#DIV/0!"}},{"$f":"H60","v":{"$error":"#DIV/0!"}},{"$f":"IF(AND(E28=BL12,E25<>BM2),G66+((G62-G66)*0.85),)","v":0},{"$f":"J60","v":{"$error":"#DIV/0!"}},{"$f":"IF(AND($E$26=4,$E$28=BL12),G64+($BG$29/3),)","v":{"$error":"#DIV/0!"}},{"$f":"IF(AND($E$26=4,$E$28=BL12),H64,)","v":{"$error":"#DIV/0!"}},{"$f":"IF(AND($E$26=4,$E$28=BL12,$E$25=$BM$3),I64+($BG$29/3),)","v":{"$error":"#DIV/0!"}},{"$f":"IF(AND($E$26=4,$E$28=BL12,$E$25=$BM$3),J64,)","v":{"$error":"#DIV/0!"}},null,null,null,null,null,{"$f":"T60","v":0},{"$f":"U66-((U62-U58)*0.85)","v":0},{"$f":"IF(AND(I28=CC12,I26>1),V66+((V62-V66)*0.85),)","v":{"$error":"#DIV/0!"}},{"$f":"W60","v":{"$error":"#DIV/0!"}},{"$f":"IF(AND(I28=CC12,I26>1,I25<>CD2),V66+((V62-V66)*0.85),)","v":{"$error":"#DIV/0!"}},{"$f":"Y60","v":{"$error":"#DIV/0!"}},{"$f":"IF(AND(I26>2,I28=CC12),Z66+((Z62-Z66)*0.85),)","v":{"$error":"#DIV/0!"}},{"$f":"AA60","v":{"$error":"#DIV/0!"}},{"$f":"IF(AND(I28=CC12,I26>1,I25<>CD2),Z66+((Z62-Z66)*0.85),)","v":{"$error":"#DIV/0!"}},{"$f":"AC60","v":{"$error":"#DIV/0!"}},{"$f":"IF(AND($I$26=4,$I$28=BL12),Z64+($BG$29/3),)","v":{"$error":"#DIV/0!"}},{"$f":"IF(AND($I$26=4,$I$28=BL12),AA64,)","v":{"$error":"#DIV/0!"}},{"$f":"IF(AND($I$26=4,$I$28=BL12,$I$25=$BM$3),AB64+($BG$29/3),)","v":{"$error":"#DIV/0!"}},{"$f":"IF(AND($I$26=4,$I$28=BL12,$I$25=$BM$3),AC64,)","v":{"$error":"#DIV/0!"}},null,null,null,null,null,{"$f":"AM60","v":{"$error":"#DIV/0!"}},{"$f":"AN66-((AN62-AN58)*0.85)","v":{"$error":"#DIV/0!"}},{"$f":"IF(AND(L26>1,L28=CT12),AO66+((AO62-AO66)*0.85),)","v":{"$error":"#DIV/0!"}},{"$f":"AP60","v":{"$error":"#DIV/0!"}},{"$f":"IF(AND(L26>1,L28=CT12,L25<>CU2),AO66+((AO62-AO66)*0.85),)","v":{"$error":"#DIV/0!"}},{"$f":"AR60","v":{"$error":"#DIV/0!"}},{"$f":"IF(AND(L26>2,L28=CT12),AS66+((AS62-AS66)*0.85),)","v":{"$error":"#DIV/0!"}},{"$f":"AT60","v":{"$error":"#DIV/0!"}},{"$f":"IF(AND(L28=CT12,L25<>CU2),AS66+((AS62-AS66)*0.85),)","v":{"$error":"#DIV/0!"}},{"$f":"AV60","v":{"$error":"#DIV/0!"}},{"$f":"IF(AND($L$26=4,$L$28=BL12),AS64+($BG$29/3),)","v":{"$error":"#DIV/0!"}},{"$f":"IF(AND($L$26=4,$L$28=BL12),AT64,)","v":{"$error":"#DIV/0!"}},{"$f":"IF(AND($L$26=4,$L$28=BL12,$L$25=$BM$3),AU64+($BG$29/3),)","v":{"$error":"#DIV/0!"}},{"$f":"IF(AND($L$26=4,$L$28=BL12,$L$25=$BM$3),AV64,)","v":{"$error":"#DIV/0!"}}]
[{"$f":"A59","v":0},{"$f":"B66-((B62-B58)/1.8)","v":0},{"$f":"C66+((C62-C66)/1.8)","v":{"$error":"#DIV/0!"}},{"$f":"D59","v":{"$error":"#DIV/0!"}},{"$f":"IF(AND(E28=BL12,E26>1,E25<>BM2),C66+((C62-C66)/1.8),)","v":{"$error":"#DIV/0!"}},{"$f":"F59","v":{"$error":"#DIV/0!"}},{"$f":"G66+((G62-G66)/1.8)","v":{"$error":"#DIV/0!"}},{"$f":"H59","v":{"$error":"#DIV/0!"}},{"$f":"IF(AND(E28=BL12,E25<>BM2),G66+((G62-G66)/1.8),)","v":0},{"$f":"J59","v":{"$error":"#DIV/0!"}},{"$f":"IF(AND($E$26=4,$E$28=BL12),G65+($BG$29/3),)","v":{"$error":"#DIV/0!"}},{"$f":"IF(AND($E$26=4,$E$28=BL12),H65,)","v":{"$error":"#DIV/0!"}},{"$f":"IF(AND($E$26=4,$E$28=BL12,$E$25=$BM$3),I65+($BG$29/3),)","v":{"$error":"#DIV/0!"}},{"$f":"IF(AND($E$26=4,$E$28=BL12,$E$25=$BM$3),J65,)","v":{"$error":"#DIV/0!"}},null,null,null,null,null,{"$f":"T59","v":0},{"$f":"U66-((U62-U58)/1.8)","v":0},{"$f":"V66+((V62-V66)/1.8)","v":{"$error":"#DIV/0!"}},{"$f":"W59","v":{"$error":"#DIV/0!"}},{"$f":"IF(AND(I28=CC12,I26>1,I25<>CD2),V66+((V62-V66)/1.8),)","v":{"$error":"#DIV/0!"}},{"$f":"Y59","v":{"$error":"#DIV/0!"}},{"$f":"Z66+((Z62-Z66)/1.8)","v":{"$error":"#DIV/0!"}},{"$f":"AA59","v":{"$error":"#DIV/0!"}},{"$f":"IF(AND(I28=CC12,I26>1,I25<>CD2),Z66+((Z62-Z66)/1.8),)","v":{"$error":"#DIV/0!"}},{"$f":"AC59","v":{"$error":"#DIV/0!"}},{"$f":"IF(AND($I$26=4,$I$28=BL12),Z65+($BG$29/3),)","v":{"$error":"#DIV/0!"}},{"$f":"IF(AND($I$26=4,$I$28=BL12),AA65,)","v":{"$error":"#DIV/0!"}},{"$f":"IF(AND($I$26=4,$I$28=BL12,$I$25=$BM$3),AB65+($BG$29/3),)","v":{"$error":"#DIV/0!"}},{"$f":"IF(AND($I$26=4,$I$28=BL12,$I$25=$BM$3),AC65,)","v":{"$error":"#DIV/0!"}},null,null,null,null,null,{"$f":"AM59","v":{"$error":"#DIV/0!"}},{"$f":"AN66-((AN62-AN58)/1.8)","v":{"$error":"#DIV/0!"}},{"$f":"AO66+((AO62-AO66)/1.8)","v":{"$error":"#DIV/0!"}},{"$f":"AP59","v":{"$error":"#DIV/0!"}},{"$f":"IF(AND(L26>1,L28=CT12,L25<>CU2),AO66+((AO62-AO66)/1.8),)","v":{"$error":"#DIV/0!"}},{"$f":"AR59","v":{"$error":"#DIV/0!"}},{"$f":"AS66+((AS62-AS66)/1.8)","v":{"$error":"#DIV/0!"}},{"$f":"AT59","v":{"$error":"#DIV/0!"}},{"$f":"IF(AND(L28=CT12,L25<>CU2),AS66+((AS62-AS66)/1.8),)","v":{"$error":"#DIV/0!"}},{"$f":"AV59","v":{"$error":"#DIV/0!"}},{"$f":"IF(AND($L$26=4,$L$28=BL12),AS65+($BG$29/3),)","v":{"$error":"#DIV/0!"}},{"$f":"IF(AND($L$26=4,$L$28=BL12),AT65,)","v":{"$error":"#DIV/0!"}},{"$f":"IF(AND($L$26=4,$L$28=BL12,$L$25=$BM$3),AU65+($BG$29/3),)","v":{"$error":"#DIV/0!"}},{"$f":"IF(AND($L$26=4,$L$28=BL12,$L$25=$BM$3),AV65,)","v":{"$error":"#DIV/0!"}}]
[{"$f":"A54","v":0},{"$f":"B54","v":0},{"$f":"C54","v":{"$error":"#DIV/0!"}},{"$f":"D54","v":{"$error":"#DIV/0!"}},{"$f":"IF(AND(E28=BL12,E26>1,E25<>BM2),C54,)","v":{"$error":"#DIV/0!"}},{"$f":"F58","v":{"$error":"#DIV/0!"}},{"$f":"G54","v":{"$error":"#DIV/0!"}},{"$f":"H54","v":{"$error":"#DIV/0!"}},{"$f":"IF(AND(E28=BL12,E25<>BM2),G54,)","v":0},{"$f":"J58","v":{"$error":"#DIV/0!"}},{"$f":"IF(AND($E$26=4,$E$28=BL12),G66+($BG$29/3),)","v":{"$error":"#DIV/0!"}},{"$f":"IF(AND($E$26=4,$E$28=BL12),H66,)","v":{"$error":"#DIV/0!"}},{"$f":"IF(AND($E$26=4,$E$28=BL12,$E$25=$BM$3),I66+($BG$29/3),)","v":{"$error":"#DIV/0!"}},{"$f":"IF(AND($E$26=4,$E$28=BL12,$E$25=$BM$3),J66,)","v":{"$error":"#DIV/0!"}},null,null,null,null,null,{"$f":"T54","v":0},{"$f":"U54","v":0},{"$f":"V54","v":{"$error":"#DIV/0!"}},{"$f":"W54","v":{"$error":"#DIV/0!"}},{"$f":"IF(AND(I28=CC12,I26>1,I25<>CD2),V54,)","v":{"$error":"#DIV/0!"}},{"$f":"Y58","v":{"$error":"#DIV/0!"}},{"$f":"Z54","v":{"$error":"#DIV/0!"}},{"$f":"AA54","v":{"$error":"#DIV/0!"}},{"$f":"IF(AND(I28=CC12,I26>1,I25<>CD2),Z54,)","v":{"$error":"#DIV/0!"}},{"$f":"AC58","v":{"$error":"#DIV/0!"}},{"$f":"IF(AND($I$26=4,$I$28=BL12),Z66+($BG$29/3),)","v":{"$error":"#DIV/0!"}},{"$f":"IF(AND($I$26=4,$I$28=BL12),AA66,)","v":{"$error":"#DIV/0!"}},{"$f":"IF(AND($I$26=4,$I$28=BL12,$I$25=$BM$3),AB66+($BG$29/3),)","v":{"$error":"#DIV/0!"}},{"$f":"IF(AND($I$26=4,$I$28=BL12,$I$25=$BM$3),AC66,)","v":{"$error":"#DIV/0!"}},null,null,null,null,null,{"$f":"AM54","v":{"$error":"#DIV/0!"}},{"$f":"AN54","v":{"$error":"#DIV/0!"}},{"$f":"AO54","v":{"$error":"#DIV/0!"}},{"$f":"AP54","v":{"$error":"#DIV/0!"}},{"$f":"IF(AND(L26>1,L28=CT12,L25<>CU2),AO54,)","v":{"$error":"#DIV/0!"}},{"$f":"AR58","v":{"$error":"#DIV/0!"}},{"$f":"AS54","v":{"$error":"#DIV/0!"}},{"$f":"AT54","v":{"$error":"#DIV/0!"}},{"$f":"IF(AND(L28=CT12,L25<>CU2),AS54,)","v":{"$error":"#DIV/0!"}},{"$f":"AV58","v":{"$error":"#DIV/0!"}},{"$f":"IF(AND($L$26=4,$L$28=BL12),AS66+($BG$29/3),)","v":{"$error":"#DIV/0!"}},{"$f":"IF(AND($L$26=4,$L$28=BL12),AT66,)","v":{"$error":"#DIV/0!"}},{"$f":"IF(AND($L$26=4,$L$28=BL12,$L$25=$BM$3),AU66+($BG$29/3),)","v":{"$error":"#DIV/0!"}},{"$f":"IF(AND($L$26=4,$L$28=BL12,$L$25=$BM$3),AV66,)","v":{"$error":"#DIV/0!"}}]
[]
["x","y","x","y","x","y","x","y","x","y","x","y","x","y","x","y","Roof plan",null,null,"x","y","x","y","x","y","x","y","x","y","x","y","x","y","x","y","Roof plan",null,null,"x","y","x","y","x","y","x","y","x","y","x","y","x","y","x","y","Roof plan"]
["Bottom Vic",null,"Bottom mid left",null,"Bottom mid right",null,"Top Vic",null,"Top mid left",null,"Top mid right",null,"Bottom back",null,"Top back",null,"x-axis","y-axis",null,"Bottom Vic",null,"Bottom mid left",null,"Bottom mid right",null,"Top Vic",null,"Top mid left",null,"Top mid right",null,"Bottom back",null,"Top back",null,"x-axis","y-axis",null,"Bottom Vic",null,"Bottom mid left",null,"Bottom mid right",null,"Top Vic",null,"Top mid left",null,"Top mid right",null,"Bottom back",null,"Top back",null,"x-axis","y-axis"]
[{"$f":"Q70+BG32","v":{"$error":"#DIV/0!"}},{"$f":"BG32","v":{"$error":"#DIV/0!"}},{"$f":"IF(E26<>BJ2,Q78+BG32-BG14,)","v":{"$error":"#DIV/0!"}},{"$f":"IF(E26<>BJ2,BG32,)","v":{"$error":"#DIV/0!"}},{"$f":"IF($E$26=$BJ$5,E82-BG18)","v":{"$error":"#DIV/0!"}},{"$f":"IF($E$26=$BJ$5,D70,)","v":{"$error":"#DIV/0!"}},{"$f":"IF(E25=BM2,0,BG32)","v":{"$error":"#DIV/0!"}},{"$f":"IF(E25=BM2,0,R72-BJ21-BG32)","v":{"$error":"#DIV/0!"}},{"$f":"IF(E25=BM2,0,IF(E26=BJ2,0,C82))","v":{"$error":"#DIV/0!"}},{"$f":"IF(E26=BJ2,0,H74)","v":{"$error":"#DIV/0!"}},{"$f":"IF(AND($E$26=$BJ$5,$E$25=$BM$3),E82,)","v":{"$error":"#DIV/0!"}},{"$f":"IF(AND($E$26=$BJ$5,$E$25=$BM$3),J70,)","v":{"$error":"#DIV/0!"}},{"$f":"IF(OR(E26=BJ4,E26=BJ5),M74-BN22,)","v":{"$error":"#DIV/0!"}},{"$f":"N74","v":{"$error":"#DIV/0!"}},{"$f":"IF(AND(E25=BM3,OR(E26=BJ4,E26=BJ5)),M82,)","v":{"$error":"#DIV/0!"}},{"$f":"IF(AND(E25=BM3,OR(E26=BJ4,E26=BJ5)),(BG28/2)+BG32,)","v":{"$error":"#DIV/0!"}},{"$f":"BG26-BG25","v":{"$error":"#DIV/0!"}},0,null,{"$f":"AJ70+BX32","v":{"$error":"#DIV/0!"}},{"$f":"BX32","v":{"$error":"#DIV/0!"}},{"$f":"IF(I26<>CA2,AJ78+BX32-BX14,)","v":{"$error":"#DIV/0!"}},{"$f":"IF(I26<>CA2,BX32,)","v":{"$error":"#DIV/0!"}},{"$f":"IF($I$26=$BJ$5,X82-BX18)","v":{"$error":"#DIV/0!"}},{"$f":"IF($I$26=$BJ$5,W70,)","v":{"$error":"#DIV/0!"}},{"$f":"IF(I25=CD2,0,BX32)","v":{"$error":"#DIV/0!"}},{"$f":"IF(I25=CD2,0,AK72-CA21-BX32)","v":{"$error":"#DIV/0!"}},{"$f":"IF(I25=CD2,0,IF(I26=CA2,0,V82))","v":{"$error":"#DIV/0!"}},{"$f":"IF(I26=CA2,0,AA74)","v":{"$error":"#DIV/0!"}},{"$f":"IF(AND($I$26=$BJ$5,$I$25=$BM$3),X82,)","v":{"$error":"#DIV/0!"}},{"$f":"IF(AND($I$26=$BJ$5,$I$25=$BM$3),AC70,)","v":{"$error":"#DIV/0!"}},{"$f":"IF(OR(I26=CA4,I26=CA5),AF74-CE22,)","v":{"$error":"#DIV/0!"}},{"$f":"AG74","v":{"$error":"#DIV/0!"}},{"$f":"IF(AND(I25=CD3,OR(I26=CA4,I26=CA5)),AF82,)","v":{"$error":"#DIV/0!"}},{"$f":"IF(AND(I25=CD3,OR(I26=CA4,I26=CA5)),(BX28/2)+BX32,)","v":{"$error":"#DIV/0!"}},{"$f":"BX26-BX25","v":{"$error":"#DIV/0!"}},0,null,{"$f":"BC70+CO32","v":{"$error":"#DIV/0!"}},{"$f":"CO32","v":{"$error":"#DIV/0!"}},{"$f":"IF(L26<>CR2,BC78+CO32-CO14,)","v":{"$error":"#DIV/0!"}},{"$f":"IF(L26<>CR2,CO32,)","v":{"$error":"#DIV/0!"}},{"$f":"IF($L$26=$BJ$5,AQ82-CO18)","v":{"$error":"#DIV/0!"}},{"$f":"IF($L$26=$BJ$5,AP70,)","v":{"$error":"#DIV/0!"}},{"$f":"IF(L25=CU2,0,CO32)","v":{"$error":"#DIV/0!"}},{"$f":"IF(L25=CU2,0,BD72-CR21-CO32)","v":{"$error":"#DIV/0!"}},{"$f":"IF(L25=CU2,0,IF(L26=CR2,0,AO82))","v":{"$error":"#DIV/0!"}},{"$f":"IF(L26=CR2,0,AT74)","v":{"$error":"#DIV/0!"}},{"$f":"IF(AND($L$26=$BJ$5,$L$25=$BM$3),AQ82,)","v":{"$error":"#DIV/0!"}},{"$f":"IF(AND($L$26=$BJ$5,$L$25=$BM$3),AV70,)","v":{"$error":"#DIV/0!"}},{"$f":"IF(OR(L26=CR4,L26=CR5),AY74-CV22,)","v":{"$error":"#DIV/0!"}},{"$f":"AZ74","v":{"$error":"#DIV/0!"}},{"$f":"IF(AND(L25=CU3,OR(L26=CR4,L26=CR5)),AY82,)","v":{"$error":"#DIV/0!"}},{"$f":"IF(AND(L25=CU3,OR(L26=CR4,L26=CR5)),(CO28/2)+CO32,)","v":{"$error":"#DIV/0!"}},{"$f":"CO26-CO25","v":{"$error":"#DIV/0!"}},0]
[{"$f":"A70+((A74-A70)/4)","v":{"$error":"#DIV/0!"}},{"$f":"BJ14","v":{"$error":"#DIV/0!"}},{"$f":"IF(E26<>BJ2,C70+((C74-C70)/4),)","v":{"$error":"#DIV/0!"}},{"$f":"IF(E26<>BJ2,BJ19,)","v":{"$error":"#DIV/0!"}},{"$f":"IF($E$26=$BJ$5,C71+($BG$29/3),)","v":{"$error":"#DIV/0!"}},{"$error":"#DIV/0!"},{"$f":"IF(E25=BM2,0,A81)","v":{"$error":"#DIV/0!"}},{"$f":"IF(E25=BM2,0,H70+BJ13+(BG10/4))","v":{"$error":"#DIV/0!"}},{"$f":"IF(E25=BM2,0,IF(E26=BJ2,0,C81))","v":{"$error":"#DIV/0!"}},{"$f":"IF(E25=BM2,0,IF(E26=BJ2,0,(BG28/2)+BJ18))","v":{"$error":"#DIV/0!"}},{"$f":"IF(AND($E$26=$BJ$5,$E$25=$BM$3),E81,)","v":{"$error":"#DIV/0!"}},{"$error":"#DIV/0!"},{"$f":"IF(OR(E26=BJ4,E26=BJ5),M72-(BN22/4),)","v":{"$error":"#DIV/0!"}},{"$f":"IF(OR(E26=BJ4,E26=BJ5),BM19,)","v":{"$error":"#DIV/0!"}},{"$f":"IF(AND(E25=BM3,OR(E26=BJ4,E26=BJ5)),M81,)","v":{"$error":"#DIV/0!"}},{"$f":"IF(AND(E25=BM3,OR(E26=BJ4,E26=BJ5)),BJ18+(BG28/2),)","v":{"$error":"#DIV/0!"}},{"$f":"BG26","v":{"$error":"#DIV/0!"}},0,null,{"$f":"T70+((T74-T70)/4)","v":{"$error":"#DIV/0!"}},{"$f":"CA14","v":{"$error":"#DIV/0!"}},{"$f":"IF(I26<>CA2,V70+((V74-V70)/4),)","v":{"$error":"#DIV/0!"}},{"$f":"IF(I26<>CA2,CA19,)","v":{"$error":"#DIV/0!"}},{"$f":"IF($I$26=$BJ$5,V71+($BG$29/3),)","v":{"$error":"#DIV/0!"}},{"$error":"#DIV/0!"},{"$f":"IF(I25=CD2,0,T81)","v":{"$error":"#DIV/0!"}},{"$f":"IF(I25=CD2,0,AA70+CA13+(BX10/4))","v":{"$error":"#DIV/0!"}},{"$f":"IF(I25=CD2,0,IF(I26=CA2,0,V81))","v":{"$error":"#DIV/0!"}},{"$f":"IF(I25=CD2,0,IF(I26=CA2,0,(BX28/2)+CA18))","v":{"$error":"#DIV/0!"}},{"$f":"IF(AND($I$26=$BJ$5,$I$25=$BM$3),X81,)","v":{"$error":"#DIV/0!"}},{"$error":"#DIV/0!"},{"$f":"IF(OR(I26=CA4,I26=CA5),AF72-(CE22/4),)","v":{"$error":"#DIV/0!"}},{"$f":"IF(OR(I26=CA4,I26=CA5),CD19,)","v":{"$error":"#DIV/0!"}},{"$f":"IF(AND(I25=CD3,OR(I26=CA4,I26=CA5)),AF81,)","v":{"$error":"#DIV/0!"}},{"$f":"IF(AND(I25=CD3,OR(I26=CA4,I26=CA5)),CA18+(BX28/2),)","v":{"$error":"#DIV/0!"}},{"$f":"BX26","v":{"$error":"#DIV/0!"}},0,null,{"$f":"AM70+((AM74-AM70)/4)","v":{"$error":"#DIV/0!"}},{"$f":"CR14","v":{"$error":"#DIV/0!"}},{"$f":"IF(L26<>CR2,AO70+((AO74-AO70)/4),)","v":{"$error":"#DIV/0!"}},{"$f":"IF(L26<>CR2,CR19,)","v":{"$error":"#DIV/0!"}},{"$f":"IF($L$26=$BJ$5,AO71+($BG$29/3),)","v":{"$error":"#DIV/0!"}},{"$error":"#DIV/0!"},{"$f":"IF(L25=CU2,0,AM81)","v":{"$error":"#DIV/0!"}},{"$f":"IF(L25=CU2,0,AT70+CR13+(CO10/4))","v":{"$error":"#DIV/0!"}},{"$f":"IF(L25=CU2,0,IF(L26=CR2,0,AO81))","v":{"$error":"#DIV/0!"}},{"$f":"IF(L25=CU2,0,IF(L26=CR2,0,(CO28/2)+CR18))","v":{"$error":"#DIV/0!"}},{"$f":"IF(AND($L$26=$BJ$5,$L$25=$BM$3),AQ81,)","v":{"$error":"#DIV/0!"}},{"$error":"#DIV/0!"},{"$f":"IF(OR(L26=CR4,L26=CR5),AY72-(CV22/4),)","v":{"$error":"#DIV/0!"}},{"$f":"IF(OR(L26=CR4,L26=CR5),CU19,)","v":{"$error":"#DIV/0!"}},{"$f":"IF(AND(L25=CU3,OR(L26=CR4,L26=CR5)),AY81,)","v":{"$error":"#DIV/0!"}},{"$f":"IF(AND(L25=CU3,OR(L26=CR4,L26=CR5)),CR18+(CO28/2),)","v":{"$error":"#DIV/0!"}},{"$f":"CO26","v":{"$error":"#DIV/0!"}},0]
[{"$f":"A71+((A74-A70)/4)","v":{"$error":"#DIV/0!"}},{"$f":"BI14","v":{"$error":"#DIV/0!"}},{"$f":"IF(E26=BJ3,C74-(C74-C70)/2,IF(OR(E26=BJ4,E26=BJ5),C74-((C74-C70)/2),))","v":{"$error":"#DIV/0!"}},{"$f":"IF(E26<>BJ2,BI19)","v":{"$error":"#DIV/0!"}},{"$f":"IF($E$26=$BJ$5,E80,)","v":{"$error":"#DIV/0!"}},{"$error":"#DIV/0!"},{"$f":"IF(E25=BM2,0,A80)","v":{"$error":"#DIV/0!"}},{"$f":"IF(E25=BM2,0,H70+BI13+(BG10/2))","v":{"$error":"#DIV/0!"}},{"$f":"IF(E25=BM2,0,IF(E26=BJ2,0,C80))","v":{"$error":"#DIV/0!"}},{"$f":"IF(E25=BM2,0,IF(E26=BJ2,0,(BG28/2)+BI18))","v":{"$error":"#DIV/0!"}},{"$f":"IF(AND($E$26=$BJ$5,$E$25=$BM$3),E80,)","v":{"$error":"#DIV/0!"}},{"$error":"#DIV/0!"},{"$f":"IF(OR(E26=BJ4,E26=BJ5),M73-(BN22/4),)","v":{"$error":"#DIV/0!"}},{"$f":"IF(OR(E26=BJ4,E26=BJ5),BL19,)","v":{"$error":"#DIV/0!"}},{"$f":"IF(AND(E25=BM3,OR(E26=BJ4,E26=BJ5)),M80,)","v":{"$error":"#DIV/0!"}},{"$f":"IF(AND(E25=BM3,OR(E26=BJ4,E26=BJ5)),BI18+(BG28/2),)","v":{"$error":"#DIV/0!"}},{"$f":"BG26","v":{"$error":"#DIV/0!"}},{"$f":"BG28","v":{"$error":"#DIV/0!"}},null,{"$f":"T71+((T74-T70)/4)","v":{"$error":"#DIV/0!"}},{"$f":"BZ14","v":{"$error":"#DIV/0!"}},{"$f":"IF(I26=CA3,V74-(V74-V70)/2,IF(OR(I26=CA4,I26=CA5),V74-((V74-V70)/2),))","v":{"$error":"#DIV/0!"}},{"$f":"IF(I26<>CA2,BZ19)","v":{"$error":"#DIV/0!"}},{"$f":"IF($I$26=$BJ$5,X80,)","v":{"$error":"#DIV/0!"}},{"$error":"#DIV/0!"},{"$f":"IF(I25=CD2,0,T80)","v":{"$error":"#DIV/0!"}},{"$f":"IF(I25=CD2,0,AA70+BZ13+(BX10/2))","v":{"$error":"#DIV/0!"}},{"$f":"IF(I25=CD2,0,IF(I26=CA2,0,V80))","v":{"$error":"#DIV/0!"}},{"$f":"IF(I25=CD2,0,IF(I26=CA2,0,(BX28/2)+BZ18))","v":{"$error":"#DIV/0!"}},{"$f":"IF(AND($I$26=$BJ$5,$I$25=$BM$3),X80,)","v":{"$error":"#DIV/0!"}},{"$error":"#DIV/0!"},{"$f":"IF(OR(I26=CA4,I26=CA5),AF73-(CE22/4),)","v":{"$error":"#DIV/0!"}},{"$f":"IF(OR(I26=CA4,I26=CA5),CC19,)","v":{"$error":"#DIV/0!"}},{"$f":"IF(AND(I25=CD3,OR(I26=CA4,I26=CA5)),AF80,)","v":{"$error":"#DIV/0!"}},{"$f":"IF(AND(I25=CD3,OR(I26=CA4,I26=CA5)),BZ18+(BX28/2),)","v":{"$error":"#DIV/0!"}},{"$f":"BX26","v":{"$error":"#DIV/0!"}},{"$f":"BX28","v":{"$error":"#DIV/0!"}},null,{"$f":"AM71+((AM74-AM70)/4)","v":{"$error":"#DIV/0!"}},{"$f":"CQ14","v":{"$error":"#DIV/0!"}},{"$f":"IF(L26=CR3,AO74-(AO74-AO70)/2,IF(OR(L26=CR4,L26=CR5),AO74-((AO74-AO70)/2),))","v":{"$error":"#DIV/0!"}},{"$f":"IF(L26<>CR2,CQ19)","v":{"$error":"#DIV/0!"}},{"$f":"IF($L$26=$BJ$5,AQ80,)","v":{"$error":"#DIV/0!"}},{"$error":"#DIV/0!"},{"$f":"IF(L25=CU2,0,AM80)","v":{"$error":"#DIV/0!"}},{"$f":"IF(L25=CU2,0,AT70+CQ13+(CO10/2))","v":{"$error":"#DIV/0!"}},{"$f":"IF(L25=CU2,0,IF(L26=CR2,0,AO80))","v":{"$error":"#DIV/0!"}},{"$f":"IF(L25=CU2,0,IF(L26=CR2,0,(CO28/2)+CQ18))","v":{"$error":"#DIV/0!"}},{"$f":"IF(AND($L$26=$BJ$5,$L$25=$BM$3),AQ80,)","v":{"$error":"#DIV/0!"}},{"$error":"#DIV/0!"},{"$f":"IF(OR(L26=CR4,L26=CR5),AY73-(CV22/4),)","v":{"$error":"#DIV/0!"}},{"$f":"IF(OR(L26=CR4,L26=CR5),CT19,)","v":{"$error":"#DIV/0!"}},{"$f":"IF(AND(L25=CU3,OR(L26=CR4,L26=CR5)),AY80,)","v":{"$error":"#DIV/0!"}},{"$f":"IF(AND(L25=CU3,OR(L26=CR4,L26=CR5)),CQ18+(CO28/2),)","v":{"$error":"#DIV/0!"}},{"$f":"CO26","v":{"$error":"#DIV/0!"}},{"$f":"CO28","v":{"$error":"#DIV/0!"}}]
[{"$f":"A72+((A74-A70)/4)","v":{"$error":"#DIV/0!"}},{"$f":"BJ14","v":{"$error":"#DIV/0!"}},{"$f":"IF(E26<>BJ2,C74-((C74-C70)/4),)","v":{"$error":"#DIV/0!"}},{"$f":"IF(E26<>BJ2,D71,)","v":{"$error":"#DIV/0!"}},{"$f":"IF($E$26=$BJ$5,C73+($BG$29/3),)","v":{"$error":"#DIV/0!"}},{"$error":"#DIV/0!"},{"$f":"IF(E25=BM2,0,A79)","v":{"$error":"#DIV/0!"}},{"$f":"IF(E25=BM2,0,H74+BJ13-(BG10/4))","v":{"$error":"#DIV/0!"}},{"$f":"I72+(I72-I71)","v":{"$error":"#DIV/0!"}},{"$f":"IF(E26=BJ2,0,J71)","v":{"$error":"#DIV/0!"}},{"$f":"IF(AND($E$26=$BJ$5,$E$25=$BM$3),E79,)","v":{"$error":"#DIV/0!"}},{"$error":"#DIV/0!"},{"$f":"IF(OR(E26=BJ4,E26=BJ5),M74-(BN22/4),)","v":{"$error":"#DIV/0!"}},{"$f":"IF(OR(E26=BJ4,E26=BJ5),N71,)","v":{"$error":"#DIV/0!"}},{"$f":"IF(AND(E25=BM3,OR(E26=BJ4,E26=BJ5)),M79,)","v":{"$error":"#DIV/0!"}},{"$f":"IF(AND(E25=BM3,OR(E26=BJ4,E26=BJ5)),P71,)","v":{"$error":"#DIV/0!"}},{"$f":"Q70","v":{"$error":"#DIV/0!"}},{"$f":"BG28","v":{"$error":"#DIV/0!"}},null,{"$f":"T72+((T74-T70)/4)","v":{"$error":"#DIV/0!"}},{"$f":"CA14","v":{"$error":"#DIV/0!"}},{"$f":"IF(I26<>CA2,V74-((V74-V70)/4),)","v":{"$error":"#DIV/0!"}},{"$f":"IF(I26<>CA2,W71,)","v":{"$error":"#DIV/0!"}},{"$f":"IF($I$26=$BJ$5,V73+($BG$29/3),)","v":{"$error":"#DIV/0!"}},{"$error":"#DIV/0!"},{"$f":"IF(I25=CD2,0,T79)","v":{"$error":"#DIV/0!"}},{"$f":"IF(I25=CD2,0,AA74+CA13-(BX10/4))","v":{"$error":"#DIV/0!"}},{"$f":"AB72+(AB72-AB71)","v":{"$error":"#DIV/0!"}},{"$f":"IF(I26=CA2,0,AC71)","v":{"$error":"#DIV/0!"}},{"$f":"IF(AND($I$26=$BJ$5,$I$25=$BM$3),X79,)","v":{"$error":"#DIV/0!"}},{"$error":"#DIV/0!"},{"$f":"IF(OR(I26=CA4,I26=CA5),AF74-(CE22/4),)","v":{"$error":"#DIV/0!"}},{"$f":"IF(OR(I26=CA4,I26=CA5),AG71,)","v":{"$error":"#DIV/0!"}},{"$f":"IF(AND(I25=CD3,OR(I26=CA4,I26=CA5)),AF79,)","v":{"$error":"#DIV/0!"}},{"$f":"IF(AND(I25=CD3,OR(I26=CA4,I26=CA5)),AI71,)","v":{"$error":"#DIV/0!"}},{"$f":"AJ70","v":{"$error":"#DIV/0!"}},{"$f":"BX28","v":{"$error":"#DIV/0!"}},null,{"$f":"AM72+((AM74-AM70)/4)","v":{"$error":"#DIV/0!"}},{"$f":"CR14","v":{"$error":"#DIV/0!"}},{"$f":"IF(L26<>CR2,AO74-((AO74-AO70)/4),)","v":{"$error":"#DIV/0!"}},{"$f":"IF(L26<>CR2,AP71,)","v":{"$error":"#DIV/0!"}},{"$f":"IF($L$26=$BJ$5,AO73+($BG$29/3),)","v":{"$error":"#DIV/0!"}},{"$error":"#DIV/0!"},{"$f":"IF(L25=CU2,0,AM79)","v":{"$error":"#DIV/0!"}},{"$f":"IF(L25=CU2,0,AT74+CR13-(CO10/4))","v":{"$error":"#DIV/0!"}},{"$f":"AU72+(AU72-AU71)","v":{"$error":"#DIV/0!"}},{"$f":"IF(L26=CR2,0,AV71)","v":{"$error":"#DIV/0!"}},{"$f":"IF(AND($L$26=$BJ$5,$L$25=$BM$3),AQ79,)","v":{"$error":"#DIV/0!"}},{"$error":"#DIV/0!"},{"$f":"IF(OR(L26=CR4,L26=CR5),AY74-(CV22/4),)","v":{"$error":"#DIV/0!"}},{"$f":"IF(OR(L26=CR4,L26=CR5),AZ71,)","v":{"$error":"#DIV/0!"}},{"$f":"IF(AND(L25=CU3,OR(L26=CR4,L26=CR5)),AY79,)","v":{"$error":"#DIV/0!"}},{"$f":"IF(AND(L25=CU3,OR(L26=CR4,L26=CR5)),BB71,)","v":{"$error":"#DIV/0!"}},{"$f":"BC70","v":{"$error":"#DIV/0!"}},{"$f":"CO28","v":{"$error":"#DIV/0!"}}]
[{"$f":"IF(E26=1,BG26-BG32,Q83-BG32+BG14)","v":{"$error":"#DIV/0!"}},{"$f":"BG32","v":{"$error":"#DIV/0!"}},{"$f":"IF(E26<>BJ2,C78+BG18,)","v":{"$error":"#DIV/0!"}},{"$f":"IF(E26<>BJ2,BG32,)","v":{"$error":"#DIV/0!"}},{"$error":"#DIV/0!"},{"$error":"#DIV/0!"},{"$f":"IF(E25=BM2,0,IF(E26=BJ2,A78,A78))","v":{"$error":"#DIV/0!"}},{"$f":"IF(E25=BM2,0,R73-BI21-BG32)","v":{"$error":"#DIV/0!"}},{"$f":"IF(E25=BM2,0,IF(E26=BJ2,0,C78))","v":{"$error":"#DIV/0!"}},{"$f":"IF(E26=BJ2,0,J70)","v":{"$error":"#DIV/0!"}},{"$f":"IF(AND($E$26=$BJ$5,$E$25=$BM$3),E78,)","v":{"$error":"#DIV/0!"}},{"$error":"#DIV/0!"},{"$f":"IF(OR(E26=BJ4,E26=BJ5),Q71-BG32,)","v":{"$error":"#DIV/0!"}},{"$f":"IF(OR(E26=BJ4,E26=BJ5),BG32,)","v":{"$error":"#DIV/0!"}},{"$f":"IF(AND(E25=BM3,OR(E26=BJ4,E26=BJ5)),Q72-BG32,)","v":{"$error":"#DIV/0!"}},{"$f":"IF(AND(E25=BM3,OR(E26=BJ4,E26=BJ5)),P70,)","v":{"$error":"#DIV/0!"}},0,{"$f":"(BG28/2)+(BG27/2)","v":{"$error":"#DIV/0!"}},null,{"$f":"IF(I26=1,BX26-BX32,AJ83-BX32+BX14)","v":{"$error":"#DIV/0!"}},{"$f":"BX32","v":{"$error":"#DIV/0!"}},{"$f":"IF(I26<>CA2,V78+BX18,)","v":{"$error":"#DIV/0!"}},{"$f":"IF(I26<>CA2,BX32,)","v":{"$error":"#DIV/0!"}},{"$error":"#DIV/0!"},{"$error":"#DIV/0!"},{"$f":"IF(I25=CD2,0,IF(I26=CA2,T78,T78))","v":{"$error":"#DIV/0!"}},{"$f":"IF(I25=CD2,0,AK73-BZ21-BX32)","v":{"$error":"#DIV/0!"}},{"$f":"IF(I25=CD2,0,IF(I26=CA2,0,V78))","v":{"$error":"#DIV/0!"}},{"$f":"IF(I26=CA2,0,AC70)","v":{"$error":"#DIV/0!"}},{"$f":"IF(AND($I$26=$BJ$5,$I$25=$BM$3),X78,)","v":{"$error":"#DIV/0!"}},{"$error":"#DIV/0!"},{"$f":"IF(OR(I26=CA4,I26=CA5),AJ71-BX32,)","v":{"$error":"#DIV/0!"}},{"$f":"IF(OR(I26=CA4,I26=CA5),BX32,)","v":{"$error":"#DIV/0!"}},{"$f":"IF(AND(I25=CD3,OR(I26=CA4,I26=CA5)),AJ72-BX32,)","v":{"$error":"#DIV/0!"}},{"$f":"IF(AND(I25=CD3,OR(I26=CA4,I26=CA5)),AI70,)","v":{"$error":"#DIV/0!"}},0,{"$f":"(BX28/2)+(BX27/2)","v":{"$error":"#DIV/0!"}},null,{"$f":"IF(L26=1,CO26-CO32,BC83-CO32+CO14)","v":{"$error":"#DIV/0!"}},{"$f":"CO32","v":{"$error":"#DIV/0!"}},{"$f":"IF(L26<>CR2,AO78+CO18,)","v":{"$error":"#DIV/0!"}},{"$f":"IF(L26<>CR2,CO32,)","v":{"$error":"#DIV/0!"}},{"$error":"#DIV/0!"},{"$error":"#DIV/0!"},{"$f":"IF(L25=CU2,0,IF(L26=CR2,AM78,AM78))","v":{"$error":"#DIV/0!"}},{"$f":"IF(L25=CU2,0,BD73-CQ21-CO32)","v":{"$error":"#DIV/0!"}},{"$f":"IF(L25=CU2,0,IF(L26=CR2,0,AO78))","v":{"$error":"#DIV/0!"}},{"$f":"IF(L26=CR2,0,AV70)","v":{"$error":"#DIV/0!"}},{"$f":"IF(AND($L$26=$BJ$5,$L$25=$BM$3),AQ78,)","v":{"$error":"#DIV/0!"}},{"$error":"#DIV/0!"},{"$f":"IF(OR(L26=CR4,L26=CR5),BC71-CO32,)","v":{"$error":"#DIV/0!"}},{"$f":"IF(OR(L26=CR4,L26=CR5),CO32,)","v":{"$error":"#DIV/0!"}},{"$f":"IF(AND(L25=CU3,OR(L26=CR4,L26=CR5)),BC72-CO32,)","v":{"$error":"#DIV/0!"}},{"$f":"IF(AND(L25=CU3,OR(L26=CR4,L26=CR5)),BB70,)","v":{"$error":"#DIV/0!"}},0,{"$f":"(CO28/2)+(CO27/2)","v":{"$error":"#DIV/0!"}}]
[{"$f":"A74-BJ12-(BG14/2.75)","v":{"$error":"#DIV/0!"}},{"$f":"BI21/4","v":{"$error":"#DIV/0!"}},{"$f":"IF(E26<>BJ2,C74-BM18-(BG18/2.75),)","v":{"$error":"#DIV/0!"}},{"$f":"IF(E26<>BJ2,B75,)","v":{"$error":"#DIV/0!"}},{"$error":"#DIV/0!"},{"$error":"#DIV/0!"},{"$f":"IF(E25=BM2,0,A77)","v":{"$error":"#DIV/0!"}},{"$f":"IF(E25=BM2,0,(BI21/4)+(BG28/2))","v":{"$error":"#DIV/0!"}},{"$f":"IF(E25=BM2,0,IF(E26=BJ2,0,C77))","v":{"$error":"#DIV/0!"}},{"$f":"IF(E26=BJ2,0,H75)","v":{"$error":"#DIV/0!"}},{"$f":"IF(AND($E$26=$BJ$5,$E$25=$BM$3),E77,)","v":{"$error":"#DIV/0!"}},{"$error":"#DIV/0!"},{"$f":"IF(OR(E26=BJ4,E26=BJ5),M74-BM18,)","v":{"$error":"#DIV/0!"}},{"$f":"IF(OR(E26=BJ4,E26=BJ5),D75,)","v":{"$error":"#DIV/0!"}},{"$f":"IF(AND(E25=BM3,OR(E26=BJ4,E26=BJ5)),M74-BM18,)","v":{"$error":"#DIV/0!"}},{"$f":"IF(AND(E25=BM3,OR(E26=BJ4,E26=BJ5)),J75,)","v":{"$error":"#DIV/0!"}},0,{"$f":"(BG28/2)-(BG27/2)","v":{"$error":"#DIV/0!"}},null,{"$f":"T74-CA12-(BX14/2.75)","v":{"$error":"#DIV/0!"}},{"$f":"BZ21/4","v":{"$error":"#DIV/0!"}},{"$f":"IF(I26<>CA2,V74-CD18-(BX18/2.75),)","v":{"$error":"#DIV/0!"}},{"$f":"IF(I26<>CA2,U75,)","v":{"$error":"#DIV/0!"}},{"$error":"#DIV/0!"},{"$error":"#DIV/0!"},{"$f":"IF(I25=CD2,0,T77)","v":{"$error":"#DIV/0!"}},{"$f":"IF(I25=CD2,0,(BZ21/4)+(BX28/2))","v":{"$error":"#DIV/0!"}},{"$f":"IF(I25=CD2,0,IF(I26=CA2,0,V77))","v":{"$error":"#DIV/0!"}},{"$f":"IF(I26=CA2,0,AA75)","v":{"$error":"#DIV/0!"}},{"$f":"IF(AND($I$26=$BJ$5,$I$25=$BM$3),X77,)","v":{"$error":"#DIV/0!"}},{"$error":"#DIV/0!"},{"$f":"IF(OR(I26=CA4,I26=CA5),AF74-CD18,)","v":{"$error":"#DIV/0!"}},{"$f":"IF(OR(I26=CA4,I26=CA5),W75,)","v":{"$error":"#DIV/0!"}},{"$f":"IF(AND(I25=CD3,OR(I26=CA4,I26=CA5)),AF74-CD18,)","v":{"$error":"#DIV/0!"}},{"$f":"IF(AND(I25=CD3,OR(I26=CA4,I26=CA5)),AC75,)","v":{"$error":"#DIV/0!"}},0,{"$f":"(BX28/2)-(BX27/2)","v":{"$error":"#DIV/0!"}},null,{"$f":"AM74-CR12-(CO14/2.75)","v":{"$error":"#DIV/0!"}},{"$f":"CQ21/4","v":{"$error":"#DIV/0!"}},{"$f":"IF(L26<>CR2,AO74-CU18-(CO18/2.75),)","v":{"$error":"#DIV/0!"}},{"$f":"IF(L26<>CR2,AN75,)","v":{"$error":"#DIV/0!"}},{"$error":"#DIV/0!"},{"$error":"#DIV/0!"},{"$f":"IF(L25=CU2,0,AM77)","v":{"$error":"#DIV/0!"}},{"$f":"IF(L25=CU2,0,(CQ21/4)+(CO28/2))","v":{"$error":"#DIV/0!"}},{"$f":"IF(L25=CU2,0,IF(L26=CR2,0,AO77))","v":{"$error":"#DIV/0!"}},{"$f":"IF(L26=CR2,0,AT75)","v":{"$error":"#DIV/0!"}},{"$f":"IF(AND($L$26=$BJ$5,$L$25=$BM$3),AQ77,)","v":{"$error":"#DIV/0!"}},{"$error":"#DIV/0!"},{"$f":"IF(OR(L26=CR4,L26=CR5),AY74-CU18,)","v":{"$error":"#DIV/0!"}},{"$f":"IF(OR(L26=CR4,L26=CR5),AP75,)","v":{"$error":"#DIV/0!"}},{"$f":"IF(AND(L25=CU3,OR(L26=CR4,L26=CR5)),AY74-CU18,)","v":{"$error":"#DIV/0!"}},{"$f":"IF(AND(L25=CU3,OR(L26=CR4,L26=CR5)),AV75,)","v":{"$error":"#DIV/0!"}},0,{"$f":"(CO28/2)-(CO27/2)","v":{"$error":"#DIV/0!"}}]
[{"$f":"A74-BI12-(BG14/1.6)","v":{"$error":"#DIV/0!"}},{"$f":"BG28/4","v":{"$error":"#DIV/0!"}},{"$f":"IF(E26<>BJ2,C74-BL18-(BG18/1.6),)","v":{"$error":"#DIV/0!"}},{"$f":"IF(E26<>BJ2,B76,)","v":{"$error":"#DIV/0!"}},{"$error":"#DIV/0!"},{"$error":"#DIV/0!"},{"$f":"IF(E25=BM2,0,A76)","v":{"$error":"#DIV/0!"}},{"$f":"IF(E25=BM2,0,(BG28/4)+(BG28/2))","v":{"$error":"#DIV/0!"}},{"$f":"IF(E25=BM2,0,IF(E26=BJ2,0,C76))","v":{"$error":"#DIV/0!"}},{"$f":"IF(E26=BJ2,0,H76)","v":{"$error":"#DIV/0!"}},{"$f":"IF(AND($E$26=$BJ$5,$E$25=$BM$3),E76,)","v":{"$error":"#DIV/0!"}},{"$error":"#DIV/0!"},{"$f":"IF(OR(E26=BJ4,E26=BJ5),M74-BL18,)","v":{"$error":"#DIV/0!"}},{"$f":"IF(OR(E26=BJ4,E26=BJ5),D76,)","v":{"$error":"#DIV/0!"}},{"$f":"IF(AND(E25=BM3,OR(E26=BJ4,E26=BJ5)),M74-BL18,)","v":{"$error":"#DIV/0!"}},{"$f":"IF(AND(E25=BM3,OR(E26=BJ4,E26=BJ5)),J76,)","v":{"$error":"#DIV/0!"}},{"$f":"Q70","v":{"$error":"#DIV/0!"}},0,null,{"$f":"T74-BZ12-(BX14/1.6)","v":{"$error":"#DIV/0!"}},{"$f":"BX28/4","v":{"$error":"#DIV/0!"}},{"$f":"IF(I26<>CA2,V74-CC18-(BX18/1.6),)","v":{"$error":"#DIV/0!"}},{"$f":"IF(I26<>CA2,U76,)","v":{"$error":"#DIV/0!"}},{"$error":"#DIV/0!"},{"$error":"#DIV/0!"},{"$f":"IF(I25=CD2,0,T76)","v":{"$error":"#DIV/0!"}},{"$f":"IF(I25=CD2,0,(BX28/4)+(BX28/2))","v":{"$error":"#DIV/0!"}},{"$f":"IF(I25=CD2,0,IF(I26=CA2,0,V76))","v":{"$error":"#DIV/0!"}},{"$f":"IF(I26=CA2,0,AA76)","v":{"$error":"#DIV/0!"}},{"$f":"IF(AND($I$26=$BJ$5,$I$25=$BM$3),X76,)","v":{"$error":"#DIV/0!"}},{"$error":"#DIV/0!"},{"$f":"IF(OR(I26=CA4,I26=CA5),AF74-CC18,)","v":{"$error":"#DIV/0!"}},{"$f":"IF(OR(I26=CA4,I26=CA5),W76,)","v":{"$error":"#DIV/0!"}},{"$f":"IF(AND(I25=CD3,OR(I26=CA4,I26=CA5)),AF74-CC18,)","v":{"$error":"#DIV/0!"}},{"$f":"IF(AND(I25=CD3,OR(I26=CA4,I26=CA5)),AC76,)","v":{"$error":"#DIV/0!"}},{"$f":"AJ70","v":{"$error":"#DIV/0!"}},0,null,{"$f":"AM74-CQ12-(CO14/1.6)","v":{"$error":"#DIV/0!"}},{"$f":"CO28/4","v":{"$error":"#DIV/0!"}},{"$f":"IF(L26<>CR2,AO74-CT18-(CO18/1.6),)","v":{"$error":"#DIV/0!"}},{"$f":"IF(L26<>CR2,AN76,)","v":{"$error":"#DIV/0!"}},{"$error":"#DIV/0!"},{"$error":"#DIV/0!"},{"$f":"IF(L25=CU2,0,AM76)","v":{"$error":"#DIV/0!"}},{"$f":"IF(L25=CU2,0,(CO28/4)+(CO28/2))","v":{"$error":"#DIV/0!"}},{"$f":"IF(L25=CU2,0,IF(L26=CR2,0,AO76))","v":{"$error":"#DIV/0!"}},{"$f":"IF(L26=CR2,0,AT76)","v":{"$error":"#DIV/0!"}},{"$f":"IF(AND($L$26=$BJ$5,$L$25=$BM$3),AQ76,)","v":{"$error":"#DIV/0!"}},{"$error":"#DIV/0!"},{"$f":"IF(OR(L26=CR4,L26=CR5),AY74-CT18,)","v":{"$error":"#DIV/0!"}},{"$f":"IF(OR(L26=CR4,L26=CR5),AP76,)","v":{"$error":"#DIV/0!"}},{"$f":"IF(AND(L25=CU3,OR(L26=CR4,L26=CR5)),AY74-CT18,)","v":{"$error":"#DIV/0!"}},{"$f":"IF(AND(L25=CU3,OR(L26=CR4,L26=CR5)),AV76,)","v":{"$error":"#DIV/0!"}},{"$f":"BC70","v":{"$error":"#DIV/0!"}},0]
[{"$f":"A78-BJ12+(BG14/5.5)","v":{"$error":"#DIV/0!"}},{"$f":"(BI21*0.75)","v":{"$error":"#DIV/0!"}},{"$f":"IF(E26<>BJ2,C78-BM18+(BG18/5),)","v":{"$error":"#DIV/0!"}},{"$f":"IF(E26<>BJ2,B77,)","v":{"$error":"#DIV/0!"}},{"$error":"#DIV/0!"},{"$error":"#DIV/0!"},{"$f":"IF(E25=BM2,0,A75)","v":{"$error":"#DIV/0!"}},{"$f":"IF(E25=BM2,0,(BI21*0.75)+(BG28/2))","v":{"$error":"#DIV/0!"}},{"$f":"C75","v":{"$error":"#DIV/0!"}},{"$f":"IF(E26=BJ2,0,H77)","v":{"$error":"#DIV/0!"}},{"$f":"IF(AND($E$26=$BJ$5,$E$25=$BM$3),E75,)","v":{"$error":"#DIV/0!"}},{"$error":"#DIV/0!"},{"$f":"IF(OR(E26=BJ4,E26=BJ5),M75,)","v":{"$error":"#DIV/0!"}},{"$f":"IF(OR(E26=BJ4,E26=BJ5),D77,)","v":{"$error":"#DIV/0!"}},{"$f":"IF(AND(E25=BM3,OR(E26=BJ4,E26=BJ5)),O75,)","v":{"$error":"#DIV/0!"}},{"$f":"IF(OR(E26=BJ4,E26=BJ5),J77,)","v":{"$error":"#DIV/0!"}},{"$f":"Q70","v":{"$error":"#DIV/0!"}},{"$f":"R70","v":0},null,{"$f":"T78-CA12+(BX14/5.5)","v":{"$error":"#DIV/0!"}},{"$f":"(BZ21*0.75)","v":{"$error":"#DIV/0!"}},{"$f":"IF(I26<>CA2,V78-CD18+(BX18/5),)","v":{"$error":"#DIV/0!"}},{"$f":"IF(I26<>CA2,U77,)","v":{"$error":"#DIV/0!"}},{"$error":"#DIV/0!"},{"$error":"#DIV/0!"},{"$f":"IF(I25=CD2,0,T75)","v":{"$error":"#DIV/0!"}},{"$f":"IF(I25=CD2,0,(BZ21*0.75)+(BX28/2))","v":{"$error":"#DIV/0!"}},{"$f":"V75","v":{"$error":"#DIV/0!"}},{"$f":"IF(I26=CA2,0,AA77)","v":{"$error":"#DIV/0!"}},{"$f":"IF(AND($I$26=$BJ$5,$I$25=$BM$3),X75,)","v":{"$error":"#DIV/0!"}},{"$error":"#DIV/0!"},{"$f":"IF(OR(I26=CA4,I26=CA5),AF75,)","v":{"$error":"#DIV/0!"}},{"$f":"IF(OR(I26=CA4,I26=CA5),W77,)","v":{"$error":"#DIV/0!"}},{"$f":"IF(AND(I25=CD3,OR(I26=CA4,I26=CA5)),AH75,)","v":{"$error":"#DIV/0!"}},{"$f":"IF(OR(I26=CA4,I26=CA5),AC77,)","v":{"$error":"#DIV/0!"}},{"$f":"AJ70","v":{"$error":"#DIV/0!"}},{"$f":"AK70","v":0},null,{"$f":"AM78-CR12+(CO14/5.5)","v":{"$error":"#DIV/0!"}},{"$f":"(CQ21*0.75)","v":{"$error":"#DIV/0!"}},{"$f":"IF(L26<>CR2,AO78-CU18+(CO18/5),)","v":{"$error":"#DIV/0!"}},{"$f":"IF(L26<>CR2,AN77,)","v":{"$error":"#DIV/0!"}},{"$error":"#DIV/0!"},{"$error":"#DIV/0!"},{"$f":"IF(L25=CU2,0,AM75)","v":{"$error":"#DIV/0!"}},{"$f":"IF(L25=CU2,0,(CQ21*0.75)+(CO28/2))","v":{"$error":"#DIV/0!"}},{"$f":"AO75","v":{"$error":"#DIV/0!"}},{"$f":"IF(L26=CR2,0,AT77)","v":{"$error":"#DIV/0!"}},{"$f":"IF(AND($L$26=$BJ$5,$L$25=$BM$3),AQ75,)","v":{"$error":"#DIV/0!"}},{"$error":"#DIV/0!"},{"$f":"IF(OR(L26=CR4,L26=CR5),AY75,)","v":{"$error":"#DIV/0!"}},{"$f":"IF(OR(L26=CR4,L26=CR5),AP77,)","v":{"$error":"#DIV/0!"}},{"$f":"IF(AND(L25=CU3,OR(L26=CR4,L26=CR5)),BA75,)","v":{"$error":"#DIV/0!"}},{"$f":"IF(OR(L26=CR4,L26=CR5),AV77,)","v":{"$error":"#DIV/0!"}},{"$f":"BC70","v":{"$error":"#DIV/0!"}},{"$f":"BD70","v":0}]
[{"$f":"IF(E26=1,BG26-BG32,Q83-BG32)","v":{"$error":"#DIV/0!"}},{"$f":"(BG28/2)-BG32","v":{"$error":"#DIV/0!"}},{"$f":"IF(E26=BJ3,BG26-BG32,IF(E26=BJ4,Q81+(BG29/2)-BG32,IF(E26=BJ5,Q81+(BG29/3)-BG32,)))","v":{"$error":"#DIV/0!"}},{"$f":"IF(E26<>BJ2,(BG28/2)-BG32,)","v":{"$error":"#DIV/0!"}},{"$error":"#DIV/0!"},{"$error":"#DIV/0!"},{"$f":"IF(E25=BM2,0,A74)","v":{"$error":"#DIV/0!"}},{"$f":"IF(E25=BM2,0,BG28-BG32)","v":{"$error":"#DIV/0!"}},{"$f":"IF(E26=BJ2,0,C74)","v":{"$error":"#DIV/0!"}},{"$f":"IF(E26=BJ2,0,H78)","v":{"$error":"#DIV/0!"}},{"$f":"IF(AND($E$26=$BJ$5,$E$25=$BM$3),E74,)","v":{"$error":"#DIV/0!"}},{"$error":"#DIV/0!"},{"$f":"IF(OR(E26=BJ4,E26=BJ5),M74,)","v":{"$error":"#DIV/0!"}},{"$f":"IF(OR(E26=BJ4,E26=BJ5),D78,)","v":{"$error":"#DIV/0!"}},{"$f":"IF(AND(E25=BM3,OR(E26=BJ4,E26=BJ5)),M74,)","v":{"$error":"#DIV/0!"}},{"$f":"IF(OR(E26=BJ4,E26=BJ5),J78,)","v":{"$error":"#DIV/0!"}},{"$f":"BG26-BG29","v":{"$error":"#DIV/0!"}},{"$f":"BG28/2","v":{"$error":"#DIV/0!"}},null,{"$f":"IF(I26=1,BX26-BX32,AJ83-BX32)","v":{"$error":"#DIV/0!"}},{"$f":"(BX28/2)-BX32","v":{"$error":"#DIV/0!"}},{"$f":"IF(I26=CA3,BX26-BX32,IF(I26=CA4,AJ81+(BX29/2)-BX32,IF(I26=CA5,AJ81+(BX29/3)-BX32,)))","v":{"$error":"#DIV/0!"}},{"$f":"IF(I26<>CA2,(BX28/2)-BX32,)","v":{"$error":"#DIV/0!"}},{"$error":"#DIV/0!"},{"$error":"#DIV/0!"},{"$f":"IF(I25=CD2,0,T74)","v":{"$error":"#DIV/0!"}},{"$f":"IF(I25=CD2,0,BX28-BX32)","v":{"$error":"#DIV/0!"}},{"$f":"IF(I26=CA2,0,V74)","v":{"$error":"#DIV/0!"}},{"$f":"IF(I26=CA2,0,AA78)","v":{"$error":"#DIV/0!"}},{"$f":"IF(AND($I$26=$BJ$5,$I$25=$BM$3),X74,)","v":{"$error":"#DIV/0!"}},{"$error":"#DIV/0!"},{"$f":"IF(OR(I26=CA4,I26=CA5),AF74,)","v":{"$error":"#DIV/0!"}},{"$f":"IF(OR(I26=CA4,I26=CA5),W78,)","v":{"$error":"#DIV/0!"}},{"$f":"IF(AND(I25=CD3,OR(I26=CA4,I26=CA5)),AF74,)","v":{"$error":"#DIV/0!"}},{"$f":"IF(OR(I26=CA4,I26=CA5),AC78,)","v":{"$error":"#DIV/0!"}},{"$f":"BX26-BX29","v":{"$error":"#DIV/0!"}},{"$f":"BX28/2","v":{"$error":"#DIV/0!"}},null,{"$f":"IF(L26=1,CO26-CO32,BC83-CO32)","v":{"$error":"#DIV/0!"}},{"$f":"(CO28/2)-CO32","v":{"$error":"#DIV/0!"}},{"$f":"IF(L26=CR3,CO26-CO32,IF(L26=CR4,BC81+(CO29/2)-CO32,IF(L26=CR5,BC81+(CO29/3)-CO32,)))","v":{"$error":"#DIV/0!"}},{"$f":"IF(L26<>CR2,(CO28/2)-CO32,)","v":{"$error":"#DIV/0!"}},{"$error":"#DIV/0!"},{"$error":"#DIV/0!"},{"$f":"IF(L25=CU2,0,AM74)","v":{"$error":"#DIV/0!"}},{"$f":"IF(L25=CU2,0,CO28-CO32)","v":{"$error":"#DIV/0!"}},{"$f":"IF(L26=CR2,0,AO74)","v":{"$error":"#DIV/0!"}},{"$f":"IF(L26=CR2,0,AT78)","v":{"$error":"#DIV/0!"}},{"$f":"IF(AND($L$26=$BJ$5,$L$25=$BM$3),AQ74,)","v":{"$error":"#DIV/0!"}},{"$error":"#DIV/0!"},{"$f":"IF(OR(L26=CR4,L26=CR5),AY74,)","v":{"$error":"#DIV/0!"}},{"$f":"IF(OR(L26=CR4,L26=CR5),AP78,)","v":{"$error":"#DIV/0!"}},{"$f":"IF(AND(L25=CU3,OR(L26=CR4,L26=CR5)),AY74,)","v":{"$error":"#DIV/0!"}},{"$f":"IF(OR(L26=CR4,L26=CR5),AV78,)","v":{"$error":"#DIV/0!"}},{"$f":"CO26-CO29","v":{"$error":"#DIV/0!"}},{"$f":"CO28/2","v":{"$error":"#DIV/0!"}}]
[{"$f":"A78*0.75","v":{"$error":"#DIV/0!"}},{"$f":"B78-BJ13+(BG10/4)","v":{"$error":"#DIV/0!"}},{"$f":"IF(E26<>BJ2,C78-((C78-C82)/4),)","v":{"$error":"#DIV/0!"}},{"$f":"IF(E26<>BJ2,(BG28/2)-BJ18,)","v":{"$error":"#DIV/0!"}},{"$error":"#DIV/0!"},{"$error":"#DIV/0!"},{"$f":"IF(E25=BM2,0,A73)","v":{"$error":"#DIV/0!"}},{"$f":"IF(E25=BM2,0,R72-B73)","v":{"$error":"#DIV/0!"}},{"$f":"IF(E25=BM2,0,IF(E26=BJ2,0,C73))","v":{"$error":"#DIV/0!"}},{"$f":"IF(E25=BM2,0,IF(E26=BJ2,0,J78-BJ19))","v":{"$error":"#DIV/0!"}},{"$f":"IF(AND($E$26=$BJ$5,$E$25=$BM$3),E73,)","v":{"$error":"#DIV/0!"}},{"$error":"#DIV/0!"},{"$f":"IF(OR(E26=BJ4,E26=BJ5),M78-((M78-M82)/4),)","v":{"$error":"#DIV/0!"}},{"$f":"IF(OR(E26=BJ4,E26=BJ5),(BG28/2)-BJ18,)","v":{"$error":"#DIV/0!"}},{"$f":"IF(AND(E25=BM3,OR(E26=BJ4,E26=BJ5)),M73,)","v":{"$error":"#DIV/0!"}},{"$f":"IF(AND(E25=BM3,OR(E26=BJ4,E26=BJ5)),R72-BM19,)","v":{"$error":"#DIV/0!"}},{"$f":"Q73","v":{"$error":"#DIV/0!"}},{"$f":"R73","v":{"$error":"#DIV/0!"}},null,{"$f":"T78*0.75","v":{"$error":"#DIV/0!"}},{"$f":"U78-CA13+(BX10/4)","v":{"$error":"#DIV/0!"}},{"$f":"IF(I26<>CA2,V78-((V78-V82)/4),)","v":{"$error":"#DIV/0!"}},{"$f":"IF(I26<>CA2,(BX28/2)-CA18,)","v":{"$error":"#DIV/0!"}},{"$error":"#DIV/0!"},{"$error":"#DIV/0!"},{"$f":"IF(I25=CD2,0,T73)","v":{"$error":"#DIV/0!"}},{"$f":"IF(I25=CD2,0,AK72-U73)","v":{"$error":"#DIV/0!"}},{"$f":"IF(I25=CD2,0,IF(I26=CA2,0,V73))","v":{"$error":"#DIV/0!"}},{"$f":"IF(I25=CD2,0,IF(I26=CA2,0,AC78-CA19))","v":{"$error":"#DIV/0!"}},{"$f":"IF(AND($I$26=$BJ$5,$I$25=$BM$3),X73,)","v":{"$error":"#DIV/0!"}},{"$error":"#DIV/0!"},{"$f":"IF(OR(I26=CA4,I26=CA5),AF78-((AF78-AF82)/4),)","v":{"$error":"#DIV/0!"}},{"$f":"IF(OR(I26=CA4,I26=CA5),(BX28/2)-CA18,)","v":{"$error":"#DIV/0!"}},{"$f":"IF(AND(I25=CD3,OR(I26=CA4,I26=CA5)),AF73,)","v":{"$error":"#DIV/0!"}},{"$f":"IF(AND(I25=CD3,OR(I26=CA4,I26=CA5)),AK72-CD19,)","v":{"$error":"#DIV/0!"}},{"$f":"AJ73","v":{"$error":"#DIV/0!"}},{"$f":"AK73","v":{"$error":"#DIV/0!"}},null,{"$f":"AM78*0.75","v":{"$error":"#DIV/0!"}},{"$f":"AN78-CR13+(CO10/4)","v":{"$error":"#DIV/0!"}},{"$f":"IF(L26<>CR2,AO78-((AO78-AO82)/4),)","v":{"$error":"#DIV/0!"}},{"$f":"IF(L26<>CR2,(CO28/2)-CR18,)","v":{"$error":"#DIV/0!"}},{"$error":"#DIV/0!"},{"$error":"#DIV/0!"},{"$f":"IF(L25=CU2,0,AM73)","v":{"$error":"#DIV/0!"}},{"$f":"IF(L25=CU2,0,BD72-AN73)","v":{"$error":"#DIV/0!"}},{"$f":"IF(L25=CU2,0,IF(L26=CR2,0,AO73))","v":{"$error":"#DIV/0!"}},{"$f":"IF(L25=CU2,0,IF(L26=CR2,0,AV78-CR19))","v":{"$error":"#DIV/0!"}},{"$f":"IF(AND($L$26=$BJ$5,$L$25=$BM$3),AQ73,)","v":{"$error":"#DIV/0!"}},{"$error":"#DIV/0!"},{"$f":"IF(OR(L26=CR4,L26=CR5),AY78-((AY78-AY82)/4),)","v":{"$error":"#DIV/0!"}},{"$f":"IF(OR(L26=CR4,L26=CR5),(CO28/2)-CR18,)","v":{"$error":"#DIV/0!"}},{"$f":"IF(AND(L25=CU3,OR(L26=CR4,L26=CR5)),AY73,)","v":{"$error":"#DIV/0!"}},{"$f":"IF(AND(L25=CU3,OR(L26=CR4,L26=CR5)),BD72-CU19,)","v":{"$error":"#DIV/0!"}},{"$f":"BC73","v":{"$error":"#DIV/0!"}},{"$f":"BD73","v":{"$error":"#DIV/0!"}}]
[{"$f":"A78/2","v":{"$error":"#DIV/0!"}},{"$f":"B82-BI13-(BG10/2)","v":{"$error":"#DIV/0!"}},{"$f":"IF(E26<>BJ2,C78-((C78-C82)/2),)","v":{"$error":"#DIV/0!"}},{"$f":"IF(E26<>BJ2,(BG28/2)-BI18,)","v":{"$error":"#DIV/0!"}},{"$error":"#DIV/0!"},{"$error":"#DIV/0!"},{"$f":"IF(E25=BM2,0,A72)","v":{"$error":"#DIV/0!"}},{"$f":"IF(E25=BM2,0,R72-B72)","v":{"$error":"#DIV/0!"}},{"$f":"IF(E25=BM2,0,IF(E26=BJ2,0,C72))","v":{"$error":"#DIV/0!"}},{"$f":"IF(E25=BM2,0,IF(E26=BJ2,0,J78-BI19))","v":{"$error":"#DIV/0!"}},{"$f":"IF(AND($E$26=$BJ$5,$E$25=$BM$3),E72,)","v":{"$error":"#DIV/0!"}},{"$error":"#DIV/0!"},{"$f":"IF(OR(E26=BJ4,E26=BJ5),M78-((M78-M82)/2),)","v":{"$error":"#DIV/0!"}},{"$f":"IF(OR(E26=BJ4,E26=BJ5),(BG28/2)-BI18,)","v":{"$error":"#DIV/0!"}},{"$f":"IF(AND(E25=BM3,OR(E26=BJ4,E26=BJ5)),M72,)","v":{"$error":"#DIV/0!"}},{"$f":"IF(AND(E25=BM3,OR(E26=BJ4,E26=BJ5)),R72-BL19,)","v":{"$error":"#DIV/0!"}},{"$f":"Q75","v":0},{"$f":"R75","v":{"$error":"#DIV/0!"}},null,{"$f":"T78/2","v":{"$error":"#DIV/0!"}},{"$f":"U82-BZ13-(BX10/2)","v":{"$error":"#DIV/0!"}},{"$f":"IF(I26<>CA2,V78-((V78-V82)/2),)","v":{"$error":"#DIV/0!"}},{"$f":"IF(I26<>CA2,(BX28/2)-BZ18,)","v":{"$error":"#DIV/0!"}},{"$error":"#DIV/0!"},{"$error":"#DIV/0!"},{"$f":"IF(I25=CD2,0,T72)","v":{"$error":"#DIV/0!"}},{"$f":"IF(I25=CD2,0,AK72-U72)","v":{"$error":"#DIV/0!"}},{"$f":"IF(I25=CD2,0,IF(I26=CA2,0,V72))","v":{"$error":"#DIV/0!"}},{"$f":"IF(I25=CD2,0,IF(I26=CA2,0,AC78-BZ19))","v":{"$error":"#DIV/0!"}},{"$f":"IF(AND($I$26=$BJ$5,$I$25=$BM$3),X72,)","v":{"$error":"#DIV/0!"}},{"$error":"#DIV/0!"},{"$f":"IF(OR(I26=CA4,I26=CA5),AF78-((AF78-AF82)/2),)","v":{"$error":"#DIV/0!"}},{"$f":"IF(OR(I26=CA4,I26=CA5),(BX28/2)-BZ18,)","v":{"$error":"#DIV/0!"}},{"$f":"IF(AND(I25=CD3,OR(I26=CA4,I26=CA5)),AF72,)","v":{"$error":"#DIV/0!"}},{"$f":"IF(AND(I25=CD3,OR(I26=CA4,I26=CA5)),AK72-CC19,)","v":{"$error":"#DIV/0!"}},{"$f":"AJ75","v":0},{"$f":"AK75","v":{"$error":"#DIV/0!"}},null,{"$f":"AM78/2","v":{"$error":"#DIV/0!"}},{"$f":"AN82-CQ13-(CO10/2)","v":{"$error":"#DIV/0!"}},{"$f":"IF(L26<>CR2,AO78-((AO78-AO82)/2),)","v":{"$error":"#DIV/0!"}},{"$f":"IF(L26<>CR2,(CO28/2)-CQ18,)","v":{"$error":"#DIV/0!"}},{"$error":"#DIV/0!"},{"$error":"#DIV/0!"},{"$f":"IF(L25=CU2,0,AM72)","v":{"$error":"#DIV/0!"}},{"$f":"IF(L25=CU2,0,BD72-AN72)","v":{"$error":"#DIV/0!"}},{"$f":"IF(L25=CU2,0,IF(L26=CR2,0,AO72))","v":{"$error":"#DIV/0!"}},{"$f":"IF(L25=CU2,0,IF(L26=CR2,0,AV78-CQ19))","v":{"$error":"#DIV/0!"}},{"$f":"IF(AND($L$26=$BJ$5,$L$25=$BM$3),AQ72,)","v":{"$error":"#DIV/0!"}},{"$error":"#DIV/0!"},{"$f":"IF(OR(L26=CR4,L26=CR5),AY78-((AY78-AY82)/2),)","v":{"$error":"#DIV/0!"}},{"$f":"IF(OR(L26=CR4,L26=CR5),(CO28/2)-CQ18,)","v":{"$error":"#DIV/0!"}},{"$f":"IF(AND(L25=CU3,OR(L26=CR4,L26=CR5)),AY72,)","v":{"$error":"#DIV/0!"}},{"$f":"IF(AND(L25=CU3,OR(L26=CR4,L26=CR5)),BD72-CT19,)","v":{"$error":"#DIV/0!"}},{"$f":"BC75","v":0},{"$f":"BD75","v":{"$error":"#DIV/0!"}}]
[{"$f":"A78/4","v":{"$error":"#DIV/0!"}},{"$f":"B82-BJ13-(BG10/4)","v":{"$error":"#DIV/0!"}},{"$f":"IF(E26<>BJ2,C82+((C78-C82)/4),)","v":{"$error":"#DIV/0!"}},{"$f":"IF(E26<>BJ2,(BG28/2)-BJ18,)","v":{"$error":"#DIV/0!"}},{"$error":"#DIV/0!"},{"$error":"#DIV/0!"},{"$f":"IF(E25=BM2,0,A71)","v":{"$error":"#DIV/0!"}},{"$f":"IF(E25=BM2,0,R72-B71)","v":{"$error":"#DIV/0!"}},{"$f":"IF(E25=BM2,0,IF(E26=BJ2,0,C71))","v":{"$error":"#DIV/0!"}},{"$f":"IF(E26=BJ2,0,J79)","v":{"$error":"#DIV/0!"}},{"$f":"IF(AND($E$26=$BJ$5,$E$25=$BM$3),E71,)","v":{"$error":"#DIV/0!"}},{"$error":"#DIV/0!"},{"$f":"IF(OR(E26=BJ4,E26=BJ5),M82+((M78-M82)/4),)","v":{"$error":"#DIV/0!"}},{"$f":"IF(OR(E26=BJ4,E26=BJ5),N79,)","v":{"$error":"#DIV/0!"}},{"$f":"IF(AND(E25=BM3,OR(E26=BJ4,E26=BJ5)),M71,)","v":{"$error":"#DIV/0!"}},{"$f":"IF(OR(E26=BJ4,E26=BJ5),P79,)","v":{"$error":"#DIV/0!"}},{"$f":"Q78","v":{"$error":"#DIV/0!"}},{"$f":"BG28/2","v":{"$error":"#DIV/0!"}},null,{"$f":"T78/4","v":{"$error":"#DIV/0!"}},{"$f":"U82-CA13-(BX10/4)","v":{"$error":"#DIV/0!"}},{"$f":"IF(I26<>CA2,V82+((V78-V82)/4),)","v":{"$error":"#DIV/0!"}},{"$f":"IF(I26<>CA2,(BX28/2)-CA18,)","v":{"$error":"#DIV/0!"}},{"$error":"#DIV/0!"},{"$error":"#DIV/0!"},{"$f":"IF(I25=CD2,0,T71)","v":{"$error":"#DIV/0!"}},{"$f":"IF(I25=CD2,0,AK72-U71)","v":{"$error":"#DIV/0!"}},{"$f":"IF(I25=CD2,0,IF(I26=CA2,0,V71))","v":{"$error":"#DIV/0!"}},{"$f":"IF(I26=CA2,0,AC79)","v":{"$error":"#DIV/0!"}},{"$f":"IF(AND($I$26=$BJ$5,$I$25=$BM$3),X71,)","v":{"$error":"#DIV/0!"}},{"$error":"#DIV/0!"},{"$f":"IF(OR(I26=CA4,I26=CA5),AF82+((AF78-AF82)/4),)","v":{"$error":"#DIV/0!"}},{"$f":"IF(OR(I26=CA4,I26=CA5),AG79,)","v":{"$error":"#DIV/0!"}},{"$f":"IF(AND(I25=CD3,OR(I26=CA4,I26=CA5)),AF71,)","v":{"$error":"#DIV/0!"}},{"$f":"IF(OR(I26=CA4,I26=CA5),AI79,)","v":{"$error":"#DIV/0!"}},{"$f":"AJ78","v":{"$error":"#DIV/0!"}},{"$f":"BX28/2","v":{"$error":"#DIV/0!"}},null,{"$f":"AM78/4","v":{"$error":"#DIV/0!"}},{"$f":"AN82-CR13-(CO10/4)","v":{"$error":"#DIV/0!"}},{"$f":"IF(L26<>CR2,AO82+((AO78-AO82)/4),)","v":{"$error":"#DIV/0!"}},{"$f":"IF(L26<>CR2,(CO28/2)-CR18,)","v":{"$error":"#DIV/0!"}},{"$error":"#DIV/0!"},{"$error":"#DIV/0!"},{"$f":"IF(L25=CU2,0,AM71)","v":{"$error":"#DIV/0!"}},{"$f":"IF(L25=CU2,0,BD72-AN71)","v":{"$error":"#DIV/0!"}},{"$f":"IF(L25=CU2,0,IF(L26=CR2,0,AO71))","v":{"$error":"#DIV/0!"}},{"$f":"IF(L26=CR2,0,AV79)","v":{"$error":"#DIV/0!"}},{"$f":"IF(AND($L$26=$BJ$5,$L$25=$BM$3),AQ71,)","v":{"$error":"#DIV/0!"}},{"$error":"#DIV/0!"},{"$f":"IF(OR(L26=CR4,L26=CR5),AY82+((AY78-AY82)/4),)","v":{"$error":"#DIV/0!"}},{"$f":"IF(OR(L26=CR4,L26=CR5),AZ79,)","v":{"$error":"#DIV/0!"}},{"$f":"IF(AND(L25=CU3,OR(L26=CR4,L26=CR5)),AY71,)","v":{"$error":"#DIV/0!"}},{"$f":"IF(OR(L26=CR4,L26=CR5),BB79,)","v":{"$error":"#DIV/0!"}},{"$f":"BC78","v":{"$error":"#DIV/0!"}},{"$f":"CO28/2","v":{"$error":"#DIV/0!"}}]
[{"$f":"BG32","v":{"$error":"#DIV/0!"}},{"$f":"B78+BG10","v":{"$error":"#DIV/0!"}},{"$f":"IF(E26<>BJ2,Q78+BG32,)","v":{"$error":"#DIV/0!"}},{"$f":"IF(E26<>BJ2,D78,)","v":{"$error":"#DIV/0!"}},{"$f":"IF($E$26=$BJ$5,C82+($BG$29/3)+BG32,)","v":{"$error":"#DIV/0!"}},{"$error":"#DIV/0!"},{"$f":"IF(E25=BM2,0,A70)","v":{"$error":"#DIV/0!"}},{"$f":"H78","v":{"$error":"#DIV/0!"}},{"$f":"IF(E25=BM2,0,IF(E26=BJ2,0,C86))","v":{"$error":"#DIV/0!"}},{"$f":"IF(E26=BJ2,0,J78)","v":{"$error":"#DIV/0!"}},{"$f":"IF(AND($E$26=$BJ$5,$E$25=$BM$3),E86,)","v":{"$error":"#DIV/0!"}},{"$error":"#DIV/0!"},{"$f":"IF(E26=BJ4,Q81+(BG29/2)+BG32,IF(E26=BJ5,Q81+((BG29/3)*2))+BG32)","v":{"$error":"#DIV/0!"}},{"$f":"IF(OR(E26=BJ4,E26=BJ5),N78,)","v":{"$error":"#DIV/0!"}},{"$f":"IF(AND(E25=BM3,OR(E26=BJ4,E26=BJ5)),M70,)","v":{"$error":"#DIV/0!"}},{"$f":"IF(OR(E26=BJ4,E26=BJ5),P78,)","v":{"$error":"#DIV/0!"}},{"$f":"Q74","v":0},{"$f":"R74","v":{"$error":"#DIV/0!"}},null,{"$f":"BX32","v":{"$error":"#DIV/0!"}},{"$f":"U78+BX10","v":{"$error":"#DIV/0!"}},{"$f":"IF(I26<>CA2,AJ78+BX32,)","v":{"$error":"#DIV/0!"}},{"$f":"IF(I26<>CA2,W78,)","v":{"$error":"#DIV/0!"}},{"$f":"IF($I$26=$BJ$5,V82+($BG$29/3)+BX32,)","v":{"$error":"#DIV/0!"}},{"$error":"#DIV/0!"},{"$f":"IF(I25=CD2,0,T70)","v":{"$error":"#DIV/0!"}},{"$f":"AA78","v":{"$error":"#DIV/0!"}},{"$f":"IF(I25=CD2,0,IF(I26=CA2,0,V86))","v":{"$error":"#DIV/0!"}},{"$f":"IF(I26=CA2,0,AC78)","v":{"$error":"#DIV/0!"}},{"$f":"IF(AND($I$26=$BJ$5,$I$25=$BM$3),X86,)","v":{"$error":"#DIV/0!"}},{"$error":"#DIV/0!"},{"$f":"IF(I26=CA4,AJ81+(BX29/2)+BX32,IF(I26=CA5,AJ81+((BX29/3)*2))+BX32)","v":{"$error":"#DIV/0!"}},{"$f":"IF(OR(I26=CA4,I26=CA5),AG78,)","v":{"$error":"#DIV/0!"}},{"$f":"IF(AND(I25=CD3,OR(I26=CA4,I26=CA5)),AF70,)","v":{"$error":"#DIV/0!"}},{"$f":"IF(OR(I26=CA4,I26=CA5),AI78,)","v":{"$error":"#DIV/0!"}},{"$f":"AJ74","v":0},{"$f":"AK74","v":{"$error":"#DIV/0!"}},null,{"$f":"CO32","v":{"$error":"#DIV/0!"}},{"$f":"AN78+CO10","v":{"$error":"#DIV/0!"}},{"$f":"IF(L26<>CR2,BC78+CO32,)","v":{"$error":"#DIV/0!"}},{"$f":"IF(L26<>CR2,AP78,)","v":{"$error":"#DIV/0!"}},{"$f":"IF($L$26=$BJ$5,AO82+($BG$29/3)+CO32,)","v":{"$error":"#DIV/0!"}},{"$error":"#DIV/0!"},{"$f":"IF(L25=CU2,0,AM70)","v":{"$error":"#DIV/0!"}},{"$f":"AT78","v":{"$error":"#DIV/0!"}},{"$f":"IF(L25=CU2,0,IF(L26=CR2,0,AO86))","v":{"$error":"#DIV/0!"}},{"$f":"IF(L26=CR2,0,AV78)","v":{"$error":"#DIV/0!"}},{"$f":"IF(AND($L$26=$BJ$5,$L$25=$BM$3),AQ86,)","v":{"$error":"#DIV/0!"}},{"$error":"#DIV/0!"},{"$f":"IF(L26=CR4,BC81+(CO29/2)+CO32,IF(L26=CR5,BC81+((CO29/3)*2))+CO32)","v":{"$error":"#DIV/0!"}},{"$f":"IF(OR(L26=CR4,L26=CR5),AZ78,)","v":{"$error":"#DIV/0!"}},{"$f":"IF(AND(L25=CU3,OR(L26=CR4,L26=CR5)),AY70,)","v":{"$error":"#DIV/0!"}},{"$f":"IF(OR(L26=CR4,L26=CR5),BB78,)","v":{"$error":"#DIV/0!"}},{"$f":"BC74","v":0},{"$f":"BD74","v":{"$error":"#DIV/0!"}}]
[{"$f":"BJ15","v":{"$error":"#DIV/0!"}},{"$f":"B82-((B82-B86)/4)","v":{"$error":"#DIV/0!"}},{"$f":"IF(E26<>BJ2,C82+BJ17-(BG14/5.5),)","v":{"$error":"#DIV/0!"}},{"$f":"D77","v":{"$error":"#DIV/0!"}},{"$f":"IF($E$26=$BJ$5,M83-($BG$29/3),)","v":{"$error":"#DIV/0!"}},{"$error":"#DIV/0!"},{"$f":"IF(E25=BM2,0,A89)","v":{"$error":"#DIV/0!"}},{"$f":"IF(E25=BM2,0,R73-B89)","v":{"$error":"#DIV/0!"}},{"$f":"IF(E25=BM2,0,IF(E26=BJ2,0,C85))","v":{"$error":"#DIV/0!"}},{"$f":"J77","v":{"$error":"#DIV/0!"}},{"$f":"IF(AND($E$26=$BJ$5,$E$25=$BM$3),E85,)","v":{"$error":"#DIV/0!"}},{"$error":"#DIV/0!"},{"$f":"IF(OR(E26=BJ4,E26=BJ5),M82+BM18-(BG18/5),)","v":{"$error":"#DIV/0!"}},{"$f":"IF(OR(E26=BJ4,E26=BJ5),N77,)","v":{"$error":"#DIV/0!"}},{"$f":"IF(AND(E25=BM3,OR(E26=BJ4,E26=BJ5)),M85,)","v":{"$error":"#DIV/0!"}},{"$f":"IF(OR(E26=BJ4,E26=BJ5),J83,)","v":{"$error":"#DIV/0!"}},{"$f":"Q78","v":{"$error":"#DIV/0!"}},{"$f":"BG28/2","v":{"$error":"#DIV/0!"}},null,{"$f":"CA15","v":{"$error":"#DIV/0!"}},{"$f":"U82-((U82-U86)/4)","v":{"$error":"#DIV/0!"}},{"$f":"IF(I26<>CA2,V82+CA17-(BX14/5.5),)","v":{"$error":"#DIV/0!"}},{"$f":"W77","v":{"$error":"#DIV/0!"}},{"$f":"IF($I$26=$BJ$5,AF83-($BG$29/3),)","v":{"$error":"#DIV/0!"}},{"$error":"#DIV/0!"},{"$f":"IF(I25=CD2,0,T89)","v":{"$error":"#DIV/0!"}},{"$f":"IF(I25=CD2,0,AK73-U89)","v":{"$error":"#DIV/0!"}},{"$f":"IF(I25=CD2,0,IF(I26=CA2,0,V85))","v":{"$error":"#DIV/0!"}},{"$f":"AC77","v":{"$error":"#DIV/0!"}},{"$f":"IF(AND($I$26=$BJ$5,$I$25=$BM$3),X85,)","v":{"$error":"#DIV/0!"}},{"$error":"#DIV/0!"},{"$f":"IF(OR(I26=CA4,I26=CA5),AF82+CD18-(BX18/5),)","v":{"$error":"#DIV/0!"}},{"$f":"IF(OR(I26=CA4,I26=CA5),AG77,)","v":{"$error":"#DIV/0!"}},{"$f":"IF(AND(I25=CD3,OR(I26=CA4,I26=CA5)),AF85,)","v":{"$error":"#DIV/0!"}},{"$f":"IF(OR(I26=CA4,I26=CA5),AC83,)","v":{"$error":"#DIV/0!"}},{"$f":"AJ78","v":{"$error":"#DIV/0!"}},{"$f":"BX28/2","v":{"$error":"#DIV/0!"}},null,{"$f":"CR15","v":{"$error":"#DIV/0!"}},{"$f":"AN82-((AN82-AN86)/4)","v":{"$error":"#DIV/0!"}},{"$f":"IF(L26<>CR2,AO82+CR17-(CO14/5.5),)","v":{"$error":"#DIV/0!"}},{"$f":"AP77","v":{"$error":"#DIV/0!"}},{"$f":"IF($L$26=$BJ$5,AY83-($BG$29/3),)","v":{"$error":"#DIV/0!"}},{"$error":"#DIV/0!"},{"$f":"IF(L25=CU2,0,AM89)","v":{"$error":"#DIV/0!"}},{"$f":"IF(L25=CU2,0,BD73-AN89)","v":{"$error":"#DIV/0!"}},{"$f":"IF(L25=CU2,0,IF(L26=CR2,0,AO85))","v":{"$error":"#DIV/0!"}},{"$f":"AV77","v":{"$error":"#DIV/0!"}},{"$f":"IF(AND($L$26=$BJ$5,$L$25=$BM$3),AQ85,)","v":{"$error":"#DIV/0!"}},{"$error":"#DIV/0!"},{"$f":"IF(OR(L26=CR4,L26=CR5),AY82+CU18-(CO18/5),)","v":{"$error":"#DIV/0!"}},{"$f":"IF(OR(L26=CR4,L26=CR5),AZ77,)","v":{"$error":"#DIV/0!"}},{"$f":"IF(AND(L25=CU3,OR(L26=CR4,L26=CR5)),AY85,)","v":{"$error":"#DIV/0!"}},{"$f":"IF(OR(L26=CR4,L26=CR5),AV83,)","v":{"$error":"#DIV/0!"}},{"$f":"BC78","v":{"$error":"#DIV/0!"}},{"$f":"CO28/2","v":{"$error":"#DIV/0!"}}]
[{"$f":"BI15","v":{"$error":"#DIV/0!"}},{"$f":"B83-((B82-B86)/4)","v":{"$error":"#DIV/0!"}},{"$f":"IF(E26<>BJ2,C86+BI17+(BG14/1.6),)","v":{"$error":"#DIV/0!"}},{"$f":"IF(E26<>BJ2,D76,)","v":{"$error":"#DIV/0!"}},{"$f":"IF($E$26=$BJ$5,M84-($BG$29/3),)","v":{"$error":"#DIV/0!"}},{"$error":"#DIV/0!"},{"$f":"IF(E25=BM2,0,A88)","v":{"$error":"#DIV/0!"}},{"$f":"IF(E25=BM2,0,R73-B88)","v":{"$error":"#DIV/0!"}},{"$f":"IF(E25=BM2,0,IF(E26=BJ2,0,C84))","v":{"$error":"#DIV/0!"}},{"$f":"IF(E26=BJ2,0,J76)","v":{"$error":"#DIV/0!"}},{"$f":"IF(AND($E$26=$BJ$5,$E$25=$BM$3),E84,)","v":{"$error":"#DIV/0!"}},{"$error":"#DIV/0!"},{"$f":"IF(OR(E26=BJ4,E26=BJ5),M86+BL18+(BG18/1.6),)","v":{"$error":"#DIV/0!"}},{"$f":"IF(OR(E26=BJ4,E26=BJ5),N76,)","v":{"$error":"#DIV/0!"}},{"$f":"IF(AND(E25=BM3,OR(E26=BJ4,E26=BJ5)),M84,)","v":{"$error":"#DIV/0!"}},{"$f":"IF(OR(E26=BJ4,E26=BJ5),J84,)","v":{"$error":"#DIV/0!"}},{"$f":"BG26","v":{"$error":"#DIV/0!"}},{"$f":"R83","v":{"$error":"#DIV/0!"}},null,{"$f":"BZ15","v":{"$error":"#DIV/0!"}},{"$f":"U83-((U82-U86)/4)","v":{"$error":"#DIV/0!"}},{"$f":"IF(I26<>CA2,V86+BZ17+(BX14/1.6),)","v":{"$error":"#DIV/0!"}},{"$f":"IF(I26<>CA2,W76,)","v":{"$error":"#DIV/0!"}},{"$f":"IF($I$26=$BJ$5,AF84-($BG$29/3),)","v":{"$error":"#DIV/0!"}},{"$error":"#DIV/0!"},{"$f":"IF(I25=CD2,0,T88)","v":{"$error":"#DIV/0!"}},{"$f":"IF(I25=CD2,0,AK73-U88)","v":{"$error":"#DIV/0!"}},{"$f":"IF(I25=CD2,0,IF(I26=CA2,0,V84))","v":{"$error":"#DIV/0!"}},{"$f":"IF(I26=CA2,0,AC76)","v":{"$error":"#DIV/0!"}},{"$f":"IF(AND($I$26=$BJ$5,$I$25=$BM$3),X84,)","v":{"$error":"#DIV/0!"}},{"$error":"#DIV/0!"},{"$f":"IF(OR(I26=CA4,I26=CA5),AF86+CC18+(BX18/1.6),)","v":{"$error":"#DIV/0!"}},{"$f":"IF(OR(I26=CA4,I26=CA5),AG76,)","v":{"$error":"#DIV/0!"}},{"$f":"IF(AND(I25=CD3,OR(I26=CA4,I26=CA5)),AF84,)","v":{"$error":"#DIV/0!"}},{"$f":"IF(OR(I26=CA4,I26=CA5),AC84,)","v":{"$error":"#DIV/0!"}},{"$f":"BX26","v":{"$error":"#DIV/0!"}},{"$f":"AK83","v":{"$error":"#DIV/0!"}},null,{"$f":"CQ15","v":{"$error":"#DIV/0!"}},{"$f":"AN83-((AN82-AN86)/4)","v":{"$error":"#DIV/0!"}},{"$f":"IF(L26<>CR2,AO86+CQ17+(CO14/1.6),)","v":{"$error":"#DIV/0!"}},{"$f":"IF(L26<>CR2,AP76,)","v":{"$error":"#DIV/0!"}},{"$f":"IF($L$26=$BJ$5,AY84-($BG$29/3),)","v":{"$error":"#DIV/0!"}},{"$error":"#DIV/0!"},{"$f":"IF(L25=CU2,0,AM88)","v":{"$error":"#DIV/0!"}},{"$f":"IF(L25=CU2,0,BD73-AN88)","v":{"$error":"#DIV/0!"}},{"$f":"IF(L25=CU2,0,IF(L26=CR2,0,AO84))","v":{"$error":"#DIV/0!"}},{"$f":"IF(L26=CR2,0,AV76)","v":{"$error":"#DIV/0!"}},{"$f":"IF(AND($L$26=$BJ$5,$L$25=$BM$3),AQ84,)","v":{"$error":"#DIV/0!"}},{"$error":"#DIV/0!"},{"$f":"IF(OR(L26=CR4,L26=CR5),AY86+CT18+(CO18/1.6),)","v":{"$error":"#DIV/0!"}},{"$f":"IF(OR(L26=CR4,L26=CR5),AZ76,)","v":{"$error":"#DIV/0!"}},{"$f":"IF(AND(L25=CU3,OR(L26=CR4,L26=CR5)),AY84,)","v":{"$error":"#DIV/0!"}},{"$f":"IF(OR(L26=CR4,L26=CR5),AV84,)","v":{"$error":"#DIV/0!"}},{"$f":"CO26","v":{"$error":"#DIV/0!"}},{"$f":"BD83","v":{"$error":"#DIV/0!"}}]
[{"$f":"BJ15","v":{"$error":"#DIV/0!"}},{"$f":"B84-((B82-B86)/4)","v":{"$error":"#DIV/0!"}},{"$f":"IF(E26<>BJ2,C86+BJ17+(BG14/2.75),)","v":{"$error":"#DIV/0!"}},{"$f":"D75","v":{"$error":"#DIV/0!"}},{"$f":"IF($E$26=$BJ$5,M85-($BG$29/3),)","v":{"$error":"#DIV/0!"}},{"$error":"#DIV/0!"},{"$f":"IF(E25=BM2,0,A87)","v":{"$error":"#DIV/0!"}},{"$f":"IF(E25=BM2,0,R73-B87)","v":{"$error":"#DIV/0!"}},{"$f":"IF(E25=BM2,0,IF(E26=BJ2,0,C83))","v":{"$error":"#DIV/0!"}},{"$f":"J75","v":{"$error":"#DIV/0!"}},{"$f":"IF(AND($E$26=$BJ$5,$E$25=$BM$3),E83,)","v":{"$error":"#DIV/0!"}},{"$error":"#DIV/0!"},{"$f":"IF(OR(E26=BJ4,E26=BJ5),M86+BM18+(BG18/2.75),)","v":{"$error":"#DIV/0!"}},{"$f":"IF(OR(E26=BJ4,E26=BJ5),N75,)","v":{"$error":"#DIV/0!"}},{"$f":"IF(AND(E25=BM3,OR(E26=BJ4,E26=BJ5)),M83,)","v":{"$error":"#DIV/0!"}},{"$f":"IF(OR(E26=BJ4,E26=BJ5),J85,)","v":{"$error":"#DIV/0!"}},null,null,null,{"$f":"CA15","v":{"$error":"#DIV/0!"}},{"$f":"U84-((U82-U86)/4)","v":{"$error":"#DIV/0!"}},{"$f":"IF(I26<>CA2,V86+CA17+(BX14/2.75),)","v":{"$error":"#DIV/0!"}},{"$f":"W75","v":{"$error":"#DIV/0!"}},{"$f":"IF($I$26=$BJ$5,AF85-($BG$29/3),)","v":{"$error":"#DIV/0!"}},{"$error":"#DIV/0!"},{"$f":"IF(I25=CD2,0,T87)","v":{"$error":"#DIV/0!"}},{"$f":"IF(I25=CD2,0,AK73-U87)","v":{"$error":"#DIV/0!"}},{"$f":"IF(I25=CD2,0,IF(I26=CA2,0,V83))","v":{"$error":"#DIV/0!"}},{"$f":"AC75","v":{"$error":"#DIV/0!"}},{"$f":"IF(AND($I$26=$BJ$5,$I$25=$BM$3),X83,)","v":{"$error":"#DIV/0!"}},{"$error":"#DIV/0!"},{"$f":"IF(OR(I26=CA4,I26=CA5),AF86+CD18+(BX18/2.75),)","v":{"$error":"#DIV/0!"}},{"$f":"IF(OR(I26=CA4,I26=CA5),AG75,)","v":{"$error":"#DIV/0!"}},{"$f":"IF(AND(I25=CD3,OR(I26=CA4,I26=CA5)),AF83,)","v":{"$error":"#DIV/0!"}},{"$f":"IF(OR(I26=CA4,I26=CA5),AC85,)","v":{"$error":"#DIV/0!"}},null,null,null,{"$f":"CR15","v":{"$error":"#DIV/0!"}},{"$f":"AN84-((AN82-AN86)/4)","v":{"$error":"#DIV/0!"}},{"$f":"IF(L26<>CR2,AO86+CR17+(CO14/2.75),)","v":{"$error":"#DIV/0!"}},{"$f":"AP75","v":{"$error":"#DIV/0!"}},{"$f":"IF($L$26=$BJ$5,AY85-($BG$29/3),)","v":{"$error":"#DIV/0!"}},{"$error":"#DIV/0!"},{"$f":"IF(L25=CU2,0,AM87)","v":{"$error":"#DIV/0!"}},{"$f":"IF(L25=CU2,0,BD73-AN87)","v":{"$error":"#DIV/0!"}},{"$f":"IF(L25=CU2,0,IF(L26=CR2,0,AO83))","v":{"$error":"#DIV/0!"}},{"$f":"AV75","v":{"$error":"#DIV/0!"}},{"$f":"IF(AND($L$26=$BJ$5,$L$25=$BM$3),AQ83,)","v":{"$error":"#DIV/0!"}},{"$error":"#DIV/0!"},{"$f":"IF(OR(L26=CR4,L26=CR5),AY86+CU18+(CO18/2.75),)","v":{"$error":"#DIV/0!"}},{"$f":"IF(OR(L26=CR4,L26=CR5),AZ75,)","v":{"$error":"#DIV/0!"}},{"$f":"IF(AND(L25=CU3,OR(L26=CR4,L26=CR5)),AY83,)","v":{"$error":"#DIV/0!"}},{"$f":"IF(OR(L26=CR4,L26=CR5),AV85,)","v":{"$error":"#DIV/0!"}}]
[{"$f":"Q75+BG32","v":{"$error":"#DIV/0!"}},{"$f":"R75","v":{"$error":"#DIV/0!"}},{"$f":"IF(E26<>BJ2,C70,)","v":{"$error":"#DIV/0!"}},{"$f":"IF(E26<>BJ2,BG32,)","v":{"$error":"#DIV/0!"}},{"$f":"E70","v":{"$error":"#DIV/0!"}},{"$error":"#DIV/0!"},{"$f":"IF(E25=BM2,0,BG32)","v":{"$error":"#DIV/0!"}},{"$f":"IF(E25=BM2,0,R74)","v":{"$error":"#DIV/0!"}},{"$f":"IF(E26=BJ2,0,I70)","v":{"$error":"#DIV/0!"}},{"$f":"IF(E26=BJ2,0,J70)","v":{"$error":"#DIV/0!"}},{"$f":"IF(AND($E$26=$BJ$5,$E$25=$BM$3),E82,)","v":{"$error":"#DIV/0!"}},{"$error":"#DIV/0!"},{"$f":"IF(OR(E26=BJ4,E26=BJ5),M70,)","v":{"$error":"#DIV/0!"}},{"$f":"IF(OR(E26=BJ4,E26=BJ5),N74,)","v":{"$error":"#DIV/0!"}},{"$f":"IF(AND(E25=BM3,OR(E26=BJ4,E26=BJ5)),O70,)","v":{"$error":"#DIV/0!"}},{"$f":"IF(OR(E26=BJ4,E26=BJ5),P70,)","v":{"$error":"#DIV/0!"}},null,null,null,{"$f":"AJ75+BX32","v":{"$error":"#DIV/0!"}},{"$f":"AK75","v":{"$error":"#DIV/0!"}},{"$f":"IF(I26<>CA2,V70,)","v":{"$error":"#DIV/0!"}},{"$f":"IF(I26<>CA2,BX32,)","v":{"$error":"#DIV/0!"}},{"$f":"X70","v":{"$error":"#DIV/0!"}},{"$error":"#DIV/0!"},{"$f":"IF(I25=CD2,0,BX32)","v":{"$error":"#DIV/0!"}},{"$f":"IF(I25=CD2,0,AK74)","v":{"$error":"#DIV/0!"}},{"$f":"IF(I26=CA2,0,AB70)","v":{"$error":"#DIV/0!"}},{"$f":"IF(I26=CA2,0,AC70)","v":{"$error":"#DIV/0!"}},{"$f":"IF(AND($I$26=$BJ$5,$I$25=$BM$3),X82,)","v":{"$error":"#DIV/0!"}},{"$error":"#DIV/0!"},{"$f":"IF(OR(I26=CA4,I26=CA5),AF70,)","v":{"$error":"#DIV/0!"}},{"$f":"IF(OR(I26=CA4,I26=CA5),AG74,)","v":{"$error":"#DIV/0!"}},{"$f":"IF(AND(I25=CD3,OR(I26=CA4,I26=CA5)),AH70,)","v":{"$error":"#DIV/0!"}},{"$f":"IF(OR(I26=CA4,I26=CA5),AI70,)","v":{"$error":"#DIV/0!"}},null,null,null,{"$f":"BC75+CO32","v":{"$error":"#DIV/0!"}},{"$f":"BD75","v":{"$error":"#DIV/0!"}},{"$f":"IF(L26<>CR2,AO70,)","v":{"$error":"#DIV/0!"}},{"$f":"IF(L26<>CR2,CO32,)","v":{"$error":"#DIV/0!"}},{"$f":"AQ70","v":{"$error":"#DIV/0!"}},{"$error":"#DIV/0!"},{"$f":"IF(L25=CU2,0,CO32)","v":{"$error":"#DIV/0!"}},{"$f":"IF(L25=CU2,0,BD74)","v":{"$error":"#DIV/0!"}},{"$f":"IF(L26=CR2,0,AU70)","v":{"$error":"#DIV/0!"}},{"$f":"IF(L26=CR2,0,AV70)","v":{"$error":"#DIV/0!"}},{"$f":"IF(AND($L$26=$BJ$5,$L$25=$BM$3),AQ82,)","v":{"$error":"#DIV/0!"}},{"$error":"#DIV/0!"},{"$f":"IF(OR(L26=CR4,L26=CR5),AY70,)","v":{"$error":"#DIV/0!"}},{"$f":"IF(OR(L26=CR4,L26=CR5),AZ74,)","v":{"$error":"#DIV/0!"}},{"$f":"IF(AND(L25=CU3,OR(L26=CR4,L26=CR5)),BA70,)","v":{"$error":"#DIV/0!"}},{"$f":"IF(OR(L26=CR4,L26=CR5),BB70,)","v":{"$error":"#DIV/0!"}}]
[{"$f":"A90*0.4","v":{"$error":"#DIV/0!"}},{"$f":"B86*0.85","v":{"$error":"#DIV/0!"}},null,null,null,null,{"$f":"IF(E25=BM2,0,A83)","v":{"$error":"#DIV/0!"}},{"$f":"IF(E25=BM2,0,H86-((H86-H90)/4))","v":{"$error":"#DIV/0!"}},null,null,null,null,null,null,null,null,null,null,null,{"$f":"T90*0.4","v":{"$error":"#DIV/0!"}},{"$f":"U86*0.85","v":{"$error":"#DIV/0!"}},null,null,null,null,{"$f":"IF(I25=CD2,0,T83)","v":{"$error":"#DIV/0!"}},{"$f":"IF(I25=CD2,0,AA86-((AA86-AA90)/4))","v":{"$error":"#DIV/0!"}},null,null,null,null,null,null,null,null,null,null,null,{"$f":"AM90*0.4","v":{"$error":"#DIV/0!"}},{"$f":"AN86*0.85","v":{"$error":"#DIV/0!"}},null,null,null,null,{"$f":"IF(L25=CU2,0,AM83)","v":{"$error":"#DIV/0!"}},{"$f":"IF(L25=CU2,0,AT86-((AT86-AT90)/4))","v":{"$error":"#DIV/0!"}}]
[{"$f":"A90*0.65","v":{"$error":"#DIV/0!"}},{"$f":"B86*0.65","v":{"$error":"#DIV/0!"}},null,null,null,null,{"$f":"IF(E25=BM2,0,A84)","v":{"$error":"#DIV/0!"}},{"$f":"IF(E25=BM2,0,H87-((H86-H90)/4))","v":{"$error":"#DIV/0!"}},null,null,null,null,null,null,null,null,null,null,null,{"$f":"T90*0.65","v":{"$error":"#DIV/0!"}},{"$f":"U86*0.65","v":{"$error":"#DIV/0!"}},null,null,null,null,{"$f":"IF(I25=CD2,0,T84)","v":{"$error":"#DIV/0!"}},{"$f":"IF(I25=CD2,0,AA87-((AA86-AA90)/4))","v":{"$error":"#DIV/0!"}},null,null,null,null,null,null,null,null,null,null,null,{"$f":"AM90*0.65","v":{"$error":"#DIV/0!"}},{"$f":"AN86*0.65","v":{"$error":"#DIV/0!"}},null,null,null,null,{"$f":"IF(L25=CU2,0,AM84)","v":{"$error":"#DIV/0!"}},{"$f":"IF(L25=CU2,0,AT87-((AT86-AT90)/4))","v":{"$error":"#DIV/0!"}}]
[{"$f":"A90*0.9","v":{"$error":"#DIV/0!"}},{"$f":"B86*0.3","v":{"$error":"#DIV/0!"}},null,null,null,null,{"$f":"IF(E25=BM2,0,A85)","v":{"$error":"#DIV/0!"}},{"$f":"IF(E25=BM2,0,H88-((H86-H90)/4))","v":{"$error":"#DIV/0!"}},null,null,null,null,null,null,null,null,null,null,null,{"$f":"T90*0.9","v":{"$error":"#DIV/0!"}},{"$f":"U86*0.3","v":{"$error":"#DIV/0!"}},null,null,null,null,{"$f":"IF(I25=CD2,0,T85)","v":{"$error":"#DIV/0!"}},{"$f":"IF(I25=CD2,0,AA88-((AA86-AA90)/4))","v":{"$error":"#DIV/0!"}},null,null,null,null,null,null,null,null,null,null,null,{"$f":"AM90*0.9","v":{"$error":"#DIV/0!"}},{"$f":"AN86*0.3","v":{"$error":"#DIV/0!"}},null,null,null,null,{"$f":"IF(L25=CU2,0,AM85)","v":{"$error":"#DIV/0!"}},{"$f":"IF(L25=CU2,0,AT88-((AT86-AT90)/4))","v":{"$error":"#DIV/0!"}}]
[{"$f":"A70","v":{"$error":"#DIV/0!"}},{"$f":"B70","v":{"$error":"#DIV/0!"}},null,null,null,null,{"$f":"IF(E25=BM2,0,A82)","v":{"$error":"#DIV/0!"}},{"$f":"H70","v":{"$error":"#DIV/0!"}},null,null,null,null,null,null,null,null,null,null,null,{"$f":"T70","v":{"$error":"#DIV/0!"}},{"$f":"U70","v":{"$error":"#DIV/0!"}},null,null,null,null,{"$f":"IF(I25=CD2,0,T82)","v":{"$error":"#DIV/0!"}},{"$f":"AA70","v":{"$error":"#DIV/0!"}},null,null,null,null,null,null,null,null,null,null,null,{"$f":"AM70","v":{"$error":"#DIV/0!"}},{"$f":"AN70","v":{"$error":"#DIV/0!"}},null,null,null,null,{"$f":"IF(L25=CU2,0,AM82)","v":{"$error":"#DIV/0!"}},{"$f":"AT70","v":{"$error":"#DIV/0!"}}]

{"sheet":" ","index":9,"n_rows":0,"n_cols":0,"rows_kept":0,"cut":false,"hidden":false,"merged":[]}

{"sheet":"  ","index":10,"n_rows":46,"n_cols":4,"rows_kept":46,"cut":false,"hidden":false,"merged":[]}
[]
[]
[]
[]
["Material","Factor"]
["Solid",4.54]
["Duplex/FR",5]
["FR Duplex",6]
[]
["Material cost (FCC)",13.25]
["Silicon cost (PE)",3]
[]
["Shape factors"]
["Standard",1]
["Diamond/Triangle",0.75]
["Victorian",0.85]
[null,null,null,"Cost calculated for additional fitting based on £5 corner charge + fittings"]
["Corner factors (PN)"]
["3/4 sided",4.25]
["5/6 sided",4.75]
["Additional fitting",32]
[]
["Cost of fitting"]
["SS",7]
["White/Gold",12]
["Difference",{"$f":"B25-B24","v":5}]
[]
["Special costs"]
["Access hole",50]
["Tie-Bar loop",75]
["Straight edge",100]
[]
["Shipping",20]
[]
["Packing",5]
[]
["Small job fee"]
["Threshold",1500]
["% increase",0.2]
["Fee cap",200]
[]
["Starting Cost incl. Installation"]
["Average Cost incl. Installation"]
["High End Cost incl. Installation"]
[]
["v2023.2"]

{"sheet":"   ","index":11,"n_rows":15,"n_cols":45,"rows_kept":15,"cut":false,"hidden":false,"merged":[[16,0,17,0],[16,1,17,1]]}
["Additional Costs",null,null,null,null,null,null,null,null,null,null,"Raw","Small job fee","New cost","Incl. VAT","DIY/Install","New cost","Ext. fee","New cost","Ext. margin","New cost",null,null,"Raw","Small job fee","New cost","Incl. VAT","DIY/Install","New cost","Ext. fee","New cost","Ext. margin","New cost",null,null,"Raw","Small job fee","New cost","Incl. VAT","DIY/Install","New cost","Ext. fee","New cost","Ext. margin","New cost"]
["If job value is below (incl. VAT)","Then add (incl. VAT)",null,null,null,null,null,null,null,null,"Roof Lantern",{"$f":"'Roof Lantern'!E18","v":{"$error":"#DIV/0!"}},{"$f":"IF(L2<'  '!$B$38,IF((('  '!$B$38-L2)*'  '!$B$39)>'  '!$B$40,'  '!$B$40,(('  '!$B$38-L2)*'  '!$B$39)),)","v":{"$error":"#DIV/0!"}},{"$f":"L2+M2","v":{"$error":"#DIV/0!"}},{"$f":"N2*(1+VAT!$B$2)","v":{"$error":"#DIV/0!"}},{"$f":"IF('   '!O2*'   '!$B$9<'   '!$B$10,'   '!$B$10,'   '!O2*'   '!$B$9)","v":{"$error":"#DIV/0!"}},{"$f":"O2+P2","v":{"$error":"#DIV/0!"}},{"$f":"IF(O2<$A$3,$B$3,0)","v":{"$error":"#DIV/0!"}},{"$f":"Q2+R2","v":{"$error":"#DIV/0!"}},{"$f":"O2*$A$6","v":{"$error":"#DIV/0!"}},{"$f":"S2+T2","v":{"$error":"#DIV/0!"}},null,"Roof Lantern",{"$f":"'Roof Lantern'!J18","v":{"$error":"#DIV/0!"}},{"$f":"IF(X2<'  '!$B$38,IF((('  '!$B$38-X2)*'  '!$B$39)>'  '!$B$40,'  '!$B$40,(('  '!$B$38-X2)*'  '!$B$39)),)","v":{"$error":"#DIV/0!"}},{"$f":"X2+Y2","v":{"$error":"#DIV/0!"}},{"$f":"Z2*(1+VAT!$B$2)","v":{"$error":"#DIV/0!"}},{"$f":"IF('   '!AA2*'   '!$B$9<'   '!$B$10,'   '!$B$10,'   '!AA2*'   '!$B$9)","v":{"$error":"#DIV/0!"}},{"$f":"AA2+AB2","v":{"$error":"#DIV/0!"}},{"$f":"IF(AA2<$A$3,$B$3,0)","v":{"$error":"#DIV/0!"}},{"$f":"AC2+AD2","v":{"$error":"#DIV/0!"}},{"$f":"AA2*$A$6","v":{"$error":"#DIV/0!"}},{"$f":"AE2+AF2","v":{"$error":"#DIV/0!"}},null,"Roof Lantern",{"$f":"'Roof Lantern'!N18","v":{"$error":"#DIV/0!"}},{"$f":"IF(AJ2<'  '!$B$38,IF((('  '!$B$38-AJ2)*'  '!$B$39)>'  '!$B$40,'  '!$B$40,(('  '!$B$38-AJ2)*'  '!$B$39)),)","v":{"$error":"#DIV/0!"}},{"$f":"AJ2+AK2","v":{"$error":"#DIV/0!"}},{"$f":"AL2*(1+VAT!$B$2)","v":{"$error":"#DIV/0!"}},{"$f":"IF('   '!AM2*'   '!$B$9<'   '!$B$10,'   '!$B$10,'   '!AM2*'   '!$B$9)","v":{"$error":"#DIV/0!"}},{"$f":"AM2+AN2","v":{"$error":"#DIV/0!"}},{"$f":"IF(AM2<$A$3,$B$3,0)","v":{"$error":"#DIV/0!"}},{"$f":"AO2+AP2","v":{"$error":"#DIV/0!"}},{"$f":"AM2*$A$6","v":{"$error":"#DIV/0!"}},{"$f":"AQ2+AR2","v":{"$error":"#DIV/0!"}}]
[1200,0,null,null,null,null,null,null,null,null,"Lean To",{"$f":"'Lean To'!E19","v":1297.8539192614014},{"$f":"IF(L3<'  '!$B$38,IF((('  '!$B$38-L3)*'  '!$B$39)>'  '!$B$40,'  '!$B$40,(('  '!$B$38-L3)*'  '!$B$39)),)","v":40.429216147719721},{"$f":"L3+M3","v":1338.2831354091211},{"$f":"N3*(1+VAT!$B$2)","v":1338.2831354091211},{"$f":"IF('   '!O3*'   '!$B$9<'   '!$B$10,'   '!$B$10,'   '!O3*'   '!$B$9)","v":400},{"$f":"O3+P3","v":1738.2831354091211},{"$f":"IF(O3<$A$3,$B$3,0)","v":0},{"$f":"Q3+R3","v":1738.2831354091211},{"$f":"O3*$A$6","v":0},{"$f":"T3+S3","v":1738.2831354091211},null,"Lean To",{"$f":"'Lean To'!H19","v":1605.5881344810555},{"$f":"IF(X3<'  '!$B$38,IF((('  '!$B$38-X3)*'  '!$B$39)>'  '!$B$40,'  '!$B$40,(('  '!$B$38-X3)*'  '!$B$39)),)","v":0},{"$f":"X3+Y3","v":1605.5881344810555},{"$f":"Z3*(1+VAT!$B$2)","v":1605.5881344810555},{"$f":"IF('   '!AA3*'   '!$B$9<'   '!$B$10,'   '!$B$10,'   '!AA3*'   '!$B$9)","v":400},{"$f":"AA3+AB3","v":2005.5881344810555},{"$f":"IF(AA3<$A$3,$B$3,0)","v":0},{"$f":"AC3+AD3","v":2005.5881344810555},{"$f":"AA3*$A$6","v":0},{"$f":"AF3+AE3","v":2005.5881344810555},null,"Lean To",{"$f":"'Lean To'!L19","v":1900.5796407047565},{"$f":"IF(AJ3<'  '!$B$38,IF((('  '!$B$38-AJ3)*'  '!$B$39)>'  '!$B$40,'  '!$B$40,(('  '!$B$38-AJ3)*'  '!$B$39)),)","v":0},{"$f":"AJ3+AK3","v":1900.5796407047565},{"$f":"AL3*(1+VAT!$B$2)","v":1900.5796407047565},{"$f":"IF('   '!AM3*'   '!$B$9<'   '!$B$10,'   '!$B$10,'   '!AM3*'   '!$B$9)","v":400},{"$f":"AM3+AN3","v":2300.5796407047565},{"$f":"IF(AM3<$A$3,$B$3,0)","v":0},{"$f":"AO3+AP3","v":2300.5796407047565},{"$f":"AM3*$A$6","v":0},{"$f":"AR3+AQ3","v":2300.5796407047565}]
[null,null,null,null,null,null,null,null,null,null,"Lean To Hipped",{"$f":"'Lean To Hipped'!E18","v":{"$error":"#DIV/0!"}},{"$f":"IF(L4<'  '!$B$38,IF((('  '!$B$38-L4)*'  '!$B$39)>'  '!$B$40,'  '!$B$40,(('  '!$B$38-L4)*'  '!$B$39)),)","v":{"$error":"#DIV/0!"}},{"$error":"#DIV/0!"},{"$f":"N4*(1+VAT!$B$2)","v":{"$error":"#DIV/0!"}},{"$f":"IF('   '!O4*'   '!$B$9<'   '!$B$10,'   '!$B$10,'   '!O4*'   '!$B$9)","v":{"$error":"#DIV/0!"}},{"$error":"#DIV/0!"},{"$error":"#DIV/0!"},{"$f":"Q4+R4","v":{"$error":"#DIV/0!"}},{"$error":"#DIV/0!"},{"$f":"T4+S4","v":{"$error":"#DIV/0!"}},null,"Lean To Hipped",{"$f":"'Lean To Hipped'!I18","v":{"$error":"#DIV/0!"}},{"$f":"IF(X4<'  '!$B$38,IF((('  '!$B$38-X4)*'  '!$B$39)>'  '!$B$40,'  '!$B$40,(('  '!$B$38-X4)*'  '!$B$39)),)","v":{"$error":"#DIV/0!"}},{"$error":"#DIV/0!"},{"$f":"Z4*(1+VAT!$B$2)","v":{"$error":"#DIV/0!"}},{"$f":"IF('   '!AA4*'   '!$B$9<'   '!$B$10,'   '!$B$10,'   '!AA4*'   '!$B$9)","v":{"$error":"#DIV/0!"}},{"$error":"#DIV/0!"},{"$error":"#DIV/0!"},{"$error":"#DIV/0!"},{"$error":"#DIV/0!"},{"$f":"AF4+AE4","v":{"$error":"#DIV/0!"}},null,"Lean To Hipped",{"$f":"'Lean To Hipped'!L18","v":{"$error":"#DIV/0!"}},{"$f":"IF(AJ4<'  '!$B$38,IF((('  '!$B$38-AJ4)*'  '!$B$39)>'  '!$B$40,'  '!$B$40,(('  '!$B$38-AJ4)*'  '!$B$39)),)","v":{"$error":"#DIV/0!"}},{"$error":"#DIV/0!"},{"$f":"AL4*(1+VAT!$B$2)","v":{"$error":"#DIV/0!"}},{"$f":"IF('   '!AM4*'   '!$B$9<'   '!$B$10,'   '!$B$10,'   '!AM4*'   '!$B$9)","v":{"$error":"#DIV/0!"}},{"$error":"#DIV/0!"},{"$error":"#DIV/0!"},{"$error":"#DIV/0!"},{"$error":"#DIV/0!"},{"$f":"AR4+AQ4","v":{"$error":"#DIV/0!"}}]
["Margin",null,null,null,null,null,null,null,null,null,"Georgian Gable",{"$f":"'Georgian Gable'!E18","v":{"$error":"#DIV/0!"}},{"$f":"IF(L5<'  '!$B$38,IF((('  '!$B$38-L5)*'  '!$B$39)>'  '!$B$40,'  '!$B$40,(('  '!$B$38-L5)*'  '!$B$39)),)","v":{"$error":"#DIV/0!"}},{"$error":"#DIV/0!"},{"$f":"N5*(1+VAT!$B$2)","v":{"$error":"#DIV/0!"}},{"$f":"IF('   '!O5*'   '!$B$9<'   '!$B$10,'   '!$B$10,'   '!O5*'   '!$B$9)","v":{"$error":"#DIV/0!"}},{"$error":"#DIV/0!"},{"$error":"#DIV/0!"},{"$error":"#DIV/0!"},{"$error":"#DIV/0!"},{"$error":"#DIV/0!"},null,"Georgian Gable",{"$f":"'Georgian Gable'!I18","v":{"$error":"#DIV/0!"}},{"$f":"IF(X5<'  '!$B$38,IF((('  '!$B$38-X5)*'  '!$B$39)>'  '!$B$40,'  '!$B$40,(('  '!$B$38-X5)*'  '!$B$39)),)","v":{"$error":"#DIV/0!"}},{"$error":"#DIV/0!"},{"$f":"Z5*(1+VAT!$B$2)","v":{"$error":"#DIV/0!"}},{"$f":"IF('   '!AA5*'   '!$B$9<'   '!$B$10,'   '!$B$10,'   '!AA5*'   '!$B$9)","v":{"$error":"#DIV/0!"}},{"$error":"#DIV/0!"},{"$error":"#DIV/0!"},{"$error":"#DIV/0!"},{"$error":"#DIV/0!"},{"$error":"#DIV/0!"},null,"Georgian Gable",{"$f":"'Georgian Gable'!L18","v":{"$error":"#DIV/0!"}},{"$f":"IF(AJ5<'  '!$B$38,IF((('  '!$B$38-AJ5)*'  '!$B$39)>'  '!$B$40,'  '!$B$40,(('  '!$B$38-AJ5)*'  '!$B$39)),)","v":{"$error":"#DIV/0!"}},{"$error":"#DIV/0!"},{"$f":"AL5*(1+VAT!$B$2)","v":{"$error":"#DIV/0!"}},{"$f":"IF('   '!AM5*'   '!$B$9<'   '!$B$10,'   '!$B$10,'   '!AM5*'   '!$B$9)","v":{"$error":"#DIV/0!"}},{"$error":"#DIV/0!"},{"$error":"#DIV/0!"},{"$error":"#DIV/0!"},{"$error":"#DIV/0!"},{"$error":"#DIV/0!"}]
[0,null,null,null,null,null,null,null,null,null,"Georgian Hipped",{"$f":"'Georgian Hipped'!E18","v":{"$error":"#DIV/0!"}},{"$f":"IF(L6<'  '!$B$38,IF((('  '!$B$38-L6)*'  '!$B$39)>'  '!$B$40,'  '!$B$40,(('  '!$B$38-L6)*'  '!$B$39)),)","v":{"$error":"#DIV/0!"}},{"$error":"#DIV/0!"},{"$f":"N6*(1+VAT!$B$2)","v":{"$error":"#DIV/0!"}},{"$f":"IF('   '!O6*'   '!$B$9<'   '!$B$10,'   '!$B$10,'   '!O6*'   '!$B$9)","v":{"$error":"#DIV/0!"}},{"$error":"#DIV/0!"},{"$error":"#DIV/0!"},{"$f":"Q6+R6","v":{"$error":"#DIV/0!"}},{"$error":"#DIV/0!"},{"$error":"#DIV/0!"},null,"Georgian Hipped",{"$f":"'Georgian Hipped'!I18","v":{"$error":"#DIV/0!"}},{"$f":"IF(X6<'  '!$B$38,IF((('  '!$B$38-X6)*'  '!$B$39)>'  '!$B$40,'  '!$B$40,(('  '!$B$38-X6)*'  '!$B$39)),)","v":{"$error":"#DIV/0!"}},{"$error":"#DIV/0!"},{"$f":"Z6*(1+VAT!$B$2)","v":{"$error":"#DIV/0!"}},{"$f":"IF('   '!AA6*'   '!$B$9<'   '!$B$10,'   '!$B$10,'   '!AA6*'   '!$B$9)","v":{"$error":"#DIV/0!"}},{"$error":"#DIV/0!"},{"$error":"#DIV/0!"},{"$error":"#DIV/0!"},{"$error":"#DIV/0!"},{"$error":"#DIV/0!"},null,"Georgian Hipped",{"$f":"'Georgian Hipped'!L18","v":{"$error":"#DIV/0!"}},{"$f":"IF(AJ6<'  '!$B$38,IF((('  '!$B$38-AJ6)*'  '!$B$39)>'  '!$B$40,'  '!$B$40,(('  '!$B$38-AJ6)*'  '!$B$39)),)","v":{"$error":"#DIV/0!"}},{"$error":"#DIV/0!"},{"$f":"AL6*(1+VAT!$B$2)","v":{"$error":"#DIV/0!"}},{"$f":"IF('   '!AM6*'   '!$B$9<'   '!$B$10,'   '!$B$10,'   '!AM6*'   '!$B$9)","v":{"$error":"#DIV/0!"}},{"$error":"#DIV/0!"},{"$error":"#DIV/0!"},{"$error":"#DIV/0!"},{"$error":"#DIV/0!"},{"$error":"#DIV/0!"}]
[null,null,null,null,null,null,null,null,null,null,"Georgian Double Hipped",{"$f":"'Georgian Double Hipped'!$E$22","v":{"$error":"#DIV/0!"}},{"$f":"IF(L7<'  '!$B$38,IF((('  '!$B$38-L7)*'  '!$B$39)>'  '!$B$40,'  '!$B$40,(('  '!$B$38-L7)*'  '!$B$39)),)","v":{"$error":"#DIV/0!"}},{"$error":"#DIV/0!"},{"$f":"N7*(1+VAT!$B$2)","v":{"$error":"#DIV/0!"}},{"$f":"IF('   '!O7*'   '!$B$9<'   '!$B$10,'   '!$B$10,'   '!O7*'   '!$B$9)","v":{"$error":"#DIV/0!"}},{"$error":"#DIV/0!"},{"$error":"#DIV/0!"},{"$f":"Q7+R7","v":{"$error":"#DIV/0!"}},{"$error":"#DIV/0!"},{"$error":"#DIV/0!"},null,"Georgian Double Hipped",{"$f":"'Georgian Double Hipped'!I22","v":{"$error":"#DIV/0!"}},{"$f":"IF(X7<'  '!$B$38,IF((('  '!$B$38-X7)*'  '!$B$39)>'  '!$B$40,'  '!$B$40,(('  '!$B$38-X7)*'  '!$B$39)),)","v":{"$error":"#DIV/0!"}},{"$error":"#DIV/0!"},{"$f":"Z7*(1+VAT!$B$2)","v":{"$error":"#DIV/0!"}},{"$f":"IF('   '!AA7*'   '!$B$9<'   '!$B$10,'   '!$B$10,'   '!AA7*'   '!$B$9)","v":{"$error":"#DIV/0!"}},{"$error":"#DIV/0!"},{"$error":"#DIV/0!"},{"$error":"#DIV/0!"},{"$error":"#DIV/0!"},{"$error":"#DIV/0!"},null,"Georgian Double Hipped",{"$f":"'Georgian Double Hipped'!L22","v":{"$error":"#DIV/0!"}},{"$f":"IF(AJ7<'  '!$B$38,IF((('  '!$B$38-AJ7)*'  '!$B$39)>'  '!$B$40,'  '!$B$40,(('  '!$B$38-AJ7)*'  '!$B$39)),)","v":{"$error":"#DIV/0!"}},{"$error":"#DIV/0!"},{"$f":"AL7*(1+VAT!$B$2)","v":{"$error":"#DIV/0!"}},{"$f":"IF('   '!AM7*'   '!$B$9<'   '!$B$10,'   '!$B$10,'   '!AM7*'   '!$B$9)","v":{"$error":"#DIV/0!"}},{"$error":"#DIV/0!"},{"$error":"#DIV/0!"},{"$error":"#DIV/0!"},{"$error":"#DIV/0!"},{"$error":"#DIV/0!"}]
["Installation fee",null,null,null,null,null,null,null,null,null,"Victorian",{"$f":"Victorian!E22","v":{"$error":"#DIV/0!"}},{"$f":"IF(L8<'  '!$B$38,IF((('  '!$B$38-L8)*'  '!$B$39)>'  '!$B$40,'  '!$B$40,(('  '!$B$38-L8)*'  '!$B$39)),)","v":{"$error":"#DIV/0!"}},{"$error":"#DIV/0!"},{"$f":"N8*(1+VAT!$B$2)","v":{"$error":"#DIV/0!"}},{"$f":"IF('   '!O8*'   '!$B$9<'   '!$B$10,'   '!$B$10,'   '!O8*'   '!$B$9)","v":{"$error":"#DIV/0!"}},{"$error":"#DIV/0!"},{"$error":"#DIV/0!"},{"$f":"Q8+R8","v":{"$error":"#DIV/0!"}},{"$error":"#DIV/0!"},{"$f":"T8+S8","v":{"$error":"#DIV/0!"}},null,"Victorian",{"$f":"Victorian!I22","v":{"$error":"#DIV/0!"}},{"$f":"IF(X8<'  '!$B$38,IF((('  '!$B$38-X8)*'  '!$B$39)>'  '!$B$40,'  '!$B$40,(('  '!$B$38-X8)*'  '!$B$39)),)","v":{"$error":"#DIV/0!"}},{"$error":"#DIV/0!"},{"$f":"Z8*(1+VAT!$B$2)","v":{"$error":"#DIV/0!"}},{"$f":"IF('   '!AA8*'   '!$B$9<'   '!$B$10,'   '!$B$10,'   '!AA8*'   '!$B$9)","v":{"$error":"#DIV/0!"}},{"$error":"#DIV/0!"},{"$error":"#DIV/0!"},{"$error":"#DIV/0!"},{"$error":"#DIV/0!"},{"$f":"AF8+AE8","v":{"$error":"#DIV/0!"}},null,"Victorian",{"$f":"Victorian!L22","v":{"$error":"#DIV/0!"}},{"$f":"IF(AJ8<'  '!$B$38,IF((('  '!$B$38-AJ8)*'  '!$B$39)>'  '!$B$40,'  '!$B$40,(('  '!$B$38-AJ8)*'  '!$B$39)),)","v":{"$error":"#DIV/0!"}},{"$error":"#DIV/0!"},{"$f":"AL8*(1+VAT!$B$2)","v":{"$error":"#DIV/0!"}},{"$f":"IF('   '!AM8*'   '!$B$9<'   '!$B$10,'   '!$B$10,'   '!AM8*'   '!$B$9)","v":{"$error":"#DIV/0!"}},{"$error":"#DIV/0!"},{"$error":"#DIV/0!"},{"$error":"#DIV/0!"},{"$error":"#DIV/0!"},{"$f":"AR8+AQ8","v":{"$error":"#DIV/0!"}}]
["% of job cost",0.2]
["Min. fee",{"$f":"400*(1+VAT!$B$2)","v":400}]
[null,null,null,null,null,null,null,null,null,null,0]
[null,null,null,null,null,null,null,null,null,null,0.05]
[null,null,null,null,null,null,null,null,null,null,0.1]
[null,null,null,null,null,null,null,null,null,null,0.15]
[null,null,null,null,null,null,null,null,null,null,0.2]

{"sheet":"VAT","index":12,"n_rows":3,"n_cols":22,"rows_kept":3,"cut":false,"hidden":false,"merged":[[1,1,3,2]]}
[null,null,null,null,null,null,null,null,null,null,null,null,null,null,null,null,null,null,null,null,null,{"$f":"B2+1","v":1}]
[null,0]
["VAT ="]